BEGIN:VCALENDAR
VERSION:2.0
PRODID:-//School District of Milton - ECPv6.15.20//NONSGML v1.0//EN
CALSCALE:GREGORIAN
METHOD:PUBLISH
X-WR-CALNAME:School District of Milton
X-ORIGINAL-URL:https://www.milton.k12.wi.us
X-WR-CALDESC:Events for School District of Milton
REFRESH-INTERVAL;VALUE=DURATION:PT1H
X-Robots-Tag:noindex
X-PUBLISHED-TTL:PT1H
BEGIN:VTIMEZONE
TZID:America/Chicago
BEGIN:DAYLIGHT
TZOFFSETFROM:-0600
TZOFFSETTO:-0500
TZNAME:CDT
DTSTART:20230312T080000
END:DAYLIGHT
BEGIN:STANDARD
TZOFFSETFROM:-0500
TZOFFSETTO:-0600
TZNAME:CST
DTSTART:20231105T070000
END:STANDARD
BEGIN:DAYLIGHT
TZOFFSETFROM:-0600
TZOFFSETTO:-0500
TZNAME:CDT
DTSTART:20240310T080000
END:DAYLIGHT
BEGIN:STANDARD
TZOFFSETFROM:-0500
TZOFFSETTO:-0600
TZNAME:CST
DTSTART:20241103T070000
END:STANDARD
BEGIN:DAYLIGHT
TZOFFSETFROM:-0600
TZOFFSETTO:-0500
TZNAME:CDT
DTSTART:20250309T080000
END:DAYLIGHT
BEGIN:STANDARD
TZOFFSETFROM:-0500
TZOFFSETTO:-0600
TZNAME:CST
DTSTART:20251102T070000
END:STANDARD
END:VTIMEZONE
BEGIN:VEVENT
DTSTART;TZID=America/Chicago:20241104T080000
DTEND;TZID=America/Chicago:20241104T170000
DTSTAMP:20260424T050040
CREATED:20240909T153616Z
LAST-MODIFIED:20240909T153616Z
UID:<span 
                data-original-string='XJsnNqSJrcMSQPhF6QKzow==386an04vt/5TQ3bKfr3iE/RDmKBd4Oo9cXXTlCdIukD84GX1yK2hiEQnLUNRwfOm1UOqUt5/jZXomGCQthL+Ot2gQ=='
                class='apbct-email-encoder'
                title='This contact has been encoded by Anti-Spam by CleanTalk. Click to decode. To finish the decoding make sure that JavaScript is enabled in your browser.'>10<span class="apbct-blur">****************************</span>@<span class="apbct-blur">***************</span>wi.us</span>
SUMMARY:Virtual Learning Day / Staff Professional Development
DESCRIPTION:
URL:https://www.milton.k12.wi.us/event/virtual-learning-day-staff-professional-development/2024-11-04/
CATEGORIES:District
END:VEVENT
BEGIN:VEVENT
DTSTART;VALUE=DATE:20241104
DTEND;VALUE=DATE:20241105
DTSTAMP:20260424T050040
CREATED:20240829T170005Z
LAST-MODIFIED:20241104T230729Z
UID:<span 
                data-original-string='rOHmvRPRdL5HZGH1eTXj8Q==386XpwyZdDaCvfjBQyeATL6ggZck/ZI3zyalXiTpqu5AZLaCTiEHAh+ejKVe+233mxmtAc6ZZc7ueTSVvVAT+v5+A=='
                class='apbct-email-encoder'
                title='This contact has been encoded by Anti-Spam by CleanTalk. Click to decode. To finish the decoding make sure that JavaScript is enabled in your browser.'>10<span class="apbct-blur">****************************</span>@<span class="apbct-blur">***************</span>wi.us</span>
SUMMARY:HES: PD Day/ Virtual Learning
DESCRIPTION:
URL:https://www.milton.k12.wi.us/event/hes-pd-day-virtual-learning-2/
CATEGORIES:Harmony Elementary
END:VEVENT
BEGIN:VEVENT
DTSTART;VALUE=DATE:20241104
DTEND;VALUE=DATE:20241105
DTSTAMP:20260424T050040
CREATED:20240824T110757Z
LAST-MODIFIED:20241104T225226Z
UID:<span 
                data-original-string='LuuBEXA/Qg11+xrwTaCEyg==386yWIkBVL9bbHHjRDLVhgcxKtqABPIHA6xP3PHOUkM6aiqqC2zRRR0RLSgWxEVUB9oO0mFA34rYTNNVesLP2c+8w=='
                class='apbct-email-encoder'
                title='This contact has been encoded by Anti-Spam by CleanTalk. Click to decode. To finish the decoding make sure that JavaScript is enabled in your browser.'>10<span class="apbct-blur">****************************</span>@<span class="apbct-blur">***************</span>wi.us</span>
SUMMARY:PD / Virtual Learning
DESCRIPTION:
URL:https://www.milton.k12.wi.us/event/pd-virtual-learning-2/
CATEGORIES:Northside Intermediate
END:VEVENT
BEGIN:VEVENT
DTSTART;VALUE=DATE:20241104
DTEND;VALUE=DATE:20241105
DTSTAMP:20260424T050040
CREATED:20240822T012925Z
LAST-MODIFIED:20241104T222226Z
UID:<span 
                data-original-string='U9V7mtn2KEv8okty9QJ+Dw==386eEjdk+ClLRBdd5UakVqCfJYkW1elRzAukT6ehTczToQiY/5JyVJvQnQExxdOiGm1qTrexmFdV0GzfKIPmDDGNA=='
                class='apbct-email-encoder'
                title='This contact has been encoded by Anti-Spam by CleanTalk. Click to decode. To finish the decoding make sure that JavaScript is enabled in your browser.'>10<span class="apbct-blur">****************************</span>@<span class="apbct-blur">***************</span>wi.us</span>
SUMMARY:Professional Development/Virtual Learning Day
DESCRIPTION:
URL:https://www.milton.k12.wi.us/event/professional-development-virtual-learning-day-2/
CATEGORIES:Consolidated
END:VEVENT
BEGIN:VEVENT
DTSTART;VALUE=DATE:20241104
DTEND;VALUE=DATE:20241105
DTSTAMP:20260424T050040
CREATED:20240822T004839Z
LAST-MODIFIED:20241104T213842Z
UID:<span 
                data-original-string='ApeFv0S2G5Hp3XYDYNGUhg==386f/0SPHZ6viH+4NXcNiDgeGq0Hp9NsbblSort7fWpUCAVNjp6Pw57xG8wfizt97RpB9gjro3wh/ZrKNUqE1pSWw=='
                class='apbct-email-encoder'
                title='This contact has been encoded by Anti-Spam by CleanTalk. Click to decode. To finish the decoding make sure that JavaScript is enabled in your browser.'>10<span class="apbct-blur">****************************</span>@<span class="apbct-blur">***************</span>wi.us</span>
SUMMARY:PD/Virtual Learning Day
DESCRIPTION:
URL:https://www.milton.k12.wi.us/event/pd-virtual-learning-day-2/
CATEGORIES:Milton West Elementary
END:VEVENT
BEGIN:VEVENT
DTSTART;VALUE=DATE:20241104
DTEND;VALUE=DATE:20241105
DTSTAMP:20260424T050040
CREATED:20240822T004713Z
LAST-MODIFIED:20241104T225321Z
UID:<span 
                data-original-string='wbEIx5D6NwqPns3DFC7DEg==386IZbmjCrxB+FXcw3XOrmZfJzp4jeKFyoA3+Pat7OjqqUy5oy8DcnR6ajZ/FH549pvg6D/YXuc+hbfVGLrKgo0lQ=='
                class='apbct-email-encoder'
                title='This contact has been encoded by Anti-Spam by CleanTalk. Click to decode. To finish the decoding make sure that JavaScript is enabled in your browser.'>10<span class="apbct-blur">****************************</span>@<span class="apbct-blur">***************</span>wi.us</span>
SUMMARY:Professional Development/Virtual Learning Day
DESCRIPTION:
URL:https://www.milton.k12.wi.us/event/professional-development-virtual-learning-day-4/
CATEGORIES:Milton Middle School
END:VEVENT
BEGIN:VEVENT
DTSTART;VALUE=DATE:20241104
DTEND;VALUE=DATE:20241105
DTSTAMP:20260424T050040
CREATED:20240822T004634Z
LAST-MODIFIED:20241104T230925Z
UID:<span 
                data-original-string='SKV2BXIliztH2i194HHuGA==386s2SU1wH7d5/mApPMNvaj9tPuIMG6u/pBq0pn9ALIw3LxdgY8W4Mu2sxUmeVzkftft/Z/k3Nxe0xCZJhNpA/d4w=='
                class='apbct-email-encoder'
                title='This contact has been encoded by Anti-Spam by CleanTalk. Click to decode. To finish the decoding make sure that JavaScript is enabled in your browser.'>10<span class="apbct-blur">****************************</span>@<span class="apbct-blur">***************</span>wi.us</span>
SUMMARY:Professional Development Day - Virtual Learning
DESCRIPTION:
URL:https://www.milton.k12.wi.us/event/professional-development-day-virtual-learning-2/
CATEGORIES:Milton High School
END:VEVENT
BEGIN:VEVENT
DTSTART;VALUE=DATE:20241101
DTEND;VALUE=DATE:20241102
DTSTAMP:20260424T050040
CREATED:20241016T193755Z
LAST-MODIFIED:20241101T225410Z
UID:<span 
                data-original-string='2fiHyxK6aRj3cwwzhYDasg==386bq4T1QYXO3JLBwCF7xzeAVMOKJzCLIdAtenmVdx5VxD3TUee8Kxe+XzK3mN2h7/vKmMdXBLrbb6eRmgeVUnszg=='
                class='apbct-email-encoder'
                title='This contact has been encoded by Anti-Spam by CleanTalk. Click to decode. To finish the decoding make sure that JavaScript is enabled in your browser.'>10<span class="apbct-blur">****************************</span>@<span class="apbct-blur">***************</span>wi.us</span>
SUMMARY:Day 6
DESCRIPTION:
URL:https://www.milton.k12.wi.us/event/day-6-7/
CATEGORIES:Northside Intermediate
END:VEVENT
BEGIN:VEVENT
DTSTART;VALUE=DATE:20241031
DTEND;VALUE=DATE:20241101
DTSTAMP:20260424T050040
CREATED:20241029T201132Z
LAST-MODIFIED:20241031T213725Z
UID:<span 
                data-original-string='wwGzasUJF8LNN9j6BUSkWA==386DyJSeVCt/PAgzx7GQqAeDC8bv+v4bb6Kb9zmlMp3UHoJM/bVfatte7PlcB75Ns0t/v9/yy/8rBSrVKYgszsj0g=='
                class='apbct-email-encoder'
                title='This contact has been encoded by Anti-Spam by CleanTalk. Click to decode. To finish the decoding make sure that JavaScript is enabled in your browser.'>10<span class="apbct-blur">****************************</span>@<span class="apbct-blur">***************</span>wi.us</span>
SUMMARY:Wear orange/black
DESCRIPTION:
URL:https://www.milton.k12.wi.us/event/wear-orange-black/
CATEGORIES:Milton West Elementary
END:VEVENT
BEGIN:VEVENT
DTSTART;VALUE=DATE:20241031
DTEND;VALUE=DATE:20241101
DTSTAMP:20260424T050040
CREATED:20240824T110757Z
LAST-MODIFIED:20241031T225226Z
UID:<span 
                data-original-string='HnYGPHINJMJb7SbgDDAXpw==386U67r0nrGbqF4JoadE1U+VXMXpvIvFYE1ZIqgc1b+V0Fe66smvVyjf9Fx7F+pnPZlmwekWUD1LB7atp7ogcShWg=='
                class='apbct-email-encoder'
                title='This contact has been encoded by Anti-Spam by CleanTalk. Click to decode. To finish the decoding make sure that JavaScript is enabled in your browser.'>10<span class="apbct-blur">****************************</span>@<span class="apbct-blur">***************</span>wi.us</span>
SUMMARY:Day 5
DESCRIPTION:
URL:https://www.milton.k12.wi.us/event/day-5-7/
CATEGORIES:Northside Intermediate
END:VEVENT
BEGIN:VEVENT
DTSTART;VALUE=DATE:20241030
DTEND;VALUE=DATE:20241031
DTSTAMP:20260424T050040
CREATED:20240824T110757Z
LAST-MODIFIED:20241030T225223Z
UID:<span 
                data-original-string='fBMTYYa3MmhNkbkzWGYgKA==386pLtb+ZmG5iuJSnJV9E5CO8tzd+VB4uOhzBjFS2f8DLofYWuzecudsezxKVgpK/R3V2NLU4+Kbn45L6yVyBsQpg=='
                class='apbct-email-encoder'
                title='This contact has been encoded by Anti-Spam by CleanTalk. Click to decode. To finish the decoding make sure that JavaScript is enabled in your browser.'>10<span class="apbct-blur">****************************</span>@<span class="apbct-blur">***************</span>wi.us</span>
SUMMARY:Day 4
DESCRIPTION:
URL:https://www.milton.k12.wi.us/event/day-4-7/
CATEGORIES:Northside Intermediate
END:VEVENT
BEGIN:VEVENT
DTSTART;TZID=America/Chicago:20241029T173000
DTEND;TZID=America/Chicago:20241029T183000
DTSTAMP:20260424T050040
CREATED:20241029T175410Z
LAST-MODIFIED:20241029T232234Z
UID:<span 
                data-original-string='IKeVfHwX7U/cR0rgGCvtsg==386E+XkmAN9e8dRuiZtkyEbIzYw3wigcqLD4gY3AmExb96t9YcUtGCZdNjK7pWPVzswz+xC/3S0yrzsn2l4y84cGw=='
                class='apbct-email-encoder'
                title='This contact has been encoded by Anti-Spam by CleanTalk. Click to decode. To finish the decoding make sure that JavaScript is enabled in your browser.'>10<span class="apbct-blur">****************************</span>@<span class="apbct-blur">***************</span>wi.us</span>
SUMMARY:EES:  Bingo Night
DESCRIPTION:
URL:https://www.milton.k12.wi.us/event/ees-bingo-night/
CATEGORIES:Milton East Elementary
END:VEVENT
BEGIN:VEVENT
DTSTART;VALUE=DATE:20241029
DTEND;VALUE=DATE:20241030
DTSTAMP:20260424T050040
CREATED:20240824T110757Z
LAST-MODIFIED:20241029T225337Z
UID:<span 
                data-original-string='my2+6HM5TWD2XhytEpu5zA==386rQ6vMnplvuqdyUTUBMGP0yFwwdGKEFrqIZ4y+mLXA9X7I+e0GxvhLj9BCgy2AVAQPKDOGK1dJnHf3kwawb9/DA=='
                class='apbct-email-encoder'
                title='This contact has been encoded by Anti-Spam by CleanTalk. Click to decode. To finish the decoding make sure that JavaScript is enabled in your browser.'>10<span class="apbct-blur">****************************</span>@<span class="apbct-blur">***************</span>wi.us</span>
SUMMARY:Day 3
DESCRIPTION:
URL:https://www.milton.k12.wi.us/event/day-3-7/
CATEGORIES:Northside Intermediate
END:VEVENT
BEGIN:VEVENT
DTSTART;TZID=America/Chicago:20241028T183000
DTEND;TZID=America/Chicago:20241028T203000
DTSTAMP:20260424T050040
CREATED:20240822T012951Z
LAST-MODIFIED:20241028T225508Z
UID:<span 
                data-original-string='E1CcPxDVlQvFuyCRHXCSiQ==386C5mEGLysVHbR8TZDfmzezc1ytWCeLMKIkscecCpd/2opGCQNp8JScGihpdkxgc878L7wz7obi7zDndBy9b+VDQ=='
                class='apbct-email-encoder'
                title='This contact has been encoded by Anti-Spam by CleanTalk. Click to decode. To finish the decoding make sure that JavaScript is enabled in your browser.'>10<span class="apbct-blur">****************************</span>@<span class="apbct-blur">***************</span>wi.us</span>
SUMMARY:School Board Meeting
DESCRIPTION:
URL:https://www.milton.k12.wi.us/event/school-board-meeting-5/
LOCATION:School District of Milton\, 448 E High St\, Milton\, WI\, United States
CATEGORIES:District
GEO:42.773036;-88.944404
X-APPLE-STRUCTURED-LOCATION;VALUE=URI;X-ADDRESS=School District of Milton 448 E High St Milton WI United States;X-APPLE-RADIUS=500;X-TITLE=448 E High St:geo:-88.944404,42.773036
END:VEVENT
BEGIN:VEVENT
DTSTART;TZID=America/Chicago:20241028T160000
DTEND;TZID=America/Chicago:20241028T173000
DTSTAMP:20260424T050040
CREATED:20240923T212315Z
LAST-MODIFIED:20241028T222244Z
UID:<span 
                data-original-string='x0IpOqDTsU42Qm2B6JZPGg==3868jSi0YzPmg3+H9RsmRpZ7W1EVH89bRxBWlralyBsHe66gzD2em2fnzmH1r8deBLA6kc59qpAcTxQbgQumZbHFA=='
                class='apbct-email-encoder'
                title='This contact has been encoded by Anti-Spam by CleanTalk. Click to decode. To finish the decoding make sure that JavaScript is enabled in your browser.'>10<span class="apbct-blur">****************************</span>@<span class="apbct-blur">***************</span>wi.us</span>
SUMMARY:EES:  4K Halloween Story Walk
DESCRIPTION:
URL:https://www.milton.k12.wi.us/event/ees-4k-halloween-story-walk/
CATEGORIES:Milton East Elementary
END:VEVENT
BEGIN:VEVENT
DTSTART;TZID=America/Chicago:20241028T143500
DTEND;TZID=America/Chicago:20241028T153500
DTSTAMP:20260424T050040
CREATED:20240909T203754Z
LAST-MODIFIED:20241028T184145Z
UID:<span 
                data-original-string='nviykunMul7M9yWlsVcX/w==3868G8RjoYbwjG/QVWdJ1MJkWvlgPG7vziCUi7pAj/fWYiQGK6JqOdUoMy/KtW8WYy6Sj6X3YB7kjj1sTOc6/4TKg=='
                class='apbct-email-encoder'
                title='This contact has been encoded by Anti-Spam by CleanTalk. Click to decode. To finish the decoding make sure that JavaScript is enabled in your browser.'>10<span class="apbct-blur">****************************</span>@<span class="apbct-blur">***************</span>wi.us</span>
SUMMARY:HES: Early Release
DESCRIPTION:
URL:https://www.milton.k12.wi.us/event/hes-early-release-6/
CATEGORIES:Harmony Elementary
END:VEVENT
BEGIN:VEVENT
DTSTART;TZID=America/Chicago:20241028T143500
DTEND;TZID=America/Chicago:20241028T153500
DTSTAMP:20260424T050040
CREATED:20240822T012925Z
LAST-MODIFIED:20241028T202322Z
UID:<span 
                data-original-string='OCdIXXRHXmxBsUzDiqiVSA==386Sit36N7QKaJA5UoBFY9mgPDTkgQkz5U0xN7BxznszzoJ1Usi7vtVRSf5eldPLb0Nm5b8u9ZJWM4NinZwb3nD/A=='
                class='apbct-email-encoder'
                title='This contact has been encoded by Anti-Spam by CleanTalk. Click to decode. To finish the decoding make sure that JavaScript is enabled in your browser.'>10<span class="apbct-blur">****************************</span>@<span class="apbct-blur">***************</span>wi.us</span>
SUMMARY:Early Release -
DESCRIPTION:
URL:https://www.milton.k12.wi.us/event/early-release-7/
CATEGORIES:Consolidated
END:VEVENT
BEGIN:VEVENT
DTSTART;VALUE=DATE:20241028
DTEND;VALUE=DATE:20241029
DTSTAMP:20260424T050040
CREATED:20240824T110756Z
LAST-MODIFIED:20241028T225656Z
UID:<span 
                data-original-string='uhES07jxISSl38k2tE956Q==386uv2Bc/B6URTZ+cH6DEVE7+aeKb+ilenYvzRRZTRXLB62/wXvsix8gPwROb8H99ro+Z5UehLu54Ef7LbbPJ6s0w=='
                class='apbct-email-encoder'
                title='This contact has been encoded by Anti-Spam by CleanTalk. Click to decode. To finish the decoding make sure that JavaScript is enabled in your browser.'>10<span class="apbct-blur">****************************</span>@<span class="apbct-blur">***************</span>wi.us</span>
SUMMARY:Day 2
DESCRIPTION:
URL:https://www.milton.k12.wi.us/event/day-2-7/
CATEGORIES:Northside Intermediate
END:VEVENT
BEGIN:VEVENT
DTSTART;VALUE=DATE:20241027
DTEND;VALUE=DATE:20241028
DTSTAMP:20260424T050040
CREATED:20240822T004634Z
LAST-MODIFIED:20241027T231102Z
UID:<span 
                data-original-string='I8/G6Ni7Y1K6na/q1l/6RQ==386ZzkvsVTndTeOXY8m/m6XG+VX+VBxpubLJ9GLMhp6YLVeEqAgZU9IWfJh94DIFm50WTqC2JVNigX3sCib8r/Tug=='
                class='apbct-email-encoder'
                title='This contact has been encoded by Anti-Spam by CleanTalk. Click to decode. To finish the decoding make sure that JavaScript is enabled in your browser.'>10<span class="apbct-blur">****************************</span>@<span class="apbct-blur">***************</span>wi.us</span>
SUMMARY:History Club Trip - Boston\, MA - Return
DESCRIPTION:
URL:https://www.milton.k12.wi.us/event/history-club-trip-boston-ma-return/
CATEGORIES:Milton High School
END:VEVENT
BEGIN:VEVENT
DTSTART;VALUE=DATE:20241026
DTEND;VALUE=DATE:20241027
DTSTAMP:20260424T050040
CREATED:20240822T004632Z
LAST-MODIFIED:20241026T230958Z
UID:<span 
                data-original-string='/CjAf196mekl7OUER7pWzQ==3865sbKrG70tnpg5oTGulkhF3hYl2sSZYGMDb0kiMhqoerwOS5FrPBBViT5j44oJ9o0y/bXgwyIgRUdvHEuHe8oZA=='
                class='apbct-email-encoder'
                title='This contact has been encoded by Anti-Spam by CleanTalk. Click to decode. To finish the decoding make sure that JavaScript is enabled in your browser.'>10<span class="apbct-blur">****************************</span>@<span class="apbct-blur">***************</span>wi.us</span>
SUMMARY:History Club Trip - Boston\, MA
DESCRIPTION:
URL:https://www.milton.k12.wi.us/event/history-club-trip-boston-ma-2/
CATEGORIES:Milton High School
END:VEVENT
BEGIN:VEVENT
DTSTART;VALUE=DATE:20241025
DTEND;VALUE=DATE:20241026
DTSTAMP:20260424T050040
CREATED:20240923T212237Z
LAST-MODIFIED:20241025T231012Z
UID:<span 
                data-original-string='sKQ/CjLR+94+Uz9xk2fr6A==386mG7g9ND3yHM04EfB0RW34EShdm/8SODNipqMGGjEgV0TH8XKIjdhDTzJ1dhACt+ljnqpf/BRNBU0qg0pG+HnNQ=='
                class='apbct-email-encoder'
                title='This contact has been encoded by Anti-Spam by CleanTalk. Click to decode. To finish the decoding make sure that JavaScript is enabled in your browser.'>10<span class="apbct-blur">****************************</span>@<span class="apbct-blur">***************</span>wi.us</span>
SUMMARY:EES:  No School
DESCRIPTION:
URL:https://www.milton.k12.wi.us/event/ees-no-school/
CATEGORIES:Milton East Elementary
END:VEVENT
BEGIN:VEVENT
DTSTART;VALUE=DATE:20241025
DTEND;VALUE=DATE:20241026
DTSTAMP:20260424T050040
CREATED:20240829T165956Z
LAST-MODIFIED:20241025T230729Z
UID:<span 
                data-original-string='WPtoUWjRsJ+YuFeeLLbFoA==386n8PyCHDVc6sBFMYh8jo4Cic9eqKkZlZtVCamwbFnIkcp6cWXJvxJdeQGwpQL8G36xmwCtETTx+DK2GR3vNLIpA=='
                class='apbct-email-encoder'
                title='This contact has been encoded by Anti-Spam by CleanTalk. Click to decode. To finish the decoding make sure that JavaScript is enabled in your browser.'>10<span class="apbct-blur">****************************</span>@<span class="apbct-blur">***************</span>wi.us</span>
SUMMARY:HES: No School
DESCRIPTION:
URL:https://www.milton.k12.wi.us/event/hes-no-school/
CATEGORIES:Harmony Elementary
END:VEVENT
BEGIN:VEVENT
DTSTART;VALUE=DATE:20241025
DTEND;VALUE=DATE:20241026
DTSTAMP:20260424T050040
CREATED:20240825T223925Z
LAST-MODIFIED:20240825T223925Z
UID:<span 
                data-original-string='29SmL/eVTVMEfhoLI7I3Rw==386/B8KdVo9Nmo4S2LZIa3PdAQkHS7DInWapKZJqjN8erawVR9JbeSWUlPHKRXu8bwFyT9o6kMoELthFRc808gG/A=='
                class='apbct-email-encoder'
                title='This contact has been encoded by Anti-Spam by CleanTalk. Click to decode. To finish the decoding make sure that JavaScript is enabled in your browser.'>10<span class="apbct-blur">****************************</span>@<span class="apbct-blur">***************</span>wi.us</span>
SUMMARY:No School
DESCRIPTION:
URL:https://www.milton.k12.wi.us/event/no-school-15/
CATEGORIES:Milton West Elementary
END:VEVENT
BEGIN:VEVENT
DTSTART;VALUE=DATE:20241025
DTEND;VALUE=DATE:20241026
DTSTAMP:20260424T050040
CREATED:20240824T110756Z
LAST-MODIFIED:20241025T225231Z
UID:<span 
                data-original-string='yi0dzdzIw1J+CtWrz5vG9w==3865b/3yN9mQYNLmi/0Ia98JT5nR8TCndX314u94Y42nGNmwVKmWLKTi16TsJfWLtrhshthunwtv6THavPAYZomBQ=='
                class='apbct-email-encoder'
                title='This contact has been encoded by Anti-Spam by CleanTalk. Click to decode. To finish the decoding make sure that JavaScript is enabled in your browser.'>10<span class="apbct-blur">****************************</span>@<span class="apbct-blur">***************</span>wi.us</span>
SUMMARY:No School
DESCRIPTION:
URL:https://www.milton.k12.wi.us/event/no-school-13/
CATEGORIES:Northside Intermediate
END:VEVENT
BEGIN:VEVENT
DTSTART;VALUE=DATE:20241025
DTEND;VALUE=DATE:20241026
DTSTAMP:20260424T050040
CREATED:20240822T012924Z
LAST-MODIFIED:20241025T222237Z
UID:<span 
                data-original-string='SatbLcVd8hXTdihKeNNgPA==3863vTre67im8G2tafVtYn613tcTxFg0aJP6msy8ez+Vy1Nr9POo4TMEk8+vLU64lR/TWoiZ6+egof/2FqIcG150g=='
                class='apbct-email-encoder'
                title='This contact has been encoded by Anti-Spam by CleanTalk. Click to decode. To finish the decoding make sure that JavaScript is enabled in your browser.'>10<span class="apbct-blur">****************************</span>@<span class="apbct-blur">***************</span>wi.us</span>
SUMMARY:No School
DESCRIPTION:
URL:https://www.milton.k12.wi.us/event/no-school-3/
CATEGORIES:Consolidated
END:VEVENT
BEGIN:VEVENT
DTSTART;VALUE=DATE:20241025
DTEND;VALUE=DATE:20241026
DTSTAMP:20260424T050040
CREATED:20240822T004838Z
LAST-MODIFIED:20241025T211057Z
UID:<span 
                data-original-string='/4FBDVujxXBZkjv3etuf+Q==386orBi+n2yL0aIemJDWNyU7Prn9Trg13l6cS1NsI4OJe3Tj9GJ4I7Iityp4grXNOCOahpB5ja8x8zi2AdqdAnMDw=='
                class='apbct-email-encoder'
                title='This contact has been encoded by Anti-Spam by CleanTalk. Click to decode. To finish the decoding make sure that JavaScript is enabled in your browser.'>10<span class="apbct-blur">****************************</span>@<span class="apbct-blur">***************</span>wi.us</span>
SUMMARY:No School
DESCRIPTION:
URL:https://www.milton.k12.wi.us/event/no-school-6/
CATEGORIES:Milton West Elementary
END:VEVENT
BEGIN:VEVENT
DTSTART;VALUE=DATE:20241025
DTEND;VALUE=DATE:20241026
DTSTAMP:20260424T050040
CREATED:20240822T004712Z
LAST-MODIFIED:20241025T225609Z
UID:<span 
                data-original-string='67Y8r2l7oY6YCKfvEQv5XQ==386kU5k/5EHrNTud8eM4JNBGV4J3UBX2RRD4NiMqhs8eifQU6IGjF38ehx8QS0Toky1G6FYwP2D0mHpaaHD2bq/NA=='
                class='apbct-email-encoder'
                title='This contact has been encoded by Anti-Spam by CleanTalk. Click to decode. To finish the decoding make sure that JavaScript is enabled in your browser.'>10<span class="apbct-blur">****************************</span>@<span class="apbct-blur">***************</span>wi.us</span>
SUMMARY:No School
DESCRIPTION:
URL:https://www.milton.k12.wi.us/event/no-school-5/
CATEGORIES:Milton Middle School
END:VEVENT
BEGIN:VEVENT
DTSTART;VALUE=DATE:20241025
DTEND;VALUE=DATE:20241026
DTSTAMP:20260424T050040
CREATED:20240822T004633Z
LAST-MODIFIED:20241025T230854Z
UID:<span 
                data-original-string='zAkqxMn5eEkcFAdRzngMxg==386/5zf38OuZ485T5P4E2Cq9q8ehsrqFwRqu7CF2pm+1c5WVxbeUj0fyomFVBsz505eN1k5x5LJUty8l9g6Xp8tSw=='
                class='apbct-email-encoder'
                title='This contact has been encoded by Anti-Spam by CleanTalk. Click to decode. To finish the decoding make sure that JavaScript is enabled in your browser.'>10<span class="apbct-blur">****************************</span>@<span class="apbct-blur">***************</span>wi.us</span>
SUMMARY:No School
DESCRIPTION:
URL:https://www.milton.k12.wi.us/event/no-school/
CATEGORIES:Milton High School
END:VEVENT
BEGIN:VEVENT
DTSTART;VALUE=DATE:20241025
DTEND;VALUE=DATE:20241026
DTSTAMP:20260424T050040
CREATED:20240822T004632Z
LAST-MODIFIED:20241025T230855Z
UID:<span 
                data-original-string='X/p3oWIkHTspzgq8ozNVTQ==3864i8lBz0XazxrLrgb+3A01QQn0dDO7mW6ngLQnviXcQJ8P2L2/bl+7G01wubVP/Vt3MoBfW5XSHgpeUyRkuCxXw=='
                class='apbct-email-encoder'
                title='This contact has been encoded by Anti-Spam by CleanTalk. Click to decode. To finish the decoding make sure that JavaScript is enabled in your browser.'>10<span class="apbct-blur">****************************</span>@<span class="apbct-blur">***************</span>wi.us</span>
SUMMARY:History Club Trip - Boston\, MA
DESCRIPTION:
URL:https://www.milton.k12.wi.us/event/history-club-trip-boston-ma-3/
CATEGORIES:Milton High School
END:VEVENT
BEGIN:VEVENT
DTSTART;TZID=America/Chicago:20241024T173000
DTEND;TZID=America/Chicago:20241024T183000
DTSTAMP:20260424T050040
CREATED:20240822T004711Z
LAST-MODIFIED:20241024T225243Z
UID:<span 
                data-original-string='cKVMzBP2KAsKVt5IRrBKCg==386U1MzM+tekgZz8E7ano9sTeg9aFZxKyL91ERqIAue2TTCZTsyRAMqZZUEvnLoEoEDq9MetxdnJrc/69CgGfyaVg=='
                class='apbct-email-encoder'
                title='This contact has been encoded by Anti-Spam by CleanTalk. Click to decode. To finish the decoding make sure that JavaScript is enabled in your browser.'>10<span class="apbct-blur">****************************</span>@<span class="apbct-blur">***************</span>wi.us</span>
SUMMARY:MMS Parent Group Meeting
DESCRIPTION:
URL:https://www.milton.k12.wi.us/event/parent-group-meeting/
CATEGORIES:Milton Middle School
END:VEVENT
END:VCALENDAR