BEGIN:VCALENDAR
VERSION:2.0
PRODID:-//School District of Milton - ECPv6.15.20//NONSGML v1.0//EN
CALSCALE:GREGORIAN
METHOD:PUBLISH
X-WR-CALNAME:School District of Milton
X-ORIGINAL-URL:https://www.milton.k12.wi.us
X-WR-CALDESC:Events for School District of Milton
REFRESH-INTERVAL;VALUE=DURATION:PT1H
X-Robots-Tag:noindex
X-PUBLISHED-TTL:PT1H
BEGIN:VTIMEZONE
TZID:America/Chicago
BEGIN:DAYLIGHT
TZOFFSETFROM:-0600
TZOFFSETTO:-0500
TZNAME:CDT
DTSTART:20230312T080000
END:DAYLIGHT
BEGIN:STANDARD
TZOFFSETFROM:-0500
TZOFFSETTO:-0600
TZNAME:CST
DTSTART:20231105T070000
END:STANDARD
BEGIN:DAYLIGHT
TZOFFSETFROM:-0600
TZOFFSETTO:-0500
TZNAME:CDT
DTSTART:20240310T080000
END:DAYLIGHT
BEGIN:STANDARD
TZOFFSETFROM:-0500
TZOFFSETTO:-0600
TZNAME:CST
DTSTART:20241103T070000
END:STANDARD
BEGIN:DAYLIGHT
TZOFFSETFROM:-0600
TZOFFSETTO:-0500
TZNAME:CDT
DTSTART:20250309T080000
END:DAYLIGHT
BEGIN:STANDARD
TZOFFSETFROM:-0500
TZOFFSETTO:-0600
TZNAME:CST
DTSTART:20251102T070000
END:STANDARD
END:VTIMEZONE
BEGIN:VEVENT
DTSTART;TZID=America/Chicago:20241006T100000
DTEND;TZID=America/Chicago:20241006T180000
DTSTAMP:20260423T104441
CREATED:20241001T155303Z
LAST-MODIFIED:20241006T225230Z
UID:<span 
                data-original-string='qcmzy5kuggUMTFFVI4eLNA==386oz/2J3jsc4RZKPjIu/ehyqRsjeCgSUFjZhfeE0QbjZjJwkL045eS3VH7bF29k+vB8RRGsWIaZDzKmnz01Gv8ZA=='
                class='apbct-email-encoder'
                title='This contact has been encoded by Anti-Spam by CleanTalk. Click to decode. To finish the decoding make sure that JavaScript is enabled in your browser.'>10<span class="apbct-blur">****************************</span>@<span class="apbct-blur">***************</span>wi.us</span>
SUMMARY:Mattress Sale - MMS Band fundraiser
DESCRIPTION:
URL:https://www.milton.k12.wi.us/event/mattress-sale-mms-band-fundraiser/
LOCATION:Milton Middle School Main Gym
CATEGORIES:Milton Middle School
END:VEVENT
BEGIN:VEVENT
DTSTART;VALUE=DATE:20241007
DTEND;VALUE=DATE:20241008
DTSTAMP:20260423T104441
CREATED:20240822T004628Z
LAST-MODIFIED:20241007T222229Z
UID:<span 
                data-original-string='fKhdxjLt4odNh7WZfYEVHw==386tE8p+5Jhw3MPVTgdTwWjVpYBwheBzjl5pHv9K6Kw0x65kTvnBmJBGkuImFJ3Wj0aLssmJ39kG6z15UXKXKtNAg=='
                class='apbct-email-encoder'
                title='This contact has been encoded by Anti-Spam by CleanTalk. Click to decode. To finish the decoding make sure that JavaScript is enabled in your browser.'>10<span class="apbct-blur">****************************</span>@<span class="apbct-blur">***************</span>wi.us</span>
SUMMARY:Professional Development Day - Virtual Learning
DESCRIPTION:
URL:https://www.milton.k12.wi.us/event/professional-development-day-virtual-learning/
CATEGORIES:Milton High School
END:VEVENT
BEGIN:VEVENT
DTSTART;VALUE=DATE:20241007
DTEND;VALUE=DATE:20241008
DTSTAMP:20260423T104441
CREATED:20240822T004709Z
LAST-MODIFIED:20241007T225448Z
UID:<span 
                data-original-string='AljDl8hhlM2APNYqox0uXw==386j01w/flJ7+I39sXjJvC/JPQaf3VBG4/rz523rVnuKD0qh/tMI4O01bLBMjI8PoBY6EjAEVSDek8u6q9RcS8Bxw=='
                class='apbct-email-encoder'
                title='This contact has been encoded by Anti-Spam by CleanTalk. Click to decode. To finish the decoding make sure that JavaScript is enabled in your browser.'>10<span class="apbct-blur">****************************</span>@<span class="apbct-blur">***************</span>wi.us</span>
SUMMARY:Professional Development/Virtual Learning Day
DESCRIPTION:
URL:https://www.milton.k12.wi.us/event/professional-development-virtual-learning-day-3/
CATEGORIES:Milton Middle School
END:VEVENT
BEGIN:VEVENT
DTSTART;VALUE=DATE:20241007
DTEND;VALUE=DATE:20241008
DTSTAMP:20260423T104441
CREATED:20240822T004836Z
LAST-MODIFIED:20241007T205229Z
UID:<span 
                data-original-string='QwBebZFdN4dy0r3ZAXnaGg==386b9I8YnnIfG4b+ASs1l4WPw3lmXedA9pVGkKTUXEdXuQp1SM1JJK+WScj7UESuET+T0c2Rzf7OGfFIiMxlxvIDw=='
                class='apbct-email-encoder'
                title='This contact has been encoded by Anti-Spam by CleanTalk. Click to decode. To finish the decoding make sure that JavaScript is enabled in your browser.'>10<span class="apbct-blur">****************************</span>@<span class="apbct-blur">***************</span>wi.us</span>
SUMMARY:PD/Virtual Learning Day
DESCRIPTION:
URL:https://www.milton.k12.wi.us/event/pd-virtual-learning-day/
CATEGORIES:Milton West Elementary
END:VEVENT
BEGIN:VEVENT
DTSTART;VALUE=DATE:20241007
DTEND;VALUE=DATE:20241008
DTSTAMP:20260423T104441
CREATED:20240822T012924Z
LAST-MODIFIED:20241007T215225Z
UID:<span 
                data-original-string='2ZoqX5oDtTaUoRWRwwI5mA==3867xdvH7uyvvepPIz06LZvC6zGUTVLDE8PA0DMhxrKH1ZlLD3fmIu5x79ANUkuGmjy0MF0HSA99ydz2UFvWLxbtA=='
                class='apbct-email-encoder'
                title='This contact has been encoded by Anti-Spam by CleanTalk. Click to decode. To finish the decoding make sure that JavaScript is enabled in your browser.'>10<span class="apbct-blur">****************************</span>@<span class="apbct-blur">***************</span>wi.us</span>
SUMMARY:Professional Development/Virtual Learning Day
DESCRIPTION:
URL:https://www.milton.k12.wi.us/event/professional-development-virtual-learning-day/
CATEGORIES:Consolidated
END:VEVENT
BEGIN:VEVENT
DTSTART;VALUE=DATE:20241007
DTEND;VALUE=DATE:20241008
DTSTAMP:20260423T104441
CREATED:20240824T110753Z
LAST-MODIFIED:20241007T222326Z
UID:<span 
                data-original-string='M8YU/Oq2ov/4Ix8Oe/fwCQ==386XQz650p3xL3x89wuUnobE+jnRtqNPHphKOxYowh/7/Ik2HAibEjEFCrtQRLW7JetwMIa/qw0QfsAvsWNMSqWsA=='
                class='apbct-email-encoder'
                title='This contact has been encoded by Anti-Spam by CleanTalk. Click to decode. To finish the decoding make sure that JavaScript is enabled in your browser.'>10<span class="apbct-blur">****************************</span>@<span class="apbct-blur">***************</span>wi.us</span>
SUMMARY:PD / Virtual Learning
DESCRIPTION:
URL:https://www.milton.k12.wi.us/event/pd-virtual-learning/
CATEGORIES:Northside Intermediate
END:VEVENT
BEGIN:VEVENT
DTSTART;VALUE=DATE:20241007
DTEND;VALUE=DATE:20241008
DTSTAMP:20260423T104441
CREATED:20240829T165944Z
LAST-MODIFIED:20241007T213817Z
UID:<span 
                data-original-string='BauhR5ELqJoQHCmBBYaVQw==386x07zpjIgDXVf+MuL1YHxVWxjxyVqROVb073mqFQ37UqfDPmNCa55vYA/x0es+Mj+VAl0qMSnsue408zWVD0xgA=='
                class='apbct-email-encoder'
                title='This contact has been encoded by Anti-Spam by CleanTalk. Click to decode. To finish the decoding make sure that JavaScript is enabled in your browser.'>10<span class="apbct-blur">****************************</span>@<span class="apbct-blur">***************</span>wi.us</span>
SUMMARY:HES: PD Day/ Virtual Learning
DESCRIPTION:
URL:https://www.milton.k12.wi.us/event/hes-pd-day-virtual-learning/
CATEGORIES:Harmony Elementary
END:VEVENT
BEGIN:VEVENT
DTSTART;TZID=America/Chicago:20241007T080000
DTEND;TZID=America/Chicago:20241007T170000
DTSTAMP:20260423T104441
CREATED:20240909T153616Z
LAST-MODIFIED:20240909T153616Z
UID:<span 
                data-original-string='yfnBVautsIfGDYJe22bfsA==386d/ipZFCtiMRRltJhGKj+/8ZvMKqPP4af0qLqaseUN/at/yph5yaI4mP/ZtM1U5zoI8ylLnEu/utqaw4fbwREbA=='
                class='apbct-email-encoder'
                title='This contact has been encoded by Anti-Spam by CleanTalk. Click to decode. To finish the decoding make sure that JavaScript is enabled in your browser.'>10<span class="apbct-blur">****************************</span>@<span class="apbct-blur">***************</span>wi.us</span>
SUMMARY:Virtual Learning Day / Staff Professional Development
DESCRIPTION:
URL:https://www.milton.k12.wi.us/event/virtual-learning-day-staff-professional-development/2024-10-07/
CATEGORIES:District
END:VEVENT
BEGIN:VEVENT
DTSTART;VALUE=DATE:20241008
DTEND;VALUE=DATE:20241009
DTSTAMP:20260423T104441
CREATED:20240824T110753Z
LAST-MODIFIED:20241008T222240Z
UID:<span 
                data-original-string='Bv1/GAFbflhLDBSnJzVWgQ==386aRHkq00DigUBtLKayUVHLVEC+99aWZKAM0HmAWtyAI3+MhrAeiIJuei/T6YeUlQH6bENr4PbrgcYPdShgQ6BYQ=='
                class='apbct-email-encoder'
                title='This contact has been encoded by Anti-Spam by CleanTalk. Click to decode. To finish the decoding make sure that JavaScript is enabled in your browser.'>10<span class="apbct-blur">****************************</span>@<span class="apbct-blur">***************</span>wi.us</span>
SUMMARY:Day 1
DESCRIPTION:
URL:https://www.milton.k12.wi.us/event/day-1-5/
CATEGORIES:Northside Intermediate
END:VEVENT
BEGIN:VEVENT
DTSTART;TZID=America/Chicago:20241008T180000
DTEND;TZID=America/Chicago:20241008T190000
DTSTAMP:20260423T104441
CREATED:20240822T004446Z
LAST-MODIFIED:20241008T225412Z
UID:<span 
                data-original-string='94C2IJJcEXXq4v4Y0Q6DEQ==386vlG4hwt9L2j5zCRVoTz3SDJ/54/sRNAqaRUMlm5U7Y2MaDrUsSjkUwhevn1yjobAZczCtWdrJYiMauWtnPmIhQ=='
                class='apbct-email-encoder'
                title='This contact has been encoded by Anti-Spam by CleanTalk. Click to decode. To finish the decoding make sure that JavaScript is enabled in your browser.'>10<span class="apbct-blur">****************************</span>@<span class="apbct-blur">***************</span>wi.us</span>
SUMMARY:EES:  MEPG meeting
DESCRIPTION:
URL:https://www.milton.k12.wi.us/event/ees-mepg-meeting-2/
CATEGORIES:Milton East Elementary
END:VEVENT
BEGIN:VEVENT
DTSTART;TZID=America/Chicago:20241008T183000
DTEND;TZID=America/Chicago:20241008T193000
DTSTAMP:20260423T104441
CREATED:20240822T012924Z
LAST-MODIFIED:20241008T215556Z
UID:<span 
                data-original-string='SrIvCWfbcsjslQfIomo+Ag==386XEGC+zX9soc3ApQym7CDtZGNMMq4RlQuC1aYVqb7Gjmilb70KWOGXFeGGCGEvQ8O9KnIaiHFiZ1gaO3aB6WWZg=='
                class='apbct-email-encoder'
                title='This contact has been encoded by Anti-Spam by CleanTalk. Click to decode. To finish the decoding make sure that JavaScript is enabled in your browser.'>10<span class="apbct-blur">****************************</span>@<span class="apbct-blur">***************</span>wi.us</span>
SUMMARY:CES - PIE Meeting
DESCRIPTION:
URL:https://www.milton.k12.wi.us/event/pie-meeting-2/
CATEGORIES:Consolidated
END:VEVENT
BEGIN:VEVENT
DTSTART;VALUE=DATE:20241009
DTEND;VALUE=DATE:20241010
DTSTAMP:20260423T104441
CREATED:20240822T004629Z
LAST-MODIFIED:20241009T222227Z
UID:<span 
                data-original-string='DvwUIm11nUG+OEJqmlcG7g==386VugNJLK7QgWvn9Cmcuppng3+F37moHjkIEEa6clAH6+YcTrMqC6hvYlPVB86RjGzQoZOIlKL4wsMRcNc+W6ybg=='
                class='apbct-email-encoder'
                title='This contact has been encoded by Anti-Spam by CleanTalk. Click to decode. To finish the decoding make sure that JavaScript is enabled in your browser.'>10<span class="apbct-blur">****************************</span>@<span class="apbct-blur">***************</span>wi.us</span>
SUMMARY:MHS Picture Retake Day
DESCRIPTION:
URL:https://www.milton.k12.wi.us/event/picture-retake-day/
CATEGORIES:Milton High School
END:VEVENT
BEGIN:VEVENT
DTSTART;VALUE=DATE:20241009
DTEND;VALUE=DATE:20241010
DTSTAMP:20260423T104441
CREATED:20240824T110753Z
LAST-MODIFIED:20241009T222349Z
UID:<span 
                data-original-string='weHQ0/JbnpS53857HNZunw==386ZTT3JZv2zE5Fqn8CqXthuMTxpGnHM6cceifjhnMB2gzoV9V/RrgSmmqf49srD7KwEatlZUZrBhphRbP90WX24A=='
                class='apbct-email-encoder'
                title='This contact has been encoded by Anti-Spam by CleanTalk. Click to decode. To finish the decoding make sure that JavaScript is enabled in your browser.'>10<span class="apbct-blur">****************************</span>@<span class="apbct-blur">***************</span>wi.us</span>
SUMMARY:Day 2
DESCRIPTION:
URL:https://www.milton.k12.wi.us/event/day-2-5/
CATEGORIES:Northside Intermediate
END:VEVENT
BEGIN:VEVENT
DTSTART;TZID=America/Chicago:20241009T104500
DTEND;TZID=America/Chicago:20241009T123000
DTSTAMP:20260423T104441
CREATED:20240822T004629Z
LAST-MODIFIED:20241009T080748Z
UID:<span 
                data-original-string='vgBjm2zwFQf55iH29B8BXg==386ZRlCaMgPtu50Tn5aNeqqqZEZz48AJ4+jOvNCF+jTUZTM7QxpOK5kEW0owGtCtgNGPjkXYXetdnzPmWuPGOw/yw=='
                class='apbct-email-encoder'
                title='This contact has been encoded by Anti-Spam by CleanTalk. Click to decode. To finish the decoding make sure that JavaScript is enabled in your browser.'>10<span class="apbct-blur">****************************</span>@<span class="apbct-blur">***************</span>wi.us</span>
SUMMARY:Senior Cap & Gown Orders Due During Both Lunches
DESCRIPTION:
URL:https://www.milton.k12.wi.us/event/senior-cap-gown-orders-due-during-both-lunches/
CATEGORIES:Milton High School
END:VEVENT
BEGIN:VEVENT
DTSTART;VALUE=DATE:20241010
DTEND;VALUE=DATE:20241011
DTSTAMP:20260423T104441
CREATED:20240824T110755Z
LAST-MODIFIED:20241010T222224Z
UID:<span 
                data-original-string='fNRRcZ6Pnp7NSthYMLkU0w==386DnwJLkPNvgrN4gAqe2U+O5YZi+azkCT3HA/vyOM3Myo931b4LYfJtxX5IVYfb5Bhz/LZhhaXLJRcGbIvKSuWsA=='
                class='apbct-email-encoder'
                title='This contact has been encoded by Anti-Spam by CleanTalk. Click to decode. To finish the decoding make sure that JavaScript is enabled in your browser.'>10<span class="apbct-blur">****************************</span>@<span class="apbct-blur">***************</span>wi.us</span>
SUMMARY:Day 3
DESCRIPTION:
URL:https://www.milton.k12.wi.us/event/day-3-5/
CATEGORIES:Northside Intermediate
END:VEVENT
BEGIN:VEVENT
DTSTART;VALUE=DATE:20241011
DTEND;VALUE=DATE:20241012
DTSTAMP:20260423T104441
CREATED:20240824T110753Z
LAST-MODIFIED:20241011T222503Z
UID:<span 
                data-original-string='SeNlbcHrpOtRtKvgyC6JLw==386acN8MC5+T/42cQiPFM4NYNjKdEwKCV3pvxfJPZn2YwSK0y16zWrBiIfg67pU3v5uNzff8QgO9+6q3CWh3b/PZQ=='
                class='apbct-email-encoder'
                title='This contact has been encoded by Anti-Spam by CleanTalk. Click to decode. To finish the decoding make sure that JavaScript is enabled in your browser.'>10<span class="apbct-blur">****************************</span>@<span class="apbct-blur">***************</span>wi.us</span>
SUMMARY:Day 4
DESCRIPTION:
URL:https://www.milton.k12.wi.us/event/day-4-5/
CATEGORIES:Northside Intermediate
END:VEVENT
BEGIN:VEVENT
DTSTART;VALUE=DATE:20241014
DTEND;VALUE=DATE:20241015
DTSTAMP:20260423T104441
CREATED:20240824T110755Z
LAST-MODIFIED:20241014T222236Z
UID:<span 
                data-original-string='EVEiCIbCdgfGKjZGJyRTOA==386raBGQA1wYmggIyZOnXt8yEULixs9iAuXL+4ZiffjfmqgkCW+guAJO2HNfrB8y60kcBhbMn1AS86M6pCClUf1yQ=='
                class='apbct-email-encoder'
                title='This contact has been encoded by Anti-Spam by CleanTalk. Click to decode. To finish the decoding make sure that JavaScript is enabled in your browser.'>10<span class="apbct-blur">****************************</span>@<span class="apbct-blur">***************</span>wi.us</span>
SUMMARY:Day 5
DESCRIPTION:
URL:https://www.milton.k12.wi.us/event/day-5-5/
CATEGORIES:Northside Intermediate
END:VEVENT
BEGIN:VEVENT
DTSTART;VALUE=DATE:20241014
DTEND;VALUE=DATE:20241102
DTSTAMP:20260423T104441
CREATED:20240921T180835Z
LAST-MODIFIED:20241101T213850Z
UID:<span 
                data-original-string='CIx1nKdnJuaqVcomszXQ/A==386Xl2nhO1Pt6OHYZZJKeEyYL0AZHC/L0MWzV8SxU5ELORL/RHAcyWv0BzBI9OFuS+lVZPB7tDScs8xVMMmeFPJ2g=='
                class='apbct-email-encoder'
                title='This contact has been encoded by Anti-Spam by CleanTalk. Click to decode. To finish the decoding make sure that JavaScript is enabled in your browser.'>10<span class="apbct-blur">****************************</span>@<span class="apbct-blur">***************</span>wi.us</span>
SUMMARY:Read-A-Thon Fundraiser
DESCRIPTION:
URL:https://www.milton.k12.wi.us/event/read-a-thon-fundraiser/
CATEGORIES:Milton West Elementary
END:VEVENT
BEGIN:VEVENT
DTSTART;TZID=America/Chicago:20241014T143500
DTEND;TZID=America/Chicago:20241014T153500
DTSTAMP:20260423T104441
CREATED:20240822T012924Z
LAST-MODIFIED:20241014T201203Z
UID:<span 
                data-original-string='0PtbTRitFn3F6JuaTbhQ6Q==386z1CvU/PgpjYzpgR8mdS7f8faEnAbcmKZc68gXS/8KejggS3QoudtLBrNBQf+mYlkIod66c+nrrCHbrJmBEGgiA=='
                class='apbct-email-encoder'
                title='This contact has been encoded by Anti-Spam by CleanTalk. Click to decode. To finish the decoding make sure that JavaScript is enabled in your browser.'>10<span class="apbct-blur">****************************</span>@<span class="apbct-blur">***************</span>wi.us</span>
SUMMARY:Early Release -
DESCRIPTION:
URL:https://www.milton.k12.wi.us/event/early-release-5/
CATEGORIES:Consolidated
END:VEVENT
BEGIN:VEVENT
DTSTART;TZID=America/Chicago:20241014T143500
DTEND;TZID=America/Chicago:20241014T153500
DTSTAMP:20260423T104441
CREATED:20240909T203740Z
LAST-MODIFIED:20241014T182231Z
UID:<span 
                data-original-string='xlb/67+mboFxNfBaAAIwfw==386pFFzrvjo3YQo03SW7vLiW9eyaxTPj5l+aqbWG3HoALHwKF4bTGat1k5PdApEpP+rldS591K6uk2XVdcYBiv8OQ=='
                class='apbct-email-encoder'
                title='This contact has been encoded by Anti-Spam by CleanTalk. Click to decode. To finish the decoding make sure that JavaScript is enabled in your browser.'>10<span class="apbct-blur">****************************</span>@<span class="apbct-blur">***************</span>wi.us</span>
SUMMARY:HES: Early Release
DESCRIPTION:
URL:https://www.milton.k12.wi.us/event/hes-early-release-4/
CATEGORIES:Harmony Elementary
END:VEVENT
BEGIN:VEVENT
DTSTART;TZID=America/Chicago:20241014T153000
DTEND;TZID=America/Chicago:20241014T183000
DTSTAMP:20260423T104441
CREATED:20240822T004709Z
LAST-MODIFIED:20241014T225317Z
UID:<span 
                data-original-string='F0URhcnLMyTBt4DiPWRC/Q==386jfIZpbsjVjM0umZ6T4f6hMlSHt5MdxauhCbkMbJI1JxGFTzwpkLsSlDCAkAJ5tTeiFiBNrV87z/ckS49Hz/Gqw=='
                class='apbct-email-encoder'
                title='This contact has been encoded by Anti-Spam by CleanTalk. Click to decode. To finish the decoding make sure that JavaScript is enabled in your browser.'>10<span class="apbct-blur">****************************</span>@<span class="apbct-blur">***************</span>wi.us</span>
SUMMARY:MMS Parent/Teacher Conferences
DESCRIPTION:
URL:https://www.milton.k12.wi.us/event/parent-teacher-conferences-4/
CATEGORIES:Milton Middle School
END:VEVENT
BEGIN:VEVENT
DTSTART;TZID=America/Chicago:20241014T183000
DTEND;TZID=America/Chicago:20241014T203000
DTSTAMP:20260423T104441
CREATED:20240822T012951Z
LAST-MODIFIED:20241014T220728Z
UID:<span 
                data-original-string='msD+TeMHKDNyyeLMwfvugg==3868o1FJLobMboIHvYgknm3pOwHkqsKuYZqcvpKC761lJxP0biDWnfaVeoN99lWlSs/+3Js45+jbbaG4aLtRq35Tg=='
                class='apbct-email-encoder'
                title='This contact has been encoded by Anti-Spam by CleanTalk. Click to decode. To finish the decoding make sure that JavaScript is enabled in your browser.'>10<span class="apbct-blur">****************************</span>@<span class="apbct-blur">***************</span>wi.us</span>
SUMMARY:School Board Meeting
DESCRIPTION:
URL:https://www.milton.k12.wi.us/event/school-board-meeting-4/
CATEGORIES:District
END:VEVENT
BEGIN:VEVENT
DTSTART;VALUE=DATE:20241015
DTEND;VALUE=DATE:20241016
DTSTAMP:20260423T104441
CREATED:20240824T110755Z
LAST-MODIFIED:20241015T222511Z
UID:<span 
                data-original-string='ER8brh1ZD/xtJmUaj6QQqA==386gp6GDkh26SRpRALwgtw5d2VnqaRVBZrtrypUOeTLuUatOOloepZIGSLZulV9tgbu3K9lHbfK4iUxI55zGyOTyA=='
                class='apbct-email-encoder'
                title='This contact has been encoded by Anti-Spam by CleanTalk. Click to decode. To finish the decoding make sure that JavaScript is enabled in your browser.'>10<span class="apbct-blur">****************************</span>@<span class="apbct-blur">***************</span>wi.us</span>
SUMMARY:Day 6
DESCRIPTION:
URL:https://www.milton.k12.wi.us/event/day-6-5/
CATEGORIES:Northside Intermediate
END:VEVENT
BEGIN:VEVENT
DTSTART;TZID=America/Chicago:20241015T180000
DTEND;TZID=America/Chicago:20241015T190000
DTSTAMP:20260423T104441
CREATED:20240823T224230Z
LAST-MODIFIED:20241015T222511Z
UID:<span 
                data-original-string='HSQ9ArLnPR97V38a3x34GA==3863bgW7qS+6sWzbqIpbjHOap6QK38v3ZgIHfEDUc6RuRWHWUoH/hsIoKqbt3PxDDg2cFcpEVVx4DqYepO+k0pWsg=='
                class='apbct-email-encoder'
                title='This contact has been encoded by Anti-Spam by CleanTalk. Click to decode. To finish the decoding make sure that JavaScript is enabled in your browser.'>10<span class="apbct-blur">****************************</span>@<span class="apbct-blur">***************</span>wi.us</span>
SUMMARY:FON Meeting
DESCRIPTION:
URL:https://www.milton.k12.wi.us/event/fon-meeting-2/
CATEGORIES:Northside Intermediate
END:VEVENT
BEGIN:VEVENT
DTSTART;VALUE=DATE:20241016
DTEND;VALUE=DATE:20241017
DTSTAMP:20260423T104441
CREATED:20240822T004446Z
LAST-MODIFIED:20241016T225556Z
UID:<span 
                data-original-string='ZYSivXzxcs1QgojmvxeVnw==3865SsuOuNPjD/mD26iLALldnMg/nYHAnAucnobc1mSFpE+ZCtaY662T2EkL7zbYpc97H3nwX/TR9zpX9ldFMU5kQ=='
                class='apbct-email-encoder'
                title='This contact has been encoded by Anti-Spam by CleanTalk. Click to decode. To finish the decoding make sure that JavaScript is enabled in your browser.'>10<span class="apbct-blur">****************************</span>@<span class="apbct-blur">***************</span>wi.us</span>
SUMMARY:EES:  Picture retakes
DESCRIPTION:
URL:https://www.milton.k12.wi.us/event/ees-picture-retakes/
CATEGORIES:Milton East Elementary
END:VEVENT
BEGIN:VEVENT
DTSTART;VALUE=DATE:20241016
DTEND;VALUE=DATE:20241017
DTSTAMP:20260423T104441
CREATED:20240824T110755Z
LAST-MODIFIED:20241016T222340Z
UID:<span 
                data-original-string='yv9WzJ0T7xTDDjOBkYj/yw==386OVC2cgsxN/qPKtwabfaFnTPiWr0IBMGxhd1MNvYUW2qGHqjqTGPjjl4YKvT5bhsk3dZVIjzbcXIVCTg5y0VrQg=='
                class='apbct-email-encoder'
                title='This contact has been encoded by Anti-Spam by CleanTalk. Click to decode. To finish the decoding make sure that JavaScript is enabled in your browser.'>10<span class="apbct-blur">****************************</span>@<span class="apbct-blur">***************</span>wi.us</span>
SUMMARY:Day 1
DESCRIPTION:
URL:https://www.milton.k12.wi.us/event/day-1-6/
CATEGORIES:Northside Intermediate
END:VEVENT
BEGIN:VEVENT
DTSTART;TZID=America/Chicago:20241016T073000
DTEND;TZID=America/Chicago:20241016T110000
DTSTAMP:20260423T104441
CREATED:20240822T004710Z
LAST-MODIFIED:20241015T225354Z
UID:<span 
                data-original-string='W3s1xX0TPoqYS8CfkPobYg==386+Bhhkb2l2gz7KAQHEFdoHcYn2ufvyr67K5rOMn8UqPCshULzvfFQHMqqpkV9uetDymwzCsfCvRDpnBymkkX/ow=='
                class='apbct-email-encoder'
                title='This contact has been encoded by Anti-Spam by CleanTalk. Click to decode. To finish the decoding make sure that JavaScript is enabled in your browser.'>10<span class="apbct-blur">****************************</span>@<span class="apbct-blur">***************</span>wi.us</span>
SUMMARY:MMS Picture Retake Day
DESCRIPTION:
URL:https://www.milton.k12.wi.us/event/picture-retake-day-2/
CATEGORIES:Milton Middle School
END:VEVENT
BEGIN:VEVENT
DTSTART;TZID=America/Chicago:20241016T153000
DTEND;TZID=America/Chicago:20241016T183000
DTSTAMP:20260423T104441
CREATED:20240822T004710Z
LAST-MODIFIED:20241016T225245Z
UID:<span 
                data-original-string='DdZvh+g2mD4bDqjFrKyGRw==3862i0yOYR+cO1th+OP7IEIHSsIzVB2I47J7L9CUsXPM/o4ker0l0y/Jzkjy2FbtsVZVxuSfhkwPkWmemcCMygaFw=='
                class='apbct-email-encoder'
                title='This contact has been encoded by Anti-Spam by CleanTalk. Click to decode. To finish the decoding make sure that JavaScript is enabled in your browser.'>10<span class="apbct-blur">****************************</span>@<span class="apbct-blur">***************</span>wi.us</span>
SUMMARY:MMS Parent/Teacher Conferences
DESCRIPTION:
URL:https://www.milton.k12.wi.us/event/parent-teacher-conferences-9/
CATEGORIES:Milton Middle School
END:VEVENT
BEGIN:VEVENT
DTSTART;TZID=America/Chicago:20241016T153000
DTEND;TZID=America/Chicago:20241016T193000
DTSTAMP:20260423T104441
CREATED:20240822T004630Z
LAST-MODIFIED:20241016T222507Z
UID:<span 
                data-original-string='l+1lG/nybD9awYrAdD9duQ==386Sm8AHEN5pW9/xSK66Dmx2UHOGfdDE+eMS8Ga6ziWt0ElpPUBkKi4poenIMv06VeY3z61VJtwmHrxksNc4mbtpw=='
                class='apbct-email-encoder'
                title='This contact has been encoded by Anti-Spam by CleanTalk. Click to decode. To finish the decoding make sure that JavaScript is enabled in your browser.'>10<span class="apbct-blur">****************************</span>@<span class="apbct-blur">***************</span>wi.us</span>
SUMMARY:MHS Parent Teacher Conferences
DESCRIPTION:
URL:https://www.milton.k12.wi.us/event/parent-teacher-conferences/
CATEGORIES:Milton High School
END:VEVENT
BEGIN:VEVENT
DTSTART;VALUE=DATE:20241017
DTEND;VALUE=DATE:20241018
DTSTAMP:20260423T104441
CREATED:20240824T110755Z
LAST-MODIFIED:20241017T222222Z
UID:<span 
                data-original-string='PlCRtMh4aRQTDFzNtPs0Fg==386xNj4BgqOW1JRsHsqLn1DZf9zCVC0po7PZrKRc3OfcINdEbrYD7cXBxg/zP5fuFEGf3F1JxUMQW+49qI0eDt6Wg=='
                class='apbct-email-encoder'
                title='This contact has been encoded by Anti-Spam by CleanTalk. Click to decode. To finish the decoding make sure that JavaScript is enabled in your browser.'>10<span class="apbct-blur">****************************</span>@<span class="apbct-blur">***************</span>wi.us</span>
SUMMARY:Day 2
DESCRIPTION:
URL:https://www.milton.k12.wi.us/event/day-2-6/
CATEGORIES:Northside Intermediate
END:VEVENT
END:VCALENDAR