BEGIN:VCALENDAR
VERSION:2.0
PRODID:-//School District of Milton - ECPv6.15.20//NONSGML v1.0//EN
CALSCALE:GREGORIAN
METHOD:PUBLISH
X-WR-CALNAME:School District of Milton
X-ORIGINAL-URL:https://www.milton.k12.wi.us
X-WR-CALDESC:Events for School District of Milton
REFRESH-INTERVAL;VALUE=DURATION:PT1H
X-Robots-Tag:noindex
X-PUBLISHED-TTL:PT1H
BEGIN:VTIMEZONE
TZID:America/Chicago
BEGIN:DAYLIGHT
TZOFFSETFROM:-0600
TZOFFSETTO:-0500
TZNAME:CDT
DTSTART:20250309T080000
END:DAYLIGHT
BEGIN:STANDARD
TZOFFSETFROM:-0500
TZOFFSETTO:-0600
TZNAME:CST
DTSTART:20251102T070000
END:STANDARD
BEGIN:DAYLIGHT
TZOFFSETFROM:-0600
TZOFFSETTO:-0500
TZNAME:CDT
DTSTART:20260308T080000
END:DAYLIGHT
BEGIN:STANDARD
TZOFFSETFROM:-0500
TZOFFSETTO:-0600
TZNAME:CST
DTSTART:20261101T070000
END:STANDARD
BEGIN:DAYLIGHT
TZOFFSETFROM:-0600
TZOFFSETTO:-0500
TZNAME:CDT
DTSTART:20270314T080000
END:DAYLIGHT
BEGIN:STANDARD
TZOFFSETFROM:-0500
TZOFFSETTO:-0600
TZNAME:CST
DTSTART:20271107T070000
END:STANDARD
END:VTIMEZONE
BEGIN:VEVENT
DTSTART;TZID=America/Chicago:20260123T170000
DTEND;TZID=America/Chicago:20260123T190000
DTSTAMP:20260423T041529
CREATED:20250813T183951Z
LAST-MODIFIED:20260123T230731Z
UID:<span 
                data-original-string='6EJ6lM/Q24zL8ytTgGIFHQ==386OKySK/i5Cz8SrpZJQmmFjPsI4QB83xyd9Yyr7NNFlxd5UrQuKiEYgSDrPQMXrBGEfNdc+AgQRpEcCYqWb822+g=='
                class='apbct-email-encoder'
                title='This contact has been encoded by Anti-Spam by CleanTalk. Click to decode. To finish the decoding make sure that JavaScript is enabled in your browser.'>10<span class="apbct-blur">****************************</span>@<span class="apbct-blur">***************</span>wi.us</span>
SUMMARY:Rec Night
DESCRIPTION:
URL:https://www.milton.k12.wi.us/event/rec-night-3/
CATEGORIES:Milton Middle School
END:VEVENT
BEGIN:VEVENT
DTSTART;VALUE=DATE:20260123
DTEND;VALUE=DATE:20260124
DTSTAMP:20260423T041529
CREATED:20260121T172232Z
LAST-MODIFIED:20260122T203750Z
UID:<span 
                data-original-string='kvtEXgYNtNQxSyZyV5yo3A==38662qwMDPAEjZcrHq0YAWCBlPH5WnkgmzGekjSmmo5/+mxpADgITRYqDBRcBWMszkl5tBuKb/stRX7CHzRA4s6ng=='
                class='apbct-email-encoder'
                title='This contact has been encoded by Anti-Spam by CleanTalk. Click to decode. To finish the decoding make sure that JavaScript is enabled in your browser.'>10<span class="apbct-blur">****************************</span>@<span class="apbct-blur">***************</span>wi.us</span>
SUMMARY:DAY 3
DESCRIPTION:
URL:https://www.milton.k12.wi.us/event/day-3-40/
CATEGORIES:Northside Intermediate
END:VEVENT
BEGIN:VEVENT
DTSTART;VALUE=DATE:20260123
DTEND;VALUE=DATE:20260124
DTSTAMP:20260423T041529
CREATED:20250905T074000Z
LAST-MODIFIED:20260123T223753Z
UID:<span 
                data-original-string='ktCjbH1k3HyvW+kQHrZCTQ==386kGWCdmNC4a+mg8IFMbJDnSpVepkCgm8rkus6voOQZB/RQV6QLruG1gE2GSteISjAsy8VdqMxdYqCNJGIMokkkA=='
                class='apbct-email-encoder'
                title='This contact has been encoded by Anti-Spam by CleanTalk. Click to decode. To finish the decoding make sure that JavaScript is enabled in your browser.'>10<span class="apbct-blur">****************************</span>@<span class="apbct-blur">***************</span>wi.us</span>
SUMMARY:HES: Family Fun Night
DESCRIPTION:
URL:https://www.milton.k12.wi.us/event/hes-family-fun-night-4/
CATEGORIES:Harmony Elementary
END:VEVENT
BEGIN:VEVENT
DTSTART;TZID=America/Chicago:20260122T173000
DTEND;TZID=America/Chicago:20260122T183000
DTSTAMP:20260423T041529
CREATED:20250813T183950Z
LAST-MODIFIED:20260122T230815Z
UID:<span 
                data-original-string='osALn9uMCMeg09HX15jaTQ==386GlYKIg3KRrlkpT/9gLwd8iT28DlARhSYp+2bUoGL9oWR87wPq9FzkiRZjt2Vgm1Clk2BCCODaX0XrNO0Pt1ulA=='
                class='apbct-email-encoder'
                title='This contact has been encoded by Anti-Spam by CleanTalk. Click to decode. To finish the decoding make sure that JavaScript is enabled in your browser.'>10<span class="apbct-blur">****************************</span>@<span class="apbct-blur">***************</span>wi.us</span>
SUMMARY:(Virtual) Parent Group Meeting
DESCRIPTION:
URL:https://www.milton.k12.wi.us/event/parent-group-meeting-14/
LOCATION:MMS Cafeteria
CATEGORIES:Milton Middle School
END:VEVENT
BEGIN:VEVENT
DTSTART;TZID=America/Chicago:20260122T153000
DTEND;TZID=America/Chicago:20260122T183000
DTSTAMP:20260423T041529
CREATED:20250616T130943Z
LAST-MODIFIED:20260122T203834Z
UID:<span 
                data-original-string='9xsDzvQ39k5gHq7ItYb89A==386Q91OSLTD21Z2RS2k38tSlpDcggRpa26FjJlcDx9XA568pGPJcTtqVp4rjyEsyry65rk7cPvdJ9RQ7RyINF55Cg=='
                class='apbct-email-encoder'
                title='This contact has been encoded by Anti-Spam by CleanTalk. Click to decode. To finish the decoding make sure that JavaScript is enabled in your browser.'>10<span class="apbct-blur">****************************</span>@<span class="apbct-blur">***************</span>wi.us</span>
SUMMARY:Parent Teacher Conferences
DESCRIPTION:
URL:https://www.milton.k12.wi.us/event/parent-teacher-conferences-35/
CATEGORIES:Milton High School
END:VEVENT
BEGIN:VEVENT
DTSTART;VALUE=DATE:20260122
DTEND;VALUE=DATE:20260123
DTSTAMP:20260423T041529
CREATED:20260121T172233Z
LAST-MODIFIED:20260122T203749Z
UID:<span 
                data-original-string='lxp5kBkBhYsCnmWjFY4YfQ==386izKdBkXJOkbY5gGgHdmWc5y/r3SfWF9nOooz35XLm5fV29VJgSCePKUQlqreCyMxG43TWLwRlM/1CEVK/yma4g=='
                class='apbct-email-encoder'
                title='This contact has been encoded by Anti-Spam by CleanTalk. Click to decode. To finish the decoding make sure that JavaScript is enabled in your browser.'>10<span class="apbct-blur">****************************</span>@<span class="apbct-blur">***************</span>wi.us</span>
SUMMARY:DAY 2
DESCRIPTION:
URL:https://www.milton.k12.wi.us/event/day-2-39/
CATEGORIES:Northside Intermediate
END:VEVENT
BEGIN:VEVENT
DTSTART;VALUE=DATE:20260121
DTEND;VALUE=DATE:20260122
DTSTAMP:20260423T041529
CREATED:20260121T172231Z
LAST-MODIFIED:20260121T202327Z
UID:<span 
                data-original-string='py5F0pYRw/m9qwoWEQGIJQ==386DrngMQ2QEyXVpblppD6/ZK11pfjzndTSH666XzJ/aUKEJv2scPXVVCeU7URYcERge6tQhfq94CAqT1Mkym1GDg=='
                class='apbct-email-encoder'
                title='This contact has been encoded by Anti-Spam by CleanTalk. Click to decode. To finish the decoding make sure that JavaScript is enabled in your browser.'>10<span class="apbct-blur">****************************</span>@<span class="apbct-blur">***************</span>wi.us</span>
SUMMARY:DAY 1
DESCRIPTION:
URL:https://www.milton.k12.wi.us/event/day-1-41/
CATEGORIES:Northside Intermediate
END:VEVENT
BEGIN:VEVENT
DTSTART;TZID=America/Chicago:20260120T180000
DTEND;TZID=America/Chicago:20260120T190000
DTSTAMP:20260423T041529
CREATED:20240823T224237Z
LAST-MODIFIED:20260120T222243Z
UID:<span 
                data-original-string='S8bQUJrpJjBbhnJ74S8TQg==386aJ2GCJ7M0o5YGwi35hfCHlg7SOp0QD66pGTsdPkecnx17ptCfvSfYCL+vzEpdn6m2+IK62L01whAPug5heFnFg=='
                class='apbct-email-encoder'
                title='This contact has been encoded by Anti-Spam by CleanTalk. Click to decode. To finish the decoding make sure that JavaScript is enabled in your browser.'>10<span class="apbct-blur">****************************</span>@<span class="apbct-blur">***************</span>wi.us</span>
SUMMARY:FON Meeting
DESCRIPTION:
URL:https://www.milton.k12.wi.us/event/fon-meeting-17/
CATEGORIES:Northside Intermediate
END:VEVENT
BEGIN:VEVENT
DTSTART;TZID=America/Chicago:20260119T180000
DTEND;TZID=America/Chicago:20260119T200000
DTSTAMP:20260423T041529
CREATED:20240917T180352Z
LAST-MODIFIED:20260119T225232Z
UID:<span 
                data-original-string='c/Jo14bPDcMVYxrijHJLPw==3866qSjHKUL6Xs7oMt9f7/RWZIkcotbGaqboM/ytbV04EiflL7DxgUFRnfbaHgYQtSCXtxm28B2Df1KJ/PzIFy4SA=='
                class='apbct-email-encoder'
                title='This contact has been encoded by Anti-Spam by CleanTalk. Click to decode. To finish the decoding make sure that JavaScript is enabled in your browser.'>10<span class="apbct-blur">****************************</span>@<span class="apbct-blur">***************</span>wi.us</span>
SUMMARY:PAWS mtg
DESCRIPTION:
URL:https://www.milton.k12.wi.us/event/paws-mtg-17/
CATEGORIES:Milton West Elementary
END:VEVENT
BEGIN:VEVENT
DTSTART;TZID=America/Chicago:20260119T143500
DTEND;TZID=America/Chicago:20260119T153500
DTSTAMP:20260423T041529
CREATED:20240822T012939Z
LAST-MODIFIED:20250922T160824Z
UID:<span 
                data-original-string='HVcQzp2yBQf2v1EobOvrtA==386vYsPPTZ7haWGcVv0BLYqNGL7VELO5ZvvWsw06B3jTfduTvS620V33GITVlQTGTDjH3sepReqZEG9tFkVrhdRpg=='
                class='apbct-email-encoder'
                title='This contact has been encoded by Anti-Spam by CleanTalk. Click to decode. To finish the decoding make sure that JavaScript is enabled in your browser.'>10<span class="apbct-blur">****************************</span>@<span class="apbct-blur">***************</span>wi.us</span>
SUMMARY:Early Release -
DESCRIPTION:
URL:https://www.milton.k12.wi.us/event/early-release-64/
CATEGORIES:Consolidated
END:VEVENT
BEGIN:VEVENT
DTSTART;VALUE=DATE:20260119
DTEND;VALUE=DATE:20260120
DTSTAMP:20260423T041529
CREATED:20251020T161029Z
LAST-MODIFIED:20260119T230836Z
UID:<span 
                data-original-string='S8sang1pCaqiq9k5Lkx3bA==386ExS8LVYaYRqAZUpixCNeqxF0ZeWXaQYRfVlM9sOdzBTHt3qumn+PHtFgy+433rvGXlXq9RxdRelDNPRBXWpucg=='
                class='apbct-email-encoder'
                title='This contact has been encoded by Anti-Spam by CleanTalk. Click to decode. To finish the decoding make sure that JavaScript is enabled in your browser.'>10<span class="apbct-blur">****************************</span>@<span class="apbct-blur">***************</span>wi.us</span>
SUMMARY:No School (PD Day)
DESCRIPTION:
URL:https://www.milton.k12.wi.us/event/no-school-pd-day/
CATEGORIES:Milton Middle School
END:VEVENT
BEGIN:VEVENT
DTSTART;VALUE=DATE:20260119
DTEND;VALUE=DATE:20260120
DTSTAMP:20260423T041529
CREATED:20250922T165347Z
LAST-MODIFIED:20260119T232238Z
UID:<span 
                data-original-string='BYHfUwFghSiYLuc6st98jA==386Y3uJmCBtHAJ+0UA+Jh8rqHi6gq4FfoupTuq5CTJUdls8YPiV+i4N4+cSDfzuPezghRc0XwdbR1uIV9gWc+Bpvw=='
                class='apbct-email-encoder'
                title='This contact has been encoded by Anti-Spam by CleanTalk. Click to decode. To finish the decoding make sure that JavaScript is enabled in your browser.'>10<span class="apbct-blur">****************************</span>@<span class="apbct-blur">***************</span>wi.us</span>
SUMMARY:CES - No School
DESCRIPTION:
URL:https://www.milton.k12.wi.us/event/ces-no-school-2/
CATEGORIES:Consolidated
END:VEVENT
BEGIN:VEVENT
DTSTART;VALUE=DATE:20260119
DTEND;VALUE=DATE:20260120
DTSTAMP:20260423T041529
CREATED:20250825T070900Z
LAST-MODIFIED:20260119T223727Z
UID:<span 
                data-original-string='JzHYv7JwlAVXqT0u1/8npQ==386IRHCVojOmYDEHrOThwg2q21zy48oQmqJcB59p41CNHlpi6NoJchcmtzU/EbIXfOva3BfibHRSlrPFL/bsyZUDQ=='
                class='apbct-email-encoder'
                title='This contact has been encoded by Anti-Spam by CleanTalk. Click to decode. To finish the decoding make sure that JavaScript is enabled in your browser.'>10<span class="apbct-blur">****************************</span>@<span class="apbct-blur">***************</span>wi.us</span>
SUMMARY:HES: PD Day- No School
DESCRIPTION:
URL:https://www.milton.k12.wi.us/event/hes-pd-day-no-school-4/
CATEGORIES:Harmony Elementary
END:VEVENT
BEGIN:VEVENT
DTSTART;VALUE=DATE:20260119
DTEND;VALUE=DATE:20260120
DTSTAMP:20260423T041529
CREATED:20250616T130937Z
LAST-MODIFIED:20260119T200200Z
UID:<span 
                data-original-string='Ojvd05HZbrtNhha+tmUNUg==386BeB98SzOswSZBv5AWE6aQs5SrGfwBjOrhTmSt6VfaWPnjergXeXZmNMojXpQQAlqo5tGBZUb7wfZKNBFoeBWUQ=='
                class='apbct-email-encoder'
                title='This contact has been encoded by Anti-Spam by CleanTalk. Click to decode. To finish the decoding make sure that JavaScript is enabled in your browser.'>10<span class="apbct-blur">****************************</span>@<span class="apbct-blur">***************</span>wi.us</span>
SUMMARY:No School - Staff PD Day
DESCRIPTION:
URL:https://www.milton.k12.wi.us/event/no-school-staff-pd-day-4/
CATEGORIES:Milton High School
END:VEVENT
BEGIN:VEVENT
DTSTART;VALUE=DATE:20260119
DTEND;VALUE=DATE:20260120
DTSTAMP:20260423T041529
CREATED:20250611T144539Z
LAST-MODIFIED:20260119T222531Z
UID:<span 
                data-original-string='dJo6MXxlnsf2XyElQCAgEA==386uG7SXDmuxeDcEwqMAFBYQ4MnRqcq5n0fLLVEiiAsj5jeOEtRBgePHKx/vzu3gFlOxaTA3jzbfCwO81ZmRAVN5A=='
                class='apbct-email-encoder'
                title='This contact has been encoded by Anti-Spam by CleanTalk. Click to decode. To finish the decoding make sure that JavaScript is enabled in your browser.'>10<span class="apbct-blur">****************************</span>@<span class="apbct-blur">***************</span>wi.us</span>
SUMMARY:Staff PD Day - No School
DESCRIPTION:
URL:https://www.milton.k12.wi.us/event/staff-pd-day-no-school/
CATEGORIES:Milton East Elementary
END:VEVENT
BEGIN:VEVENT
DTSTART;TZID=America/Chicago:20260114T153000
DTEND;TZID=America/Chicago:20260114T193000
DTSTAMP:20260423T041529
CREATED:20250813T183948Z
LAST-MODIFIED:20260114T225227Z
UID:<span 
                data-original-string='ZI10NVH/5qZCgNZQ/PKYnQ==386MD0eNPkyfv4JPCbW6ELbYGvAFb1+sV3xHa68yYyAZ17s6LC+p+FjN+8cmJCxpMrRvWTxRuEXbzoZP0b3E2d0Rg=='
                class='apbct-email-encoder'
                title='This contact has been encoded by Anti-Spam by CleanTalk. Click to decode. To finish the decoding make sure that JavaScript is enabled in your browser.'>10<span class="apbct-blur">****************************</span>@<span class="apbct-blur">***************</span>wi.us</span>
SUMMARY:Parent Teacher Conferences
DESCRIPTION:
URL:https://www.milton.k12.wi.us/event/parent-teacher-conferences-39/
LOCATION:Milton Middle School
CATEGORIES:Milton Middle School
END:VEVENT
BEGIN:VEVENT
DTSTART;TZID=America/Chicago:20260113T183000
DTEND;TZID=America/Chicago:20260113T193000
DTSTAMP:20260423T041529
CREATED:20240822T012939Z
LAST-MODIFIED:20260113T202343Z
UID:<span 
                data-original-string='TAlVqxw0MHYmcCP4KKbDlw==386kz2rgN8TPSuc+dP6WVpJADwJphcU7SGTsBCOLt179tMXU669izOdyOS9VruhmQXVZl+99iTG2jTC010/7iVWHQ=='
                class='apbct-email-encoder'
                title='This contact has been encoded by Anti-Spam by CleanTalk. Click to decode. To finish the decoding make sure that JavaScript is enabled in your browser.'>10<span class="apbct-blur">****************************</span>@<span class="apbct-blur">***************</span>wi.us</span>
SUMMARY:CES - PIE Meeting
DESCRIPTION:
URL:https://www.milton.k12.wi.us/event/pie-meeting-17/
CATEGORIES:Consolidated
END:VEVENT
BEGIN:VEVENT
DTSTART;TZID=America/Chicago:20260113T160000
DTEND;TZID=America/Chicago:20260113T200000
DTSTAMP:20260423T041529
CREATED:20250611T203839Z
LAST-MODIFIED:20260113T215423Z
UID:<span 
                data-original-string='4lq/Qw8KMPtAukEath22lw==386Rf8YLlabtE4OhgauYyWA0sDvraYYhCr0JSow8wYehyfmMrc8KO2/iVJB/+ooI/BgHrbi37CZGVumzdsnSHvTeg=='
                class='apbct-email-encoder'
                title='This contact has been encoded by Anti-Spam by CleanTalk. Click to decode. To finish the decoding make sure that JavaScript is enabled in your browser.'>10<span class="apbct-blur">****************************</span>@<span class="apbct-blur">***************</span>wi.us</span>
SUMMARY:EES Scoopie Night
DESCRIPTION:
URL:https://www.milton.k12.wi.us/event/ees-scoopie-night-5/
CATEGORIES:Milton East Elementary
END:VEVENT
BEGIN:VEVENT
DTSTART;TZID=America/Chicago:20260112T183000
DTEND;TZID=America/Chicago:20260112T203000
DTSTAMP:20260423T041529
CREATED:20240822T012957Z
LAST-MODIFIED:20260112T213724Z
UID:<span 
                data-original-string='fOTQ8N/XGfdbxHmaKxw9dA==386r6AdVyFFBwZQm8zT/6CnOXwDyLqqaIIz5WMdzAe0oOZOUMcZnnvR74Sr/KoOBpoUHUsqZ7/C9X0ot+HB4PbzOQ=='
                class='apbct-email-encoder'
                title='This contact has been encoded by Anti-Spam by CleanTalk. Click to decode. To finish the decoding make sure that JavaScript is enabled in your browser.'>10<span class="apbct-blur">****************************</span>@<span class="apbct-blur">***************</span>wi.us</span>
SUMMARY:School Board Meeting
DESCRIPTION:
URL:https://www.milton.k12.wi.us/event/school-board-meeting-38/
CATEGORIES:District
END:VEVENT
BEGIN:VEVENT
DTSTART;TZID=America/Chicago:20260112T143500
DTEND;TZID=America/Chicago:20260112T153500
DTSTAMP:20260423T041529
CREATED:20240822T012939Z
LAST-MODIFIED:20260112T183724Z
UID:<span 
                data-original-string='y8owVMpw5p3GFVuMYJeq5g==386WkZo8Dk/QyqflxSTGad8Zs/19rSxKFhijun03o6hNmfa6QeU0KxIcQZkkELjiG2q8zPuvzjdTVzU4e2Z75UcKw=='
                class='apbct-email-encoder'
                title='This contact has been encoded by Anti-Spam by CleanTalk. Click to decode. To finish the decoding make sure that JavaScript is enabled in your browser.'>10<span class="apbct-blur">****************************</span>@<span class="apbct-blur">***************</span>wi.us</span>
SUMMARY:Early Release -
DESCRIPTION:
URL:https://www.milton.k12.wi.us/event/early-release-63/
CATEGORIES:Consolidated
END:VEVENT
BEGIN:VEVENT
DTSTART;VALUE=DATE:20260109
DTEND;VALUE=DATE:20260110
DTSTAMP:20260423T041529
CREATED:20251215T161517Z
LAST-MODIFIED:20260109T222314Z
UID:<span 
                data-original-string='1VizCBCVTxw/H9Q8xgp25w==386beG526a60R7hrl7sHa3CcZeK+ptYbUsozc/OUhyCnDgpIgnjI6Sq8Z6+STsB/eKuB/gyioKjPN0FnDhW4EWqXw=='
                class='apbct-email-encoder'
                title='This contact has been encoded by Anti-Spam by CleanTalk. Click to decode. To finish the decoding make sure that JavaScript is enabled in your browser.'>10<span class="apbct-blur">****************************</span>@<span class="apbct-blur">***************</span>wi.us</span>
SUMMARY:DAY 6
DESCRIPTION:
URL:https://www.milton.k12.wi.us/event/day-6-39/
CATEGORIES:Northside Intermediate
END:VEVENT
BEGIN:VEVENT
DTSTART;VALUE=DATE:20260108
DTEND;VALUE=DATE:20260109
DTSTAMP:20260423T041529
CREATED:20251215T161516Z
LAST-MODIFIED:20260108T220726Z
UID:<span 
                data-original-string='ZtGt9oiC3LmZkxxpHBhr3Q==3869SHxEolVJQxKU+CEmqB8I/SDznKQccHx/iVevGixhSPloJne1I5EEF0/qiEXHtJz0xxDYNlFoXALcXbadZFRKQ=='
                class='apbct-email-encoder'
                title='This contact has been encoded by Anti-Spam by CleanTalk. Click to decode. To finish the decoding make sure that JavaScript is enabled in your browser.'>10<span class="apbct-blur">****************************</span>@<span class="apbct-blur">***************</span>wi.us</span>
SUMMARY:DAY 5
DESCRIPTION:
URL:https://www.milton.k12.wi.us/event/day-5-37/
CATEGORIES:Northside Intermediate
END:VEVENT
BEGIN:VEVENT
DTSTART;TZID=America/Chicago:20260107T180000
DTEND;TZID=America/Chicago:20260107T200000
DTSTAMP:20260423T041529
CREATED:20250616T130936Z
LAST-MODIFIED:20260107T235301Z
UID:<span 
                data-original-string='dtrl1Czri4ZYEUcA6/iH9Q==386PcaB7UmVzORDeLoAOabllw34WIau0uMOPXI+UiTswuL/KCMOaovm7mHmTUErqfuksjhuGlFCTDCEu/gYUyniDw=='
                class='apbct-email-encoder'
                title='This contact has been encoded by Anti-Spam by CleanTalk. Click to decode. To finish the decoding make sure that JavaScript is enabled in your browser.'>10<span class="apbct-blur">****************************</span>@<span class="apbct-blur">***************</span>wi.us</span>
SUMMARY:9th Grade Academic Planning (Families from 6:30-8:00)
DESCRIPTION:
URL:https://www.milton.k12.wi.us/event/9th-grade-academic-planning-families-from-630-800/
CATEGORIES:Milton High School
END:VEVENT
BEGIN:VEVENT
DTSTART;VALUE=DATE:20260107
DTEND;VALUE=DATE:20260108
DTSTAMP:20260423T041529
CREATED:20251215T161512Z
LAST-MODIFIED:20260107T220729Z
UID:<span 
                data-original-string='81sCv+3wMWHKpNFgy2FSFQ==386TlDog37y+FlOPZwfZQ2xNRnNGAmkg+7fI8XNB+mhbXbNLEfRS5YmXhUyEgKOeYwM2Vj6woxLkbM3TiRs+4OMUA=='
                class='apbct-email-encoder'
                title='This contact has been encoded by Anti-Spam by CleanTalk. Click to decode. To finish the decoding make sure that JavaScript is enabled in your browser.'>10<span class="apbct-blur">****************************</span>@<span class="apbct-blur">***************</span>wi.us</span>
SUMMARY:DAY 4
DESCRIPTION:
URL:https://www.milton.k12.wi.us/event/day-4-41/
CATEGORIES:Northside Intermediate
END:VEVENT
BEGIN:VEVENT
DTSTART;VALUE=DATE:20260107
DTEND;VALUE=DATE:20260108
DTSTAMP:20260423T041529
CREATED:20251029T160804Z
LAST-MODIFIED:20260107T235224Z
UID:<span 
                data-original-string='6o6d36WlXPDCN5mrAXVOqA==386sbSuDjQhbFZrdCfdwEgrLBAIIEwNt9wlfbWYYGUyDfmdwCoW0ETfJSBxS+uYRsUPt8Lm05dGsiCTnk0QJS7Fdg=='
                class='apbct-email-encoder'
                title='This contact has been encoded by Anti-Spam by CleanTalk. Click to decode. To finish the decoding make sure that JavaScript is enabled in your browser.'>10<span class="apbct-blur">****************************</span>@<span class="apbct-blur">***************</span>wi.us</span>
SUMMARY:HES: Seal a Smile All Day
DESCRIPTION:
URL:https://www.milton.k12.wi.us/event/hes-seal-a-smile-all-day-2/
CATEGORIES:Harmony Elementary
END:VEVENT
BEGIN:VEVENT
DTSTART;TZID=America/Chicago:20260106T160000
DTEND;TZID=America/Chicago:20260106T200000
DTSTAMP:20260423T041529
CREATED:20251208T205229Z
LAST-MODIFIED:20260106T225228Z
UID:<span 
                data-original-string='oblTNewyISxUF+k/eQPI6g==386yY3V7fmsKgQhHKb7vb+WOp6Y/HvtXFVQL1BaYlL749tU0gzFIHFC6dvONZ3p170YYHcBIhmm67kZ4+SffLArJg=='
                class='apbct-email-encoder'
                title='This contact has been encoded by Anti-Spam by CleanTalk. Click to decode. To finish the decoding make sure that JavaScript is enabled in your browser.'>10<span class="apbct-blur">****************************</span>@<span class="apbct-blur">***************</span>wi.us</span>
SUMMARY:Scoopie Night
DESCRIPTION:
URL:https://www.milton.k12.wi.us/event/scoopie-night-18/
CATEGORIES:Milton West Elementary
END:VEVENT
BEGIN:VEVENT
DTSTART;VALUE=DATE:20260106
DTEND;VALUE=DATE:20260107
DTSTAMP:20260423T041529
CREATED:20251215T161513Z
LAST-MODIFIED:20260106T220724Z
UID:<span 
                data-original-string='Uf7c2r3io+mOpjVljq1iMw==386E3EvH8v3AaLXKbB73besEdw2hIP8evIfSQMqNuHTh2liZKmvJDrSamec2FZcYLmMK11nOA9EI83Ormnzcr2VDw=='
                class='apbct-email-encoder'
                title='This contact has been encoded by Anti-Spam by CleanTalk. Click to decode. To finish the decoding make sure that JavaScript is enabled in your browser.'>10<span class="apbct-blur">****************************</span>@<span class="apbct-blur">***************</span>wi.us</span>
SUMMARY:DAY 3
DESCRIPTION:
URL:https://www.milton.k12.wi.us/event/day-3-39/
CATEGORIES:Northside Intermediate
END:VEVENT
BEGIN:VEVENT
DTSTART;VALUE=DATE:20260106
DTEND;VALUE=DATE:20260107
DTSTAMP:20260423T041529
CREATED:20251029T160749Z
LAST-MODIFIED:20260106T235341Z
UID:<span 
                data-original-string='AUl+cyKQl7+KrZAArJTYQw==386EjwCl4mBZKZokSkpnJYXf6zTBx/l4pKQgtAzeTF3Fd11LDK3UWy6Li1tABrtjyMkham9HN2+1CHy644JMLC9xQ=='
                class='apbct-email-encoder'
                title='This contact has been encoded by Anti-Spam by CleanTalk. Click to decode. To finish the decoding make sure that JavaScript is enabled in your browser.'>10<span class="apbct-blur">****************************</span>@<span class="apbct-blur">***************</span>wi.us</span>
SUMMARY:HES: Seal a Smile All Day
DESCRIPTION:
URL:https://www.milton.k12.wi.us/event/hes-seal-a-smile-all-day/
CATEGORIES:Harmony Elementary
END:VEVENT
BEGIN:VEVENT
DTSTART;TZID=America/Chicago:20260105T143500
DTEND;TZID=America/Chicago:20260105T153500
DTSTAMP:20260423T041529
CREATED:20240822T012938Z
LAST-MODIFIED:20260105T202347Z
UID:<span 
                data-original-string='autqFHJGRjcZifIKGY5BTQ==386Zry62AfjxeTeCIW3xyxknvMHf9AxyfraUXkFaSXO/ogRIsNJERTo4CYmTElE1V80TTGmJIkOcizhMz9491+p/A=='
                class='apbct-email-encoder'
                title='This contact has been encoded by Anti-Spam by CleanTalk. Click to decode. To finish the decoding make sure that JavaScript is enabled in your browser.'>10<span class="apbct-blur">****************************</span>@<span class="apbct-blur">***************</span>wi.us</span>
SUMMARY:Early Release -
DESCRIPTION:
URL:https://www.milton.k12.wi.us/event/early-release-62/
CATEGORIES:Consolidated
END:VEVENT
BEGIN:VEVENT
DTSTART;VALUE=DATE:20260105
DTEND;VALUE=DATE:20260106
DTSTAMP:20260423T041529
CREATED:20251215T161510Z
LAST-MODIFIED:20260105T202232Z
UID:<span 
                data-original-string='mKj9Fuwv2QzZFyehPxjAuQ==386ygv8ZXjE5L28CrWX/L3q3DLXhWjkIWCd80SzWN9MIHvOjnNAuTZg4JxM08yp/3paWlkdqmvkIe8NmIRMMFTISA=='
                class='apbct-email-encoder'
                title='This contact has been encoded by Anti-Spam by CleanTalk. Click to decode. To finish the decoding make sure that JavaScript is enabled in your browser.'>10<span class="apbct-blur">****************************</span>@<span class="apbct-blur">***************</span>wi.us</span>
SUMMARY:DAY 2
DESCRIPTION:
URL:https://www.milton.k12.wi.us/event/day-2-38/
CATEGORIES:Northside Intermediate
END:VEVENT
END:VCALENDAR