BEGIN:VCALENDAR
VERSION:2.0
PRODID:-//School District of Milton - ECPv6.15.20//NONSGML v1.0//EN
CALSCALE:GREGORIAN
METHOD:PUBLISH
X-WR-CALNAME:School District of Milton
X-ORIGINAL-URL:https://www.milton.k12.wi.us
X-WR-CALDESC:Events for School District of Milton
REFRESH-INTERVAL;VALUE=DURATION:PT1H
X-Robots-Tag:noindex
X-PUBLISHED-TTL:PT1H
BEGIN:VTIMEZONE
TZID:America/Chicago
BEGIN:DAYLIGHT
TZOFFSETFROM:-0600
TZOFFSETTO:-0500
TZNAME:CDT
DTSTART:20240310T080000
END:DAYLIGHT
BEGIN:STANDARD
TZOFFSETFROM:-0500
TZOFFSETTO:-0600
TZNAME:CST
DTSTART:20241103T070000
END:STANDARD
BEGIN:DAYLIGHT
TZOFFSETFROM:-0600
TZOFFSETTO:-0500
TZNAME:CDT
DTSTART:20250309T080000
END:DAYLIGHT
BEGIN:STANDARD
TZOFFSETFROM:-0500
TZOFFSETTO:-0600
TZNAME:CST
DTSTART:20251102T070000
END:STANDARD
BEGIN:DAYLIGHT
TZOFFSETFROM:-0600
TZOFFSETTO:-0500
TZNAME:CDT
DTSTART:20260308T080000
END:DAYLIGHT
BEGIN:STANDARD
TZOFFSETFROM:-0500
TZOFFSETTO:-0600
TZNAME:CST
DTSTART:20261101T070000
END:STANDARD
END:VTIMEZONE
BEGIN:VEVENT
DTSTART;TZID=America/Chicago:20250519T180000
DTEND;TZID=America/Chicago:20250519T200000
DTSTAMP:20260425T062621
CREATED:20240917T180338Z
LAST-MODIFIED:20250519T233734Z
UID:<span 
                data-original-string='9jx1bO7qbu16Wo1ab7RP1w==386+IbFF2WCWeKGj3b6NEiZoEkeqDcnRPalR9d8pJnj/2OJi4luzXCYCgQO/4/pfU6hp1vtNTUQz2uARPB2XE184g=='
                class='apbct-email-encoder'
                title='This contact has been encoded by Anti-Spam by CleanTalk. Click to decode. To finish the decoding make sure that JavaScript is enabled in your browser.'>10<span class="apbct-blur">****************************</span>@<span class="apbct-blur">***************</span>wi.us</span>
SUMMARY:PAWS mtg
DESCRIPTION:
URL:https://www.milton.k12.wi.us/event/paws-mtg-9/
CATEGORIES:Milton West Elementary
END:VEVENT
BEGIN:VEVENT
DTSTART;TZID=America/Chicago:20250519T180000
DTEND;TZID=America/Chicago:20250519T190000
DTSTAMP:20260425T062621
CREATED:20240829T170204Z
LAST-MODIFIED:20250519T234543Z
UID:<span 
                data-original-string='wutxtzt9zfbj9Ww5SHPr8w==386UhDz5tn6H9QVGAOHje3Ftr6SLpJJo1eVpILsaEYyILfxC+TogUbgSUkP50Nnf51SWLbVTuhuI+NeBgg+aJCNNg=='
                class='apbct-email-encoder'
                title='This contact has been encoded by Anti-Spam by CleanTalk. Click to decode. To finish the decoding make sure that JavaScript is enabled in your browser.'>10<span class="apbct-blur">****************************</span>@<span class="apbct-blur">***************</span>wi.us</span>
SUMMARY:HES: Team Harmony Meeting LMC
DESCRIPTION:
URL:https://www.milton.k12.wi.us/event/hes-team-harmony-meeting-lmc-7/
CATEGORIES:Harmony Elementary
END:VEVENT
BEGIN:VEVENT
DTSTART;TZID=America/Chicago:20250519T143500
DTEND;TZID=America/Chicago:20250519T153500
DTSTAMP:20260425T062621
CREATED:20240909T204127Z
LAST-MODIFIED:20250519T172226Z
UID:<span 
                data-original-string='68sLWZlcECK8e04OpnaCyA==386gTYWuFY+MyfFQTcd+LN9ktC1mglk9suzlz2buZNQwBOExMr0/FZ/SzX2y3o+d2n7gqW37C5t3VIhtQj/8ZR0ig=='
                class='apbct-email-encoder'
                title='This contact has been encoded by Anti-Spam by CleanTalk. Click to decode. To finish the decoding make sure that JavaScript is enabled in your browser.'>10<span class="apbct-blur">****************************</span>@<span class="apbct-blur">***************</span>wi.us</span>
SUMMARY:HES: Early Release
DESCRIPTION:
URL:https://www.milton.k12.wi.us/event/hes-early-release-28/
CATEGORIES:Harmony Elementary
END:VEVENT
BEGIN:VEVENT
DTSTART;TZID=America/Chicago:20250519T143500
DTEND;TZID=America/Chicago:20250519T153500
DTSTAMP:20260425T062621
CREATED:20240822T012932Z
LAST-MODIFIED:20250519T202258Z
UID:<span 
                data-original-string='3C+0icum0oOvlz3+e021AQ==386AVm+bNsxYVWoqe2frSJttPqxjZ0je+FhABOfxhxQbKVjbl4XCehnK5/GcT61p/swfoPI5SvH/qJU6u07/iA+ng=='
                class='apbct-email-encoder'
                title='This contact has been encoded by Anti-Spam by CleanTalk. Click to decode. To finish the decoding make sure that JavaScript is enabled in your browser.'>10<span class="apbct-blur">****************************</span>@<span class="apbct-blur">***************</span>wi.us</span>
SUMMARY:Early Release -
DESCRIPTION:
URL:https://www.milton.k12.wi.us/event/early-release-30/
CATEGORIES:Consolidated
END:VEVENT
BEGIN:VEVENT
DTSTART;VALUE=DATE:20250519
DTEND;VALUE=DATE:20250520
DTSTAMP:20260425T062621
CREATED:20250417T143837Z
LAST-MODIFIED:20250519T233829Z
UID:<span 
                data-original-string='P/utLSkq07tuD8VajndWkw==386aart0AhC1wIYDtTuQ0EdAnKnzSEDa6VSfdILy4QUqksnPdiS+vVevUBem8LOthph/EjbVRH+o6SKEY3MBl+gDw=='
                class='apbct-email-encoder'
                title='This contact has been encoded by Anti-Spam by CleanTalk. Click to decode. To finish the decoding make sure that JavaScript is enabled in your browser.'>10<span class="apbct-blur">****************************</span>@<span class="apbct-blur">***************</span>wi.us</span>
SUMMARY:Northside Day 2
DESCRIPTION:
URL:https://www.milton.k12.wi.us/event/day-2-28/
CATEGORIES:Northside Intermediate
END:VEVENT
BEGIN:VEVENT
DTSTART;VALUE=DATE:20250519
DTEND;VALUE=DATE:20250520
DTSTAMP:20260425T062621
CREATED:20250106T202409Z
LAST-MODIFIED:20250519T233831Z
UID:<span 
                data-original-string='UNQAG35ao1zcFmnh96rUzw==386f8QJO/EbF89RF7jmW59Wn4ibaLQI+uX6FLD/NJ0LRrTekCCzZIrS0/yxDVdUpvTJW5H5liqjZIS3BxOv+gHs7w=='
                class='apbct-email-encoder'
                title='This contact has been encoded by Anti-Spam by CleanTalk. Click to decode. To finish the decoding make sure that JavaScript is enabled in your browser.'>10<span class="apbct-blur">****************************</span>@<span class="apbct-blur">***************</span>wi.us</span>
SUMMARY:Northside Early Release @ 2:40pm
DESCRIPTION:
URL:https://www.milton.k12.wi.us/event/early-release-240pm-18/
CATEGORIES:Northside Intermediate
END:VEVENT
BEGIN:VEVENT
DTSTART;TZID=America/Chicago:20250517T110000
DTEND;TZID=America/Chicago:20250517T130000
DTSTAMP:20260425T062621
CREATED:20240822T004849Z
LAST-MODIFIED:20250517T141315Z
UID:<span 
                data-original-string='QR/Glw3lCoGSQdpIWVQavg==386+wYNH1Bax95K9HJyBQnzmEtp0SuG/taFUymx85JuqXj9EGHjx6uNZFhXRk15BuyJ3PziXc1wnvRxFWyXaC5fug=='
                class='apbct-email-encoder'
                title='This contact has been encoded by Anti-Spam by CleanTalk. Click to decode. To finish the decoding make sure that JavaScript is enabled in your browser.'>10<span class="apbct-blur">****************************</span>@<span class="apbct-blur">***************</span>wi.us</span>
SUMMARY:Cow pie Bingo
DESCRIPTION:
URL:https://www.milton.k12.wi.us/event/cow-pie-bingo/
CATEGORIES:Milton West Elementary
END:VEVENT
BEGIN:VEVENT
DTSTART;TZID=America/Chicago:20250516T140000
DTEND;TZID=America/Chicago:20250516T153000
DTSTAMP:20260425T062621
CREATED:20240930T172559Z
LAST-MODIFIED:20250516T202237Z
UID:<span 
                data-original-string='1+swy15yP469m2iqic14jw==386L9WEzqV9AAbU+0E7haYKSYfDMQ4l2M/xqlyetYjVALHvRT/elvR/2e9TEXdXbdscAaFtlicGmjd66EfFP7WDSQ=='
                class='apbct-email-encoder'
                title='This contact has been encoded by Anti-Spam by CleanTalk. Click to decode. To finish the decoding make sure that JavaScript is enabled in your browser.'>10<span class="apbct-blur">****************************</span>@<span class="apbct-blur">***************</span>wi.us</span>
SUMMARY:EES:  4K Muffin Meetup (PM)
DESCRIPTION:
URL:https://www.milton.k12.wi.us/event/ees-4k-muffin-meetup-pm/
CATEGORIES:Milton East Elementary
END:VEVENT
BEGIN:VEVENT
DTSTART;TZID=America/Chicago:20250516T100000
DTEND;TZID=America/Chicago:20250516T113000
DTSTAMP:20260425T062621
CREATED:20240930T172558Z
LAST-MODIFIED:20250516T120802Z
UID:<span 
                data-original-string='HkS8Q3rLBu3+G2A3lPw4pQ==386jhOmtbJ+W8s6dmXltDFitw0HWKfpseO76IDYpXgJeeO656hlcGmmgr4NKxG4Dvcmvh98I4BjyKbU0CZ8BDqaFw=='
                class='apbct-email-encoder'
                title='This contact has been encoded by Anti-Spam by CleanTalk. Click to decode. To finish the decoding make sure that JavaScript is enabled in your browser.'>10<span class="apbct-blur">****************************</span>@<span class="apbct-blur">***************</span>wi.us</span>
SUMMARY:EES:  4K Muffin Meetup (AM)
DESCRIPTION:
URL:https://www.milton.k12.wi.us/event/ees-4k-muffin-meetup-am/
CATEGORIES:Milton East Elementary
END:VEVENT
BEGIN:VEVENT
DTSTART;VALUE=DATE:20250516
DTEND;VALUE=DATE:20250517
DTSTAMP:20260425T062621
CREATED:20250417T143837Z
LAST-MODIFIED:20250516T200736Z
UID:<span 
                data-original-string='oOCdfxWVZrYukGG/3jGx2g==386CzNWIe6hTTxmnJeFzz4MhrCL0rcaxzHcJYsWV+Q/QPTQUkfpAgEIWwSc1vhYntgSVmmhomR6/S2YnBOm4qtgJg=='
                class='apbct-email-encoder'
                title='This contact has been encoded by Anti-Spam by CleanTalk. Click to decode. To finish the decoding make sure that JavaScript is enabled in your browser.'>10<span class="apbct-blur">****************************</span>@<span class="apbct-blur">***************</span>wi.us</span>
SUMMARY:Northside Day 1
DESCRIPTION:
URL:https://www.milton.k12.wi.us/event/day-1-30/
CATEGORIES:Northside Intermediate
END:VEVENT
BEGIN:VEVENT
DTSTART;VALUE=DATE:20250516
DTEND;VALUE=DATE:20250517
DTSTAMP:20260425T062621
CREATED:20240829T170204Z
LAST-MODIFIED:20250516T223731Z
UID:<span 
                data-original-string='OLgtfns+eAsXijbFUyjL3Q==38602ouq0wsLKutML0KKwTiSsZxuONe5gdAO6J/O6h42cQkZ0PuN279vYv6HbIBrfqJdmvJOWeqvdZQjgdSQ2Ctsw=='
                class='apbct-email-encoder'
                title='This contact has been encoded by Anti-Spam by CleanTalk. Click to decode. To finish the decoding make sure that JavaScript is enabled in your browser.'>10<span class="apbct-blur">****************************</span>@<span class="apbct-blur">***************</span>wi.us</span>
SUMMARY:HES: Scrip Wars End
DESCRIPTION:
URL:https://www.milton.k12.wi.us/event/hes-scrip-wars-end-2/
CATEGORIES:Harmony Elementary
END:VEVENT
BEGIN:VEVENT
DTSTART;VALUE=DATE:20250515
DTEND;VALUE=DATE:20250516
DTSTAMP:20260425T062621
CREATED:20250417T143836Z
LAST-MODIFIED:20250515T234051Z
UID:<span 
                data-original-string='2D1f0q3jsz/fVVwiOq8xzQ==3862v3Ub6vh/7kKyPvl1W1x7Ffaj5Vfc2VYCxIZjbm+FEmTBAAVLPhOrJypZC8DTx1jjZA6aqhmH49uv+91mm0k7g=='
                class='apbct-email-encoder'
                title='This contact has been encoded by Anti-Spam by CleanTalk. Click to decode. To finish the decoding make sure that JavaScript is enabled in your browser.'>10<span class="apbct-blur">****************************</span>@<span class="apbct-blur">***************</span>wi.us</span>
SUMMARY:Northside Day 6
DESCRIPTION:
URL:https://www.milton.k12.wi.us/event/day-6-28/
CATEGORIES:Northside Intermediate
END:VEVENT
BEGIN:VEVENT
DTSTART;VALUE=DATE:20250514
DTEND;VALUE=DATE:20250515
DTSTAMP:20260425T062621
CREATED:20250417T143821Z
LAST-MODIFIED:20250514T233733Z
UID:<span 
                data-original-string='AFjC94miMrJHytd99Ua1kw==386utaWs+myoY0aEM/YiABnzeSYeRq5OoGoDXGEUU05+DcWIPup9RU4uqAa/WKVhIrspUjJ31UmvIzFeUsRoi4j0Q=='
                class='apbct-email-encoder'
                title='This contact has been encoded by Anti-Spam by CleanTalk. Click to decode. To finish the decoding make sure that JavaScript is enabled in your browser.'>10<span class="apbct-blur">****************************</span>@<span class="apbct-blur">***************</span>wi.us</span>
SUMMARY:Northside Day 5
DESCRIPTION:
URL:https://www.milton.k12.wi.us/event/day-5-27/
CATEGORIES:Northside Intermediate
END:VEVENT
BEGIN:VEVENT
DTSTART;TZID=America/Chicago:20250513T183000
DTEND;TZID=America/Chicago:20250513T193000
DTSTAMP:20260425T062621
CREATED:20240822T012931Z
LAST-MODIFIED:20250513T230831Z
UID:<span 
                data-original-string='9hxasW1xhG+eGuF0femkfA==386jOte67A6U/xBSgmz4c9OGU3yGpQ5XCoXSXOCuO/77HmNOhrT4cdsAsJopph1ZRUUHuEyadmGMxK1zw0zKN15oA=='
                class='apbct-email-encoder'
                title='This contact has been encoded by Anti-Spam by CleanTalk. Click to decode. To finish the decoding make sure that JavaScript is enabled in your browser.'>10<span class="apbct-blur">****************************</span>@<span class="apbct-blur">***************</span>wi.us</span>
SUMMARY:CES - PIE Meeting
DESCRIPTION:
URL:https://www.milton.k12.wi.us/event/pie-meeting-9/
CATEGORIES:Consolidated
END:VEVENT
BEGIN:VEVENT
DTSTART;TZID=America/Chicago:20250513T180000
DTEND;TZID=America/Chicago:20250513T190000
DTSTAMP:20260425T062621
CREATED:20240822T004451Z
LAST-MODIFIED:20250513T235411Z
UID:<span 
                data-original-string='P0IRNHY7mH32/u9xlL2qkA==386yKjF1DQDYBlPE/EjZpvHIhNqh3dkQUKNG+kcjpvJa2U2or0UuDCAIsgExkkxCpdIBRrjs21vWGHA7ocidOa9sw=='
                class='apbct-email-encoder'
                title='This contact has been encoded by Anti-Spam by CleanTalk. Click to decode. To finish the decoding make sure that JavaScript is enabled in your browser.'>10<span class="apbct-blur">****************************</span>@<span class="apbct-blur">***************</span>wi.us</span>
SUMMARY:EES:  MEPG meeting
DESCRIPTION:
URL:https://www.milton.k12.wi.us/event/ees-mepg-meeting-9/
CATEGORIES:Milton East Elementary
END:VEVENT
BEGIN:VEVENT
DTSTART;VALUE=DATE:20250513
DTEND;VALUE=DATE:20250514
DTSTAMP:20260425T062621
CREATED:20250417T143820Z
LAST-MODIFIED:20250513T232241Z
UID:<span 
                data-original-string='9p7e7ebqpOeywPCcEj9iOg==386yxMLGuMak2LOLv5eyJ13kUo2Er5atuG43OHi6I4ohG0ge6MHBC8QvIBhsbb0ueJ+XFMcWVPCZvCaHoiVR+GoeA=='
                class='apbct-email-encoder'
                title='This contact has been encoded by Anti-Spam by CleanTalk. Click to decode. To finish the decoding make sure that JavaScript is enabled in your browser.'>10<span class="apbct-blur">****************************</span>@<span class="apbct-blur">***************</span>wi.us</span>
SUMMARY:Northside Day 4
DESCRIPTION:
URL:https://www.milton.k12.wi.us/event/day-4-28/
CATEGORIES:Northside Intermediate
END:VEVENT
BEGIN:VEVENT
DTSTART;TZID=America/Chicago:20250512T183000
DTEND;TZID=America/Chicago:20250512T203000
DTSTAMP:20260425T062621
CREATED:20240822T012954Z
LAST-MODIFIED:20250512T235244Z
UID:<span 
                data-original-string='eHcgF8LdaBjaGTLGSh5wug==386SwDPXP/nnXpmDZPh8U47TbISWPSIVXOTwe4fVRBs5ft43Pw0FQXhqLUm8YPu4OTzDkOmb8nCrj5zmGrRmKU7YQ=='
                class='apbct-email-encoder'
                title='This contact has been encoded by Anti-Spam by CleanTalk. Click to decode. To finish the decoding make sure that JavaScript is enabled in your browser.'>10<span class="apbct-blur">****************************</span>@<span class="apbct-blur">***************</span>wi.us</span>
SUMMARY:School Board Meeting
DESCRIPTION:
URL:https://www.milton.k12.wi.us/event/school-board-meeting-22/
CATEGORIES:District
END:VEVENT
BEGIN:VEVENT
DTSTART;TZID=America/Chicago:20250512T143500
DTEND;TZID=America/Chicago:20250512T153500
DTSTAMP:20260425T062621
CREATED:20240909T204126Z
LAST-MODIFIED:20250512T170730Z
UID:<span 
                data-original-string='ab//SNcQnTm3pHIJCJGaBw==386sPkB+GpbGhmPhBkmscAFHbNe0m3vsDcWRMcBo5sz/utBS4t8zMjevxiakmSPJf3RXzl5uGskwhNyZBgav1AldQ=='
                class='apbct-email-encoder'
                title='This contact has been encoded by Anti-Spam by CleanTalk. Click to decode. To finish the decoding make sure that JavaScript is enabled in your browser.'>10<span class="apbct-blur">****************************</span>@<span class="apbct-blur">***************</span>wi.us</span>
SUMMARY:HES: Early Release
DESCRIPTION:
URL:https://www.milton.k12.wi.us/event/hes-early-release-27/
CATEGORIES:Harmony Elementary
END:VEVENT
BEGIN:VEVENT
DTSTART;TZID=America/Chicago:20250512T143500
DTEND;TZID=America/Chicago:20250512T153500
DTSTAMP:20260425T062621
CREATED:20240822T012931Z
LAST-MODIFIED:20250512T135226Z
UID:<span 
                data-original-string='QNQofB2+OGL/RhrKRgyTuQ==386aN0lkR90s3qztnEA8gdLsNCkV81SADOjXXHONvRRYkGWao0FNTnWcBVehwWJuN3gvvRxKGsoehi10j9iU3APjQ=='
                class='apbct-email-encoder'
                title='This contact has been encoded by Anti-Spam by CleanTalk. Click to decode. To finish the decoding make sure that JavaScript is enabled in your browser.'>10<span class="apbct-blur">****************************</span>@<span class="apbct-blur">***************</span>wi.us</span>
SUMMARY:Early Release -
DESCRIPTION:
URL:https://www.milton.k12.wi.us/event/early-release-29/
CATEGORIES:Consolidated
END:VEVENT
BEGIN:VEVENT
DTSTART;VALUE=DATE:20250512
DTEND;VALUE=DATE:20250513
DTSTAMP:20260425T062621
CREATED:20250417T135252Z
LAST-MODIFIED:20250512T232540Z
UID:<span 
                data-original-string='xV/Zd8jtAQ09N0qzyLuLpg==38610u/HT3WjzqVvkGQKs9spD08psUyrAONMxo3vQVQYMcwST+UZ2wh/mTsw7YCDZ6mmEP5KdRkfoF9Dy5honcb5g=='
                class='apbct-email-encoder'
                title='This contact has been encoded by Anti-Spam by CleanTalk. Click to decode. To finish the decoding make sure that JavaScript is enabled in your browser.'>10<span class="apbct-blur">****************************</span>@<span class="apbct-blur">***************</span>wi.us</span>
SUMMARY:Northside Day 3
DESCRIPTION:
URL:https://www.milton.k12.wi.us/event/day-3-27/
CATEGORIES:Northside Intermediate
END:VEVENT
BEGIN:VEVENT
DTSTART;VALUE=DATE:20250512
DTEND;VALUE=DATE:20250513
DTSTAMP:20260425T062621
CREATED:20250106T202405Z
LAST-MODIFIED:20250512T232541Z
UID:<span 
                data-original-string='zowzs9JookSUUiXKHa1IEQ==3865CUVF5gJV4wLcnreGo8ZliR4OxPe+RhWbvr4Z1OdFjs9GEo5/0xdYSwpPY/FDnH5RQpFrt1wIcDiZvXr1vrH7w=='
                class='apbct-email-encoder'
                title='This contact has been encoded by Anti-Spam by CleanTalk. Click to decode. To finish the decoding make sure that JavaScript is enabled in your browser.'>10<span class="apbct-blur">****************************</span>@<span class="apbct-blur">***************</span>wi.us</span>
SUMMARY:Northside Early Release @ 2:40pm
DESCRIPTION:
URL:https://www.milton.k12.wi.us/event/early-release-240pm-17/
CATEGORIES:Northside Intermediate
END:VEVENT
BEGIN:VEVENT
DTSTART;VALUE=DATE:20250510
DTEND;VALUE=DATE:20250511
DTSTAMP:20260425T062621
CREATED:20250124T202425Z
LAST-MODIFIED:20250510T232558Z
UID:<span 
                data-original-string='2pjsYnODtFgruNgPy2Q10Q==386LKqsouA3l4EqYG921WAWTfx9zmTiUfxVUbLnaClLou9yLW3H9IN3Xy8IRTbbWT50hHalBGFh0IcUMdu0ZJ32yg=='
                class='apbct-email-encoder'
                title='This contact has been encoded by Anti-Spam by CleanTalk. Click to decode. To finish the decoding make sure that JavaScript is enabled in your browser.'>10<span class="apbct-blur">****************************</span>@<span class="apbct-blur">***************</span>wi.us</span>
SUMMARY:Sky Carp Game (Reading Incentive)
DESCRIPTION:
URL:https://www.milton.k12.wi.us/event/sky-carp-game-reading-incentive/
CATEGORIES:Northside Intermediate
END:VEVENT
BEGIN:VEVENT
DTSTART;TZID=America/Chicago:20250509T141500
DTEND;TZID=America/Chicago:20250509T150000
DTSTAMP:20260425T062621
CREATED:20240826T212246Z
LAST-MODIFIED:20250509T192445Z
UID:<span 
                data-original-string='H9d5wzX6bJaD05v2/SXRkQ==386xWPfy7o6Bt/9ZuiSmRE4hC7u4F3oBCC9c2H7Tl41EARuP0AVWE+bdxGehCR8FDc9/u0PfbV+QObMwdEawCXGQw=='
                class='apbct-email-encoder'
                title='This contact has been encoded by Anti-Spam by CleanTalk. Click to decode. To finish the decoding make sure that JavaScript is enabled in your browser.'>10<span class="apbct-blur">****************************</span>@<span class="apbct-blur">***************</span>wi.us</span>
SUMMARY:EES:  3rd Grade Spring Concert
DESCRIPTION:
URL:https://www.milton.k12.wi.us/event/ees-3rd-grade-spring-concert/
CATEGORIES:Milton East Elementary
END:VEVENT
BEGIN:VEVENT
DTSTART;TZID=America/Chicago:20250509T093000
DTEND;TZID=America/Chicago:20250509T101500
DTSTAMP:20260425T062621
CREATED:20240826T212246Z
LAST-MODIFIED:20250509T113204Z
UID:<span 
                data-original-string='IfqOeoAaasSGvqdOrEZCTA==386PgYKPMdWU4pxh/Cpec/Y7+Aj6OHptWxuMsXYGSTRaSXVqXd3P9FhKWilNAg7tui9hJefE4DIPB5SloWrNSZu0Q=='
                class='apbct-email-encoder'
                title='This contact has been encoded by Anti-Spam by CleanTalk. Click to decode. To finish the decoding make sure that JavaScript is enabled in your browser.'>10<span class="apbct-blur">****************************</span>@<span class="apbct-blur">***************</span>wi.us</span>
SUMMARY:EES:  2nd Grade Spring Concert
DESCRIPTION:
URL:https://www.milton.k12.wi.us/event/ees-2nd-grade-spring-concert/
CATEGORIES:Milton East Elementary
END:VEVENT
BEGIN:VEVENT
DTSTART;VALUE=DATE:20250509
DTEND;VALUE=DATE:20250510
DTSTAMP:20260425T062621
CREATED:20250417T135249Z
LAST-MODIFIED:20250509T232243Z
UID:<span 
                data-original-string='DQDNpjDhwsfc//OzJ+2Cyg==386ezdkwzMltCBt64WEN1pzdtqQNkoetmUd5j13on5mGeRf8M2oP9e1v5A3mDPnaVWrzYIVAViYUkG0i24pMXtT6w=='
                class='apbct-email-encoder'
                title='This contact has been encoded by Anti-Spam by CleanTalk. Click to decode. To finish the decoding make sure that JavaScript is enabled in your browser.'>10<span class="apbct-blur">****************************</span>@<span class="apbct-blur">***************</span>wi.us</span>
SUMMARY:Northside Day 2
DESCRIPTION:
URL:https://www.milton.k12.wi.us/event/day-2-27/
CATEGORIES:Northside Intermediate
END:VEVENT
BEGIN:VEVENT
DTSTART;TZID=America/Chicago:20250508T190000
DTEND;TZID=America/Chicago:20250508T190000
DTSTAMP:20260425T062621
CREATED:20240822T004655Z
LAST-MODIFIED:20250508T202242Z
UID:<span 
                data-original-string='4R3a2VJTr/BhYPK+q5GKZA==386sS6NzhhCxkqsf8zmTLrQtJFE+b9/nA5AIOgKdJq3tU8VSuKNVtk48xcZ8NJH/DgYndCVVI5IvqLjtNjgkPst+Q=='
                class='apbct-email-encoder'
                title='This contact has been encoded by Anti-Spam by CleanTalk. Click to decode. To finish the decoding make sure that JavaScript is enabled in your browser.'>10<span class="apbct-blur">****************************</span>@<span class="apbct-blur">***************</span>wi.us</span>
SUMMARY:MHS Band Concert
DESCRIPTION:
URL:https://www.milton.k12.wi.us/event/mhs-band-concert/
CATEGORIES:Milton High School
END:VEVENT
BEGIN:VEVENT
DTSTART;TZID=America/Chicago:20250508T141500
DTEND;TZID=America/Chicago:20250508T150000
DTSTAMP:20260425T062621
CREATED:20240826T212246Z
LAST-MODIFIED:20250508T192240Z
UID:<span 
                data-original-string='f10p+1+idGJMIIXm2edqeg==386KisTEyqMYFues1h8c8AHZtGBbfHxHCF7v/mLMbgdvWVk1LhCZoDIzz3RhlN7nH/0YM37xeODCfcQbUbfEWY5qw=='
                class='apbct-email-encoder'
                title='This contact has been encoded by Anti-Spam by CleanTalk. Click to decode. To finish the decoding make sure that JavaScript is enabled in your browser.'>10<span class="apbct-blur">****************************</span>@<span class="apbct-blur">***************</span>wi.us</span>
SUMMARY:EES:  1st Grade Spring Concert
DESCRIPTION:
URL:https://www.milton.k12.wi.us/event/ees-1st-grade-spring-concert/
CATEGORIES:Milton East Elementary
END:VEVENT
BEGIN:VEVENT
DTSTART;TZID=America/Chicago:20250508T093000
DTEND;TZID=America/Chicago:20250508T101500
DTSTAMP:20260425T062621
CREATED:20240826T212245Z
LAST-MODIFIED:20250508T112236Z
UID:<span 
                data-original-string='5HQEeP1r4gZfqFqMW1/oqQ==386wN4+VrvC65b6ZW3W7R1fnGUIRXOlPr8QMYDg51V4CF8Suw+A2cXXz65gy6hREoBLL6giQwtQFCRgj0uytlAFOQ=='
                class='apbct-email-encoder'
                title='This contact has been encoded by Anti-Spam by CleanTalk. Click to decode. To finish the decoding make sure that JavaScript is enabled in your browser.'>10<span class="apbct-blur">****************************</span>@<span class="apbct-blur">***************</span>wi.us</span>
SUMMARY:EES:  Kindergarten Spring Concert
DESCRIPTION:
URL:https://www.milton.k12.wi.us/event/ees-kindergarten-spring-concert/
CATEGORIES:Milton East Elementary
END:VEVENT
BEGIN:VEVENT
DTSTART;VALUE=DATE:20250508
DTEND;VALUE=DATE:20250509
DTSTAMP:20260425T062621
CREATED:20250417T135248Z
LAST-MODIFIED:20250508T232515Z
UID:<span 
                data-original-string='z/ZDf9kZ5Fqp1Rb8uzz82w==3863tm3izUMmq7jflL2JfS6BrGUQ1JkmbrkgeceUdrkmV8OaK+EzXegD90HAM/JplekhFjMgBypAaBee3pFFNK3mw=='
                class='apbct-email-encoder'
                title='This contact has been encoded by Anti-Spam by CleanTalk. Click to decode. To finish the decoding make sure that JavaScript is enabled in your browser.'>10<span class="apbct-blur">****************************</span>@<span class="apbct-blur">***************</span>wi.us</span>
SUMMARY:Northside Day 1
DESCRIPTION:
URL:https://www.milton.k12.wi.us/event/day-1-29/
CATEGORIES:Northside Intermediate
END:VEVENT
BEGIN:VEVENT
DTSTART;VALUE=DATE:20250507
DTEND;VALUE=DATE:20250508
DTSTAMP:20260425T062621
CREATED:20250417T135247Z
LAST-MODIFIED:20250507T235533Z
UID:<span 
                data-original-string='ygLD+5w2g9x8PI8ZTRncmQ==386WCHTfJFH3EFKbJ3nomRe3yXiMQZhwXGuLa1XUHmcxmdfgLfuhlTl66/Lc2YRg3R/pp0pgyxKXXbtxriVDGH5ow=='
                class='apbct-email-encoder'
                title='This contact has been encoded by Anti-Spam by CleanTalk. Click to decode. To finish the decoding make sure that JavaScript is enabled in your browser.'>10<span class="apbct-blur">****************************</span>@<span class="apbct-blur">***************</span>wi.us</span>
SUMMARY:Northside Day 6
DESCRIPTION:
URL:https://www.milton.k12.wi.us/event/day-6-27/
CATEGORIES:Northside Intermediate
END:VEVENT
END:VCALENDAR