BEGIN:VCALENDAR
VERSION:2.0
PRODID:-//School District of Milton - ECPv6.15.20//NONSGML v1.0//EN
CALSCALE:GREGORIAN
METHOD:PUBLISH
X-WR-CALNAME:School District of Milton
X-ORIGINAL-URL:https://www.milton.k12.wi.us
X-WR-CALDESC:Events for School District of Milton
REFRESH-INTERVAL;VALUE=DURATION:PT1H
X-Robots-Tag:noindex
X-PUBLISHED-TTL:PT1H
BEGIN:VTIMEZONE
TZID:America/Chicago
BEGIN:DAYLIGHT
TZOFFSETFROM:-0600
TZOFFSETTO:-0500
TZNAME:CDT
DTSTART:20250309T080000
END:DAYLIGHT
BEGIN:STANDARD
TZOFFSETFROM:-0500
TZOFFSETTO:-0600
TZNAME:CST
DTSTART:20251102T070000
END:STANDARD
BEGIN:DAYLIGHT
TZOFFSETFROM:-0600
TZOFFSETTO:-0500
TZNAME:CDT
DTSTART:20260308T080000
END:DAYLIGHT
BEGIN:STANDARD
TZOFFSETFROM:-0500
TZOFFSETTO:-0600
TZNAME:CST
DTSTART:20261101T070000
END:STANDARD
BEGIN:DAYLIGHT
TZOFFSETFROM:-0600
TZOFFSETTO:-0500
TZNAME:CDT
DTSTART:20270314T080000
END:DAYLIGHT
BEGIN:STANDARD
TZOFFSETFROM:-0500
TZOFFSETTO:-0600
TZNAME:CST
DTSTART:20271107T070000
END:STANDARD
END:VTIMEZONE
BEGIN:VEVENT
DTSTART;TZID=America/Chicago:20260720T143500
DTEND;TZID=America/Chicago:20260720T153500
DTSTAMP:20260421T035344
CREATED:20240822T012949Z
LAST-MODIFIED:20260420T234142Z
UID:<span 
                data-original-string='k6GAwyVsGcQWnIOS/XJkfw==386Tey0JgmCN9mEDUmzHm+zxckpoXrWGgGUhnKonQBUcWNCni5E19DzTwEzDXp7qM2CqPCkiQgqfCItde+vAV+IkA=='
                class='apbct-email-encoder'
                title='This contact has been encoded by Anti-Spam by CleanTalk. Click to decode. To finish the decoding make sure that JavaScript is enabled in your browser.'>10<span class="apbct-blur">****************************</span>@<span class="apbct-blur">***************</span>wi.us</span>
SUMMARY:Early Release -
DESCRIPTION:
URL:https://www.milton.k12.wi.us/event/early-release-90/
CATEGORIES:Consolidated
END:VEVENT
BEGIN:VEVENT
DTSTART;TZID=America/Chicago:20260720T180000
DTEND;TZID=America/Chicago:20260720T200000
DTSTAMP:20260421T035344
CREATED:20240917T180403Z
LAST-MODIFIED:20260420T233752Z
UID:<span 
                data-original-string='ONH+wtZyQ3T0vOCD/URcog==386nEYC2akw89SneLq4vHGDYLGHrL0V47S6d5aobfTzK8/3i7U2f6+ZaDOU06Km7YBdX8IqOdt0fwNzh+g6qeGtNw=='
                class='apbct-email-encoder'
                title='This contact has been encoded by Anti-Spam by CleanTalk. Click to decode. To finish the decoding make sure that JavaScript is enabled in your browser.'>10<span class="apbct-blur">****************************</span>@<span class="apbct-blur">***************</span>wi.us</span>
SUMMARY:PAWS mtg
DESCRIPTION:
URL:https://www.milton.k12.wi.us/event/paws-mtg-23/
CATEGORIES:Milton West Elementary
END:VEVENT
BEGIN:VEVENT
DTSTART;TZID=America/Chicago:20260721T180000
DTEND;TZID=America/Chicago:20260721T190000
DTSTAMP:20260421T035344
CREATED:20240823T224240Z
LAST-MODIFIED:20260421T080949Z
UID:<span 
                data-original-string='1+U9cBPzczfw2Zp93/g+uA==386EsOwWQ+B5sfU4TsrIQuc1V+zyvXtGdp3YZAfCkPfG5rawzY/5hxTmlgJOpczqPzzi2Qetv5CcUcaeo+nhrFxxw=='
                class='apbct-email-encoder'
                title='This contact has been encoded by Anti-Spam by CleanTalk. Click to decode. To finish the decoding make sure that JavaScript is enabled in your browser.'>10<span class="apbct-blur">****************************</span>@<span class="apbct-blur">***************</span>wi.us</span>
SUMMARY:FON Meeting
DESCRIPTION:
URL:https://www.milton.k12.wi.us/event/fon-meeting-23/
CATEGORIES:Northside Intermediate
END:VEVENT
BEGIN:VEVENT
DTSTART;TZID=America/Chicago:20260727T143500
DTEND;TZID=America/Chicago:20260727T153500
DTSTAMP:20260421T035344
CREATED:20240822T012949Z
LAST-MODIFIED:20260420T234142Z
UID:<span 
                data-original-string='pcg3PH637cTNXrKUDoNIqg==3862Sv42KU02x9QkBuP19jioOZkJLNhM169DtF/Raa7OkOuBdsTnN7v3k4qNtE77qbZThuEDAbYwpXgc73GRaU4DA=='
                class='apbct-email-encoder'
                title='This contact has been encoded by Anti-Spam by CleanTalk. Click to decode. To finish the decoding make sure that JavaScript is enabled in your browser.'>10<span class="apbct-blur">****************************</span>@<span class="apbct-blur">***************</span>wi.us</span>
SUMMARY:Early Release -
DESCRIPTION:
URL:https://www.milton.k12.wi.us/event/early-release-91/
CATEGORIES:Consolidated
END:VEVENT
BEGIN:VEVENT
DTSTART;TZID=America/Chicago:20260727T183000
DTEND;TZID=America/Chicago:20260727T203000
DTSTAMP:20260421T035344
CREATED:20240822T012959Z
LAST-MODIFIED:20260420T234451Z
UID:<span 
                data-original-string='jfnbF1Cq5nfB4uEHYWyP8A==386E4Bi7mOunRfGDXO+IlTQbtuxmYX3MMjT3BrrekY+5bzGLHMYEdQIQTgVsQVKfPf48fSv/UXiEIQdO89OTUYO9Q=='
                class='apbct-email-encoder'
                title='This contact has been encoded by Anti-Spam by CleanTalk. Click to decode. To finish the decoding make sure that JavaScript is enabled in your browser.'>10<span class="apbct-blur">****************************</span>@<span class="apbct-blur">***************</span>wi.us</span>
SUMMARY:School Board Meeting
DESCRIPTION:
URL:https://www.milton.k12.wi.us/event/school-board-meeting-51/
LOCATION:School District of Milton\, 448 E High St\, Milton\, WI\, United States
CATEGORIES:District
GEO:42.773036;-88.944404
X-APPLE-STRUCTURED-LOCATION;VALUE=URI;X-ADDRESS=School District of Milton 448 E High St Milton WI United States;X-APPLE-RADIUS=500;X-TITLE=448 E High St:geo:-88.944404,42.773036
END:VEVENT
BEGIN:VEVENT
DTSTART;TZID=America/Chicago:20260803T143500
DTEND;TZID=America/Chicago:20260803T153500
DTSTAMP:20260421T035344
CREATED:20240822T003405Z
LAST-MODIFIED:20260420T234143Z
UID:<span 
                data-original-string='NLIevL2+cYxwePuk/l3V7A==386C3H4ihB/pCQreJj45W9l/GpBswx3aruzcS0KaGKP0MBdMgE8bz/SNWAe7NfuvklvB6UABZxN5Rp5hqIliYhEDw=='
                class='apbct-email-encoder'
                title='This contact has been encoded by Anti-Spam by CleanTalk. Click to decode. To finish the decoding make sure that JavaScript is enabled in your browser.'>10<span class="apbct-blur">****************************</span>@<span class="apbct-blur">***************</span>wi.us</span>
SUMMARY:Early Release -
DESCRIPTION:
URL:https://www.milton.k12.wi.us/event/early-release-93/
CATEGORIES:Consolidated
END:VEVENT
BEGIN:VEVENT
DTSTART;TZID=America/Chicago:20260810T143500
DTEND;TZID=America/Chicago:20260810T153500
DTSTAMP:20260421T035344
CREATED:20240822T003406Z
LAST-MODIFIED:20260420T234144Z
UID:<span 
                data-original-string='5IdtET2LZPthjpBYeLT/iw==386Jaat8m9zuPnF6Tg1e9DNeTgcPMmOfR9e609RMAojC7AL0kAaAqAcuTR2r/iBytIyKevN8DFFCpT5sIKjUVjgfw=='
                class='apbct-email-encoder'
                title='This contact has been encoded by Anti-Spam by CleanTalk. Click to decode. To finish the decoding make sure that JavaScript is enabled in your browser.'>10<span class="apbct-blur">****************************</span>@<span class="apbct-blur">***************</span>wi.us</span>
SUMMARY:Early Release -
DESCRIPTION:
URL:https://www.milton.k12.wi.us/event/early-release-94/
CATEGORIES:Consolidated
END:VEVENT
BEGIN:VEVENT
DTSTART;TZID=America/Chicago:20260810T183000
DTEND;TZID=America/Chicago:20260810T203000
DTSTAMP:20260421T035344
CREATED:20240822T013000Z
LAST-MODIFIED:20260420T234451Z
UID:<span 
                data-original-string='65GvMXvC2r0A2Rq7hs1LcQ==386V+Ql5Gc0cqBGuAfd9l8fJz6kpo8OAbZtpHrAg6qPqTnEdBcpDIGhTK6EauNwTSatd7Ifmxo8bGUtyFcRpdQHLg=='
                class='apbct-email-encoder'
                title='This contact has been encoded by Anti-Spam by CleanTalk. Click to decode. To finish the decoding make sure that JavaScript is enabled in your browser.'>10<span class="apbct-blur">****************************</span>@<span class="apbct-blur">***************</span>wi.us</span>
SUMMARY:School Board Meeting
DESCRIPTION:
URL:https://www.milton.k12.wi.us/event/school-board-meeting-52/
CATEGORIES:District
END:VEVENT
BEGIN:VEVENT
DTSTART;TZID=America/Chicago:20260811T183000
DTEND;TZID=America/Chicago:20260811T193000
DTSTAMP:20260421T035344
CREATED:20240822T003406Z
LAST-MODIFIED:20260420T234156Z
UID:<span 
                data-original-string='6PvQ2bQNU84ccgJ2ndNN5A==386fhUBh9p5zXoQhAsRMnST+JETSh8XAu/ogmaERes6v+bBF0g8e20/UDej4tgRK3asi2oU9mOXETbrszUdU3CSsA=='
                class='apbct-email-encoder'
                title='This contact has been encoded by Anti-Spam by CleanTalk. Click to decode. To finish the decoding make sure that JavaScript is enabled in your browser.'>10<span class="apbct-blur">****************************</span>@<span class="apbct-blur">***************</span>wi.us</span>
SUMMARY:CES - PIE Meeting
DESCRIPTION:
URL:https://www.milton.k12.wi.us/event/pie-meeting-25/
CATEGORIES:Consolidated
END:VEVENT
BEGIN:VEVENT
DTSTART;TZID=America/Chicago:20260817T143500
DTEND;TZID=America/Chicago:20260817T153500
DTSTAMP:20260421T035344
CREATED:20240822T003407Z
LAST-MODIFIED:20260420T234157Z
UID:<span 
                data-original-string='s9QzHvUhH1FyI/adyATMNg==386ZVN1sfLCGVimYNr7ot2zzwCN87MwVH2Rr5PPgE8pcd+PCFue/iHc7m+5lHwli4peCSJjUsFi4ycqWGY+JyOqZg=='
                class='apbct-email-encoder'
                title='This contact has been encoded by Anti-Spam by CleanTalk. Click to decode. To finish the decoding make sure that JavaScript is enabled in your browser.'>10<span class="apbct-blur">****************************</span>@<span class="apbct-blur">***************</span>wi.us</span>
SUMMARY:Early Release -
DESCRIPTION:
URL:https://www.milton.k12.wi.us/event/early-release-95/
CATEGORIES:Consolidated
END:VEVENT
BEGIN:VEVENT
DTSTART;TZID=America/Chicago:20260817T180000
DTEND;TZID=America/Chicago:20260817T200000
DTSTAMP:20260421T035344
CREATED:20240917T180406Z
LAST-MODIFIED:20260420T233753Z
UID:<span 
                data-original-string='WOZFXtVxq/dc0xj7mbVgDA==386Llf3/Dv5u5wWhUV39O26iO1RHzxBxC3Ef1v8/9Y1RkD+ZqTYmSYwd+LuVocEZnEwQw/ta/pPdN6pGpoKJlomfA=='
                class='apbct-email-encoder'
                title='This contact has been encoded by Anti-Spam by CleanTalk. Click to decode. To finish the decoding make sure that JavaScript is enabled in your browser.'>10<span class="apbct-blur">****************************</span>@<span class="apbct-blur">***************</span>wi.us</span>
SUMMARY:PAWS mtg
DESCRIPTION:
URL:https://www.milton.k12.wi.us/event/paws-mtg-24/
CATEGORIES:Milton West Elementary
END:VEVENT
BEGIN:VEVENT
DTSTART;TZID=America/Chicago:20260818T180000
DTEND;TZID=America/Chicago:20260818T190000
DTSTAMP:20260421T035344
CREATED:20240823T224241Z
LAST-MODIFIED:20260421T080950Z
UID:<span 
                data-original-string='kCI4ocsDAkh683HCTCvoMA==386cpVkcb4bPr2hkhpWfK4jP7mdZRA9GMZSGVWfAO/mq2qErCjV2QZIyp44NnEA76t8aifRZzUn0zQ54yrLU28udQ=='
                class='apbct-email-encoder'
                title='This contact has been encoded by Anti-Spam by CleanTalk. Click to decode. To finish the decoding make sure that JavaScript is enabled in your browser.'>10<span class="apbct-blur">****************************</span>@<span class="apbct-blur">***************</span>wi.us</span>
SUMMARY:FON Meeting
DESCRIPTION:
URL:https://www.milton.k12.wi.us/event/fon-meeting-24/
CATEGORIES:Northside Intermediate
END:VEVENT
BEGIN:VEVENT
DTSTART;TZID=America/Chicago:20260824T143500
DTEND;TZID=America/Chicago:20260824T153500
DTSTAMP:20260421T035344
CREATED:20240825T020748Z
LAST-MODIFIED:20260420T234157Z
UID:<span 
                data-original-string='+nW7NhbaNqIGC6u4VCycYA==386mmyMZPIpoJNtbLGWh/lszQE8sq76NFYKkzEtTqoNk08vzzDj8Rgl0gNfYe8VQJ3oD+JVwMaNRnRaj6eyg4x0YQ=='
                class='apbct-email-encoder'
                title='This contact has been encoded by Anti-Spam by CleanTalk. Click to decode. To finish the decoding make sure that JavaScript is enabled in your browser.'>10<span class="apbct-blur">****************************</span>@<span class="apbct-blur">***************</span>wi.us</span>
SUMMARY:Early Release -
DESCRIPTION:
URL:https://www.milton.k12.wi.us/event/early-release-92/
CATEGORIES:Consolidated
END:VEVENT
BEGIN:VEVENT
DTSTART;TZID=America/Chicago:20260824T183000
DTEND;TZID=America/Chicago:20260824T203000
DTSTAMP:20260421T035344
CREATED:20240824T110741Z
LAST-MODIFIED:20260420T234452Z
UID:<span 
                data-original-string='CB6aXdoB8HEXPptUthjFzA==386ABKyYDUfckDW8rxwGQQO3/OoMnx7fgY8u213rpCxLIbw6har3WScL40sYbTRiiKqBkkbioo/wzDChx++4cVsnQ=='
                class='apbct-email-encoder'
                title='This contact has been encoded by Anti-Spam by CleanTalk. Click to decode. To finish the decoding make sure that JavaScript is enabled in your browser.'>10<span class="apbct-blur">****************************</span>@<span class="apbct-blur">***************</span>wi.us</span>
SUMMARY:School Board Meeting
DESCRIPTION:
URL:https://www.milton.k12.wi.us/event/school-board-meeting-53/
LOCATION:School District of Milton\, 448 E High St\, Milton\, WI\, United States
CATEGORIES:District
GEO:42.773036;-88.944404
X-APPLE-STRUCTURED-LOCATION;VALUE=URI;X-ADDRESS=School District of Milton 448 E High St Milton WI United States;X-APPLE-RADIUS=500;X-TITLE=448 E High St:geo:-88.944404,42.773036
END:VEVENT
BEGIN:VEVENT
DTSTART;TZID=America/Chicago:20260831T143500
DTEND;TZID=America/Chicago:20260831T153500
DTSTAMP:20260421T035344
CREATED:20240831T164524Z
LAST-MODIFIED:20260420T234158Z
UID:<span 
                data-original-string='AKEuxdsri9DB07EQ2LywxQ==386JKcYIr71hJIR6q4dq7CqIauowSZzpYwpZx23Fv7powh2zZKpJAa13TvNUvEQa6r7jpKKLh6+6fSjShVVa4djQA=='
                class='apbct-email-encoder'
                title='This contact has been encoded by Anti-Spam by CleanTalk. Click to decode. To finish the decoding make sure that JavaScript is enabled in your browser.'>10<span class="apbct-blur">****************************</span>@<span class="apbct-blur">***************</span>wi.us</span>
SUMMARY:Early Release -
DESCRIPTION:
URL:https://www.milton.k12.wi.us/event/early-release-96/
CATEGORIES:Consolidated
END:VEVENT
BEGIN:VEVENT
DTSTART;TZID=America/Chicago:20260907T143500
DTEND;TZID=America/Chicago:20260907T153500
DTSTAMP:20260421T035344
CREATED:20240907T164012Z
LAST-MODIFIED:20260420T234159Z
UID:<span 
                data-original-string='0bZEMVl8+0/s/xyltojlfA==3865YV9T4VsbPO3r58dshugMZYWZEv3diIckEcqQGG+hDX+oOt7Lqa5zHncWGajwpJQw78/FMWAZoHdczrHg0o7Wg=='
                class='apbct-email-encoder'
                title='This contact has been encoded by Anti-Spam by CleanTalk. Click to decode. To finish the decoding make sure that JavaScript is enabled in your browser.'>10<span class="apbct-blur">****************************</span>@<span class="apbct-blur">***************</span>wi.us</span>
SUMMARY:Early Release -
DESCRIPTION:
URL:https://www.milton.k12.wi.us/event/early-release-97/
CATEGORIES:Consolidated
END:VEVENT
BEGIN:VEVENT
DTSTART;TZID=America/Chicago:20260908T183000
DTEND;TZID=America/Chicago:20260908T193000
DTSTAMP:20260421T035344
CREATED:20240908T164233Z
LAST-MODIFIED:20260420T234204Z
UID:<span 
                data-original-string='vmuHk9A1rlKx1XUB9PHsTA==386VrVWNgtdNMLlcnbloB2moBaa1RkPvd5kfx/E6/sQaU6/7Wo03nrbr9NtxEH0E3hvwZ5gPdBW2dt1RcXdvEE/mw=='
                class='apbct-email-encoder'
                title='This contact has been encoded by Anti-Spam by CleanTalk. Click to decode. To finish the decoding make sure that JavaScript is enabled in your browser.'>10<span class="apbct-blur">****************************</span>@<span class="apbct-blur">***************</span>wi.us</span>
SUMMARY:CES - PIE Meeting
DESCRIPTION:
URL:https://www.milton.k12.wi.us/event/ces-pie-meeting/
CATEGORIES:Consolidated
END:VEVENT
BEGIN:VEVENT
DTSTART;TZID=America/Chicago:20260914T143500
DTEND;TZID=America/Chicago:20260914T153500
DTSTAMP:20260421T035344
CREATED:20240914T164234Z
LAST-MODIFIED:20260420T234205Z
UID:<span 
                data-original-string='V5XT8Ga7V3H/b1JrMq4/og==386v8VVacUY2xEq1WJ0R/rCVdDA+XucAN3Ms32G0ROpTx1OySoOFd0RurbvhEHCv37nDi/93JB32o+YYnJhyKXV+A=='
                class='apbct-email-encoder'
                title='This contact has been encoded by Anti-Spam by CleanTalk. Click to decode. To finish the decoding make sure that JavaScript is enabled in your browser.'>10<span class="apbct-blur">****************************</span>@<span class="apbct-blur">***************</span>wi.us</span>
SUMMARY:Early Release -
DESCRIPTION:
URL:https://www.milton.k12.wi.us/event/early-release-98/
CATEGORIES:Consolidated
END:VEVENT
BEGIN:VEVENT
DTSTART;TZID=America/Chicago:20260914T183000
DTEND;TZID=America/Chicago:20260914T203000
DTSTAMP:20260421T035344
CREATED:20240914T075518Z
LAST-MODIFIED:20260420T234453Z
UID:<span 
                data-original-string='zCya/xzdToW1TTja/zNVNg==3868gD6N7+CQdy6mI3N8jK0ilNSoQiiOawr0/iLLvgN5M2LZzeh4JQWEHyE/Vi8IAeQIvfn4tW6c2bYfbZqXN8Vuw=='
                class='apbct-email-encoder'
                title='This contact has been encoded by Anti-Spam by CleanTalk. Click to decode. To finish the decoding make sure that JavaScript is enabled in your browser.'>10<span class="apbct-blur">****************************</span>@<span class="apbct-blur">***************</span>wi.us</span>
SUMMARY:School Board Meeting
DESCRIPTION:
URL:https://www.milton.k12.wi.us/event/school-board-meeting-54/
CATEGORIES:District
END:VEVENT
BEGIN:VEVENT
DTSTART;TZID=America/Chicago:20260915T180000
DTEND;TZID=America/Chicago:20260915T190000
DTSTAMP:20260421T035344
CREATED:20240915T073335Z
LAST-MODIFIED:20260421T080950Z
UID:<span 
                data-original-string='wqPGChlLilqCNGZMAhUFBg==386NQKMgfoTfbhgW9qe7mpCIsJDGSZl9kNo8bjKtHm4bwWOq57Nnaw7RDV9Ru0Un8jnQ6RkOPKa9Wa5lxt/h10r2Q=='
                class='apbct-email-encoder'
                title='This contact has been encoded by Anti-Spam by CleanTalk. Click to decode. To finish the decoding make sure that JavaScript is enabled in your browser.'>10<span class="apbct-blur">****************************</span>@<span class="apbct-blur">***************</span>wi.us</span>
SUMMARY:FON Meeting
DESCRIPTION:
URL:https://www.milton.k12.wi.us/event/fon-meeting-25/
CATEGORIES:Northside Intermediate
END:VEVENT
BEGIN:VEVENT
DTSTART;TZID=America/Chicago:20260921T143500
DTEND;TZID=America/Chicago:20260921T153500
DTSTAMP:20260421T035344
CREATED:20240921T164434Z
LAST-MODIFIED:20260420T234206Z
UID:<span 
                data-original-string='u+TkKokrgx0TNTYlFcWkUQ==386KYdccZDHuMCAudnfbntCjdJxPThjCqYgHuifbkKOSgielmKTJs3Pa+lUDCAQt3IXUaEEo/HqFuplTqm38LQkIg=='
                class='apbct-email-encoder'
                title='This contact has been encoded by Anti-Spam by CleanTalk. Click to decode. To finish the decoding make sure that JavaScript is enabled in your browser.'>10<span class="apbct-blur">****************************</span>@<span class="apbct-blur">***************</span>wi.us</span>
SUMMARY:Early Release -
DESCRIPTION:
URL:https://www.milton.k12.wi.us/event/early-release-99/
CATEGORIES:Consolidated
END:VEVENT
BEGIN:VEVENT
DTSTART;TZID=America/Chicago:20260921T180000
DTEND;TZID=America/Chicago:20260921T200000
DTSTAMP:20260421T035344
CREATED:20240921T181221Z
LAST-MODIFIED:20260420T233754Z
UID:<span 
                data-original-string='yuxmCI426eapskIQyq/k+A==3865RdxcARNJmKUepX/YClr4Pi78VLSuZNbWHHFSAQtA2h7N6jrll98AG9CPXf7aS0zNbnTWVMBJmt45Rn/eNXYmA=='
                class='apbct-email-encoder'
                title='This contact has been encoded by Anti-Spam by CleanTalk. Click to decode. To finish the decoding make sure that JavaScript is enabled in your browser.'>10<span class="apbct-blur">****************************</span>@<span class="apbct-blur">***************</span>wi.us</span>
SUMMARY:PAWS mtg
DESCRIPTION:
URL:https://www.milton.k12.wi.us/event/paws-mtg-25/
CATEGORIES:Milton West Elementary
END:VEVENT
BEGIN:VEVENT
DTSTART;TZID=America/Chicago:20260928T143500
DTEND;TZID=America/Chicago:20260928T153500
DTSTAMP:20260421T035344
CREATED:20240928T171443Z
LAST-MODIFIED:20260420T234206Z
UID:<span 
                data-original-string='olwQubxdLmOnMgOqllID3A==386B3IVhsPRfgeHQjQCRn3UZk3D5vG/bbZdgUNsIwwpnLZlTNEnB/WEyn93I4pypZo6o4bNrWWmpV525/QCmR8oLQ=='
                class='apbct-email-encoder'
                title='This contact has been encoded by Anti-Spam by CleanTalk. Click to decode. To finish the decoding make sure that JavaScript is enabled in your browser.'>10<span class="apbct-blur">****************************</span>@<span class="apbct-blur">***************</span>wi.us</span>
SUMMARY:Early Release -
DESCRIPTION:
URL:https://www.milton.k12.wi.us/event/early-release-100/
CATEGORIES:Consolidated
END:VEVENT
BEGIN:VEVENT
DTSTART;TZID=America/Chicago:20260928T183000
DTEND;TZID=America/Chicago:20260928T203000
DTSTAMP:20260421T035344
CREATED:20240928T081101Z
LAST-MODIFIED:20260420T234458Z
UID:<span 
                data-original-string='Y/E+qpLS8KBnpAVEgMh4TQ==386c69X5afX6y/CYAPu+x6zOwSPnOuZ2rEpmO5pcnWY7lRiT5WZv7jCeeYrFZbL/mN7BD4wIp5uVOpc86KqBrdAqg=='
                class='apbct-email-encoder'
                title='This contact has been encoded by Anti-Spam by CleanTalk. Click to decode. To finish the decoding make sure that JavaScript is enabled in your browser.'>10<span class="apbct-blur">****************************</span>@<span class="apbct-blur">***************</span>wi.us</span>
SUMMARY:School Board Meeting
DESCRIPTION:
URL:https://www.milton.k12.wi.us/event/school-board-meeting-55/
LOCATION:School District of Milton\, 448 E High St\, Milton\, WI\, United States
CATEGORIES:District
GEO:42.773036;-88.944404
X-APPLE-STRUCTURED-LOCATION;VALUE=URI;X-ADDRESS=School District of Milton 448 E High St Milton WI United States;X-APPLE-RADIUS=500;X-TITLE=448 E High St:geo:-88.944404,42.773036
END:VEVENT
BEGIN:VEVENT
DTSTART;TZID=America/Chicago:20261005T143500
DTEND;TZID=America/Chicago:20261005T153500
DTSTAMP:20260421T035344
CREATED:20241005T171420Z
LAST-MODIFIED:20260420T234207Z
UID:<span 
                data-original-string='Dk6cFhJLKfC8EPoA59PCnA==386J/kavBqWH/WWkc522KLxUlWPLP7lsZ5Bh+tIXO39YdEj5jlQzKOKd6gZZ2SFI9QvSqF2QzLLEuTeZQ3y5+HOOw=='
                class='apbct-email-encoder'
                title='This contact has been encoded by Anti-Spam by CleanTalk. Click to decode. To finish the decoding make sure that JavaScript is enabled in your browser.'>10<span class="apbct-blur">****************************</span>@<span class="apbct-blur">***************</span>wi.us</span>
SUMMARY:Early Release -
DESCRIPTION:
URL:https://www.milton.k12.wi.us/event/early-release-101/
CATEGORIES:Consolidated
END:VEVENT
BEGIN:VEVENT
DTSTART;TZID=America/Chicago:20261012T143500
DTEND;TZID=America/Chicago:20261012T153500
DTSTAMP:20260421T035344
CREATED:20241012T171323Z
LAST-MODIFIED:20260420T234220Z
UID:<span 
                data-original-string='r/ehr2dmcmkknAgrBPVxtg==386CN/RjJPvTH7Ncpp0vh26Dv4IPwwNLL2oUf/xOy9jq800KO6sWQWr98zu2AK2wGkHT0sBlCLdGzGdmmxpM2X9uw=='
                class='apbct-email-encoder'
                title='This contact has been encoded by Anti-Spam by CleanTalk. Click to decode. To finish the decoding make sure that JavaScript is enabled in your browser.'>10<span class="apbct-blur">****************************</span>@<span class="apbct-blur">***************</span>wi.us</span>
SUMMARY:Early Release -
DESCRIPTION:
URL:https://www.milton.k12.wi.us/event/early-release-102/
CATEGORIES:Consolidated
END:VEVENT
BEGIN:VEVENT
DTSTART;TZID=America/Chicago:20261012T183000
DTEND;TZID=America/Chicago:20261012T203000
DTSTAMP:20260421T035344
CREATED:20241012T084346Z
LAST-MODIFIED:20260420T234459Z
UID:<span 
                data-original-string='BiOZE2XtKVYUlaMAM0KPgQ==386MrKqfEvUvrtk4OAMMvleygHk06jLB/r5lWbWOmU9GGd2B9QwsCvpFbYdTZvGqZS2ZyTkGakDsgpQTuW96CoQQg=='
                class='apbct-email-encoder'
                title='This contact has been encoded by Anti-Spam by CleanTalk. Click to decode. To finish the decoding make sure that JavaScript is enabled in your browser.'>10<span class="apbct-blur">****************************</span>@<span class="apbct-blur">***************</span>wi.us</span>
SUMMARY:School Board Meeting
DESCRIPTION:
URL:https://www.milton.k12.wi.us/event/school-board-meeting-56/
CATEGORIES:District
END:VEVENT
BEGIN:VEVENT
DTSTART;TZID=America/Chicago:20261013T183000
DTEND;TZID=America/Chicago:20261013T193000
DTSTAMP:20260421T035344
CREATED:20241013T171140Z
LAST-MODIFIED:20260420T234221Z
UID:<span 
                data-original-string='qR7cxgqCi6M0eDZD3Akzhw==386RmMmbftfFDchVnL1ZVHEA5lPMb7vJsOxYyMkBs6TUMX8ABkGYhhJ0XGZ9e/32SaJ1ZRujX43lOGMfcL3O16fRg=='
                class='apbct-email-encoder'
                title='This contact has been encoded by Anti-Spam by CleanTalk. Click to decode. To finish the decoding make sure that JavaScript is enabled in your browser.'>10<span class="apbct-blur">****************************</span>@<span class="apbct-blur">***************</span>wi.us</span>
SUMMARY:CES - PIE Meeting
DESCRIPTION:
URL:https://www.milton.k12.wi.us/event/ces-pie-meeting-2/
CATEGORIES:Consolidated
END:VEVENT
BEGIN:VEVENT
DTSTART;TZID=America/Chicago:20261019T143500
DTEND;TZID=America/Chicago:20261019T153500
DTSTAMP:20260421T035344
CREATED:20241019T172839Z
LAST-MODIFIED:20260420T234221Z
UID:<span 
                data-original-string='iZ8uz9fxMqboLcaRi7G6tA==386WAhOYC0orRJX67CW2j9ctCfC/J08Lqb3zQBSDpn0w83I/WHddb2fNaqc53Obi2dmLB6HoqzQKYSIPizO/ci9Ig=='
                class='apbct-email-encoder'
                title='This contact has been encoded by Anti-Spam by CleanTalk. Click to decode. To finish the decoding make sure that JavaScript is enabled in your browser.'>10<span class="apbct-blur">****************************</span>@<span class="apbct-blur">***************</span>wi.us</span>
SUMMARY:Early Release -
DESCRIPTION:
URL:https://www.milton.k12.wi.us/event/early-release-103/
CATEGORIES:Consolidated
END:VEVENT
BEGIN:VEVENT
DTSTART;TZID=America/Chicago:20261019T180000
DTEND;TZID=America/Chicago:20261019T200000
DTSTAMP:20260421T035344
CREATED:20241019T185455Z
LAST-MODIFIED:20260420T233754Z
UID:<span 
                data-original-string='JVChqKm23lq53ozTPQpACw==386Jrgp1V0NdZDzy4wt+k+hbJjRUtiLjLHxJQVF6/xbVm65J2wU2aYq9DTuVB2P81+04yXncw9D3N//YFQQUylnQw=='
                class='apbct-email-encoder'
                title='This contact has been encoded by Anti-Spam by CleanTalk. Click to decode. To finish the decoding make sure that JavaScript is enabled in your browser.'>10<span class="apbct-blur">****************************</span>@<span class="apbct-blur">***************</span>wi.us</span>
SUMMARY:PAWS mtg
DESCRIPTION:
URL:https://www.milton.k12.wi.us/event/paws-mtg-26/
CATEGORIES:Milton West Elementary
END:VEVENT
END:VCALENDAR