BEGIN:VCALENDAR
VERSION:2.0
PRODID:-//School District of Milton - ECPv6.15.20//NONSGML v1.0//EN
CALSCALE:GREGORIAN
METHOD:PUBLISH
X-WR-CALNAME:School District of Milton
X-ORIGINAL-URL:https://www.milton.k12.wi.us
X-WR-CALDESC:Events for School District of Milton
REFRESH-INTERVAL;VALUE=DURATION:PT1H
X-Robots-Tag:noindex
X-PUBLISHED-TTL:PT1H
BEGIN:VTIMEZONE
TZID:America/Chicago
BEGIN:DAYLIGHT
TZOFFSETFROM:-0600
TZOFFSETTO:-0500
TZNAME:CDT
DTSTART:20250309T080000
END:DAYLIGHT
BEGIN:STANDARD
TZOFFSETFROM:-0500
TZOFFSETTO:-0600
TZNAME:CST
DTSTART:20251102T070000
END:STANDARD
BEGIN:DAYLIGHT
TZOFFSETFROM:-0600
TZOFFSETTO:-0500
TZNAME:CDT
DTSTART:20260308T080000
END:DAYLIGHT
BEGIN:STANDARD
TZOFFSETFROM:-0500
TZOFFSETTO:-0600
TZNAME:CST
DTSTART:20261101T070000
END:STANDARD
BEGIN:DAYLIGHT
TZOFFSETFROM:-0600
TZOFFSETTO:-0500
TZNAME:CDT
DTSTART:20270314T080000
END:DAYLIGHT
BEGIN:STANDARD
TZOFFSETFROM:-0500
TZOFFSETTO:-0600
TZNAME:CST
DTSTART:20271107T070000
END:STANDARD
END:VTIMEZONE
BEGIN:VEVENT
DTSTART;TZID=America/Chicago:20260209T143500
DTEND;TZID=America/Chicago:20260209T153500
DTSTAMP:20260421T090417
CREATED:20240822T012939Z
LAST-MODIFIED:20250922T160841Z
UID:<span 
                data-original-string='wU480PE9oPwVx5ePHWZ2rQ==386C/wsR/L0Jl97oS/PO19GO1quRJohG3Ap3laXeq57ATJv9POe4ncdpNuIlsvo+g60aGgmTC9Ck8UCB16uz1w/ww=='
                class='apbct-email-encoder'
                title='This contact has been encoded by Anti-Spam by CleanTalk. Click to decode. To finish the decoding make sure that JavaScript is enabled in your browser.'>10<span class="apbct-blur">****************************</span>@<span class="apbct-blur">***************</span>wi.us</span>
SUMMARY:Early Release -
DESCRIPTION:
URL:https://www.milton.k12.wi.us/event/early-release-67/
CATEGORIES:Consolidated
END:VEVENT
BEGIN:VEVENT
DTSTART;TZID=America/Chicago:20260209T183000
DTEND;TZID=America/Chicago:20260209T203000
DTSTAMP:20260421T090417
CREATED:20240822T012957Z
LAST-MODIFIED:20260209T225516Z
UID:<span 
                data-original-string='c7Q87tl+Yo0CC+L+7tPraA==386GcKdGa6a+2YB/L303om79yZSP1cF/U6uCnU8zx2fkNbXctJEFJR3CMdeIU9VdWfb/rvFCk5KOuQhIQtcdl2OOg=='
                class='apbct-email-encoder'
                title='This contact has been encoded by Anti-Spam by CleanTalk. Click to decode. To finish the decoding make sure that JavaScript is enabled in your browser.'>10<span class="apbct-blur">****************************</span>@<span class="apbct-blur">***************</span>wi.us</span>
SUMMARY:School Board Meeting
DESCRIPTION:
URL:https://www.milton.k12.wi.us/event/school-board-meeting-40/
CATEGORIES:District
END:VEVENT
BEGIN:VEVENT
DTSTART;VALUE=DATE:20260210
DTEND;VALUE=DATE:20260211
DTSTAMP:20260421T090417
CREATED:20260202T211313Z
LAST-MODIFIED:20260210T232525Z
UID:<span 
                data-original-string='o4/eiImBlSw/Igc/vcMt5A==386dXzmcGxOGTZDELZCMoSfmmWeA8xLpJ5sxv6a7RfznjoGZ1MWRhxSOIxqiUzV0wrIpDlcfas+6usPVyH+a8sBBA=='
                class='apbct-email-encoder'
                title='This contact has been encoded by Anti-Spam by CleanTalk. Click to decode. To finish the decoding make sure that JavaScript is enabled in your browser.'>10<span class="apbct-blur">****************************</span>@<span class="apbct-blur">***************</span>wi.us</span>
SUMMARY:DAY 1
DESCRIPTION:
URL:https://www.milton.k12.wi.us/event/day-1-43/
CATEGORIES:Northside Intermediate
END:VEVENT
BEGIN:VEVENT
DTSTART;TZID=America/Chicago:20260210T183000
DTEND;TZID=America/Chicago:20260210T193000
DTSTAMP:20260421T090417
CREATED:20240822T012940Z
LAST-MODIFIED:20260210T235243Z
UID:<span 
                data-original-string='vxoaj17J3V5In763QyP/Ww==386/bjsjnG9W2hictRiPOwi2esvAVQFqvHyx8cE8Fbpi5sUMSI7bXrO3IW/6109pCiiJd8hellQEZcUrh2sJ4yU+Q=='
                class='apbct-email-encoder'
                title='This contact has been encoded by Anti-Spam by CleanTalk. Click to decode. To finish the decoding make sure that JavaScript is enabled in your browser.'>10<span class="apbct-blur">****************************</span>@<span class="apbct-blur">***************</span>wi.us</span>
SUMMARY:CES - PIE Meeting
DESCRIPTION:
URL:https://www.milton.k12.wi.us/event/pie-meeting-18/
CATEGORIES:Consolidated
END:VEVENT
BEGIN:VEVENT
DTSTART;VALUE=DATE:20260211
DTEND;VALUE=DATE:20260212
DTSTAMP:20260421T090417
CREATED:20260202T211314Z
LAST-MODIFIED:20260211T232359Z
UID:<span 
                data-original-string='/dtiUV2IqcHgxoWdYnLcLQ==386mPBKsZZaRmtdQpQ9khXt1r++ZmojxAYYj/vu79P0uxSj23xAsdnXEICcDFbHM7u2pTRFRadhQ8XxOzDnRkf9AA=='
                class='apbct-email-encoder'
                title='This contact has been encoded by Anti-Spam by CleanTalk. Click to decode. To finish the decoding make sure that JavaScript is enabled in your browser.'>10<span class="apbct-blur">****************************</span>@<span class="apbct-blur">***************</span>wi.us</span>
SUMMARY:DAY 2
DESCRIPTION:
URL:https://www.milton.k12.wi.us/event/day-2-41/
CATEGORIES:Northside Intermediate
END:VEVENT
BEGIN:VEVENT
DTSTART;VALUE=DATE:20260212
DTEND;VALUE=DATE:20260213
DTSTAMP:20260421T090417
CREATED:20260202T211315Z
LAST-MODIFIED:20260212T233728Z
UID:<span 
                data-original-string='IbrgaRa9yX7d+NNY0Jmh1A==3866GRazj8uiasODcbl9N4kdX352B4pAq/jJBiPsbm3tPXf4imddlw0HI/XaBSVkbAiKyEkO/BogOUiMgnFei6eoA=='
                class='apbct-email-encoder'
                title='This contact has been encoded by Anti-Spam by CleanTalk. Click to decode. To finish the decoding make sure that JavaScript is enabled in your browser.'>10<span class="apbct-blur">****************************</span>@<span class="apbct-blur">***************</span>wi.us</span>
SUMMARY:DAY 3
DESCRIPTION:
URL:https://www.milton.k12.wi.us/event/day-3-42/
CATEGORIES:Northside Intermediate
END:VEVENT
BEGIN:VEVENT
DTSTART;TZID=America/Chicago:20260212T170000
DTEND;TZID=America/Chicago:20260212T190000
DTSTAMP:20260421T090417
CREATED:20250813T184014Z
LAST-MODIFIED:20260109T150742Z
UID:<span 
                data-original-string='O6BbYI9Py76pXIg0Fa5wxg==386nV2iY+9VknIgRLs5A5oqZHWNwNnqEZgCRWxM53NVSRtZ9YVXGnnjd+yM8TuPFtJQxAT2qoGBbLgzaA01Vp7+/A=='
                class='apbct-email-encoder'
                title='This contact has been encoded by Anti-Spam by CleanTalk. Click to decode. To finish the decoding make sure that JavaScript is enabled in your browser.'>10<span class="apbct-blur">****************************</span>@<span class="apbct-blur">***************</span>wi.us</span>
SUMMARY:Swing Dance-MMS/MHS Jazz Band
DESCRIPTION:
URL:https://www.milton.k12.wi.us/event/swing-dance-mms-mhs-jazz-band/
LOCATION:MHS Lower Cafeteria
CATEGORIES:Milton Middle School
END:VEVENT
BEGIN:VEVENT
DTSTART;VALUE=DATE:20260213
DTEND;VALUE=DATE:20260214
DTSTAMP:20260421T090417
CREATED:20260202T231158Z
LAST-MODIFIED:20260213T233753Z
UID:<span 
                data-original-string='tt5lNbvL9tBJPt6Rm8hvdA==386OZBg1ToHllWVEI+Am/0JUtJ23wgAIv1iZxcB9oYLVUKg8HENkp44tHxyAHj5s/dSSRVbAXgR9Put7HmVJklIww=='
                class='apbct-email-encoder'
                title='This contact has been encoded by Anti-Spam by CleanTalk. Click to decode. To finish the decoding make sure that JavaScript is enabled in your browser.'>10<span class="apbct-blur">****************************</span>@<span class="apbct-blur">***************</span>wi.us</span>
SUMMARY:DAY 4
DESCRIPTION:
URL:https://www.milton.k12.wi.us/event/day-4-45/
CATEGORIES:Northside Intermediate
END:VEVENT
BEGIN:VEVENT
DTSTART;TZID=America/Chicago:20260213T180000
DTEND;TZID=America/Chicago:20260213T190000
DTSTAMP:20260421T090417
CREATED:20260126T212236Z
LAST-MODIFIED:20260213T232225Z
UID:<span 
                data-original-string='diRJUbUn5fWnjCkKPAijXA==386IU18k+6VDmTnigro28LP0WkDWJHPyP1vyey7T4MPJPSsDBNMzcXJmBxhBHqLBnoig5fIKEXEpqUXFsNxFObpPw=='
                class='apbct-email-encoder'
                title='This contact has been encoded by Anti-Spam by CleanTalk. Click to decode. To finish the decoding make sure that JavaScript is enabled in your browser.'>10<span class="apbct-blur">****************************</span>@<span class="apbct-blur">***************</span>wi.us</span>
SUMMARY:PAWS Valentines Dance
DESCRIPTION:
URL:https://www.milton.k12.wi.us/event/paws-valentines-dance/
CATEGORIES:Milton West Elementary
END:VEVENT
BEGIN:VEVENT
DTSTART;TZID=America/Chicago:20260215T190000
DTEND;TZID=America/Chicago:20260215T194500
DTSTAMP:20260421T090417
CREATED:20260123T201428Z
LAST-MODIFIED:20260215T232601Z
UID:<span 
                data-original-string='N5KO818Ch3kI35iU88eS3A==386HIJtjZgOgaFUd2xAt7vRjessORsjaEyKXrYpjWjC2mAQxEhd6iInqvSNkTg1p3eAfiW38zaEqkWEMQ+NUiDB0w=='
                class='apbct-email-encoder'
                title='This contact has been encoded by Anti-Spam by CleanTalk. Click to decode. To finish the decoding make sure that JavaScript is enabled in your browser.'>10<span class="apbct-blur">****************************</span>@<span class="apbct-blur">***************</span>wi.us</span>
SUMMARY:Superintendent Search Focus Group (Community)
DESCRIPTION:Watch Google Meet live stream: https://stream.meet.google.com/stream/73df6b01-ddbc-421d-90b5-705219b9dba6\nLearn more about Meet at: https://support.google.com/a/users/answer/9282720
URL:https://www.milton.k12.wi.us/event/superintendent-search-focus-group-community/
CATEGORIES:District
END:VEVENT
BEGIN:VEVENT
DTSTART;VALUE=DATE:20260216
DTEND;VALUE=DATE:20260217
DTSTAMP:20260421T090417
CREATED:20260213T233754Z
LAST-MODIFIED:20260216T235311Z
UID:<span 
                data-original-string='TzYuQ4+qmBMAJ+WyEhrheA==386a/PPCGhv/k4ZW4RN260O9UFii+BlkCyvgtxtamru94ZvsYLIuvAbW8IVBrzsFaz1b05RP6mFHisflUajKlKESw=='
                class='apbct-email-encoder'
                title='This contact has been encoded by Anti-Spam by CleanTalk. Click to decode. To finish the decoding make sure that JavaScript is enabled in your browser.'>10<span class="apbct-blur">****************************</span>@<span class="apbct-blur">***************</span>wi.us</span>
SUMMARY:DAY 5
DESCRIPTION:
URL:https://www.milton.k12.wi.us/event/day-5-40/
CATEGORIES:Northside Intermediate
END:VEVENT
BEGIN:VEVENT
DTSTART;TZID=America/Chicago:20260216T143500
DTEND;TZID=America/Chicago:20260216T153500
DTSTAMP:20260421T090417
CREATED:20240822T012940Z
LAST-MODIFIED:20260216T212408Z
UID:<span 
                data-original-string='PHmK8br4rQv68qHMv7Gr6g==3869xT90sV/zdriuclOaG7U8oTQ/K6ZlDA2+uJJxFcVrIYVdaGVzG72GRldx+jCKpAWleHqce7PmvDhJw59bB+CEA=='
                class='apbct-email-encoder'
                title='This contact has been encoded by Anti-Spam by CleanTalk. Click to decode. To finish the decoding make sure that JavaScript is enabled in your browser.'>10<span class="apbct-blur">****************************</span>@<span class="apbct-blur">***************</span>wi.us</span>
SUMMARY:Early Release -
DESCRIPTION:
URL:https://www.milton.k12.wi.us/event/early-release-68/
CATEGORIES:Consolidated
END:VEVENT
BEGIN:VEVENT
DTSTART;TZID=America/Chicago:20260216T180000
DTEND;TZID=America/Chicago:20260216T190000
DTSTAMP:20260421T090417
CREATED:20250829T070900Z
LAST-MODIFIED:20260216T230756Z
UID:<span 
                data-original-string='q5m9FqmkqAmbmHpUHEvk0A==386Q01CcQ2HuOO+8ENVjlbqscT4Xp/24tUwqezsOdNQoNQbgCjsuHQJHbJ7OAnGvyHExm7z8qHAK1hMBjtE64uSSg=='
                class='apbct-email-encoder'
                title='This contact has been encoded by Anti-Spam by CleanTalk. Click to decode. To finish the decoding make sure that JavaScript is enabled in your browser.'>10<span class="apbct-blur">****************************</span>@<span class="apbct-blur">***************</span>wi.us</span>
SUMMARY:HES: Team Harmony Meeting 6pm
DESCRIPTION:
URL:https://www.milton.k12.wi.us/event/hes-team-harmony-meeting-6pm/
CATEGORIES:Harmony Elementary
END:VEVENT
BEGIN:VEVENT
DTSTART;TZID=America/Chicago:20260216T180000
DTEND;TZID=America/Chicago:20260216T200000
DTSTAMP:20260421T090417
CREATED:20240917T180353Z
LAST-MODIFIED:20260216T232654Z
UID:<span 
                data-original-string='J65QWMIS95EfsrG7Jx339w==386lVQLoMDwQI3WvkV5rKWOARq4Iyt/5qUe/3lpoUaZiTVUBkYBQKJC3caDAHI07mkakBVTZag7R7EuEB/Vih7P7g=='
                class='apbct-email-encoder'
                title='This contact has been encoded by Anti-Spam by CleanTalk. Click to decode. To finish the decoding make sure that JavaScript is enabled in your browser.'>10<span class="apbct-blur">****************************</span>@<span class="apbct-blur">***************</span>wi.us</span>
SUMMARY:PAWS mtg
DESCRIPTION:
URL:https://www.milton.k12.wi.us/event/paws-mtg-18/
CATEGORIES:Milton West Elementary
END:VEVENT
BEGIN:VEVENT
DTSTART;VALUE=DATE:20260217
DTEND;VALUE=DATE:20260218
DTSTAMP:20260421T090417
CREATED:20260213T233753Z
LAST-MODIFIED:20260217T235225Z
UID:<span 
                data-original-string='qkJYxCqWsnAFN2OHnRE3rg==3863d9QvUBm+qH+qbBlvyRiHpXO4dG+UjQZciwOhB/qtiJUR9aOaCfVdMc1BxJLhFOlbbNuqivGaOKCvrY6dZAODw=='
                class='apbct-email-encoder'
                title='This contact has been encoded by Anti-Spam by CleanTalk. Click to decode. To finish the decoding make sure that JavaScript is enabled in your browser.'>10<span class="apbct-blur">****************************</span>@<span class="apbct-blur">***************</span>wi.us</span>
SUMMARY:DAY 6
DESCRIPTION:
URL:https://www.milton.k12.wi.us/event/day-6-42/
CATEGORIES:Northside Intermediate
END:VEVENT
BEGIN:VEVENT
DTSTART;TZID=America/Chicago:20260217T180000
DTEND;TZID=America/Chicago:20260217T190000
DTSTAMP:20260421T090417
CREATED:20240823T224237Z
LAST-MODIFIED:20260217T235225Z
UID:<span 
                data-original-string='0JGNh04lQkbiaLw8qEkQcA==386RtM0gw9gP9UhLZYOqWS00BnL+WpA/tzVi2G9s71YlSYWoq7zYPl42bAmNJSd/5nAhc5WrjRWIf36+UEJqV3Jqw=='
                class='apbct-email-encoder'
                title='This contact has been encoded by Anti-Spam by CleanTalk. Click to decode. To finish the decoding make sure that JavaScript is enabled in your browser.'>10<span class="apbct-blur">****************************</span>@<span class="apbct-blur">***************</span>wi.us</span>
SUMMARY:FON Meeting
DESCRIPTION:
URL:https://www.milton.k12.wi.us/event/fon-meeting-18/
CATEGORIES:Northside Intermediate
END:VEVENT
BEGIN:VEVENT
DTSTART;VALUE=DATE:20260218
DTEND;VALUE=DATE:20260219
DTSTAMP:20260421T090417
CREATED:20260213T233803Z
LAST-MODIFIED:20260218T215442Z
UID:<span 
                data-original-string='AIwJ/sNr+/Mp3QDOdWXgwg==386pMOjEizw5tKG3AUWQyE2W1NeXP3P+ST2or0VXKSJknxlzrTn57dsKo53cn1xiE6xRX1GTy+Q++WNB9rvaYL61A=='
                class='apbct-email-encoder'
                title='This contact has been encoded by Anti-Spam by CleanTalk. Click to decode. To finish the decoding make sure that JavaScript is enabled in your browser.'>10<span class="apbct-blur">****************************</span>@<span class="apbct-blur">***************</span>wi.us</span>
SUMMARY:DAY 1
DESCRIPTION:
URL:https://www.milton.k12.wi.us/event/day-1-44/
CATEGORIES:Northside Intermediate
END:VEVENT
BEGIN:VEVENT
DTSTART;TZID=America/Chicago:20260218T180000
DTEND;TZID=America/Chicago:20260218T190000
DTSTAMP:20260421T090417
CREATED:20251112T232437Z
LAST-MODIFIED:20260218T215403Z
UID:<span 
                data-original-string='2LHL2n//TLMwdE3ZVCTX7A==386OCkpynkoWM8pQE6Lhp4Pfj5NP+iSuAlipXuyL5jSWWBVcjdBEESZNvuiuTuQAejE81N46NJopGlC+3erlYBUkg=='
                class='apbct-email-encoder'
                title='This contact has been encoded by Anti-Spam by CleanTalk. Click to decode. To finish the decoding make sure that JavaScript is enabled in your browser.'>10<span class="apbct-blur">****************************</span>@<span class="apbct-blur">***************</span>wi.us</span>
SUMMARY:Jazz Swing Night - MHS Cafeteria
DESCRIPTION:
URL:https://www.milton.k12.wi.us/event/jazz-swing-night-mhs-cafeteria/
CATEGORIES:Milton High School
END:VEVENT
BEGIN:VEVENT
DTSTART;TZID=America/Chicago:20260218T183000
DTEND;TZID=America/Chicago:20260218T193000
DTSTAMP:20260421T090417
CREATED:20260106T182717Z
LAST-MODIFIED:20260218T232351Z
UID:<span 
                data-original-string='PMHnA1r45KCjXIYmX841og==386L6O2A1ZflSeNmviggbVvSIPIz0zu8F4GHCFPrx72TpEVdvFwzW3IZEgdqmsVsnpKNImV0KERRET1SJcvf6kSyQ=='
                class='apbct-email-encoder'
                title='This contact has been encoded by Anti-Spam by CleanTalk. Click to decode. To finish the decoding make sure that JavaScript is enabled in your browser.'>10<span class="apbct-blur">****************************</span>@<span class="apbct-blur">***************</span>wi.us</span>
SUMMARY:Swing Dance MMS/MHS Jazz Band
DESCRIPTION:
URL:https://www.milton.k12.wi.us/event/swing-dance-mms-mhs-jazz-band-2/
LOCATION:MHS Lower Cafeteria
CATEGORIES:Milton Middle School
END:VEVENT
BEGIN:VEVENT
DTSTART;VALUE=DATE:20260219
DTEND;VALUE=DATE:20260220
DTSTAMP:20260421T090417
CREATED:20260213T233755Z
LAST-MODIFIED:20260219T212901Z
UID:<span 
                data-original-string='dBryPkobCDVgQAvXBz1pFA==386zA3O/t14X0WJCBAHGwf60QBGuWfaqpgvIcRXGNOJ48Op6B1kEmQcia+SqRCIdH72hIZfJHE6v+FSVP6cD2vX2Q=='
                class='apbct-email-encoder'
                title='This contact has been encoded by Anti-Spam by CleanTalk. Click to decode. To finish the decoding make sure that JavaScript is enabled in your browser.'>10<span class="apbct-blur">****************************</span>@<span class="apbct-blur">***************</span>wi.us</span>
SUMMARY:DAY 2
DESCRIPTION:
URL:https://www.milton.k12.wi.us/event/day-2-42/
CATEGORIES:Northside Intermediate
END:VEVENT
BEGIN:VEVENT
DTSTART;TZID=America/Chicago:20260219T173000
DTEND;TZID=America/Chicago:20260219T183000
DTSTAMP:20260421T090417
CREATED:20250813T184015Z
LAST-MODIFIED:20260219T232320Z
UID:<span 
                data-original-string='ptCSOSRIxrkQVM2Zr+1ijg==386j34MqeOlquYHZcKYb4agCzjuBI+Blhj7R2fS6i/rWEpEBsybQTGzjNEUrTBtsvRAldP5OfSq+VQhiKf4Cnn2hA=='
                class='apbct-email-encoder'
                title='This contact has been encoded by Anti-Spam by CleanTalk. Click to decode. To finish the decoding make sure that JavaScript is enabled in your browser.'>10<span class="apbct-blur">****************************</span>@<span class="apbct-blur">***************</span>wi.us</span>
SUMMARY:Parent Group (virtual) Meeting
DESCRIPTION:
URL:https://www.milton.k12.wi.us/event/parent-group-meeting-15/
LOCATION:MMS Cafeteria
CATEGORIES:Milton Middle School
END:VEVENT
BEGIN:VEVENT
DTSTART;VALUE=DATE:20260220
DTEND;VALUE=DATE:20260221
DTSTAMP:20260421T090417
CREATED:20260213T233804Z
LAST-MODIFIED:20260220T212242Z
UID:<span 
                data-original-string='KCmVg2SDk2MZPTvCatiyZw==386y8P3kS0t2rRaAOb70iyr46dcUGi524INIicyoVGP5E2rU7jGBFEt+yBJ4HqpgfYfVbGyNf1XJp+Bqt7hj3On/A=='
                class='apbct-email-encoder'
                title='This contact has been encoded by Anti-Spam by CleanTalk. Click to decode. To finish the decoding make sure that JavaScript is enabled in your browser.'>10<span class="apbct-blur">****************************</span>@<span class="apbct-blur">***************</span>wi.us</span>
SUMMARY:DAY 3
DESCRIPTION:
URL:https://www.milton.k12.wi.us/event/day-3-43/
CATEGORIES:Northside Intermediate
END:VEVENT
BEGIN:VEVENT
DTSTART;TZID=America/Chicago:20260220T151500
DTEND;TZID=America/Chicago:20260220T171500
DTSTAMP:20260421T090417
CREATED:20250813T184016Z
LAST-MODIFIED:20260220T210747Z
UID:<span 
                data-original-string='cvgZN1hO4Rg0s51aVrPbFw==386jXbvCJtn4satTLMTC7RIkK3Qx3i/FYP5ZX38XJw3w5E+4ntDpmxkn9k58rR7T+EtGzqunFqtPbgOPmlqAFnndQ=='
                class='apbct-email-encoder'
                title='This contact has been encoded by Anti-Spam by CleanTalk. Click to decode. To finish the decoding make sure that JavaScript is enabled in your browser.'>10<span class="apbct-blur">****************************</span>@<span class="apbct-blur">***************</span>wi.us</span>
SUMMARY:Dance/Activity Night
DESCRIPTION:
URL:https://www.milton.k12.wi.us/event/dance-activity-night-3/
LOCATION:Milton Middle School
CATEGORIES:Milton Middle School
END:VEVENT
BEGIN:VEVENT
DTSTART;TZID=America/Chicago:20260220T183000
DTEND;TZID=America/Chicago:20260220T193000
DTSTAMP:20260421T090417
CREATED:20251023T173833Z
LAST-MODIFIED:20260220T232457Z
UID:<span 
                data-original-string='FyfGhxMV3nGC9r2NZuam7A==386aVYvV5fq0DpBRQounnTpZI+8BWdLMpbmegy3dwbfA8/vziiGnOPdIp1nAzFqK2Wep0OcG6TU6UZpDNowyBN6fg=='
                class='apbct-email-encoder'
                title='This contact has been encoded by Anti-Spam by CleanTalk. Click to decode. To finish the decoding make sure that JavaScript is enabled in your browser.'>10<span class="apbct-blur">****************************</span>@<span class="apbct-blur">***************</span>wi.us</span>
SUMMARY:MMS Musical
DESCRIPTION:
URL:https://www.milton.k12.wi.us/event/mms-musical-4/
LOCATION:MHS PAC
CATEGORIES:Milton Middle School
END:VEVENT
BEGIN:VEVENT
DTSTART;TZID=America/Chicago:20260221T140000
DTEND;TZID=America/Chicago:20260221T150000
DTSTAMP:20260421T090417
CREATED:20260106T182732Z
LAST-MODIFIED:20260221T203741Z
UID:<span 
                data-original-string='A4wP0BLakIoND+p0nawvMQ==386CwEHaGijITfQj3IBP8CE+C+oQbPZ4qwrM374XiWxmvcxsblkYKkh1iRSsn0ylxVoruL444aU/ySCWUYU3IgAWQ=='
                class='apbct-email-encoder'
                title='This contact has been encoded by Anti-Spam by CleanTalk. Click to decode. To finish the decoding make sure that JavaScript is enabled in your browser.'>10<span class="apbct-blur">****************************</span>@<span class="apbct-blur">***************</span>wi.us</span>
SUMMARY:MMS Musical Sensory Show
DESCRIPTION:
URL:https://www.milton.k12.wi.us/event/mms-musical-sensory-show/
LOCATION:MHS PAC
CATEGORIES:Milton Middle School
END:VEVENT
BEGIN:VEVENT
DTSTART;TZID=America/Chicago:20260222T140000
DTEND;TZID=America/Chicago:20260222T150000
DTSTAMP:20260421T090417
CREATED:20251023T173835Z
LAST-MODIFIED:20260222T204314Z
UID:<span 
                data-original-string='AT0LAkNkGyECjDJDIOs6wg==386r2aJyhMx4nqKeU5prcX6Fny1Zk+y7Abhy1TQy72wA3P9nryeYOIMXPc9pq4h8lebmfU/piz4WgRW4ee1K8on7g=='
                class='apbct-email-encoder'
                title='This contact has been encoded by Anti-Spam by CleanTalk. Click to decode. To finish the decoding make sure that JavaScript is enabled in your browser.'>10<span class="apbct-blur">****************************</span>@<span class="apbct-blur">***************</span>wi.us</span>
SUMMARY:MMS Musical
DESCRIPTION:
URL:https://www.milton.k12.wi.us/event/mms-musical-5/
LOCATION:MHS PAC
CATEGORIES:Milton Middle School
END:VEVENT
BEGIN:VEVENT
DTSTART;VALUE=DATE:20260223
DTEND;VALUE=DATE:20260224
DTSTAMP:20260421T090417
CREATED:20260220T135305Z
LAST-MODIFIED:20260223T214236Z
UID:<span 
                data-original-string='QLVvVUyIzhTrSTfVl2Y28w==3863km+NQTz2w+UUs0bm2C6ekBQl+sHiNnsC9OOw9cG3aLNTbGPxUAoeXdQTuLebU2yoDpOKp42qzxFOd/DudgLrQ=='
                class='apbct-email-encoder'
                title='This contact has been encoded by Anti-Spam by CleanTalk. Click to decode. To finish the decoding make sure that JavaScript is enabled in your browser.'>10<span class="apbct-blur">****************************</span>@<span class="apbct-blur">***************</span>wi.us</span>
SUMMARY:DAY 4
DESCRIPTION:
URL:https://www.milton.k12.wi.us/event/day-4-46/
CATEGORIES:Northside Intermediate
END:VEVENT
BEGIN:VEVENT
DTSTART;TZID=America/Chicago:20260223T143500
DTEND;TZID=America/Chicago:20260223T153500
DTSTAMP:20260421T090417
CREATED:20240822T012940Z
LAST-MODIFIED:20260223T203837Z
UID:<span 
                data-original-string='i7voHNgSJl9rkRyOhGdg8Q==386INn4rP06spjpDwRXsEhp+dnfeHSzrxcI2jmYB+1nOXbSYfj/PJfNZcNqO9DMnJHnx+OPjV5lgHQJa+A1kr4kzw=='
                class='apbct-email-encoder'
                title='This contact has been encoded by Anti-Spam by CleanTalk. Click to decode. To finish the decoding make sure that JavaScript is enabled in your browser.'>10<span class="apbct-blur">****************************</span>@<span class="apbct-blur">***************</span>wi.us</span>
SUMMARY:Early Release -
DESCRIPTION:
URL:https://www.milton.k12.wi.us/event/early-release-69/
CATEGORIES:Consolidated
END:VEVENT
BEGIN:VEVENT
DTSTART;VALUE=DATE:20260224
DTEND;VALUE=DATE:20260225
DTSTAMP:20260421T090417
CREATED:20250829T070901Z
LAST-MODIFIED:20260224T232452Z
UID:<span 
                data-original-string='pylaJHQYt4B11ZwjLKd5Bg==3863SsW5jApKWQ/UTR6shFFdhhH4eJSD2eemQEARFfpb2CvIk1BSyC8APIzStkBHbTzzvfn/r2IsGwLYgUq/k3+Ww=='
                class='apbct-email-encoder'
                title='This contact has been encoded by Anti-Spam by CleanTalk. Click to decode. To finish the decoding make sure that JavaScript is enabled in your browser.'>10<span class="apbct-blur">****************************</span>@<span class="apbct-blur">***************</span>wi.us</span>
SUMMARY:HES: Culver's Scoopie Night
DESCRIPTION:
URL:https://www.milton.k12.wi.us/event/hes-culvers-scoopie-night-6/
CATEGORIES:Harmony Elementary
END:VEVENT
BEGIN:VEVENT
DTSTART;VALUE=DATE:20260224
DTEND;VALUE=DATE:20260225
DTSTAMP:20260421T090417
CREATED:20260220T135304Z
LAST-MODIFIED:20260224T213901Z
UID:<span 
                data-original-string='dSgW/YYV4DXy5X5pujNUEg==386vTPRxc0/iYK0X5m0nQUWDF/6zdu64H3ZfgiJhtzl3EGGNKyfOfIjKhQyDWMQ4XXjQ9hCI+Gj6pG6agEQdk/WBg=='
                class='apbct-email-encoder'
                title='This contact has been encoded by Anti-Spam by CleanTalk. Click to decode. To finish the decoding make sure that JavaScript is enabled in your browser.'>10<span class="apbct-blur">****************************</span>@<span class="apbct-blur">***************</span>wi.us</span>
SUMMARY:DAY 5
DESCRIPTION:
URL:https://www.milton.k12.wi.us/event/day-5-41/
CATEGORIES:Northside Intermediate
END:VEVENT
END:VCALENDAR