BEGIN:VCALENDAR
VERSION:2.0
PRODID:-//School District of Milton - ECPv6.15.20//NONSGML v1.0//EN
CALSCALE:GREGORIAN
METHOD:PUBLISH
X-WR-CALNAME:School District of Milton
X-ORIGINAL-URL:https://www.milton.k12.wi.us
X-WR-CALDESC:Events for School District of Milton
REFRESH-INTERVAL;VALUE=DURATION:PT1H
X-Robots-Tag:noindex
X-PUBLISHED-TTL:PT1H
BEGIN:VTIMEZONE
TZID:America/Chicago
BEGIN:DAYLIGHT
TZOFFSETFROM:-0600
TZOFFSETTO:-0500
TZNAME:CDT
DTSTART:20240310T080000
END:DAYLIGHT
BEGIN:STANDARD
TZOFFSETFROM:-0500
TZOFFSETTO:-0600
TZNAME:CST
DTSTART:20241103T070000
END:STANDARD
BEGIN:DAYLIGHT
TZOFFSETFROM:-0600
TZOFFSETTO:-0500
TZNAME:CDT
DTSTART:20250309T080000
END:DAYLIGHT
BEGIN:STANDARD
TZOFFSETFROM:-0500
TZOFFSETTO:-0600
TZNAME:CST
DTSTART:20251102T070000
END:STANDARD
BEGIN:DAYLIGHT
TZOFFSETFROM:-0600
TZOFFSETTO:-0500
TZNAME:CDT
DTSTART:20260308T080000
END:DAYLIGHT
BEGIN:STANDARD
TZOFFSETFROM:-0500
TZOFFSETTO:-0600
TZNAME:CST
DTSTART:20261101T070000
END:STANDARD
END:VTIMEZONE
BEGIN:VEVENT
DTSTART;VALUE=DATE:20251201
DTEND;VALUE=DATE:20251202
DTSTAMP:20260425T132405
CREATED:20250611T144520Z
LAST-MODIFIED:20251201T213736Z
UID:<span 
                data-original-string='XkjsFEgA+YsTDB0SHpJAIQ==386oWHdlk15SuTUqO/99pPSeWKqZqKvRsXoeVLsNmIPbNPHHV5qfJOu167EE8tVcvOxL046c4rL2c3eyjE+vG16fA=='
                class='apbct-email-encoder'
                title='This contact has been encoded by Anti-Spam by CleanTalk. Click to decode. To finish the decoding make sure that JavaScript is enabled in your browser.'>10<span class="apbct-blur">****************************</span>@<span class="apbct-blur">***************</span>wi.us</span>
SUMMARY:Classes Resume
DESCRIPTION:
URL:https://www.milton.k12.wi.us/event/classes-resume-4/
CATEGORIES:Milton East Elementary
END:VEVENT
BEGIN:VEVENT
DTSTART;VALUE=DATE:20251201
DTEND;VALUE=DATE:20251202
DTSTAMP:20260425T132405
CREATED:20251120T213745Z
LAST-MODIFIED:20251201T213925Z
UID:<span 
                data-original-string='gFI2iwqie/L80dnI1Di0QA==3866DCCE573QwpLfCW50Z7jwL45dMiH/drLHpMXWKIVcTcshMGz0FStOGAXe0EhYjgVHM0gESqSelVWjnPoPTTj4w=='
                class='apbct-email-encoder'
                title='This contact has been encoded by Anti-Spam by CleanTalk. Click to decode. To finish the decoding make sure that JavaScript is enabled in your browser.'>10<span class="apbct-blur">****************************</span>@<span class="apbct-blur">***************</span>wi.us</span>
SUMMARY:DAY 5
DESCRIPTION:
URL:https://www.milton.k12.wi.us/event/day-5-35/
CATEGORIES:Northside Intermediate
END:VEVENT
BEGIN:VEVENT
DTSTART;TZID=America/Chicago:20251201T143500
DTEND;TZID=America/Chicago:20251201T153500
DTSTAMP:20260425T132405
CREATED:20240822T012937Z
LAST-MODIFIED:20251201T182914Z
UID:<span 
                data-original-string='jX+sHVxJNS1STZRwD6/RAw==386kDsgjEW3ylPYX06+GmAMbspkOcKAp8Of93wecjPGPHOeckHPJoI/8uesJjLPka8HgH7DlSzlHOustftNP7oT7w=='
                class='apbct-email-encoder'
                title='This contact has been encoded by Anti-Spam by CleanTalk. Click to decode. To finish the decoding make sure that JavaScript is enabled in your browser.'>10<span class="apbct-blur">****************************</span>@<span class="apbct-blur">***************</span>wi.us</span>
SUMMARY:Early Release -
DESCRIPTION:
URL:https://www.milton.k12.wi.us/event/early-release-57/
CATEGORIES:Consolidated
END:VEVENT
BEGIN:VEVENT
DTSTART;VALUE=DATE:20251202
DTEND;VALUE=DATE:20251203
DTSTAMP:20260425T132405
CREATED:20251202T150844Z
LAST-MODIFIED:20251202T232416Z
UID:<span 
                data-original-string='3H0MvqCoE7HlhSoSrdv7MQ==386vG06BxRpSdV8QeStjTs/w5hKzJPExYSxPixA1tn88hx8R1VBtrhvNZamtqoPkRlTLokYVS09HUTHC3nWfvuXcw=='
                class='apbct-email-encoder'
                title='This contact has been encoded by Anti-Spam by CleanTalk. Click to decode. To finish the decoding make sure that JavaScript is enabled in your browser.'>10<span class="apbct-blur">****************************</span>@<span class="apbct-blur">***************</span>wi.us</span>
SUMMARY:DAY 6
DESCRIPTION:
URL:https://www.milton.k12.wi.us/event/day-6-36/
CATEGORIES:Northside Intermediate
END:VEVENT
BEGIN:VEVENT
DTSTART;VALUE=DATE:20251203
DTEND;VALUE=DATE:20251204
DTSTAMP:20260425T132405
CREATED:20251202T150845Z
LAST-MODIFIED:20251203T232231Z
UID:<span 
                data-original-string='AIwL8wQuHydMFF8YpaZAAQ==386NMWAA5qaMHLNKDjY5cJc4NtsoDByMb7TwRMsg2hXwgFveDzc3z+HrlbGRyu3n9n8eC5REVSOScN9Vz5ef8P9cA=='
                class='apbct-email-encoder'
                title='This contact has been encoded by Anti-Spam by CleanTalk. Click to decode. To finish the decoding make sure that JavaScript is enabled in your browser.'>10<span class="apbct-blur">****************************</span>@<span class="apbct-blur">***************</span>wi.us</span>
SUMMARY:DAY 1
DESCRIPTION:
URL:https://www.milton.k12.wi.us/event/day-1-38/
CATEGORIES:Northside Intermediate
END:VEVENT
BEGIN:VEVENT
DTSTART;VALUE=DATE:20251204
DTEND;VALUE=DATE:20251205
DTSTAMP:20260425T132405
CREATED:20251202T150846Z
LAST-MODIFIED:20251204T233739Z
UID:<span 
                data-original-string='//eb9yuP9hMI2aOHl10EsQ==386QrR+oCdhbng2GPwkEPOSSWMEAfyaPmn57aSa9EpRsCEsFEuNeMoxzDCvbyelejbJt5a8lP8vWJgGZA9nMjWyRg=='
                class='apbct-email-encoder'
                title='This contact has been encoded by Anti-Spam by CleanTalk. Click to decode. To finish the decoding make sure that JavaScript is enabled in your browser.'>10<span class="apbct-blur">****************************</span>@<span class="apbct-blur">***************</span>wi.us</span>
SUMMARY:DAY 2
DESCRIPTION:
URL:https://www.milton.k12.wi.us/event/day-2-36/
CATEGORIES:Northside Intermediate
END:VEVENT
BEGIN:VEVENT
DTSTART;VALUE=DATE:20251205
DTEND;VALUE=DATE:20251206
DTSTAMP:20260425T132405
CREATED:20251202T150846Z
LAST-MODIFIED:20251205T233750Z
UID:<span 
                data-original-string='0lnW/sT3ncdo/mJC0tDwDg==386rJjCmra+XzKv7+zTXBxHtp2hu/dVwPBixf/mYrDD/1VEeWtW7a2RmuPSyTnUwVEaqeIY1WIegjkxCvo2mnvq9w=='
                class='apbct-email-encoder'
                title='This contact has been encoded by Anti-Spam by CleanTalk. Click to decode. To finish the decoding make sure that JavaScript is enabled in your browser.'>10<span class="apbct-blur">****************************</span>@<span class="apbct-blur">***************</span>wi.us</span>
SUMMARY:DAY 3
DESCRIPTION:
URL:https://www.milton.k12.wi.us/event/day-3-37/
CATEGORIES:Northside Intermediate
END:VEVENT
BEGIN:VEVENT
DTSTART;VALUE=DATE:20251208
DTEND;VALUE=DATE:20251209
DTSTAMP:20260425T132405
CREATED:20251202T150847Z
LAST-MODIFIED:20251208T215322Z
UID:<span 
                data-original-string='NqvoFCZ9MWQyaxV1qPoC+w==3869BKBaI9t56t9O8DTDSWY0vp7OTp8BGKP8v05naXspJp/251VbSZ03vLRzdQHMRZkBzbJSEamCbsX7MuhyUg8FA=='
                class='apbct-email-encoder'
                title='This contact has been encoded by Anti-Spam by CleanTalk. Click to decode. To finish the decoding make sure that JavaScript is enabled in your browser.'>10<span class="apbct-blur">****************************</span>@<span class="apbct-blur">***************</span>wi.us</span>
SUMMARY:DAY 4
DESCRIPTION:
URL:https://www.milton.k12.wi.us/event/day-4-38/
CATEGORIES:Northside Intermediate
END:VEVENT
BEGIN:VEVENT
DTSTART;TZID=America/Chicago:20251208T143500
DTEND;TZID=America/Chicago:20251208T153500
DTSTAMP:20260425T132405
CREATED:20240822T012938Z
LAST-MODIFIED:20251208T190727Z
UID:<span 
                data-original-string='3SooG/3xmaACHWkYnnlJ/g==386Pv7b/1RxWIc9ydS4147yEalFouVxmX/BJIqKZWtJAiw5IDoP7J8zsxIoyRQODwVi68sqjMKZ7hUBRllwqjW8qA=='
                class='apbct-email-encoder'
                title='This contact has been encoded by Anti-Spam by CleanTalk. Click to decode. To finish the decoding make sure that JavaScript is enabled in your browser.'>10<span class="apbct-blur">****************************</span>@<span class="apbct-blur">***************</span>wi.us</span>
SUMMARY:Early Release -
DESCRIPTION:
URL:https://www.milton.k12.wi.us/event/early-release-58/
CATEGORIES:Consolidated
END:VEVENT
BEGIN:VEVENT
DTSTART;TZID=America/Chicago:20251208T174500
DTEND;TZID=America/Chicago:20251208T184500
DTSTAMP:20260425T132405
CREATED:20250619T192308Z
LAST-MODIFIED:20251208T215231Z
UID:<span 
                data-original-string='PQM201rQBg5A3WmvwZjdqg==386XsKU43hBcpS1kZxOd0s+K0c4xXacRMkc3vYv93d5WgLldB1AtqBkTOQ43xzQ1/W2zT/D3HEZnm0LLELnURuyFg=='
                class='apbct-email-encoder'
                title='This contact has been encoded by Anti-Spam by CleanTalk. Click to decode. To finish the decoding make sure that JavaScript is enabled in your browser.'>10<span class="apbct-blur">****************************</span>@<span class="apbct-blur">***************</span>wi.us</span>
SUMMARY:West Winter Sing for grades 2 & 3 @ MHS
DESCRIPTION:Join with Google Meet: https://meet.google.com/qpy-cntv-rvm\nOr dial: (US) +1 413-370-4227 PIN: 443272466#\nLearn more about Meet at: https://support.google.com/a/users/answer/9282720
URL:https://www.milton.k12.wi.us/event/west-winter-sing-for-grades-2-3-mhs/
CATEGORIES:Milton West Elementary
END:VEVENT
BEGIN:VEVENT
DTSTART;TZID=America/Chicago:20251208T183000
DTEND;TZID=America/Chicago:20251208T203000
DTSTAMP:20260425T132405
CREATED:20240822T012956Z
LAST-MODIFIED:20251208T212232Z
UID:<span 
                data-original-string='7TZhx/yRcwWMqLThKF3urA==386RO88EYPJTjA1SbNrNmVPzeWLUEiVj1ww2Op8tm2+YlcQIKefoijns+n4ITxUkzkY+DCsI+nWu2N5Lc5uB4ntcg=='
                class='apbct-email-encoder'
                title='This contact has been encoded by Anti-Spam by CleanTalk. Click to decode. To finish the decoding make sure that JavaScript is enabled in your browser.'>10<span class="apbct-blur">****************************</span>@<span class="apbct-blur">***************</span>wi.us</span>
SUMMARY:School Board Meeting
DESCRIPTION:
URL:https://www.milton.k12.wi.us/event/school-board-meeting-36/
CATEGORIES:District
END:VEVENT
BEGIN:VEVENT
DTSTART;VALUE=DATE:20251209
DTEND;VALUE=DATE:20251210
DTSTAMP:20260425T132405
CREATED:20250829T070839Z
LAST-MODIFIED:20251209T212231Z
UID:<span 
                data-original-string='djSWuXeRuBgPLsAsrOzvzQ==386gDxLnC0itQmbsua3gWLPOBH2rUUvBwhAlt70C9YuKCTF9UEBowoLmfNJM/3KYLuXA389MG/4f4ONmkacBDUS7Q=='
                class='apbct-email-encoder'
                title='This contact has been encoded by Anti-Spam by CleanTalk. Click to decode. To finish the decoding make sure that JavaScript is enabled in your browser.'>10<span class="apbct-blur">****************************</span>@<span class="apbct-blur">***************</span>wi.us</span>
SUMMARY:HES: Culver's Scoopie Night
DESCRIPTION:
URL:https://www.milton.k12.wi.us/event/hes-culvers-scoopie-night-5/
CATEGORIES:Harmony Elementary
END:VEVENT
BEGIN:VEVENT
DTSTART;VALUE=DATE:20251209
DTEND;VALUE=DATE:20251210
DTSTAMP:20260425T132405
CREATED:20251202T150853Z
LAST-MODIFIED:20251209T235226Z
UID:<span 
                data-original-string='yKRMKM/8ihUpUZlTRseafQ==386nvMqoxpitSiCF/ukPt8517zcUpNiu7P2jTCYSOxa5982c380jRxiR/g9VYmn2SDCEBQPq6YyXl8Bd8i1hyAIFg=='
                class='apbct-email-encoder'
                title='This contact has been encoded by Anti-Spam by CleanTalk. Click to decode. To finish the decoding make sure that JavaScript is enabled in your browser.'>10<span class="apbct-blur">****************************</span>@<span class="apbct-blur">***************</span>wi.us</span>
SUMMARY:DAY 5
DESCRIPTION:
URL:https://www.milton.k12.wi.us/event/day-5-36/
CATEGORIES:Northside Intermediate
END:VEVENT
BEGIN:VEVENT
DTSTART;TZID=America/Chicago:20251209T183000
DTEND;TZID=America/Chicago:20251209T193000
DTSTAMP:20260425T132405
CREATED:20240822T012938Z
LAST-MODIFIED:20251209T235321Z
UID:<span 
                data-original-string='id8TOrL3yUBwJkAs6krttw==3863uaLtookotyn/d87tBmoIr6LRVvpdpDnpBiPeX7aUphgPieIhZ3mVzF7vkYyxfGDdD3FllKC2V4aTwjMfzHQFA=='
                class='apbct-email-encoder'
                title='This contact has been encoded by Anti-Spam by CleanTalk. Click to decode. To finish the decoding make sure that JavaScript is enabled in your browser.'>10<span class="apbct-blur">****************************</span>@<span class="apbct-blur">***************</span>wi.us</span>
SUMMARY:CES - PIE Meeting
DESCRIPTION:
URL:https://www.milton.k12.wi.us/event/pie-meeting-16/
CATEGORIES:Consolidated
END:VEVENT
BEGIN:VEVENT
DTSTART;TZID=America/Chicago:20251209T190000
DTEND;TZID=America/Chicago:20251209T200000
DTSTAMP:20260425T132405
CREATED:20250813T183926Z
LAST-MODIFIED:20251209T235745Z
UID:<span 
                data-original-string='SimfhM24kiU20k/CihOdbQ==386y2T3LHUKoCM6rVtxDRBHGeuciubR4ShSBTVsDUovDGCawrSd8FIz+aPsqK/cvuXRRE+cIp9+tm+FYWXeRCSJqg=='
                class='apbct-email-encoder'
                title='This contact has been encoded by Anti-Spam by CleanTalk. Click to decode. To finish the decoding make sure that JavaScript is enabled in your browser.'>10<span class="apbct-blur">****************************</span>@<span class="apbct-blur">***************</span>wi.us</span>
SUMMARY:6-8 Winter Choir Concert
DESCRIPTION:
URL:https://www.milton.k12.wi.us/event/6-8-winter-choir-concert/
LOCATION:MHS PAC
CATEGORIES:Milton Middle School
END:VEVENT
BEGIN:VEVENT
DTSTART;VALUE=DATE:20251210
DTEND;VALUE=DATE:20251211
DTSTAMP:20260425T132405
CREATED:20251202T150852Z
LAST-MODIFIED:20251210T233848Z
UID:<span 
                data-original-string='JSxTcB8QqhyLeKZly+wp2g==386e+PQ51DJnuRkfEImrIC+Tld8ebZMUQW8ggUKTB53xymBW5kVpwacNS2s8smxGWZ69O25igROtt9QgndDSEosOA=='
                class='apbct-email-encoder'
                title='This contact has been encoded by Anti-Spam by CleanTalk. Click to decode. To finish the decoding make sure that JavaScript is enabled in your browser.'>10<span class="apbct-blur">****************************</span>@<span class="apbct-blur">***************</span>wi.us</span>
SUMMARY:DAY 6
DESCRIPTION:
URL:https://www.milton.k12.wi.us/event/day-6-37/
CATEGORIES:Northside Intermediate
END:VEVENT
BEGIN:VEVENT
DTSTART;VALUE=DATE:20251211
DTEND;VALUE=DATE:20251212
DTSTAMP:20260425T132405
CREATED:20251202T150851Z
LAST-MODIFIED:20251211T235303Z
UID:<span 
                data-original-string='9gAH52YVwNXAPSvTi+bwCA==386Rxh2QHIm6oOv17ci6/LcTGEBPP6Q6BTFacUiuVCW41Q+tjMpEtAj941K73nIFVnfDZLhEOFkh5bvZLI6U+tItg=='
                class='apbct-email-encoder'
                title='This contact has been encoded by Anti-Spam by CleanTalk. Click to decode. To finish the decoding make sure that JavaScript is enabled in your browser.'>10<span class="apbct-blur">****************************</span>@<span class="apbct-blur">***************</span>wi.us</span>
SUMMARY:DAY 1
DESCRIPTION:
URL:https://www.milton.k12.wi.us/event/day-1-39/
CATEGORIES:Northside Intermediate
END:VEVENT
BEGIN:VEVENT
DTSTART;TZID=America/Chicago:20251211T140000
DTEND;TZID=America/Chicago:20251211T150000
DTSTAMP:20260425T132405
CREATED:20250815T075626Z
LAST-MODIFIED:20251211T190824Z
UID:<span 
                data-original-string='u3N9uAGTZ+FZ/xgTP67cqA==386QtClIPE8R27oCc+ewCaU0cDn+p1f/6+yGyoC/z8WyGhmmcouahLDbrp0Pth16apFP0xu0qAHCUiapRZKLTQI/w=='
                class='apbct-email-encoder'
                title='This contact has been encoded by Anti-Spam by CleanTalk. Click to decode. To finish the decoding make sure that JavaScript is enabled in your browser.'>10<span class="apbct-blur">****************************</span>@<span class="apbct-blur">***************</span>wi.us</span>
SUMMARY:CES - 2nd & 3rd grade Winter Program
DESCRIPTION:
URL:https://www.milton.k12.wi.us/event/ces-2nd-3rd-grade-winter-program/
CATEGORIES:Consolidated
END:VEVENT
BEGIN:VEVENT
DTSTART;TZID=America/Chicago:20251211T173000
DTEND;TZID=America/Chicago:20251211T183000
DTSTAMP:20260425T132405
CREATED:20251112T163754Z
LAST-MODIFIED:20251211T232505Z
UID:<span 
                data-original-string='PiujAADbzFoh26jlOlW6JA==386f3g2IzxtPYAII0XllapFV4jjc6J8TiybM1VpMwRxtAV27mwoiaKc/tlG33VvD8SRh3lWg5iT+GPFBikY16mzGA=='
                class='apbct-email-encoder'
                title='This contact has been encoded by Anti-Spam by CleanTalk. Click to decode. To finish the decoding make sure that JavaScript is enabled in your browser.'>10<span class="apbct-blur">****************************</span>@<span class="apbct-blur">***************</span>wi.us</span>
SUMMARY:Parent Group Meeting
DESCRIPTION:
URL:https://www.milton.k12.wi.us/event/parent-group-meeting-19/
LOCATION:MMS Cafe
CATEGORIES:Milton Middle School
END:VEVENT
BEGIN:VEVENT
DTSTART;TZID=America/Chicago:20251211T190000
DTEND;TZID=America/Chicago:20251211T210000
DTSTAMP:20260425T132405
CREATED:20251210T075243Z
LAST-MODIFIED:20251211T233724Z
UID:<span 
                data-original-string='QeTYKoMLwg3BXEZd8qUjag==386Z1jThd2phVwcyONK8ruXPCKEwsmIs7aGu1dJxF5i6d5c0GSAQW+8JzBcJsJo+rZA5o37HABbLCs619SxAnBhaQ=='
                class='apbct-email-encoder'
                title='This contact has been encoded by Anti-Spam by CleanTalk. Click to decode. To finish the decoding make sure that JavaScript is enabled in your browser.'>10<span class="apbct-blur">****************************</span>@<span class="apbct-blur">***************</span>wi.us</span>
SUMMARY:Choir Concert
DESCRIPTION:
URL:https://www.milton.k12.wi.us/event/choir-concert-2/
CATEGORIES:Milton High School
END:VEVENT
BEGIN:VEVENT
DTSTART;VALUE=DATE:20251212
DTEND;VALUE=DATE:20251213
DTSTAMP:20260425T132405
CREATED:20251202T150851Z
LAST-MODIFIED:20251212T235329Z
UID:<span 
                data-original-string='Somm0hjmMjaFWx+wR0OPww==386ELVTDqAzIS39xuFa+GCoCWQkIgpsQjIUBPxUPq6MxpBZWjN92qPktcc9H9P+IAp8YIO9Op4Bv78FudrGC+0gEg=='
                class='apbct-email-encoder'
                title='This contact has been encoded by Anti-Spam by CleanTalk. Click to decode. To finish the decoding make sure that JavaScript is enabled in your browser.'>10<span class="apbct-blur">****************************</span>@<span class="apbct-blur">***************</span>wi.us</span>
SUMMARY:DAY 2
DESCRIPTION:
URL:https://www.milton.k12.wi.us/event/day-2-37/
CATEGORIES:Northside Intermediate
END:VEVENT
BEGIN:VEVENT
DTSTART;TZID=America/Chicago:20251212T140000
DTEND;TZID=America/Chicago:20251212T150000
DTSTAMP:20260425T132405
CREATED:20250825T203829Z
LAST-MODIFIED:20251212T185604Z
UID:<span 
                data-original-string='/bMmKr2suBB5avX8TFVejQ==386uNYLnyn3A62iWgZbfzA/2XuEb2pB8axlV9vvzxi38H48eWRP3pPAhwFSWOJ3jMCIppcjX10e+R+njXjMU1gEBw=='
                class='apbct-email-encoder'
                title='This contact has been encoded by Anti-Spam by CleanTalk. Click to decode. To finish the decoding make sure that JavaScript is enabled in your browser.'>10<span class="apbct-blur">****************************</span>@<span class="apbct-blur">***************</span>wi.us</span>
SUMMARY:HES: Winter Concert K & 3rd Grades
DESCRIPTION:
URL:https://www.milton.k12.wi.us/event/hes-winter-concert-k-3rd-grades/
CATEGORIES:Harmony Elementary
END:VEVENT
BEGIN:VEVENT
DTSTART;TZID=America/Chicago:20251212T151500
DTEND;TZID=America/Chicago:20251212T171500
DTSTAMP:20260425T132405
CREATED:20250813T183927Z
LAST-MODIFIED:20251212T214044Z
UID:<span 
                data-original-string='29hKJ4vVQb0buEiC3Zq2yw==386YCzuit62MIAZNN858/r9+CZIkGCVIisLsFngNR0HYUyMJASm9CvUl4vqZ6Vs5fXnybhUWkF0A+mseEk8rSs2bg=='
                class='apbct-email-encoder'
                title='This contact has been encoded by Anti-Spam by CleanTalk. Click to decode. To finish the decoding make sure that JavaScript is enabled in your browser.'>10<span class="apbct-blur">****************************</span>@<span class="apbct-blur">***************</span>wi.us</span>
SUMMARY:Dance/Activity Night
DESCRIPTION:
URL:https://www.milton.k12.wi.us/event/dance-activity-night-2/
CATEGORIES:Milton Middle School
END:VEVENT
BEGIN:VEVENT
DTSTART;VALUE=DATE:20251215
DTEND;VALUE=DATE:20251216
DTSTAMP:20260425T132405
CREATED:20251209T205243Z
LAST-MODIFIED:20251215T220751Z
UID:<span 
                data-original-string='q07ejdPNHtPVND0TC/ZPdw==386DIFDuiO577JsahxAhJO7ZRrRjXzULgCOf4uEFOFsoAiIq8UxCU4k1T/aHjPcEoOCNRGse/RQlY/vFNFMCBL9tQ=='
                class='apbct-email-encoder'
                title='This contact has been encoded by Anti-Spam by CleanTalk. Click to decode. To finish the decoding make sure that JavaScript is enabled in your browser.'>10<span class="apbct-blur">****************************</span>@<span class="apbct-blur">***************</span>wi.us</span>
SUMMARY:Mad About Plaid Day
DESCRIPTION:
URL:https://www.milton.k12.wi.us/event/mad-about-plaid-day/
CATEGORIES:Milton West Elementary
END:VEVENT
BEGIN:VEVENT
DTSTART;VALUE=DATE:20251215
DTEND;VALUE=DATE:20251216
DTSTAMP:20260425T132405
CREATED:20251212T150806Z
LAST-MODIFIED:20251215T235323Z
UID:<span 
                data-original-string='rzRSgNooqPb5A9dSKNqQNg==386JtEgHVqKx40w5uk7auB6jHftg4LJyzAPson67md/YTS0kAxEuvpZHCWxNpD0uFIhigb84VOZSxcN+ED7y2hddA=='
                class='apbct-email-encoder'
                title='This contact has been encoded by Anti-Spam by CleanTalk. Click to decode. To finish the decoding make sure that JavaScript is enabled in your browser.'>10<span class="apbct-blur">****************************</span>@<span class="apbct-blur">***************</span>wi.us</span>
SUMMARY:DAY 3
DESCRIPTION:
URL:https://www.milton.k12.wi.us/event/day-3-38/
CATEGORIES:Northside Intermediate
END:VEVENT
BEGIN:VEVENT
DTSTART;TZID=America/Chicago:20251215T143500
DTEND;TZID=America/Chicago:20251215T153500
DTSTAMP:20260425T132405
CREATED:20240822T012938Z
LAST-MODIFIED:20251215T190912Z
UID:<span 
                data-original-string='3RXcq/VRnen2dgGOF972zw==386Ots6lK+et+8Tt9t8tAVSfIMuoOOQ2cGRazn4nHR3S55soRAXZkQbcSZJ0ejimfuGFzEqXn+QS+JtX3knUyVOFQ=='
                class='apbct-email-encoder'
                title='This contact has been encoded by Anti-Spam by CleanTalk. Click to decode. To finish the decoding make sure that JavaScript is enabled in your browser.'>10<span class="apbct-blur">****************************</span>@<span class="apbct-blur">***************</span>wi.us</span>
SUMMARY:Early Release -
DESCRIPTION:
URL:https://www.milton.k12.wi.us/event/early-release-59/
CATEGORIES:Consolidated
END:VEVENT
BEGIN:VEVENT
DTSTART;TZID=America/Chicago:20251215T180000
DTEND;TZID=America/Chicago:20251215T190000
DTSTAMP:20260425T132405
CREATED:20250829T070841Z
LAST-MODIFIED:20251215T235232Z
UID:<span 
                data-original-string='d5UUq8fSaha1My4ZNKE/WA==386fg7Wo4ScRE3JTrD4ee50XWkVxCLjimR7Cpl7zr6j/BRgYTRnTa8C9jePZ2X7zSUw0sVra9TsmUHG3cKwaI7+Ew=='
                class='apbct-email-encoder'
                title='This contact has been encoded by Anti-Spam by CleanTalk. Click to decode. To finish the decoding make sure that JavaScript is enabled in your browser.'>10<span class="apbct-blur">****************************</span>@<span class="apbct-blur">***************</span>wi.us</span>
SUMMARY:HES: Team Harmony Meeting
DESCRIPTION:
URL:https://www.milton.k12.wi.us/event/hes-team-harmony-meeting-4/
CATEGORIES:Harmony Elementary
END:VEVENT
BEGIN:VEVENT
DTSTART;TZID=America/Chicago:20251215T180000
DTEND;TZID=America/Chicago:20251215T200000
DTSTAMP:20260425T132405
CREATED:20240917T180352Z
LAST-MODIFIED:20251215T220754Z
UID:<span 
                data-original-string='qOR9i9pRuatDSs5jKSTClw==386ev0X6X3iSwo/cQJW7/UcL+zyAlQxsFgzNRC4HrNssRYCV12311qiMcPp6zZazM/l4fD2Y5irpzxcc3DUm8gvJA=='
                class='apbct-email-encoder'
                title='This contact has been encoded by Anti-Spam by CleanTalk. Click to decode. To finish the decoding make sure that JavaScript is enabled in your browser.'>10<span class="apbct-blur">****************************</span>@<span class="apbct-blur">***************</span>wi.us</span>
SUMMARY:PAWS mtg
DESCRIPTION:
URL:https://www.milton.k12.wi.us/event/paws-mtg-16/
CATEGORIES:Milton West Elementary
END:VEVENT
BEGIN:VEVENT
DTSTART;VALUE=DATE:20251216
DTEND;VALUE=DATE:20251217
DTSTAMP:20260425T132405
CREATED:20251209T205244Z
LAST-MODIFIED:20251216T220730Z
UID:<span 
                data-original-string='rlJRtqaYNhbKhShnka84nQ==386/5dV+CSL0+12osQnQP1vRL/cp5VwgjrNxhXlvl6B+vCocxmRlp3pXgQK4opPxEFiMfy8b7qIejNk5+e3wt8X6A=='
                class='apbct-email-encoder'
                title='This contact has been encoded by Anti-Spam by CleanTalk. Click to decode. To finish the decoding make sure that JavaScript is enabled in your browser.'>10<span class="apbct-blur">****************************</span>@<span class="apbct-blur">***************</span>wi.us</span>
SUMMARY:Fun/cozy sock day
DESCRIPTION:
URL:https://www.milton.k12.wi.us/event/fun-cozy-sock-day/
CATEGORIES:Milton West Elementary
END:VEVENT
BEGIN:VEVENT
DTSTART;VALUE=DATE:20251216
DTEND;VALUE=DATE:20251217
DTSTAMP:20260425T132405
CREATED:20251212T160734Z
LAST-MODIFIED:20251216T235229Z
UID:<span 
                data-original-string='k+dDJHVi7PfGMORXSTZzJA==386RlZ9wGfFs/LKBxQrWO+qYcIN0687ww9BnToW0SZy78bL6rKU/q7YQDCpK/2Vyy+FM1rOL3A2wvmfihd1IEju2g=='
                class='apbct-email-encoder'
                title='This contact has been encoded by Anti-Spam by CleanTalk. Click to decode. To finish the decoding make sure that JavaScript is enabled in your browser.'>10<span class="apbct-blur">****************************</span>@<span class="apbct-blur">***************</span>wi.us</span>
SUMMARY:DAY 4
DESCRIPTION:
URL:https://www.milton.k12.wi.us/event/day-4-39/
CATEGORIES:Northside Intermediate
END:VEVENT
END:VCALENDAR