BEGIN:VCALENDAR
VERSION:2.0
PRODID:-//School District of Milton - ECPv6.15.20//NONSGML v1.0//EN
CALSCALE:GREGORIAN
METHOD:PUBLISH
X-WR-CALNAME:School District of Milton
X-ORIGINAL-URL:https://www.milton.k12.wi.us
X-WR-CALDESC:Events for School District of Milton
REFRESH-INTERVAL;VALUE=DURATION:PT1H
X-Robots-Tag:noindex
X-PUBLISHED-TTL:PT1H
BEGIN:VTIMEZONE
TZID:America/Chicago
BEGIN:DAYLIGHT
TZOFFSETFROM:-0600
TZOFFSETTO:-0500
TZNAME:CDT
DTSTART:20250309T080000
END:DAYLIGHT
BEGIN:STANDARD
TZOFFSETFROM:-0500
TZOFFSETTO:-0600
TZNAME:CST
DTSTART:20251102T070000
END:STANDARD
BEGIN:DAYLIGHT
TZOFFSETFROM:-0600
TZOFFSETTO:-0500
TZNAME:CDT
DTSTART:20260308T080000
END:DAYLIGHT
BEGIN:STANDARD
TZOFFSETFROM:-0500
TZOFFSETTO:-0600
TZNAME:CST
DTSTART:20261101T070000
END:STANDARD
BEGIN:DAYLIGHT
TZOFFSETFROM:-0600
TZOFFSETTO:-0500
TZNAME:CDT
DTSTART:20270314T080000
END:DAYLIGHT
BEGIN:STANDARD
TZOFFSETFROM:-0500
TZOFFSETTO:-0600
TZNAME:CST
DTSTART:20271107T070000
END:STANDARD
END:VTIMEZONE
BEGIN:VEVENT
DTSTART;TZID=America/Chicago:20260413T183000
DTEND;TZID=America/Chicago:20260413T203000
DTSTAMP:20260423T122708
CREATED:20240822T012958Z
LAST-MODIFIED:20260413T215229Z
UID:<span 
                data-original-string='4pLF8eYM9ypqDFu/I1Elrg==386ngyRng7aj/os+QbTq7fbdByduuLbhjCp5/oHGNFiQtMgaZgqv27OdhlkxE3Bnvi0mUCiKc9LghYbIMHYtuyHmw=='
                class='apbct-email-encoder'
                title='This contact has been encoded by Anti-Spam by CleanTalk. Click to decode. To finish the decoding make sure that JavaScript is enabled in your browser.'>10<span class="apbct-blur">****************************</span>@<span class="apbct-blur">***************</span>wi.us</span>
SUMMARY:School Board Meeting
DESCRIPTION:
URL:https://www.milton.k12.wi.us/event/school-board-meeting-44/
CATEGORIES:District
END:VEVENT
BEGIN:VEVENT
DTSTART;TZID=America/Chicago:20260413T143500
DTEND;TZID=America/Chicago:20260413T153500
DTSTAMP:20260423T122708
CREATED:20240822T012941Z
LAST-MODIFIED:20260413T195234Z
UID:<span 
                data-original-string='splGhz4BTS1XkNQUfLJScg==386craTip2Dx9h3fNGNsewcBHsmJ8vogk49ED73ZI8FCIyqHXPFyS2y0I1oQzsMOZ6hKfysrV0Rz68BJrz+hfBrQw=='
                class='apbct-email-encoder'
                title='This contact has been encoded by Anti-Spam by CleanTalk. Click to decode. To finish the decoding make sure that JavaScript is enabled in your browser.'>10<span class="apbct-blur">****************************</span>@<span class="apbct-blur">***************</span>wi.us</span>
SUMMARY:Early Release -
DESCRIPTION:
URL:https://www.milton.k12.wi.us/event/early-release-76/
CATEGORIES:Consolidated
END:VEVENT
BEGIN:VEVENT
DTSTART;VALUE=DATE:20260413
DTEND;VALUE=DATE:20260414
DTSTAMP:20260423T122708
CREATED:20260406T150732Z
LAST-MODIFIED:20260413T213740Z
UID:<span 
                data-original-string='5JDbjEf4mJf4hvDZf57+/w==386DwZyX185NBK1zeBF2P/rFgfmvZ3XSxdOs3mE+es3YZlwjiMj2wqhqL8UdqRrgeHxaOVMZDhPPgjPIwMu2r+EgA=='
                class='apbct-email-encoder'
                title='This contact has been encoded by Anti-Spam by CleanTalk. Click to decode. To finish the decoding make sure that JavaScript is enabled in your browser.'>10<span class="apbct-blur">****************************</span>@<span class="apbct-blur">***************</span>wi.us</span>
SUMMARY:DAY 2
DESCRIPTION:
URL:https://www.milton.k12.wi.us/event/day-2-47/
CATEGORIES:Northside Intermediate
END:VEVENT
BEGIN:VEVENT
DTSTART;VALUE=DATE:20260410
DTEND;VALUE=DATE:20260411
DTSTAMP:20260423T122708
CREATED:20260309T143823Z
LAST-MODIFIED:20260410T213733Z
UID:<span 
                data-original-string='ze3PqBwCgvKiyuSEfyinXg==386WuTaWVgt2kOGt7Be1AUn0Gi+Awa0gpyDDXHlgE5elYzT87rpZHD//uIkF9iBYTvPHAswbsteO0mKWQjoJWfOWA=='
                class='apbct-email-encoder'
                title='This contact has been encoded by Anti-Spam by CleanTalk. Click to decode. To finish the decoding make sure that JavaScript is enabled in your browser.'>10<span class="apbct-blur">****************************</span>@<span class="apbct-blur">***************</span>wi.us</span>
SUMMARY:DAY 1
DESCRIPTION:
URL:https://www.milton.k12.wi.us/event/day-2-46/
CATEGORIES:Northside Intermediate
END:VEVENT
BEGIN:VEVENT
DTSTART;VALUE=DATE:20260409
DTEND;VALUE=DATE:20260410
DTSTAMP:20260423T122708
CREATED:20260309T143819Z
LAST-MODIFIED:20260409T223833Z
UID:<span 
                data-original-string='YW0CjsJ1fg0BNP5XvqtEdw==386FewfbHV7ymBQqo7paqIkJS6JQJ22iom8HK4XdaTwTMkH7t4ra2+dKM2pquLv4k2o8TM6so7Y90WSkACahRJfWA=='
                class='apbct-email-encoder'
                title='This contact has been encoded by Anti-Spam by CleanTalk. Click to decode. To finish the decoding make sure that JavaScript is enabled in your browser.'>10<span class="apbct-blur">****************************</span>@<span class="apbct-blur">***************</span>wi.us</span>
SUMMARY:DAY 6
DESCRIPTION:
URL:https://www.milton.k12.wi.us/event/day-1-49/
CATEGORIES:Northside Intermediate
END:VEVENT
BEGIN:VEVENT
DTSTART;TZID=America/Chicago:20260408T173000
DTEND;TZID=America/Chicago:20260408T183000
DTSTAMP:20260423T122708
CREATED:20250616T131001Z
LAST-MODIFIED:20260408T223727Z
UID:<span 
                data-original-string='C7r+d0QhKJwlgse5bUvkgQ==386ZlN8eCi7AXQFY8nTxNgV/rBp0wwu5HSR4AR+LAKLcKp9VvkmVnUS/clOuBLiwtv64tzU2QMVolv+qHkW9eaqPA=='
                class='apbct-email-encoder'
                title='This contact has been encoded by Anti-Spam by CleanTalk. Click to decode. To finish the decoding make sure that JavaScript is enabled in your browser.'>10<span class="apbct-blur">****************************</span>@<span class="apbct-blur">***************</span>wi.us</span>
SUMMARY:Junior/Parent Informational Meeting
DESCRIPTION:
URL:https://www.milton.k12.wi.us/event/junior-parent-informational-meeting/
CATEGORIES:Milton High School
END:VEVENT
BEGIN:VEVENT
DTSTART;TZID=America/Chicago:20260408T160000
DTEND;TZID=America/Chicago:20260408T200000
DTSTAMP:20260423T122708
CREATED:20260213T213743Z
LAST-MODIFIED:20260408T220351Z
UID:<span 
                data-original-string='zMzO66vxNDPjj0yB3FR5gw==3868VEqeLSPXZ4kxhjSB3eg0K/ng+DMHpaNmg48ts5l5UF/i+kPYjS5E7DUZGyQKsPCaUuR6dOewBYhVLtZjQWMzA=='
                class='apbct-email-encoder'
                title='This contact has been encoded by Anti-Spam by CleanTalk. Click to decode. To finish the decoding make sure that JavaScript is enabled in your browser.'>10<span class="apbct-blur">****************************</span>@<span class="apbct-blur">***************</span>wi.us</span>
SUMMARY:Scoopie Night
DESCRIPTION:
URL:https://www.milton.k12.wi.us/event/scoopie-night-19/
CATEGORIES:Milton West Elementary
END:VEVENT
BEGIN:VEVENT
DTSTART;TZID=America/Chicago:20260408T153000
DTEND;TZID=America/Chicago:20260408T183000
DTSTAMP:20260423T122708
CREATED:20250616T131000Z
LAST-MODIFIED:20260408T223728Z
UID:<span 
                data-original-string='aFJTQFgq1ZdQ2aXcWFlL9Q==3864KEWMq0kjhVoNH3LnfHEXyU5YfanRwguaaJO8mTECa8YiNXnNs7q1f6FQCDagy7M93n7cllR+ztcMIYr20qTBw=='
                class='apbct-email-encoder'
                title='This contact has been encoded by Anti-Spam by CleanTalk. Click to decode. To finish the decoding make sure that JavaScript is enabled in your browser.'>10<span class="apbct-blur">****************************</span>@<span class="apbct-blur">***************</span>wi.us</span>
SUMMARY:Parent Teacher Conferences
DESCRIPTION:
URL:https://www.milton.k12.wi.us/event/parent-teacher-conferences-36/
CATEGORIES:Milton High School
END:VEVENT
BEGIN:VEVENT
DTSTART;VALUE=DATE:20260408
DTEND;VALUE=DATE:20260409
DTSTAMP:20260423T122708
CREATED:20260309T143820Z
LAST-MODIFIED:20260408T220728Z
UID:<span 
                data-original-string='H35zn67oxnXpG1frLD7dNg==386B8TyK1onDMWbB12jSGh2SnxuCoMSLYZloNlcjlliazRPzlVOyzA6F4/scQYjaLOTOkZIeTN8JAmO7dMX7g5j5Q=='
                class='apbct-email-encoder'
                title='This contact has been encoded by Anti-Spam by CleanTalk. Click to decode. To finish the decoding make sure that JavaScript is enabled in your browser.'>10<span class="apbct-blur">****************************</span>@<span class="apbct-blur">***************</span>wi.us</span>
SUMMARY:DAY 5
DESCRIPTION:
URL:https://www.milton.k12.wi.us/event/day-6-48/
CATEGORIES:Northside Intermediate
END:VEVENT
BEGIN:VEVENT
DTSTART;VALUE=DATE:20260407
DTEND;VALUE=DATE:20260408
DTSTAMP:20260423T122708
CREATED:20260309T143818Z
LAST-MODIFIED:20260407T220747Z
UID:<span 
                data-original-string='sR1OIKt4Hrvm+28XZRR4BQ==3863RgP5tfdxK/BUQIzhTtxCOEDDq/MR2/f0429qy+juwk5VPJcD19cVwd20GkzGlfBZ464vWuzMc8uxqU/DfnB9Q=='
                class='apbct-email-encoder'
                title='This contact has been encoded by Anti-Spam by CleanTalk. Click to decode. To finish the decoding make sure that JavaScript is enabled in your browser.'>10<span class="apbct-blur">****************************</span>@<span class="apbct-blur">***************</span>wi.us</span>
SUMMARY:DAY 4
DESCRIPTION:
URL:https://www.milton.k12.wi.us/event/day-5-46/
CATEGORIES:Northside Intermediate
END:VEVENT
BEGIN:VEVENT
DTSTART;TZID=America/Chicago:20260406T143500
DTEND;TZID=America/Chicago:20260406T153500
DTSTAMP:20260423T122708
CREATED:20240822T012941Z
LAST-MODIFIED:20260406T202237Z
UID:<span 
                data-original-string='U80tyo4+VoNhIcN5IwGGug==386dQtre06lWIKV/Zfq0VKQzyHzPeJmOazGGpB3i/D0yJByt6pd0Rg568VgHetxaEfZrhXuyehwlHmLMs4w5pVpRQ=='
                class='apbct-email-encoder'
                title='This contact has been encoded by Anti-Spam by CleanTalk. Click to decode. To finish the decoding make sure that JavaScript is enabled in your browser.'>10<span class="apbct-blur">****************************</span>@<span class="apbct-blur">***************</span>wi.us</span>
SUMMARY:Early Release -
DESCRIPTION:
URL:https://www.milton.k12.wi.us/event/early-release-75/
CATEGORIES:Consolidated
END:VEVENT
BEGIN:VEVENT
DTSTART;VALUE=DATE:20260406
DTEND;VALUE=DATE:20260407
DTSTAMP:20260423T122708
CREATED:20260309T143818Z
LAST-MODIFIED:20260406T220743Z
UID:<span 
                data-original-string='6zY5jmVTLBzRkxmhsaJcGQ==386G+tN8mKaGNB+A0cgV9Rx3+BrVACD5u0iHoF4U68y45UNILBhRFsHC2GZ0nNQ/mx0T9ZdLqYrXatq9R1R5I6o8A=='
                class='apbct-email-encoder'
                title='This contact has been encoded by Anti-Spam by CleanTalk. Click to decode. To finish the decoding make sure that JavaScript is enabled in your browser.'>10<span class="apbct-blur">****************************</span>@<span class="apbct-blur">***************</span>wi.us</span>
SUMMARY:DAY 3
DESCRIPTION:
URL:https://www.milton.k12.wi.us/event/day-4-50/
CATEGORIES:Northside Intermediate
END:VEVENT
BEGIN:VEVENT
DTSTART;VALUE=DATE:20260403
DTEND;VALUE=DATE:20260404
DTSTAMP:20260423T122708
CREATED:20260309T143800Z
LAST-MODIFIED:20260403T210826Z
UID:<span 
                data-original-string='MgFDY9l49dKxYTeLsS+QdA==386UUyjJpCxJQM3M5+zoSS/dtZnYMQZ2nKXe8tguMalkrWF6plo2k1ZpDdKq5n4ctMfgFnw/8KRvujHonB0Vp4UDg=='
                class='apbct-email-encoder'
                title='This contact has been encoded by Anti-Spam by CleanTalk. Click to decode. To finish the decoding make sure that JavaScript is enabled in your browser.'>10<span class="apbct-blur">****************************</span>@<span class="apbct-blur">***************</span>wi.us</span>
SUMMARY:DAY 2
DESCRIPTION:
URL:https://www.milton.k12.wi.us/event/day-3-47/
CATEGORIES:Northside Intermediate
END:VEVENT
BEGIN:VEVENT
DTSTART;VALUE=DATE:20260403
DTEND;VALUE=DATE:20260404
DTSTAMP:20260423T122708
CREATED:20260128T225300Z
LAST-MODIFIED:20260403T222247Z
UID:<span 
                data-original-string='IImL2HjAfaI1tCSiIqWL3g==386D2ViXsCs9j7kAj2vaV3QMpu0HNtk0Kr3jEP5bQxHhJ5Y3VMlNNFiofItNxV7paFEbu+LwS7b08Bs2Nuit7ZwGw=='
                class='apbct-email-encoder'
                title='This contact has been encoded by Anti-Spam by CleanTalk. Click to decode. To finish the decoding make sure that JavaScript is enabled in your browser.'>10<span class="apbct-blur">****************************</span>@<span class="apbct-blur">***************</span>wi.us</span>
SUMMARY:Color Run Kick Off
DESCRIPTION:
URL:https://www.milton.k12.wi.us/event/color-run-kick-off/
CATEGORIES:Harmony Elementary
END:VEVENT
BEGIN:VEVENT
DTSTART;VALUE=DATE:20260402
DTEND;VALUE=DATE:20260403
DTSTAMP:20260423T122708
CREATED:20260309T143817Z
LAST-MODIFIED:20260402T215754Z
UID:<span 
                data-original-string='EC3TwiEd15B6Ir+YJVPMtg==386lMkJMMtSYlJnrSlrD/ylN8+BJVIPXP0l9VkVpvkvhUMX+h2dXXI8LDWS2NxZDVibUKpEKJZXg5cTebWRQyMw6w=='
                class='apbct-email-encoder'
                title='This contact has been encoded by Anti-Spam by CleanTalk. Click to decode. To finish the decoding make sure that JavaScript is enabled in your browser.'>10<span class="apbct-blur">****************************</span>@<span class="apbct-blur">***************</span>wi.us</span>
SUMMARY:DAY 1
DESCRIPTION:
URL:https://www.milton.k12.wi.us/event/day-2-45/
CATEGORIES:Northside Intermediate
END:VEVENT
BEGIN:VEVENT
DTSTART;VALUE=DATE:20260401
DTEND;VALUE=DATE:20260402
DTSTAMP:20260423T122708
CREATED:20260309T143759Z
LAST-MODIFIED:20260401T215232Z
UID:<span 
                data-original-string='1qz7c7Y00wdCncdD9Lp4fQ==386n0JuNFL2QMJzZ3FNYSW19UShtZpFo9bSG3Wt95dSPJRSh9ZF1rje86tOxKncswC+sFcvqX/3mgWC+M7QhC0ukA=='
                class='apbct-email-encoder'
                title='This contact has been encoded by Anti-Spam by CleanTalk. Click to decode. To finish the decoding make sure that JavaScript is enabled in your browser.'>10<span class="apbct-blur">****************************</span>@<span class="apbct-blur">***************</span>wi.us</span>
SUMMARY:DAY 6
DESCRIPTION:
URL:https://www.milton.k12.wi.us/event/day-1-48/
CATEGORIES:Northside Intermediate
END:VEVENT
BEGIN:VEVENT
DTSTART;VALUE=DATE:20260331
DTEND;VALUE=DATE:20260401
DTSTAMP:20260423T122708
CREATED:20260309T143759Z
LAST-MODIFIED:20260331T215323Z
UID:<span 
                data-original-string='cs/3SCdJu0eKYmwLFxeLow==386aLCgqBVTHxpwAwhf5/vcc2DATZMXF/Eit301os/zBfPeiHutnWvfT7nYfmRiEo5ZqYJGn/EK/olDgNUAIrskmQ=='
                class='apbct-email-encoder'
                title='This contact has been encoded by Anti-Spam by CleanTalk. Click to decode. To finish the decoding make sure that JavaScript is enabled in your browser.'>10<span class="apbct-blur">****************************</span>@<span class="apbct-blur">***************</span>wi.us</span>
SUMMARY:DAY 5
DESCRIPTION:
URL:https://www.milton.k12.wi.us/event/day-6-47/
CATEGORIES:Northside Intermediate
END:VEVENT
BEGIN:VEVENT
DTSTART;TZID=America/Chicago:20260330T143500
DTEND;TZID=America/Chicago:20260330T153500
DTSTAMP:20260423T122708
CREATED:20240822T012941Z
LAST-MODIFIED:20260330T194243Z
UID:<span 
                data-original-string='8dMI+UmfSWNW+awv+VJCQw==386rUn9jccmijKHa4CQMmkiNt5oDS1pX5HveRcbb2e4FKVP11M14bv7lKIYnAihF4ddqAn9oykqxxGu7NIjlxh+3g=='
                class='apbct-email-encoder'
                title='This contact has been encoded by Anti-Spam by CleanTalk. Click to decode. To finish the decoding make sure that JavaScript is enabled in your browser.'>10<span class="apbct-blur">****************************</span>@<span class="apbct-blur">***************</span>wi.us</span>
SUMMARY:Early Release -
DESCRIPTION:
URL:https://www.milton.k12.wi.us/event/early-release-74/
CATEGORIES:Consolidated
END:VEVENT
BEGIN:VEVENT
DTSTART;VALUE=DATE:20260330
DTEND;VALUE=DATE:20260331
DTSTAMP:20260423T122708
CREATED:20260309T143758Z
LAST-MODIFIED:20260330T215320Z
UID:<span 
                data-original-string='rzbUWHChUca7UANpbe/nEw==386siYdlxdhLFVlsHgoEg27IucUlIuAitKgJz5CMDWGEkzN7fmRvSNrd3E1sqTDBFRH04I3xh8F7WmqH1rjNPUXnQ=='
                class='apbct-email-encoder'
                title='This contact has been encoded by Anti-Spam by CleanTalk. Click to decode. To finish the decoding make sure that JavaScript is enabled in your browser.'>10<span class="apbct-blur">****************************</span>@<span class="apbct-blur">***************</span>wi.us</span>
SUMMARY:DAY 4
DESCRIPTION:
URL:https://www.milton.k12.wi.us/event/day-5-45/
CATEGORIES:Northside Intermediate
END:VEVENT
BEGIN:VEVENT
DTSTART;VALUE=DATE:20260330
DTEND;VALUE=DATE:20260331
DTSTAMP:20260423T122708
CREATED:20250611T144546Z
LAST-MODIFIED:20260330T212342Z
UID:<span 
                data-original-string='CNND3l/yAJL/oT7/QjJKlg==386cOOU/AEppIWpbiMe+lvH8QpMNwbyvego7OKyiPm43wCYrp9OfAu+3P2vxWww+1239BctYXHXjdt8+/xK+Ha65g=='
                class='apbct-email-encoder'
                title='This contact has been encoded by Anti-Spam by CleanTalk. Click to decode. To finish the decoding make sure that JavaScript is enabled in your browser.'>10<span class="apbct-blur">****************************</span>@<span class="apbct-blur">***************</span>wi.us</span>
SUMMARY:Classes Resume
DESCRIPTION:
URL:https://www.milton.k12.wi.us/event/classes-resume-6/
CATEGORIES:Milton East Elementary
END:VEVENT
BEGIN:VEVENT
DTSTART;TZID=America/Chicago:20260329T080000
DTEND;TZID=America/Chicago:20260329T090000
DTSTAMP:20260423T122708
CREATED:20260322T135318Z
LAST-MODIFIED:20260328T212303Z
UID:<span 
                data-original-string='gxamjSbZp3n33WiePdqYRg==386+u3A5yO8z/EAWQX97SDFOIQIcrvjAwxDS32/SfbBxK2MTfsCZAIcWkpBdQdJoh1d64g/7SDtLoOOZDMLHOOx1w=='
                class='apbct-email-encoder'
                title='This contact has been encoded by Anti-Spam by CleanTalk. Click to decode. To finish the decoding make sure that JavaScript is enabled in your browser.'>10<span class="apbct-blur">****************************</span>@<span class="apbct-blur">***************</span>wi.us</span>
SUMMARY:Spring Break
DESCRIPTION:
URL:https://www.milton.k12.wi.us/event/spring-break-14/
CATEGORIES:District
END:VEVENT
BEGIN:VEVENT
DTSTART;TZID=America/Chicago:20260328T080000
DTEND;TZID=America/Chicago:20260328T090000
DTSTAMP:20260423T122708
CREATED:20260322T135318Z
LAST-MODIFIED:20260327T212228Z
UID:<span 
                data-original-string='R0dA1Or+virhFIiWZa2qiQ==386Qyn99C9ZimOfTIo956MMGL5k4ljnmZyJKqy+gw5Wwb4auEXoj94RUjc4J8gX8v1USdH5zmmMslYWUY6t8bnezw=='
                class='apbct-email-encoder'
                title='This contact has been encoded by Anti-Spam by CleanTalk. Click to decode. To finish the decoding make sure that JavaScript is enabled in your browser.'>10<span class="apbct-blur">****************************</span>@<span class="apbct-blur">***************</span>wi.us</span>
SUMMARY:Spring Break
DESCRIPTION:
URL:https://www.milton.k12.wi.us/event/spring-break-13/
CATEGORIES:District
END:VEVENT
BEGIN:VEVENT
DTSTART;TZID=America/Chicago:20260327T080000
DTEND;TZID=America/Chicago:20260327T090000
DTSTAMP:20260423T122708
CREATED:20260322T135235Z
LAST-MODIFIED:20260327T135252Z
UID:<span 
                data-original-string='EeUlN3NbeyBkpBQOaFU1Fg==3869iJsHEq+aSQn7yuq5838UclAuSNpqoHPbm5xwVgsGnZqPqJLf3wajLZO7CY+Iy3EtaQvQvsGugeZTtmdFMB/LA=='
                class='apbct-email-encoder'
                title='This contact has been encoded by Anti-Spam by CleanTalk. Click to decode. To finish the decoding make sure that JavaScript is enabled in your browser.'>10<span class="apbct-blur">****************************</span>@<span class="apbct-blur">***************</span>wi.us</span>
SUMMARY:Spring Break
DESCRIPTION:
URL:https://www.milton.k12.wi.us/event/spring-break-12/
CATEGORIES:District
END:VEVENT
BEGIN:VEVENT
DTSTART;VALUE=DATE:20260327
DTEND;VALUE=DATE:20260328
DTSTAMP:20260423T122708
CREATED:20250616T130958Z
LAST-MODIFIED:20260327T222314Z
UID:<span 
                data-original-string='x5yJxC2Y/wtqlTgPo+AzLA==386y2MpP1ZoigI60bThVGv52zScKglBlL6ZC9dMkuDhJSQfatd1YjkEy30wt1V8FpbEasXA0Hk15cEeZxE4cKPRKA=='
                class='apbct-email-encoder'
                title='This contact has been encoded by Anti-Spam by CleanTalk. Click to decode. To finish the decoding make sure that JavaScript is enabled in your browser.'>10<span class="apbct-blur">****************************</span>@<span class="apbct-blur">***************</span>wi.us</span>
SUMMARY:Spring Break
DESCRIPTION:
URL:https://www.milton.k12.wi.us/event/spring-break-5/
CATEGORIES:Milton High School
END:VEVENT
BEGIN:VEVENT
DTSTART;TZID=America/Chicago:20260326T080000
DTEND;TZID=America/Chicago:20260326T090000
DTSTAMP:20260423T122708
CREATED:20260322T135320Z
LAST-MODIFIED:20260326T135243Z
UID:<span 
                data-original-string='e9HaDTmNoPy/J1CFXFUoJA==3861Ah4OTjCK3x/Ak070pWySlV77ogP5RbWEzfA2rh1OUlIz5gy/sQT7XHhCuC7dnc7go1DSOizLLeg2fyKDhRb9w=='
                class='apbct-email-encoder'
                title='This contact has been encoded by Anti-Spam by CleanTalk. Click to decode. To finish the decoding make sure that JavaScript is enabled in your browser.'>10<span class="apbct-blur">****************************</span>@<span class="apbct-blur">***************</span>wi.us</span>
SUMMARY:Spring Break
DESCRIPTION:
URL:https://www.milton.k12.wi.us/event/spring-break-15/
CATEGORIES:District
END:VEVENT
BEGIN:VEVENT
DTSTART;VALUE=DATE:20260326
DTEND;VALUE=DATE:20260327
DTSTAMP:20260423T122708
CREATED:20250616T130957Z
LAST-MODIFIED:20260326T222234Z
UID:<span 
                data-original-string='1JP3/5HfZyNNxRSFXRaDNg==386o7DTGVd622N9Ww1sr4tH4rZzjJdV5i7IqdIYoDwcDuRRCJSGO3qdC/3XyObSy64JSrnRpjx57R3K2+f03pMSJA=='
                class='apbct-email-encoder'
                title='This contact has been encoded by Anti-Spam by CleanTalk. Click to decode. To finish the decoding make sure that JavaScript is enabled in your browser.'>10<span class="apbct-blur">****************************</span>@<span class="apbct-blur">***************</span>wi.us</span>
SUMMARY:Spring Break
DESCRIPTION:
URL:https://www.milton.k12.wi.us/event/spring-break-4/
CATEGORIES:Milton High School
END:VEVENT
BEGIN:VEVENT
DTSTART;TZID=America/Chicago:20260325T080000
DTEND;TZID=America/Chicago:20260325T090000
DTSTAMP:20260423T122708
CREATED:20260322T135234Z
LAST-MODIFIED:20260325T135312Z
UID:<span 
                data-original-string='p6oGj2w060zfQ8FsHCjEdw==386FFnJwCcBGCCLrG2TBRdO+clarhXsC0QS12FTpfguek1mBF6G7ThkxJtSfnuinM5iiK1ECUZ0a4uMPzB/+Az1ZA=='
                class='apbct-email-encoder'
                title='This contact has been encoded by Anti-Spam by CleanTalk. Click to decode. To finish the decoding make sure that JavaScript is enabled in your browser.'>10<span class="apbct-blur">****************************</span>@<span class="apbct-blur">***************</span>wi.us</span>
SUMMARY:Spring Break
DESCRIPTION:
URL:https://www.milton.k12.wi.us/event/spring-break-11/
CATEGORIES:District
END:VEVENT
BEGIN:VEVENT
DTSTART;VALUE=DATE:20260325
DTEND;VALUE=DATE:20260326
DTSTAMP:20260423T122708
CREATED:20250616T130955Z
LAST-MODIFIED:20260325T222304Z
UID:<span 
                data-original-string='RSBkJQJswPQitzpKlaePdg==386OwXoKQMA7FVkbSmEYdxDXYe3/Hl3rvbHAM/RvI/GAuDACP6GXcUw94OKrjiFll2M1b+AzyKjQn9NMZ3kE8HLcg=='
                class='apbct-email-encoder'
                title='This contact has been encoded by Anti-Spam by CleanTalk. Click to decode. To finish the decoding make sure that JavaScript is enabled in your browser.'>10<span class="apbct-blur">****************************</span>@<span class="apbct-blur">***************</span>wi.us</span>
SUMMARY:Spring Break
DESCRIPTION:
URL:https://www.milton.k12.wi.us/event/spring-break-2/
CATEGORIES:Milton High School
END:VEVENT
BEGIN:VEVENT
DTSTART;TZID=America/Chicago:20260324T080000
DTEND;TZID=America/Chicago:20260324T090000
DTSTAMP:20260423T122708
CREATED:20260322T135234Z
LAST-MODIFIED:20260324T135235Z
UID:<span 
                data-original-string='Lz5bHLmr4CpA7qPwOXckTg==386zF/0rI82O0Fe+GTpDMquygBQ5ZLH20BWVnGuevGZFW9FQfkaNct22ilNyu23aYzYfegc/lLptsOpv2ZL+dy31A=='
                class='apbct-email-encoder'
                title='This contact has been encoded by Anti-Spam by CleanTalk. Click to decode. To finish the decoding make sure that JavaScript is enabled in your browser.'>10<span class="apbct-blur">****************************</span>@<span class="apbct-blur">***************</span>wi.us</span>
SUMMARY:Spring Break
DESCRIPTION:
URL:https://www.milton.k12.wi.us/event/spring-break-10/
CATEGORIES:District
END:VEVENT
BEGIN:VEVENT
DTSTART;VALUE=DATE:20260324
DTEND;VALUE=DATE:20260325
DTSTAMP:20260423T122708
CREATED:20250616T130956Z
LAST-MODIFIED:20260324T220728Z
UID:<span 
                data-original-string='yh6KV53YbL31nqRexrlijw==386Ni6oaVGPoGz3rxwRpqF+5akrXMtj1gsXJ7M76FKC26R0O21yo0fR6Mn3Fl5sybfRjE6WxQAQbw1ph64MEWjWTg=='
                class='apbct-email-encoder'
                title='This contact has been encoded by Anti-Spam by CleanTalk. Click to decode. To finish the decoding make sure that JavaScript is enabled in your browser.'>10<span class="apbct-blur">****************************</span>@<span class="apbct-blur">***************</span>wi.us</span>
SUMMARY:Spring Break
DESCRIPTION:
URL:https://www.milton.k12.wi.us/event/spring-break-3/
CATEGORIES:Milton High School
END:VEVENT
END:VCALENDAR