BEGIN:VCALENDAR
VERSION:2.0
PRODID:-//School District of Milton - ECPv6.15.20//NONSGML v1.0//EN
CALSCALE:GREGORIAN
METHOD:PUBLISH
X-ORIGINAL-URL:https://www.milton.k12.wi.us
X-WR-CALDESC:Events for School District of Milton
REFRESH-INTERVAL;VALUE=DURATION:PT1H
X-Robots-Tag:noindex
X-PUBLISHED-TTL:PT1H
BEGIN:VTIMEZONE
TZID:America/Chicago
BEGIN:DAYLIGHT
TZOFFSETFROM:-0600
TZOFFSETTO:-0500
TZNAME:CDT
DTSTART:20240310T080000
END:DAYLIGHT
BEGIN:STANDARD
TZOFFSETFROM:-0500
TZOFFSETTO:-0600
TZNAME:CST
DTSTART:20241103T070000
END:STANDARD
BEGIN:DAYLIGHT
TZOFFSETFROM:-0600
TZOFFSETTO:-0500
TZNAME:CDT
DTSTART:20250309T080000
END:DAYLIGHT
BEGIN:STANDARD
TZOFFSETFROM:-0500
TZOFFSETTO:-0600
TZNAME:CST
DTSTART:20251102T070000
END:STANDARD
BEGIN:DAYLIGHT
TZOFFSETFROM:-0600
TZOFFSETTO:-0500
TZNAME:CDT
DTSTART:20260308T080000
END:DAYLIGHT
BEGIN:STANDARD
TZOFFSETFROM:-0500
TZOFFSETTO:-0600
TZNAME:CST
DTSTART:20261101T070000
END:STANDARD
END:VTIMEZONE
BEGIN:VEVENT
DTSTART;TZID=America/Chicago:20250228T183000
DTEND;TZID=America/Chicago:20250228T193000
DTSTAMP:20260425T104805
CREATED:20241004T155657Z
LAST-MODIFIED:20250228T232837Z
UID:<span 
                data-original-string='HuoEMtAzD1TgUc0yj5ODHg==386fVVc/926+DyH3pBb4gRW4ugLPJEB5PmnAedZG2QXEG7q1kBZrC5c5G/JXSAS+6uW72Wyj46p8NluwyAWRxXSmg=='
                class='apbct-email-encoder'
                title='This contact has been encoded by Anti-Spam by CleanTalk. Click to decode. To finish the decoding make sure that JavaScript is enabled in your browser.'>10<span class="apbct-blur">****************************</span>@<span class="apbct-blur">***************</span>wi.us</span>
SUMMARY:MMS Musical
DESCRIPTION:
URL:https://www.milton.k12.wi.us/event/mms-musical/
LOCATION:MHS PAC
CATEGORIES:Milton Middle School
END:VEVENT
BEGIN:VEVENT
DTSTART;TZID=America/Chicago:20250301T140000
DTEND;TZID=America/Chicago:20250301T150000
DTSTAMP:20260425T104805
CREATED:20250221T204152Z
LAST-MODIFIED:20250301T192238Z
UID:<span 
                data-original-string='WJ0mYMASTR7rnMd/gJ6rFQ==386XcmPm1sTdS49iQoudo98PVSByMQWgh0AwAa4jNht24C3HnT0ivOBTXhkYR427O3AcpOOQSxbPt6dJfXPvua4BQ=='
                class='apbct-email-encoder'
                title='This contact has been encoded by Anti-Spam by CleanTalk. Click to decode. To finish the decoding make sure that JavaScript is enabled in your browser.'>10<span class="apbct-blur">****************************</span>@<span class="apbct-blur">***************</span>wi.us</span>
SUMMARY:MMS Musical
DESCRIPTION:
URL:https://www.milton.k12.wi.us/event/mms-musical-3/
LOCATION:MHS PAC
CATEGORIES:Milton Middle School
END:VEVENT
BEGIN:VEVENT
DTSTART;TZID=America/Chicago:20250302T143000
DTEND;TZID=America/Chicago:20250302T153000
DTSTAMP:20260425T104805
CREATED:20241004T155658Z
LAST-MODIFIED:20250302T212308Z
UID:<span 
                data-original-string='cdRCvJKq3SxP3CGftMG5Bg==386o/OVmyBee5lDgXfIU0UFEVWc+YyDtqLa4NNZhDPC74ot9c1widYT5fivh02MwAl+sg0V6aRlcZHwAUcLxm+Log=='
                class='apbct-email-encoder'
                title='This contact has been encoded by Anti-Spam by CleanTalk. Click to decode. To finish the decoding make sure that JavaScript is enabled in your browser.'>10<span class="apbct-blur">****************************</span>@<span class="apbct-blur">***************</span>wi.us</span>
SUMMARY:MMS Musical
DESCRIPTION:
URL:https://www.milton.k12.wi.us/event/mms-musical-2/
LOCATION:MHS PAC
CATEGORIES:Milton Middle School
END:VEVENT
BEGIN:VEVENT
DTSTART;VALUE=DATE:20250303
DTEND;VALUE=DATE:20250304
DTSTAMP:20260425T104805
CREATED:20250106T202339Z
LAST-MODIFIED:20250303T232859Z
UID:<span 
                data-original-string='pVqgmkkih01Hx/8NtZgh4g==386loA+zrYJTX3sNPz2OWYPH/BD+/5kxeeBKjKP+wmz00sEwE5rxNNV2XC8KdZeJ/N1n6KD1dJ+wXdL9LCfdm8NmA=='
                class='apbct-email-encoder'
                title='This contact has been encoded by Anti-Spam by CleanTalk. Click to decode. To finish the decoding make sure that JavaScript is enabled in your browser.'>10<span class="apbct-blur">****************************</span>@<span class="apbct-blur">***************</span>wi.us</span>
SUMMARY:Northside Early Release @ 2:40pm
DESCRIPTION:
URL:https://www.milton.k12.wi.us/event/early-release-240pm-7/
CATEGORIES:Northside Intermediate
END:VEVENT
BEGIN:VEVENT
DTSTART;VALUE=DATE:20250303
DTEND;VALUE=DATE:20250304
DTSTAMP:20260425T104805
CREATED:20250224T163843Z
LAST-MODIFIED:20250303T232858Z
UID:<span 
                data-original-string='33mMqtDCWzW+KzG64MfD/Q==386mr0Ey5ZfF/l6Xp1Czw/vS1vMtEakqxds9xQ5GKOxz73vaYZWL+kc5wGBFKa6rxDsxY5ZsPi8eaeEImWDalw0NA=='
                class='apbct-email-encoder'
                title='This contact has been encoded by Anti-Spam by CleanTalk. Click to decode. To finish the decoding make sure that JavaScript is enabled in your browser.'>10<span class="apbct-blur">****************************</span>@<span class="apbct-blur">***************</span>wi.us</span>
SUMMARY:Day 2
DESCRIPTION:
URL:https://www.milton.k12.wi.us/event/day-2-20/
CATEGORIES:Northside Intermediate
END:VEVENT
BEGIN:VEVENT
DTSTART;TZID=America/Chicago:20250303T143500
DTEND;TZID=America/Chicago:20250303T153500
DTSTAMP:20260425T104805
CREATED:20240822T012928Z
LAST-MODIFIED:20250303T211100Z
UID:<span 
                data-original-string='7UAK/WrJINsRvWp53Fj/QQ==386tGlAQ8SbfVMdfUaAHGFHFUk9PQ8MSJF81JDozka85T8i2lETh+7WSQ9gYk7S5O//AHkFgN0udDYP/8UHcfyVSw=='
                class='apbct-email-encoder'
                title='This contact has been encoded by Anti-Spam by CleanTalk. Click to decode. To finish the decoding make sure that JavaScript is enabled in your browser.'>10<span class="apbct-blur">****************************</span>@<span class="apbct-blur">***************</span>wi.us</span>
SUMMARY:Early Release -
DESCRIPTION:
URL:https://www.milton.k12.wi.us/event/early-release-19/
CATEGORIES:Consolidated
END:VEVENT
BEGIN:VEVENT
DTSTART;TZID=America/Chicago:20250303T143500
DTEND;TZID=America/Chicago:20250303T153500
DTSTAMP:20260425T104805
CREATED:20240909T204100Z
LAST-MODIFIED:20250303T212255Z
UID:<span 
                data-original-string='PPzk1RlrbuHzoHp2gbU7vg==386H5J/MN9SuwbfnjyDeLAokOhqnMm0COo9gR0RV2xbTj6jtcMSb3OK89IzCjkpATcDz6HKGInmJ3W2Jf88P8bTWg=='
                class='apbct-email-encoder'
                title='This contact has been encoded by Anti-Spam by CleanTalk. Click to decode. To finish the decoding make sure that JavaScript is enabled in your browser.'>10<span class="apbct-blur">****************************</span>@<span class="apbct-blur">***************</span>wi.us</span>
SUMMARY:HES: Early Release
DESCRIPTION:
URL:https://www.milton.k12.wi.us/event/hes-early-release-18/
CATEGORIES:Harmony Elementary
END:VEVENT
BEGIN:VEVENT
DTSTART;TZID=America/Chicago:20250303T183000
DTEND;TZID=America/Chicago:20250303T203000
DTSTAMP:20260425T104805
CREATED:20250225T115235Z
LAST-MODIFIED:20250303T230827Z
UID:<span 
                data-original-string='54Rv6OWAkOdNQWeSG8eVOg==386xrSgLXalzERbwTWvmf9ptntnZdQ9PnMSrJeFlhrXhmgYvvMm/c+3KCJZ7HAGE0e2yrzXR2Nl6UpAkGe/3c8mfw=='
                class='apbct-email-encoder'
                title='This contact has been encoded by Anti-Spam by CleanTalk. Click to decode. To finish the decoding make sure that JavaScript is enabled in your browser.'>10<span class="apbct-blur">****************************</span>@<span class="apbct-blur">***************</span>wi.us</span>
SUMMARY:HR Committee
DESCRIPTION:
URL:https://www.milton.k12.wi.us/event/hr-committee/
CATEGORIES:District
END:VEVENT
BEGIN:VEVENT
DTSTART;VALUE=DATE:20250304
DTEND;VALUE=DATE:20250305
DTSTAMP:20260425T104805
CREATED:20250224T163844Z
LAST-MODIFIED:20250304T232835Z
UID:<span 
                data-original-string='eJ3Kn3UMA4RvtlvNh79b9A==386q2kz/hJsSeFBQBrb7TvFz6L8HH2d2H03CR/p0WhhyXd9cq0uV1dpblMjX/nlfSOtzVI45d8DENS4hjjTEJB4lA=='
                class='apbct-email-encoder'
                title='This contact has been encoded by Anti-Spam by CleanTalk. Click to decode. To finish the decoding make sure that JavaScript is enabled in your browser.'>10<span class="apbct-blur">****************************</span>@<span class="apbct-blur">***************</span>wi.us</span>
SUMMARY:Day 3
DESCRIPTION:
URL:https://www.milton.k12.wi.us/event/day-3-20/
CATEGORIES:Northside Intermediate
END:VEVENT
BEGIN:VEVENT
DTSTART;VALUE=DATE:20250305
DTEND;VALUE=DATE:20250306
DTSTAMP:20260425T104805
CREATED:20250224T163843Z
LAST-MODIFIED:20250305T233756Z
UID:<span 
                data-original-string='HMATfn9iNX8ZnJzf6Kv3BA==3863jtLruHR3EgxIxx2Gbc76gHuRAycy8y6FAgpXBN+ybY4WObl0k0kXbE91bMWiBdbHQB3mI6KX8SbkFyTwfjkzg=='
                class='apbct-email-encoder'
                title='This contact has been encoded by Anti-Spam by CleanTalk. Click to decode. To finish the decoding make sure that JavaScript is enabled in your browser.'>10<span class="apbct-blur">****************************</span>@<span class="apbct-blur">***************</span>wi.us</span>
SUMMARY:Day 4
DESCRIPTION:
URL:https://www.milton.k12.wi.us/event/day-4-21/
CATEGORIES:Northside Intermediate
END:VEVENT
BEGIN:VEVENT
DTSTART;TZID=America/Chicago:20250305T160000
DTEND;TZID=America/Chicago:20250305T200000
DTSTAMP:20260425T104805
CREATED:20240822T004845Z
LAST-MODIFIED:20250305T230932Z
UID:<span 
                data-original-string='QKEL10esGlmOrwu5LDKJFg==386OBISpW/cyXDVCqxuUwY4V+39gTRnfAyZfWymCL7udmUTGDbjEUZ9rzk1qLBt07AIBZfMhpTnHwsqq1kdEyQVcA=='
                class='apbct-email-encoder'
                title='This contact has been encoded by Anti-Spam by CleanTalk. Click to decode. To finish the decoding make sure that JavaScript is enabled in your browser.'>10<span class="apbct-blur">****************************</span>@<span class="apbct-blur">***************</span>wi.us</span>
SUMMARY:Parent Teacher conferences
DESCRIPTION:
URL:https://www.milton.k12.wi.us/event/parent-teacher-conferences-12/
CATEGORIES:Milton West Elementary
END:VEVENT
BEGIN:VEVENT
DTSTART;TZID=America/Chicago:20250305T160000
DTEND;TZID=America/Chicago:20250305T200000
DTSTAMP:20260425T104805
CREATED:20240822T012929Z
LAST-MODIFIED:20250305T235320Z
UID:<span 
                data-original-string='l8C9p30GpL2ooBngrZntkg==386ILH24UQNgvC4Yh0E/6eq8EjVFmURLg+TtgawiNMIISmSfunP/htKJLWSaTCwL787OYiBTAQQwBFqpsuYtBRl8A=='
                class='apbct-email-encoder'
                title='This contact has been encoded by Anti-Spam by CleanTalk. Click to decode. To finish the decoding make sure that JavaScript is enabled in your browser.'>10<span class="apbct-blur">****************************</span>@<span class="apbct-blur">***************</span>wi.us</span>
SUMMARY:Parent/Teacher Conferences
DESCRIPTION:
URL:https://www.milton.k12.wi.us/event/parent-teacher-conferences-7/
CATEGORIES:Consolidated
END:VEVENT
BEGIN:VEVENT
DTSTART;TZID=America/Chicago:20250305T160000
DTEND;TZID=America/Chicago:20250305T200000
DTSTAMP:20260425T104805
CREATED:20240829T170144Z
LAST-MODIFIED:20250305T215234Z
UID:<span 
                data-original-string='Qk1OUGf+I5MI+DCtWACghA==386fH8VVN3YCT8UdYP8+ca6Q9PN1Cm4ZNIeqlRBShtn6c+N27+2ZmufEkZP/NPlhcedmT1+DcpjtOiyXqlDhuuCBg=='
                class='apbct-email-encoder'
                title='This contact has been encoded by Anti-Spam by CleanTalk. Click to decode. To finish the decoding make sure that JavaScript is enabled in your browser.'>10<span class="apbct-blur">****************************</span>@<span class="apbct-blur">***************</span>wi.us</span>
SUMMARY:HES: Parent/Teacher Conferences
DESCRIPTION:
URL:https://www.milton.k12.wi.us/event/hes-parent-teacher-conferences-3/
CATEGORIES:Harmony Elementary
END:VEVENT
BEGIN:VEVENT
DTSTART;VALUE=DATE:20250306
DTEND;VALUE=DATE:20250307
DTSTAMP:20260425T104805
CREATED:20240822T004648Z
LAST-MODIFIED:20250306T235331Z
UID:<span 
                data-original-string='63NgbEgS4WoXM0bfUCeAuA==3869sWrBCAuGctCd88PoH1QGskrKfnRmQqj5pfQQgeJiGPxF5guEXHhjsc4VCn0qPissBlHlpcHt7HeMBGo1jzq8Q=='
                class='apbct-email-encoder'
                title='This contact has been encoded by Anti-Spam by CleanTalk. Click to decode. To finish the decoding make sure that JavaScript is enabled in your browser.'>10<span class="apbct-blur">****************************</span>@<span class="apbct-blur">***************</span>wi.us</span>
SUMMARY:Trimester 2 Ends
DESCRIPTION:
URL:https://www.milton.k12.wi.us/event/trimester-2-ends/
CATEGORIES:Milton High School
END:VEVENT
BEGIN:VEVENT
DTSTART;VALUE=DATE:20250306
DTEND;VALUE=DATE:20250307
DTSTAMP:20260425T104805
CREATED:20240822T004845Z
LAST-MODIFIED:20250306T230956Z
UID:<span 
                data-original-string='5b81ovtkzwFOUyfXsTCB4w==386QxO0Zuwv8MzYXa3AGaTc32FaHh35QyKFj4V7T7lSsf4X79HdIn2JAR0HRwog5X/jKYOrc0O1S9jSNGmhARELYg=='
                class='apbct-email-encoder'
                title='This contact has been encoded by Anti-Spam by CleanTalk. Click to decode. To finish the decoding make sure that JavaScript is enabled in your browser.'>10<span class="apbct-blur">****************************</span>@<span class="apbct-blur">***************</span>wi.us</span>
SUMMARY:4K No School
DESCRIPTION:
URL:https://www.milton.k12.wi.us/event/4k-no-school-2/
CATEGORIES:Milton West Elementary
END:VEVENT
BEGIN:VEVENT
DTSTART;VALUE=DATE:20250306
DTEND;VALUE=DATE:20250307
DTSTAMP:20260425T104805
CREATED:20240829T170145Z
LAST-MODIFIED:20250306T215234Z
UID:<span 
                data-original-string='ZDW1wF3eURVxRGvvQgm8VQ==386Nh2oPVMkPb1XWVc5X3cNHxUhX2sM5X1O0jEYufSUno/fZ3OD6iAVGmpF66tbXc2GZn7CtDUvrKvuWH6zWtYLyw=='
                class='apbct-email-encoder'
                title='This contact has been encoded by Anti-Spam by CleanTalk. Click to decode. To finish the decoding make sure that JavaScript is enabled in your browser.'>10<span class="apbct-blur">****************************</span>@<span class="apbct-blur">***************</span>wi.us</span>
SUMMARY:HES: No School 4K Only
DESCRIPTION:
URL:https://www.milton.k12.wi.us/event/hes-no-school-4k-only-2/
CATEGORIES:Harmony Elementary
END:VEVENT
BEGIN:VEVENT
DTSTART;VALUE=DATE:20250306
DTEND;VALUE=DATE:20250307
DTSTAMP:20260425T104805
CREATED:20241113T193850Z
LAST-MODIFIED:20250306T230745Z
UID:<span 
                data-original-string='PGnGn/P1SVVUSrBisDByHw==386H9D752aCatWGm5kJF8cM5yvs4HWMqTib+wG749gGBnBMPqfPuuD5QHekgTRUyRUfzSxieslF9SC+QAtER5AZNw=='
                class='apbct-email-encoder'
                title='This contact has been encoded by Anti-Spam by CleanTalk. Click to decode. To finish the decoding make sure that JavaScript is enabled in your browser.'>10<span class="apbct-blur">****************************</span>@<span class="apbct-blur">***************</span>wi.us</span>
SUMMARY:4K ONLY -  NO SCHOOL
DESCRIPTION:
URL:https://www.milton.k12.wi.us/event/4k-only-no-school/
CATEGORIES:District
END:VEVENT
BEGIN:VEVENT
DTSTART;VALUE=DATE:20250306
DTEND;VALUE=DATE:20250307
DTSTAMP:20260425T104805
CREATED:20250224T163848Z
LAST-MODIFIED:20250306T235908Z
UID:<span 
                data-original-string='vnYP49lPIEugdL4tb0R6kg==386lY+ybVX2Ci6TNVrGjG8u49sEYuODJZQelFqTx6YcHKOPDFB50v7jM4tX5MfULv2Zmd7tGOBxh0BjevRnqFqfYQ=='
                class='apbct-email-encoder'
                title='This contact has been encoded by Anti-Spam by CleanTalk. Click to decode. To finish the decoding make sure that JavaScript is enabled in your browser.'>10<span class="apbct-blur">****************************</span>@<span class="apbct-blur">***************</span>wi.us</span>
SUMMARY:Day 5
DESCRIPTION:
URL:https://www.milton.k12.wi.us/event/day-5-20/
CATEGORIES:Northside Intermediate
END:VEVENT
BEGIN:VEVENT
DTSTART;TZID=America/Chicago:20250306T160000
DTEND;TZID=America/Chicago:20250306T200000
DTSTAMP:20260425T104805
CREATED:20240822T004846Z
LAST-MODIFIED:20250306T230957Z
UID:<span 
                data-original-string='E5C9+EOdiygha8qxpwOn/A==386S03oxvBOrqclCcoyShCSpKXQdVXYj1yrnLQXjnfnVPzAA5us1ReUv1MkkfCA1uGC7F61io7gvaXOrhIXaTRaNQ=='
                class='apbct-email-encoder'
                title='This contact has been encoded by Anti-Spam by CleanTalk. Click to decode. To finish the decoding make sure that JavaScript is enabled in your browser.'>10<span class="apbct-blur">****************************</span>@<span class="apbct-blur">***************</span>wi.us</span>
SUMMARY:WES-Parent Teacher conferences
DESCRIPTION:
URL:https://www.milton.k12.wi.us/event/parent-teacher-conferences-13/
CATEGORIES:Milton West Elementary
END:VEVENT
BEGIN:VEVENT
DTSTART;TZID=America/Chicago:20250306T160000
DTEND;TZID=America/Chicago:20250306T200000
DTSTAMP:20260425T104805
CREATED:20240822T012929Z
LAST-MODIFIED:20250306T235402Z
UID:<span 
                data-original-string='p5YhunLPG1Rv2EEIdXy0Xw==386v4IvRkmw0s/zYVpfo6BkoZnz5bg8VhiJm8kz22ImoYETV+NB5LVW90xw9gtR7mVHhtzG6oRfuVNRtwfRlVjjaQ=='
                class='apbct-email-encoder'
                title='This contact has been encoded by Anti-Spam by CleanTalk. Click to decode. To finish the decoding make sure that JavaScript is enabled in your browser.'>10<span class="apbct-blur">****************************</span>@<span class="apbct-blur">***************</span>wi.us</span>
SUMMARY:Parent/Teacher Conferences
DESCRIPTION:
URL:https://www.milton.k12.wi.us/event/parent-teacher-conferences-8/
CATEGORIES:Consolidated
END:VEVENT
BEGIN:VEVENT
DTSTART;TZID=America/Chicago:20250306T160000
DTEND;TZID=America/Chicago:20250306T200000
DTSTAMP:20260425T104805
CREATED:20240829T170146Z
LAST-MODIFIED:20250306T215232Z
UID:<span 
                data-original-string='4HcdkMcy2wRUQrHbur7c9A==386TKDcFnc6H3hz+jhsnTnTKzLJolOkZXpBi90cd7Z1tY9QCdorgXB4lJ2wfiyWYCEVg055VSdkm8+sdJDiIW9a0g=='
                class='apbct-email-encoder'
                title='This contact has been encoded by Anti-Spam by CleanTalk. Click to decode. To finish the decoding make sure that JavaScript is enabled in your browser.'>10<span class="apbct-blur">****************************</span>@<span class="apbct-blur">***************</span>wi.us</span>
SUMMARY:HES: Parent/Teacher Conferences
DESCRIPTION:
URL:https://www.milton.k12.wi.us/event/hes-parent-teacher-conferences-4/
CATEGORIES:Harmony Elementary
END:VEVENT
BEGIN:VEVENT
DTSTART;TZID=America/Chicago:20250306T160000
DTEND;TZID=America/Chicago:20250306T200000
DTSTAMP:20260425T104805
CREATED:20250223T214248Z
LAST-MODIFIED:20250306T230957Z
UID:<span 
                data-original-string='lQSQy/gAI59bPFk0jqTVeA==386drT4YTTBQe0T2Lm74hbVt0dcvBSBSYtYDHvJ8++gfe/Be099vIxAXtA/vQ8c8G54N6rdc23vRIcUH1t6GGpEXw=='
                class='apbct-email-encoder'
                title='This contact has been encoded by Anti-Spam by CleanTalk. Click to decode. To finish the decoding make sure that JavaScript is enabled in your browser.'>10<span class="apbct-blur">****************************</span>@<span class="apbct-blur">***************</span>wi.us</span>
SUMMARY:WES-SCHOLASTIC BOOK FAIR
DESCRIPTION:Join with Google Meet: https://meet.google.com/rhf-zjhp-ddz\nOr dial: (US) +1 484-800-1952 PIN: 448144477#\nLearn more about Meet at: https://support.google.com/a/users/answer/9282720
URL:https://www.milton.k12.wi.us/event/wes-scholastic-book-fair/
LOCATION:LMC
CATEGORIES:Milton West Elementary
END:VEVENT
BEGIN:VEVENT
DTSTART;TZID=America/Chicago:20250306T170000
DTEND;TZID=America/Chicago:20250306T190000
DTSTAMP:20260425T104805
CREATED:20241004T155701Z
LAST-MODIFIED:20250306T224506Z
UID:<span 
                data-original-string='ydC4H2wRwofnAKFCrvkHZQ==386ROF797gaxaQ1lbpeGPsgyQmcXbiXBn3L3jymfLIxvHcUFC6PopqQ55B9GDRZpg/CovHlKyomWJH3pnax5rE4pQ=='
                class='apbct-email-encoder'
                title='This contact has been encoded by Anti-Spam by CleanTalk. Click to decode. To finish the decoding make sure that JavaScript is enabled in your browser.'>10<span class="apbct-blur">****************************</span>@<span class="apbct-blur">***************</span>wi.us</span>
SUMMARY:MMS Rec Night
DESCRIPTION:
URL:https://www.milton.k12.wi.us/event/mms-rec-night-4/
CATEGORIES:Milton Middle School
END:VEVENT
BEGIN:VEVENT
DTSTART;VALUE=DATE:20250307
DTEND;VALUE=DATE:20250308
DTSTAMP:20260425T104805
CREATED:20240822T004649Z
LAST-MODIFIED:20250307T235321Z
UID:<span 
                data-original-string='ClftbZfTVqmjpPO8nauxQQ==386/iH4V6aSfKPsDnTveSfIcc0Cqa2+sFNUbyP3/8x9Mkydsu6YiunNtEwhMzt6MZ42awuxEBOFvZfGk2QFZw0tXw=='
                class='apbct-email-encoder'
                title='This contact has been encoded by Anti-Spam by CleanTalk. Click to decode. To finish the decoding make sure that JavaScript is enabled in your browser.'>10<span class="apbct-blur">****************************</span>@<span class="apbct-blur">***************</span>wi.us</span>
SUMMARY:No School
DESCRIPTION:
URL:https://www.milton.k12.wi.us/event/no-school-2/
CATEGORIES:Milton High School
END:VEVENT
BEGIN:VEVENT
DTSTART;VALUE=DATE:20250307
DTEND;VALUE=DATE:20250308
DTSTAMP:20260425T104805
CREATED:20240822T004846Z
LAST-MODIFIED:20250307T232251Z
UID:<span 
                data-original-string='ANyfCRS7Xa7LmmU3Td5KJg==3860sAbOgzcT3+HOdRv8uY7y8b5107nG4hNt9K7KgF1drRwZrVPhSaeKmBzRN21TrLt5H0Qp0tQxiH8LMtMT6fCCw=='
                class='apbct-email-encoder'
                title='This contact has been encoded by Anti-Spam by CleanTalk. Click to decode. To finish the decoding make sure that JavaScript is enabled in your browser.'>10<span class="apbct-blur">****************************</span>@<span class="apbct-blur">***************</span>wi.us</span>
SUMMARY:No School
DESCRIPTION:
URL:https://www.milton.k12.wi.us/event/no-school-8/
CATEGORIES:Milton West Elementary
END:VEVENT
BEGIN:VEVENT
DTSTART;VALUE=DATE:20250307
DTEND;VALUE=DATE:20250308
DTSTAMP:20260425T104805
CREATED:20240822T012929Z
LAST-MODIFIED:20250307T235358Z
UID:<span 
                data-original-string='P7ch85Z60qTo46daJPF4zQ==386OLpfFCXSg+xmrRF5I13lZcDNPRfePlnl1DXa2zs7pejR+pd6AZ/lS2qISz2sshV5bhndguVflmyImTS5iLTEhA=='
                class='apbct-email-encoder'
                title='This contact has been encoded by Anti-Spam by CleanTalk. Click to decode. To finish the decoding make sure that JavaScript is enabled in your browser.'>10<span class="apbct-blur">****************************</span>@<span class="apbct-blur">***************</span>wi.us</span>
SUMMARY:No School
DESCRIPTION:
URL:https://www.milton.k12.wi.us/event/no-school-4/
CATEGORIES:Consolidated
END:VEVENT
BEGIN:VEVENT
DTSTART;VALUE=DATE:20250307
DTEND;VALUE=DATE:20250308
DTSTAMP:20260425T104805
CREATED:20240823T013740Z
LAST-MODIFIED:20250307T235252Z
UID:<span 
                data-original-string='VvB1WlJw2eFDlhO03Djl8g==386g02+j4vwrMljazpubQZSSyUIzxQ4F0vPR31hdsEzNrTRSez3RAG63Qwes3xcu3tBf47iZ2CfdCFxG4MYqtfjGQ=='
                class='apbct-email-encoder'
                title='This contact has been encoded by Anti-Spam by CleanTalk. Click to decode. To finish the decoding make sure that JavaScript is enabled in your browser.'>10<span class="apbct-blur">****************************</span>@<span class="apbct-blur">***************</span>wi.us</span>
SUMMARY:No School
DESCRIPTION:
URL:https://www.milton.k12.wi.us/event/no-school-11/
CATEGORIES:Milton Middle School
END:VEVENT
BEGIN:VEVENT
DTSTART;VALUE=DATE:20250307
DTEND;VALUE=DATE:20250308
DTSTAMP:20260425T104805
CREATED:20240829T170146Z
LAST-MODIFIED:20250307T222800Z
UID:<span 
                data-original-string='K3YdkelSQZxzW69r4aqMgA==386A616P2SoiXjYOL2iYE7U7TOzXEdscRe7fyKHvoSFmAgctZZZ3/7eRfkbIsVrBT8x/7WdSLIVct9DGIVh2MkCPw=='
                class='apbct-email-encoder'
                title='This contact has been encoded by Anti-Spam by CleanTalk. Click to decode. To finish the decoding make sure that JavaScript is enabled in your browser.'>10<span class="apbct-blur">****************************</span>@<span class="apbct-blur">***************</span>wi.us</span>
SUMMARY:HES: No School
DESCRIPTION:
URL:https://www.milton.k12.wi.us/event/hes-no-school-2/
CATEGORIES:Harmony Elementary
END:VEVENT
BEGIN:VEVENT
DTSTART;VALUE=DATE:20250307
DTEND;VALUE=DATE:20250308
DTSTAMP:20260425T104805
CREATED:20241113T193850Z
LAST-MODIFIED:20250307T230735Z
UID:<span 
                data-original-string='7pcQ5G43rQpcd740FcO5lg==38634gigxjwgXcbMwYoe1UXJ8zRZfOjHwIYbWhkI7eKaCAGS4WlREbBmF/HbrUOFh8IjCEcI/RJL3m3rsZHhCZ+lw=='
                class='apbct-email-encoder'
                title='This contact has been encoded by Anti-Spam by CleanTalk. Click to decode. To finish the decoding make sure that JavaScript is enabled in your browser.'>10<span class="apbct-blur">****************************</span>@<span class="apbct-blur">***************</span>wi.us</span>
SUMMARY:NO SCHOOL
DESCRIPTION:
URL:https://www.milton.k12.wi.us/event/no-school-39/
CATEGORIES:District
END:VEVENT
BEGIN:VEVENT
DTSTART;VALUE=DATE:20250307
DTEND;VALUE=DATE:20250308
DTSTAMP:20260425T104805
CREATED:20250122T195330Z
LAST-MODIFIED:20250307T233759Z
UID:<span 
                data-original-string='NJTGW50nXYDd7XYn5jdmDQ==386Zg6jHox9tdk/i9NbfgjpI5n4wPSexT9OTspcAmQisPskQjGd28bJptTRPgSFr37pV3sWKlcwwNvesJOEZXoQcQ=='
                class='apbct-email-encoder'
                title='This contact has been encoded by Anti-Spam by CleanTalk. Click to decode. To finish the decoding make sure that JavaScript is enabled in your browser.'>10<span class="apbct-blur">****************************</span>@<span class="apbct-blur">***************</span>wi.us</span>
SUMMARY:NIS No School/ No Virtual Learning
DESCRIPTION:
URL:https://www.milton.k12.wi.us/event/nis-no-school-no-virtual-learning/
CATEGORIES:Northside Intermediate
END:VEVENT
END:VCALENDAR