BEGIN:VCALENDAR
VERSION:2.0
PRODID:-//School District of Milton - ECPv6.15.20//NONSGML v1.0//EN
CALSCALE:GREGORIAN
METHOD:PUBLISH
X-WR-CALNAME:School District of Milton
X-ORIGINAL-URL:https://www.milton.k12.wi.us
X-WR-CALDESC:Events for School District of Milton
REFRESH-INTERVAL;VALUE=DURATION:PT1H
X-Robots-Tag:noindex
X-PUBLISHED-TTL:PT1H
BEGIN:VTIMEZONE
TZID:America/Chicago
BEGIN:DAYLIGHT
TZOFFSETFROM:-0600
TZOFFSETTO:-0500
TZNAME:CDT
DTSTART:20240310T080000
END:DAYLIGHT
BEGIN:STANDARD
TZOFFSETFROM:-0500
TZOFFSETTO:-0600
TZNAME:CST
DTSTART:20241103T070000
END:STANDARD
BEGIN:DAYLIGHT
TZOFFSETFROM:-0600
TZOFFSETTO:-0500
TZNAME:CDT
DTSTART:20250309T080000
END:DAYLIGHT
BEGIN:STANDARD
TZOFFSETFROM:-0500
TZOFFSETTO:-0600
TZNAME:CST
DTSTART:20251102T070000
END:STANDARD
BEGIN:DAYLIGHT
TZOFFSETFROM:-0600
TZOFFSETTO:-0500
TZNAME:CDT
DTSTART:20260308T080000
END:DAYLIGHT
BEGIN:STANDARD
TZOFFSETFROM:-0500
TZOFFSETTO:-0600
TZNAME:CST
DTSTART:20261101T070000
END:STANDARD
END:VTIMEZONE
BEGIN:VEVENT
DTSTART;VALUE=DATE:20250114
DTEND;VALUE=DATE:20250115
DTSTAMP:20260423T042010
CREATED:20240829T170028Z
LAST-MODIFIED:20250114T233752Z
UID:<span 
                data-original-string='lrQ1QCW7U4G23ZaN7sIMBQ==386kbpNfjZ7S3JypL1oS8fpzA6eayblZCWsJpyXfSAMk1BjKsSqvQscDz5wRsgKNQNNzLrKf72qCDEFXITRPKJzRQ=='
                class='apbct-email-encoder'
                title='This contact has been encoded by Anti-Spam by CleanTalk. Click to decode. To finish the decoding make sure that JavaScript is enabled in your browser.'>10<span class="apbct-blur">****************************</span>@<span class="apbct-blur">***************</span>wi.us</span>
SUMMARY:HES: Culver's Scoopie Night
DESCRIPTION:
URL:https://www.milton.k12.wi.us/event/hes-culvers-scoopie-night-2/
CATEGORIES:Harmony Elementary
END:VEVENT
BEGIN:VEVENT
DTSTART;VALUE=DATE:20250114
DTEND;VALUE=DATE:20250115
DTSTAMP:20260423T042010
CREATED:20241217T220747Z
LAST-MODIFIED:20250114T232245Z
UID:<span 
                data-original-string='YPr8MUxsScHMn5xUQ9OZMA==386QA03iKJ0CGeV0vO/2nECxXqTPRvI65UtOkuyLdko4X/QUsexSmWkOH+ldv7AS4OtE+AMcppxFo4V9YvoexD+GQ=='
                class='apbct-email-encoder'
                title='This contact has been encoded by Anti-Spam by CleanTalk. Click to decode. To finish the decoding make sure that JavaScript is enabled in your browser.'>10<span class="apbct-blur">****************************</span>@<span class="apbct-blur">***************</span>wi.us</span>
SUMMARY:Day 2
DESCRIPTION:
URL:https://www.milton.k12.wi.us/event/day-2-14/
CATEGORIES:Northside Intermediate
END:VEVENT
BEGIN:VEVENT
DTSTART;TZID=America/Chicago:20250114T180000
DTEND;TZID=America/Chicago:20250114T190000
DTSTAMP:20260423T042010
CREATED:20240822T004448Z
LAST-MODIFIED:20250114T223854Z
UID:<span 
                data-original-string='etkSphTf/ySu5N1LF4kg3w==3860yI7eGBj3PGNFDHkJcGD6PWHBdmu4v8BxcrvyNr0v3/tHNicrtvp0bIXgljRyuT+nWtEK3hvKQflSgT/WkiEYA=='
                class='apbct-email-encoder'
                title='This contact has been encoded by Anti-Spam by CleanTalk. Click to decode. To finish the decoding make sure that JavaScript is enabled in your browser.'>10<span class="apbct-blur">****************************</span>@<span class="apbct-blur">***************</span>wi.us</span>
SUMMARY:EES:  MEPG meeting
DESCRIPTION:
URL:https://www.milton.k12.wi.us/event/ees-mepg-meeting-5/
CATEGORIES:Milton East Elementary
END:VEVENT
BEGIN:VEVENT
DTSTART;TZID=America/Chicago:20250114T183000
DTEND;TZID=America/Chicago:20250114T193000
DTSTAMP:20260423T042010
CREATED:20240822T012927Z
LAST-MODIFIED:20250114T233951Z
UID:<span 
                data-original-string='oCGzs5xIzqcOc5e96PLF3A==386ldMi4vvFyjlU3rVLkT7jbIS90GJKvw7HklMYSXJE1CctlXXI6T96aFsoQPR2eB5IlRs9HaDJaQJBu38ci1Bavw=='
                class='apbct-email-encoder'
                title='This contact has been encoded by Anti-Spam by CleanTalk. Click to decode. To finish the decoding make sure that JavaScript is enabled in your browser.'>10<span class="apbct-blur">****************************</span>@<span class="apbct-blur">***************</span>wi.us</span>
SUMMARY:CES - PIE Meeting
DESCRIPTION:
URL:https://www.milton.k12.wi.us/event/pie-meeting-5/
CATEGORIES:Consolidated
END:VEVENT
BEGIN:VEVENT
DTSTART;VALUE=DATE:20250115
DTEND;VALUE=DATE:20250116
DTSTAMP:20260423T042010
CREATED:20241217T220745Z
LAST-MODIFIED:20250115T232410Z
UID:<span 
                data-original-string='dbAJE8Qkh09ylaSNIpazoA==3867Km2ncjg6nnk8VzfB2Ppq8drZ/H38fB7C0I0ymkvGIoNwdePoUhNTGZYwa2YxK1LgHSeEvZA8N3eQtmfHNiZvg=='
                class='apbct-email-encoder'
                title='This contact has been encoded by Anti-Spam by CleanTalk. Click to decode. To finish the decoding make sure that JavaScript is enabled in your browser.'>10<span class="apbct-blur">****************************</span>@<span class="apbct-blur">***************</span>wi.us</span>
SUMMARY:Day 3
DESCRIPTION:
URL:https://www.milton.k12.wi.us/event/day-3-14/
CATEGORIES:Northside Intermediate
END:VEVENT
BEGIN:VEVENT
DTSTART;VALUE=DATE:20250116
DTEND;VALUE=DATE:20250117
DTSTAMP:20260423T042010
CREATED:20241217T220747Z
LAST-MODIFIED:20250116T232235Z
UID:<span 
                data-original-string='MfolWFmA5+/bFu6QMBXIUA==386XKN7+S/hnsAvvfDEf6fZ05Etc9nYPEM0EacBYgqwReQXnIo1R7ftB0C9NYMA6Q4Ld3lnkTWGBWFLTBqMbzwLow=='
                class='apbct-email-encoder'
                title='This contact has been encoded by Anti-Spam by CleanTalk. Click to decode. To finish the decoding make sure that JavaScript is enabled in your browser.'>10<span class="apbct-blur">****************************</span>@<span class="apbct-blur">***************</span>wi.us</span>
SUMMARY:Day 4
DESCRIPTION:
URL:https://www.milton.k12.wi.us/event/day-4-14/
CATEGORIES:Northside Intermediate
END:VEVENT
BEGIN:VEVENT
DTSTART;VALUE=DATE:20250117
DTEND;VALUE=DATE:20250118
DTSTAMP:20260423T042010
CREATED:20241217T220748Z
LAST-MODIFIED:20250117T232557Z
UID:<span 
                data-original-string='HFmNCBqPm4jQ2+cUwmexvA==386ojv4/FPjrdEI0PtpBvNcwbtcvU40Sfw61e8DnN+QA/poZvyQ4lsBIPCC0aesdAkqzoVSS+g4HscRyBxerkrc3g=='
                class='apbct-email-encoder'
                title='This contact has been encoded by Anti-Spam by CleanTalk. Click to decode. To finish the decoding make sure that JavaScript is enabled in your browser.'>10<span class="apbct-blur">****************************</span>@<span class="apbct-blur">***************</span>wi.us</span>
SUMMARY:Day 5
DESCRIPTION:
URL:https://www.milton.k12.wi.us/event/day-5-14/
CATEGORIES:Northside Intermediate
END:VEVENT
BEGIN:VEVENT
DTSTART;TZID=America/Chicago:20250117T170000
DTEND;TZID=America/Chicago:20250117T190000
DTSTAMP:20260423T042010
CREATED:20241004T155652Z
LAST-MODIFIED:20250117T212244Z
UID:<span 
                data-original-string='QAvJVJ4UPOkNhtO7o7MkBA==386se1tDmjhNfpSnRX3hdaeHjn9R2Um31kiFry5emcykeskmCC9Xo/8+Ko0Kqchb5DmwgjpEVeS8svTU0UA7DDHng=='
                class='apbct-email-encoder'
                title='This contact has been encoded by Anti-Spam by CleanTalk. Click to decode. To finish the decoding make sure that JavaScript is enabled in your browser.'>10<span class="apbct-blur">****************************</span>@<span class="apbct-blur">***************</span>wi.us</span>
SUMMARY:MMS Rec Night
DESCRIPTION:
URL:https://www.milton.k12.wi.us/event/mms-rec-night-3/
LOCATION:MMS Gym
CATEGORIES:Milton Middle School
END:VEVENT
BEGIN:VEVENT
DTSTART;VALUE=DATE:20250118
DTEND;VALUE=DATE:20250119
DTSTAMP:20260423T042010
CREATED:20240822T004645Z
LAST-MODIFIED:20250118T231000Z
UID:<span 
                data-original-string='Ct4lLq/O1thZ90DqMCNpdQ==386mtXRBHufpR1fhQ7jKh03lm4CLGps9lyFw3OitWUXOozmpyQbsXdcDlEv340kEfDgzHplklQnD6h8rra+PywguQ=='
                class='apbct-email-encoder'
                title='This contact has been encoded by Anti-Spam by CleanTalk. Click to decode. To finish the decoding make sure that JavaScript is enabled in your browser.'>10<span class="apbct-blur">****************************</span>@<span class="apbct-blur">***************</span>wi.us</span>
SUMMARY:Rock the Rock - Show Choir Invitational
DESCRIPTION:
URL:https://www.milton.k12.wi.us/event/rock-the-rock-show-choir-invitational/
CATEGORIES:Milton High School
END:VEVENT
BEGIN:VEVENT
DTSTART;VALUE=DATE:20250120
DTEND;VALUE=DATE:20250121
DTSTAMP:20260423T042010
CREATED:20240822T004646Z
LAST-MODIFIED:20250120T230916Z
UID:<span 
                data-original-string='zy+BtJdHWFCXNJMh3nlm1A==386d9QCOn/iOJLIau9G1fVsj2BIZSzmShtxIt+/gdRyeJ8kcVI01AO0B3RV0h/WSYhOXfrjsqFZaFpDGuNWyiCrDg=='
                class='apbct-email-encoder'
                title='This contact has been encoded by Anti-Spam by CleanTalk. Click to decode. To finish the decoding make sure that JavaScript is enabled in your browser.'>10<span class="apbct-blur">****************************</span>@<span class="apbct-blur">***************</span>wi.us</span>
SUMMARY:Professional Development - No School
DESCRIPTION:
URL:https://www.milton.k12.wi.us/event/professional-development-no-school/
CATEGORIES:Milton High School
END:VEVENT
BEGIN:VEVENT
DTSTART;VALUE=DATE:20250120
DTEND;VALUE=DATE:20250121
DTSTAMP:20260423T042010
CREATED:20240822T004843Z
LAST-MODIFIED:20250120T232316Z
UID:<span 
                data-original-string='vmvsbKdaaVwQOKmhde5bNQ==386e2KQaMZd6JeXKBRtG/mgRm4XCs+/9s3no39oTcPUYNRVagr1D7MImPfEkDe7VkTg1YwVp6t/SHdejw5OtYqFew=='
                class='apbct-email-encoder'
                title='This contact has been encoded by Anti-Spam by CleanTalk. Click to decode. To finish the decoding make sure that JavaScript is enabled in your browser.'>10<span class="apbct-blur">****************************</span>@<span class="apbct-blur">***************</span>wi.us</span>
SUMMARY:No School
DESCRIPTION:
URL:https://www.milton.k12.wi.us/event/no-school-7/
CATEGORIES:Milton West Elementary
END:VEVENT
BEGIN:VEVENT
DTSTART;VALUE=DATE:20250120
DTEND;VALUE=DATE:20250121
DTSTAMP:20260423T042010
CREATED:20240822T012927Z
LAST-MODIFIED:20250120T233735Z
UID:<span 
                data-original-string='3LZFPly+PdpaHRhIOSmWmw==386Ub/royMJDTE1tLDR/u9f0Z2qYMqVg6oFw8l7VjmBh0DOy6bgDIk7DDhUicHVHKfzAq/to2fJLa70HOPcUUFRbA=='
                class='apbct-email-encoder'
                title='This contact has been encoded by Anti-Spam by CleanTalk. Click to decode. To finish the decoding make sure that JavaScript is enabled in your browser.'>10<span class="apbct-blur">****************************</span>@<span class="apbct-blur">***************</span>wi.us</span>
SUMMARY:Professional Development/No School
DESCRIPTION:
URL:https://www.milton.k12.wi.us/event/professional-development-no-school-3/
CATEGORIES:Consolidated
END:VEVENT
BEGIN:VEVENT
DTSTART;VALUE=DATE:20250120
DTEND;VALUE=DATE:20250121
DTSTAMP:20260423T042010
CREATED:20240823T013740Z
LAST-MODIFIED:20250120T225228Z
UID:<span 
                data-original-string='TbcX+I4zN6oxyfBpHMewXQ==386UGauiw5XoL62zBB0kQXAyF4QpI7pUHplvR1ZuaGmyN33juA+OGnNUvigMBg9ARkYjmnprUDZCM8hrn8/rP9TBQ=='
                class='apbct-email-encoder'
                title='This contact has been encoded by Anti-Spam by CleanTalk. Click to decode. To finish the decoding make sure that JavaScript is enabled in your browser.'>10<span class="apbct-blur">****************************</span>@<span class="apbct-blur">***************</span>wi.us</span>
SUMMARY:Professional Development/No School
DESCRIPTION:
URL:https://www.milton.k12.wi.us/event/professional-development-no-school-5/
CATEGORIES:Milton Middle School
END:VEVENT
BEGIN:VEVENT
DTSTART;VALUE=DATE:20250120
DTEND;VALUE=DATE:20250121
DTSTAMP:20260423T042010
CREATED:20240829T170029Z
LAST-MODIFIED:20250120T235230Z
UID:<span 
                data-original-string='tTmgvKZ77ZH7sItCbi6Mvw==386CMStbuczbrTaBCuBj6qcxgWADCLxt6d4nhgGQQrp4Q6vty513bTcEUff3OIoXKKnHlWem0HwLFlM7mh8YCuV2w=='
                class='apbct-email-encoder'
                title='This contact has been encoded by Anti-Spam by CleanTalk. Click to decode. To finish the decoding make sure that JavaScript is enabled in your browser.'>10<span class="apbct-blur">****************************</span>@<span class="apbct-blur">***************</span>wi.us</span>
SUMMARY:HES: PD Day- No School
DESCRIPTION:
URL:https://www.milton.k12.wi.us/event/hes-pd-day-no-school-2/
CATEGORIES:Harmony Elementary
END:VEVENT
BEGIN:VEVENT
DTSTART;VALUE=DATE:20250120
DTEND;VALUE=DATE:20250121
DTSTAMP:20260423T042010
CREATED:20241113T193842Z
LAST-MODIFIED:20250120T212743Z
UID:<span 
                data-original-string='6kfP0GLKpBh2ml81UWN/4w==386R7CkLEmji+DC+5J4HhaOd/FHlEQTQwkF1Z7JYbLzx3gSLCChuDrhOUEa7mIolTIOHzq5LlpFm6A5WWUhnF7aUw=='
                class='apbct-email-encoder'
                title='This contact has been encoded by Anti-Spam by CleanTalk. Click to decode. To finish the decoding make sure that JavaScript is enabled in your browser.'>10<span class="apbct-blur">****************************</span>@<span class="apbct-blur">***************</span>wi.us</span>
SUMMARY:NO SCHOOL - Staff PD Day
DESCRIPTION:
URL:https://www.milton.k12.wi.us/event/no-school-staff-pd-day-2/
CATEGORIES:District
END:VEVENT
BEGIN:VEVENT
DTSTART;VALUE=DATE:20250120
DTEND;VALUE=DATE:20250121
DTSTAMP:20260423T042010
CREATED:20250102T191444Z
LAST-MODIFIED:20250120T232517Z
UID:<span 
                data-original-string='DYHwmYlTViC0av0dFPepNg==386eJdp4hoJE2ixmqzDf9SpzIxcB54RbQdxkb0MODKlOzgtzh4GAk+oV0+yU/cmxGN23gdUVU1zkKrIx4i63xNtnA=='
                class='apbct-email-encoder'
                title='This contact has been encoded by Anti-Spam by CleanTalk. Click to decode. To finish the decoding make sure that JavaScript is enabled in your browser.'>10<span class="apbct-blur">****************************</span>@<span class="apbct-blur">***************</span>wi.us</span>
SUMMARY:PD Day / No School
DESCRIPTION:
URL:https://www.milton.k12.wi.us/event/pd-day-no-school/
CATEGORIES:Northside Intermediate
END:VEVENT
BEGIN:VEVENT
DTSTART;VALUE=DATE:20250120
DTEND;VALUE=DATE:20250121
DTSTAMP:20260423T042010
CREATED:20240909T153931Z
LAST-MODIFIED:20240909T153931Z
UID:<span 
                data-original-string='3yjPnFV187CHgU8r/VltqQ==386Nd2WiGdRkT4pzC9gPxgSBleYh43RtGEWzyjSsQtr8cmIlMVmcbZNoh1B4AYp4ZBtjgZ3S4LxEyWh+1zb1XvPgg=='
                class='apbct-email-encoder'
                title='This contact has been encoded by Anti-Spam by CleanTalk. Click to decode. To finish the decoding make sure that JavaScript is enabled in your browser.'>10<span class="apbct-blur">****************************</span>@<span class="apbct-blur">***************</span>wi.us</span>
SUMMARY:NO SCHOOL - Staff Professional Development
DESCRIPTION:
URL:https://www.milton.k12.wi.us/event/no-school-staff-professional-development/2025-01-20/
CATEGORIES:District
END:VEVENT
BEGIN:VEVENT
DTSTART;TZID=America/Chicago:20250120T180000
DTEND;TZID=America/Chicago:20250120T200000
DTSTAMP:20260423T042010
CREATED:20240917T180320Z
LAST-MODIFIED:20250120T232316Z
UID:<span 
                data-original-string='g551If0iSkNweX3O5FsrlA==3867IhcSPSU8FZHKZW8yuItxPNvK29h9MuSX6SxGGyFY7KFnvvuN9xso7GFjPq+J+0sWt6qbiFGh73M5I1ENyghRA=='
                class='apbct-email-encoder'
                title='This contact has been encoded by Anti-Spam by CleanTalk. Click to decode. To finish the decoding make sure that JavaScript is enabled in your browser.'>10<span class="apbct-blur">****************************</span>@<span class="apbct-blur">***************</span>wi.us</span>
SUMMARY:PAWS mtg
DESCRIPTION:
URL:https://www.milton.k12.wi.us/event/paws-mtg-4/
CATEGORIES:Milton West Elementary
END:VEVENT
BEGIN:VEVENT
DTSTART;VALUE=DATE:20250121
DTEND;VALUE=DATE:20250122
DTSTAMP:20260423T042010
CREATED:20250102T202335Z
LAST-MODIFIED:20250121T232354Z
UID:<span 
                data-original-string='rJTKzCH7UfOZIRSWrDEx3Q==386iH+WqA5opi5cDy69VclEXbkMd61D0LHjfEjGlk2DY54eYYy2syoaFMLR+SrDiKWBlij7dvmyXe383zSgcDBsug=='
                class='apbct-email-encoder'
                title='This contact has been encoded by Anti-Spam by CleanTalk. Click to decode. To finish the decoding make sure that JavaScript is enabled in your browser.'>10<span class="apbct-blur">****************************</span>@<span class="apbct-blur">***************</span>wi.us</span>
SUMMARY:NIS: No School: Severe Weather
DESCRIPTION:
URL:https://www.milton.k12.wi.us/event/day-6-14/
CATEGORIES:Northside Intermediate
END:VEVENT
BEGIN:VEVENT
DTSTART;TZID=America/Chicago:20250121T180000
DTEND;TZID=America/Chicago:20250121T190000
DTSTAMP:20260423T042010
CREATED:20240823T224231Z
LAST-MODIFIED:20250121T232354Z
UID:<span 
                data-original-string='3HAmkZJ5iQruTkUSJXpN6Q==3869hHwNibpbHMWp0LFnPGYc1bRF5mTOG5iW654E5y+wP0OGgryt00vaUlfa0DIMYdzM7j2aglbO7xPwpZFc3MZZw=='
                class='apbct-email-encoder'
                title='This contact has been encoded by Anti-Spam by CleanTalk. Click to decode. To finish the decoding make sure that JavaScript is enabled in your browser.'>10<span class="apbct-blur">****************************</span>@<span class="apbct-blur">***************</span>wi.us</span>
SUMMARY:FON Meeting
DESCRIPTION:
URL:https://www.milton.k12.wi.us/event/fon-meeting-5/
CATEGORIES:Northside Intermediate
END:VEVENT
BEGIN:VEVENT
DTSTART;VALUE=DATE:20250122
DTEND;VALUE=DATE:20250123
DTSTAMP:20260423T042010
CREATED:20250102T202338Z
LAST-MODIFIED:20250122T233742Z
UID:<span 
                data-original-string='jM56LtmvFneUH4Mvuq/dWw==386p/NXvdCUzZYOdrJiGV4sLdJecYqaXqtZQN5NjYfymE0gBuJoo0kze3oeEOzSFh+og7Il/BPi7p/4zQOUqDN6mw=='
                class='apbct-email-encoder'
                title='This contact has been encoded by Anti-Spam by CleanTalk. Click to decode. To finish the decoding make sure that JavaScript is enabled in your browser.'>10<span class="apbct-blur">****************************</span>@<span class="apbct-blur">***************</span>wi.us</span>
SUMMARY:Day 6
DESCRIPTION:
URL:https://www.milton.k12.wi.us/event/day-1-15/
CATEGORIES:Northside Intermediate
END:VEVENT
BEGIN:VEVENT
DTSTART;VALUE=DATE:20250122
DTEND;VALUE=DATE:20250123
DTSTAMP:20260423T042010
CREATED:20250122T153741Z
LAST-MODIFIED:20250122T233816Z
UID:<span 
                data-original-string='Vd2JCMe7r8W6BkC0s1ApFg==386BAVUTGWyQTk0cdwMHfURhGG7YzFQml+kUOR+eoGPzxmQO/Dlc+DOSO2QhGEA2TLF8Eg8wS9BP9UdaV6qbHkFgQ=='
                class='apbct-email-encoder'
                title='This contact has been encoded by Anti-Spam by CleanTalk. Click to decode. To finish the decoding make sure that JavaScript is enabled in your browser.'>10<span class="apbct-blur">****************************</span>@<span class="apbct-blur">***************</span>wi.us</span>
SUMMARY:Day 6
DESCRIPTION:
URL:https://www.milton.k12.wi.us/event/day-6-17/
CATEGORIES:Northside Intermediate
END:VEVENT
BEGIN:VEVENT
DTSTART;TZID=America/Chicago:20250122T153000
DTEND;TZID=America/Chicago:20250122T193000
DTSTAMP:20260423T042010
CREATED:20240823T013740Z
LAST-MODIFIED:20250122T224738Z
UID:<span 
                data-original-string='VGGkFTctilbFhLXXJmNm2Q==3862u6aBjVjAoIr01wwnvoZnk6Mr2LbuxzHzulh5t5NlnMziy/wfo/vB7MuN42rL1VF/QyOz+Qno+4+EN+O2Ytnfg=='
                class='apbct-email-encoder'
                title='This contact has been encoded by Anti-Spam by CleanTalk. Click to decode. To finish the decoding make sure that JavaScript is enabled in your browser.'>10<span class="apbct-blur">****************************</span>@<span class="apbct-blur">***************</span>wi.us</span>
SUMMARY:MMS Parent/Teacher Conferences
DESCRIPTION:
URL:https://www.milton.k12.wi.us/event/parent-teacher-conferences-14/
CATEGORIES:Milton Middle School
END:VEVENT
BEGIN:VEVENT
DTSTART;TZID=America/Chicago:20250122T160000
DTEND;TZID=America/Chicago:20250122T200000
DTSTAMP:20260423T042010
CREATED:20240822T004646Z
LAST-MODIFIED:20250122T230825Z
UID:<span 
                data-original-string='3A/ZghHEXIz2lVFSwmlUdQ==386covZ/CsPqveOuVDV2xB6/vo0olih/K5MAzN9vUPVWAsZd9h4STCG/RyiBuD/bFL2+LYyEJ4hjMuepeED8pgLUQ=='
                class='apbct-email-encoder'
                title='This contact has been encoded by Anti-Spam by CleanTalk. Click to decode. To finish the decoding make sure that JavaScript is enabled in your browser.'>10<span class="apbct-blur">****************************</span>@<span class="apbct-blur">***************</span>wi.us</span>
SUMMARY:MHS Career Planning Event
DESCRIPTION:
URL:https://www.milton.k12.wi.us/event/career-planning-event/
CATEGORIES:Milton High School
END:VEVENT
BEGIN:VEVENT
DTSTART;TZID=America/Chicago:20250122T163000
DTEND;TZID=America/Chicago:20250122T193000
DTSTAMP:20260423T042010
CREATED:20240824T110758Z
LAST-MODIFIED:20250122T233742Z
UID:<span 
                data-original-string='NugRgz0af7OPK4D/wf39/g==386kj5nT9UETla7mTBmwD6i5bXuSbXcCwbyiyCKKbMjDyOddKYp9jx8VgQ/UiYPER1nhqMERhYIzNwg2nO0siONyA=='
                class='apbct-email-encoder'
                title='This contact has been encoded by Anti-Spam by CleanTalk. Click to decode. To finish the decoding make sure that JavaScript is enabled in your browser.'>10<span class="apbct-blur">****************************</span>@<span class="apbct-blur">***************</span>wi.us</span>
SUMMARY:Scoopie Night (Northside)
DESCRIPTION:
URL:https://www.milton.k12.wi.us/event/scoopie-night-northside-3/
CATEGORIES:Northside Intermediate
END:VEVENT
BEGIN:VEVENT
DTSTART;VALUE=DATE:20250123
DTEND;VALUE=DATE:20250124
DTSTAMP:20260423T042010
CREATED:20250102T202338Z
LAST-MODIFIED:20250123T234632Z
UID:<span 
                data-original-string='yOdH8ayRE7BDtsiCtvjJKA==386+EnzPHD0QX2RfwZvW1X8xn0LXIAvpOCKItkQzuOwG1ZnWbGEkSJg1sd5AxntPXfLkfIK09ArZC82IJuYd8eOjA=='
                class='apbct-email-encoder'
                title='This contact has been encoded by Anti-Spam by CleanTalk. Click to decode. To finish the decoding make sure that JavaScript is enabled in your browser.'>10<span class="apbct-blur">****************************</span>@<span class="apbct-blur">***************</span>wi.us</span>
SUMMARY:Day 1
DESCRIPTION:
URL:https://www.milton.k12.wi.us/event/day-2-15/
CATEGORIES:Northside Intermediate
END:VEVENT
BEGIN:VEVENT
DTSTART;VALUE=DATE:20250123
DTEND;VALUE=DATE:20250124
DTSTAMP:20260423T042010
CREATED:20250122T153732Z
LAST-MODIFIED:20250123T234632Z
UID:<span 
                data-original-string='F0nzuQJAm4Vjk4idCW55Zw==386qUGUwSJTLZE/2iPcSOHHkEJhnKrABL5NC2M0SNbvfw7gtEMwEnJKfXSZohxyTQAJEYrul0fwZUjypdPbeRDkLg=='
                class='apbct-email-encoder'
                title='This contact has been encoded by Anti-Spam by CleanTalk. Click to decode. To finish the decoding make sure that JavaScript is enabled in your browser.'>10<span class="apbct-blur">****************************</span>@<span class="apbct-blur">***************</span>wi.us</span>
SUMMARY:Day 1
DESCRIPTION:
URL:https://www.milton.k12.wi.us/event/day-1-18/
CATEGORIES:Northside Intermediate
END:VEVENT
BEGIN:VEVENT
DTSTART;TZID=America/Chicago:20250123T153000
DTEND;TZID=America/Chicago:20250123T183000
DTSTAMP:20260423T042010
CREATED:20240822T004647Z
LAST-MODIFIED:20250123T230743Z
UID:<span 
                data-original-string='WM+ED6nOwz3F5IUmuNQGPw==386T3ErA3njqARRYZTWxcHcq1+g72gnIrToS+/UWs9lLTDnaXMtU/s+rbN0uyzXR92FZtB+VA5V3N/dItRkNLkI5w=='
                class='apbct-email-encoder'
                title='This contact has been encoded by Anti-Spam by CleanTalk. Click to decode. To finish the decoding make sure that JavaScript is enabled in your browser.'>10<span class="apbct-blur">****************************</span>@<span class="apbct-blur">***************</span>wi.us</span>
SUMMARY:MHS Parent Teacher Conferences
DESCRIPTION:
URL:https://www.milton.k12.wi.us/event/parent-teacher-conferences-2/
CATEGORIES:Milton High School
END:VEVENT
BEGIN:VEVENT
DTSTART;TZID=America/Chicago:20250123T173000
DTEND;TZID=America/Chicago:20250123T183000
DTSTAMP:20260423T042010
CREATED:20240822T004647Z
LAST-MODIFIED:20250123T230743Z
UID:<span 
                data-original-string='NP6dM8V8JurUmFk+POwFAA==386RNvQn61T4b7iQQ+rtkOfZz63mEVgEoq/yoJ3ZnJ+V3xIt85DjKPoUYscnQHHcfH+suXo5T+bQs1BFH0WlqnBXA=='
                class='apbct-email-encoder'
                title='This contact has been encoded by Anti-Spam by CleanTalk. Click to decode. To finish the decoding make sure that JavaScript is enabled in your browser.'>10<span class="apbct-blur">****************************</span>@<span class="apbct-blur">***************</span>wi.us</span>
SUMMARY:Junior Class Parent Meeting
DESCRIPTION:
URL:https://www.milton.k12.wi.us/event/junior-class-parent-meeting/
CATEGORIES:Milton High School
END:VEVENT
BEGIN:VEVENT
DTSTART;TZID=America/Chicago:20250123T173000
DTEND;TZID=America/Chicago:20250123T183000
DTSTAMP:20260423T042010
CREATED:20240822T004716Z
LAST-MODIFIED:20250123T221554Z
UID:<span 
                data-original-string='ADth2RP1wdDImPxAnBkcKw==386Z3mTDLibIoFGz++UxkoMb9Aja22L5vRjwQv2TmEpWHhn0Ggg77/ZAs7gJU815QfhFXZkNcQspBgtwQyA6DkGRw=='
                class='apbct-email-encoder'
                title='This contact has been encoded by Anti-Spam by CleanTalk. Click to decode. To finish the decoding make sure that JavaScript is enabled in your browser.'>10<span class="apbct-blur">****************************</span>@<span class="apbct-blur">***************</span>wi.us</span>
SUMMARY:MMS Parent Group Meeting
DESCRIPTION:
URL:https://www.milton.k12.wi.us/event/parent-group-meeting-4/
CATEGORIES:Milton Middle School
END:VEVENT
END:VCALENDAR