BEGIN:VCALENDAR
VERSION:2.0
PRODID:-//School District of Milton - ECPv6.15.20//NONSGML v1.0//EN
CALSCALE:GREGORIAN
METHOD:PUBLISH
X-WR-CALNAME:School District of Milton
X-ORIGINAL-URL:https://www.milton.k12.wi.us
X-WR-CALDESC:Events for School District of Milton
REFRESH-INTERVAL;VALUE=DURATION:PT1H
X-Robots-Tag:noindex
X-PUBLISHED-TTL:PT1H
BEGIN:VTIMEZONE
TZID:America/Chicago
BEGIN:DAYLIGHT
TZOFFSETFROM:-0600
TZOFFSETTO:-0500
TZNAME:CDT
DTSTART:20250309T080000
END:DAYLIGHT
BEGIN:STANDARD
TZOFFSETFROM:-0500
TZOFFSETTO:-0600
TZNAME:CST
DTSTART:20251102T070000
END:STANDARD
BEGIN:DAYLIGHT
TZOFFSETFROM:-0600
TZOFFSETTO:-0500
TZNAME:CDT
DTSTART:20260308T080000
END:DAYLIGHT
BEGIN:STANDARD
TZOFFSETFROM:-0500
TZOFFSETTO:-0600
TZNAME:CST
DTSTART:20261101T070000
END:STANDARD
BEGIN:DAYLIGHT
TZOFFSETFROM:-0600
TZOFFSETTO:-0500
TZNAME:CDT
DTSTART:20270314T080000
END:DAYLIGHT
BEGIN:STANDARD
TZOFFSETFROM:-0500
TZOFFSETTO:-0600
TZNAME:CST
DTSTART:20271107T070000
END:STANDARD
END:VTIMEZONE
BEGIN:VEVENT
DTSTART;TZID=America/Chicago:20260521T180000
DTEND;TZID=America/Chicago:20260521T193000
DTSTAMP:20260424T192602
CREATED:20250826T162553Z
LAST-MODIFIED:20260424T200847Z
UID:<span 
                data-original-string='rPweETCb9lMzDfiaeWd8qQ==386FUCg0C1yOgjHsE8bXog+DhFzuhxfqXOy03p2Gqz6szG+wF4xk8jb/pPmCyk8wmRirDGADYlhuuOcs7wMVO26+w=='
                class='apbct-email-encoder'
                title='This contact has been encoded by Anti-Spam by CleanTalk. Click to decode. To finish the decoding make sure that JavaScript is enabled in your browser.'>10<span class="apbct-blur">****************************</span>@<span class="apbct-blur">***************</span>wi.us</span>
SUMMARY:6-8 Band concert
DESCRIPTION:
URL:https://www.milton.k12.wi.us/event/6-8-band-concert/
LOCATION:MHS PAC
CATEGORIES:Milton Middle School
END:VEVENT
BEGIN:VEVENT
DTSTART;VALUE=DATE:20260525
DTEND;VALUE=DATE:20260526
DTSTAMP:20260424T192602
CREATED:20250611T144549Z
LAST-MODIFIED:20260424T200924Z
UID:<span 
                data-original-string='ngjDWFjnn1hLUC2HbgrLAQ==386t43FHpmFimC2Oo+SftMgP2vvKiE3lemgTzFo/c9VLMrb3riCOzRl+eg9yMGv0Sp9GmXAc0qRvlHIsyuRR8sgNA=='
                class='apbct-email-encoder'
                title='This contact has been encoded by Anti-Spam by CleanTalk. Click to decode. To finish the decoding make sure that JavaScript is enabled in your browser.'>10<span class="apbct-blur">****************************</span>@<span class="apbct-blur">***************</span>wi.us</span>
SUMMARY:No School - Memorial Day
DESCRIPTION:
URL:https://www.milton.k12.wi.us/event/no-school-memorial-day-2/
CATEGORIES:Milton East Elementary
END:VEVENT
BEGIN:VEVENT
DTSTART;VALUE=DATE:20260525
DTEND;VALUE=DATE:20260526
DTSTAMP:20260424T192602
CREATED:20250616T131003Z
LAST-MODIFIED:20260424T200914Z
UID:<span 
                data-original-string='nGAJMdVt98vohVF6bncM+A==386JGoeM7gQ7qbtgXdnSxn8WSw7vH4GMczbaw9kOIJcwZhfv47dVUMcEbpWfdZJULFQ4ohWLfIjI4SG+89JbHJDqw=='
                class='apbct-email-encoder'
                title='This contact has been encoded by Anti-Spam by CleanTalk. Click to decode. To finish the decoding make sure that JavaScript is enabled in your browser.'>10<span class="apbct-blur">****************************</span>@<span class="apbct-blur">***************</span>wi.us</span>
SUMMARY:Memorial Day - No School
DESCRIPTION:
URL:https://www.milton.k12.wi.us/event/memorial-day-no-school-4/
CATEGORIES:Milton High School
END:VEVENT
BEGIN:VEVENT
DTSTART;VALUE=DATE:20260525
DTEND;VALUE=DATE:20260526
DTSTAMP:20260424T192602
CREATED:20250825T071101Z
LAST-MODIFIED:20260424T200740Z
UID:<span 
                data-original-string='YCG+5JhtqevtbN5HSRLRvQ==386yiDDBd7eA4295ohwiIfGVws4UvwM9B8TcibaapJfPZYHStMriDdMe6XqqrCYJKqIaaPsS1XZl+5UfC9TKB7/FA=='
                class='apbct-email-encoder'
                title='This contact has been encoded by Anti-Spam by CleanTalk. Click to decode. To finish the decoding make sure that JavaScript is enabled in your browser.'>10<span class="apbct-blur">****************************</span>@<span class="apbct-blur">***************</span>wi.us</span>
SUMMARY:HES: Memorial Day- No School
DESCRIPTION:
URL:https://www.milton.k12.wi.us/event/hes-memorial-day-no-school-2/
CATEGORIES:Harmony Elementary
END:VEVENT
BEGIN:VEVENT
DTSTART;VALUE=DATE:20260525
DTEND;VALUE=DATE:20260526
DTSTAMP:20260424T192602
CREATED:20250922T165421Z
LAST-MODIFIED:20260424T201035Z
UID:<span 
                data-original-string='ZOvCSxdas5Hd0uCw9erKeQ==386x+cTI4RjxQPr16fSKALaLlKlvt1vPC+swIn6j6YH5GBYIWFthj/2hLrrCiKtw7emdDoDGmkuYMbNm+Ptig13Eg=='
                class='apbct-email-encoder'
                title='This contact has been encoded by Anti-Spam by CleanTalk. Click to decode. To finish the decoding make sure that JavaScript is enabled in your browser.'>10<span class="apbct-blur">****************************</span>@<span class="apbct-blur">***************</span>wi.us</span>
SUMMARY:CES - No School
DESCRIPTION:
URL:https://www.milton.k12.wi.us/event/ces-no-school-5/
CATEGORIES:Consolidated
END:VEVENT
BEGIN:VEVENT
DTSTART;VALUE=DATE:20260525
DTEND;VALUE=DATE:20260526
DTSTAMP:20260424T192602
CREATED:20251020T161151Z
LAST-MODIFIED:20260424T200848Z
UID:<span 
                data-original-string='e7vkq/Mn0F/1zKavX/cpDA==3868ZJ+jQ9O/Ma3Gj5Qu8hKu9luzcaSEnLML1nNITl0dN5DbpYvij7qGcL2s3SyU7OJGDGBGlZBa426uquUdSUeAg=='
                class='apbct-email-encoder'
                title='This contact has been encoded by Anti-Spam by CleanTalk. Click to decode. To finish the decoding make sure that JavaScript is enabled in your browser.'>10<span class="apbct-blur">****************************</span>@<span class="apbct-blur">***************</span>wi.us</span>
SUMMARY:No School
DESCRIPTION:
URL:https://www.milton.k12.wi.us/event/no-school-46/
CATEGORIES:Milton Middle School
END:VEVENT
BEGIN:VEVENT
DTSTART;TZID=America/Chicago:20260525T143500
DTEND;TZID=America/Chicago:20260525T153500
DTSTAMP:20260424T192602
CREATED:20240822T012947Z
LAST-MODIFIED:20250922T160909Z
UID:<span 
                data-original-string='dsOgWaJPLJeKXjBf+VgF6Q==386FXaWq4Wl1xZBMuUaRDn88Cv7JAP4pT6W/OPfefM2Na7tFlOqH9rLT35q3LU0mxUC5YmhKMvuN1hWIIQWP76uAg=='
                class='apbct-email-encoder'
                title='This contact has been encoded by Anti-Spam by CleanTalk. Click to decode. To finish the decoding make sure that JavaScript is enabled in your browser.'>10<span class="apbct-blur">****************************</span>@<span class="apbct-blur">***************</span>wi.us</span>
SUMMARY:Early Release -
DESCRIPTION:
URL:https://www.milton.k12.wi.us/event/early-release-82/
CATEGORIES:Consolidated
END:VEVENT
BEGIN:VEVENT
DTSTART;TZID=America/Chicago:20260525T183000
DTEND;TZID=America/Chicago:20260525T203000
DTSTAMP:20260424T192602
CREATED:20240822T012959Z
LAST-MODIFIED:20260424T201504Z
UID:<span 
                data-original-string='y5pLoL+ZgOZDLBvdw9BJ8w==3862AQaF4xUFJulRODbfXYdNCnPHmNqr5rCetcX6/0SjFT4Nvhei9IlvlsGgfZhWEoeo5GX/MOc5l6LpAdfB9hhBA=='
                class='apbct-email-encoder'
                title='This contact has been encoded by Anti-Spam by CleanTalk. Click to decode. To finish the decoding make sure that JavaScript is enabled in your browser.'>10<span class="apbct-blur">****************************</span>@<span class="apbct-blur">***************</span>wi.us</span>
SUMMARY:School Board Meeting
DESCRIPTION:
URL:https://www.milton.k12.wi.us/event/school-board-meeting-47/
LOCATION:School District of Milton\, 448 E High St\, Milton\, WI\, United States
CATEGORIES:District
GEO:42.773036;-88.944404
X-APPLE-STRUCTURED-LOCATION;VALUE=URI;X-ADDRESS=School District of Milton 448 E High St Milton WI United States;X-APPLE-RADIUS=500;X-TITLE=448 E High St:geo:-88.944404,42.773036
END:VEVENT
BEGIN:VEVENT
DTSTART;VALUE=DATE:20260527
DTEND;VALUE=DATE:20260528
DTSTAMP:20260424T192602
CREATED:20250616T131004Z
LAST-MODIFIED:20260424T200914Z
UID:<span 
                data-original-string='5JusJLqP7cV3FdSfuRFu/Q==3860L72i6VvbT3Cl7cnE0QMYrEq0E30x+l3Q9CQIfxHFzeX7ql23jADiTaczwNrZPlEWfkP2B6ATc3CfhP+aswauw=='
                class='apbct-email-encoder'
                title='This contact has been encoded by Anti-Spam by CleanTalk. Click to decode. To finish the decoding make sure that JavaScript is enabled in your browser.'>10<span class="apbct-blur">****************************</span>@<span class="apbct-blur">***************</span>wi.us</span>
SUMMARY:Last Day for Seniors
DESCRIPTION:
URL:https://www.milton.k12.wi.us/event/last-day-for-seniors/
CATEGORIES:Milton High School
END:VEVENT
BEGIN:VEVENT
DTSTART;VALUE=DATE:20260529
DTEND;VALUE=DATE:20260530
DTSTAMP:20260424T192602
CREATED:20250829T070943Z
LAST-MODIFIED:20260424T200741Z
UID:<span 
                data-original-string='Z2fFLkew/DwROIR3Oz1rJg==386+YrvrU1Wog7BmUsXIZmTnwA3748WAZ2je7kADW7E4rMzIYdZ8MrXSOxuQJHN6mmPY3Y9eekmDRzisUlPatdOug=='
                class='apbct-email-encoder'
                title='This contact has been encoded by Anti-Spam by CleanTalk. Click to decode. To finish the decoding make sure that JavaScript is enabled in your browser.'>10<span class="apbct-blur">****************************</span>@<span class="apbct-blur">***************</span>wi.us</span>
SUMMARY:HES: Color Run Rain Date
DESCRIPTION:
URL:https://www.milton.k12.wi.us/event/hes-color-run-rain-date/
CATEGORIES:Harmony Elementary
END:VEVENT
BEGIN:VEVENT
DTSTART;TZID=America/Chicago:20260529T090000
DTEND;TZID=America/Chicago:20260529T090000
DTSTAMP:20260424T192602
CREATED:20250616T131011Z
LAST-MODIFIED:20260424T200914Z
UID:<span 
                data-original-string='9ASprFNy/o3ksGQgt4jryg==386h0ypDRJonIsGg3cTVv/vFARdMNiXad1eE7ekUpKZZePgmlNw91vf2jhvpnZthb13/EuQxgHaIr0m7n/wMOjNmg=='
                class='apbct-email-encoder'
                title='This contact has been encoded by Anti-Spam by CleanTalk. Click to decode. To finish the decoding make sure that JavaScript is enabled in your browser.'>10<span class="apbct-blur">****************************</span>@<span class="apbct-blur">***************</span>wi.us</span>
SUMMARY:Graduation Practice
DESCRIPTION:
URL:https://www.milton.k12.wi.us/event/graduation-practice/
CATEGORIES:Milton High School
END:VEVENT
BEGIN:VEVENT
DTSTART;TZID=America/Chicago:20260531T140000
DTEND;TZID=America/Chicago:20260531T140000
DTSTAMP:20260424T192602
CREATED:20250616T131012Z
LAST-MODIFIED:20260424T200915Z
UID:<span 
                data-original-string='H+nOc221T9HHp2Hj9fhTyA==386bkgm+wCzASEGT2eirbs8dbNsaAKNTDkerdWipDvL2AX431DQQ6sfMe2QkykEGePrP8YxtpIjXWZoY/RVAtt6SA=='
                class='apbct-email-encoder'
                title='This contact has been encoded by Anti-Spam by CleanTalk. Click to decode. To finish the decoding make sure that JavaScript is enabled in your browser.'>10<span class="apbct-blur">****************************</span>@<span class="apbct-blur">***************</span>wi.us</span>
SUMMARY:Graduation
DESCRIPTION:
URL:https://www.milton.k12.wi.us/event/graduation-3/
CATEGORIES:Milton High School
END:VEVENT
BEGIN:VEVENT
DTSTART;TZID=America/Chicago:20260601T143500
DTEND;TZID=America/Chicago:20260601T153500
DTSTAMP:20260424T192602
CREATED:20240822T012948Z
LAST-MODIFIED:20260424T201036Z
UID:<span 
                data-original-string='p+MqwR1KJyaMfV3vybrWfw==386eMSYsFSX1C2idh5t6DFNmjH9NsbJGNQerWG0LIbbvT9CIH1C2GCvp6dFXCsj28Y1hffvgO7ezGJj4QP9krP46w=='
                class='apbct-email-encoder'
                title='This contact has been encoded by Anti-Spam by CleanTalk. Click to decode. To finish the decoding make sure that JavaScript is enabled in your browser.'>10<span class="apbct-blur">****************************</span>@<span class="apbct-blur">***************</span>wi.us</span>
SUMMARY:Early Release -
DESCRIPTION:
URL:https://www.milton.k12.wi.us/event/early-release-83/
CATEGORIES:Consolidated
END:VEVENT
BEGIN:VEVENT
DTSTART;VALUE=DATE:20260603
DTEND;VALUE=DATE:20260604
DTSTAMP:20260424T192602
CREATED:20250611T144550Z
LAST-MODIFIED:20260424T200929Z
UID:<span 
                data-original-string='dlh620MxWzK90sox80r99w==3864ARLTtmvXve/J2NV4t14i/hGB47l0KlMUPoc2TiVdtlP0JhVWYiuYS80NDTZrTnf1Ov9fzONxgCFg4osowncfQ=='
                class='apbct-email-encoder'
                title='This contact has been encoded by Anti-Spam by CleanTalk. Click to decode. To finish the decoding make sure that JavaScript is enabled in your browser.'>10<span class="apbct-blur">****************************</span>@<span class="apbct-blur">***************</span>wi.us</span>
SUMMARY:Last Day of 4K
DESCRIPTION:
URL:https://www.milton.k12.wi.us/event/last-day-of-4k-2/
CATEGORIES:Milton East Elementary
END:VEVENT
BEGIN:VEVENT
DTSTART;VALUE=DATE:20260603
DTEND;VALUE=DATE:20260604
DTSTAMP:20260424T192602
CREATED:20250825T071102Z
LAST-MODIFIED:20260424T200741Z
UID:<span 
                data-original-string='l0q9mEYHzSZ1e1bl9I2A+w==386POIXIFGN8NmK7oDAgHju2O40Pqb6FbWRF0mWpgntxaDllzFtMXh2wjujKo7gx924tTYtcOVZqTrMO3gUq9YKwA=='
                class='apbct-email-encoder'
                title='This contact has been encoded by Anti-Spam by CleanTalk. Click to decode. To finish the decoding make sure that JavaScript is enabled in your browser.'>10<span class="apbct-blur">****************************</span>@<span class="apbct-blur">***************</span>wi.us</span>
SUMMARY:HES: Last Day of 4K
DESCRIPTION:
URL:https://www.milton.k12.wi.us/event/hes-last-day-of-4k/
CATEGORIES:Harmony Elementary
END:VEVENT
BEGIN:VEVENT
DTSTART;VALUE=DATE:20260605
DTEND;VALUE=DATE:20260606
DTSTAMP:20260424T192602
CREATED:20250611T144551Z
LAST-MODIFIED:20260424T200930Z
UID:<span 
                data-original-string='5txFm9F1jUjEp7MWQzWSRg==386TFBLf1LCMzZzCdopkUsR0OphgFAzn64kkG43qjCLwdfzIjpWfaU2BOSmpgxvQmVZQgaW3jLeITDyXCKAMKZ7Cw=='
                class='apbct-email-encoder'
                title='This contact has been encoded by Anti-Spam by CleanTalk. Click to decode. To finish the decoding make sure that JavaScript is enabled in your browser.'>10<span class="apbct-blur">****************************</span>@<span class="apbct-blur">***************</span>wi.us</span>
SUMMARY:Last Day of School (Half Day)
DESCRIPTION:
URL:https://www.milton.k12.wi.us/event/last-day-of-school-half-day-9/
CATEGORIES:Milton East Elementary
END:VEVENT
BEGIN:VEVENT
DTSTART;VALUE=DATE:20260605
DTEND;VALUE=DATE:20260606
DTSTAMP:20260424T192602
CREATED:20250616T131013Z
LAST-MODIFIED:20260424T200916Z
UID:<span 
                data-original-string='t3xTbaTpsdabAQI7xgt0cQ==386R9X+NTANUMYHI8U34kT5UuSEikeNj9Z2UR1qyqTbHiZX9EbxqGC7lge1Jj4CYB5hyNCNuqNATrnkY3FAZFrjnQ=='
                class='apbct-email-encoder'
                title='This contact has been encoded by Anti-Spam by CleanTalk. Click to decode. To finish the decoding make sure that JavaScript is enabled in your browser.'>10<span class="apbct-blur">****************************</span>@<span class="apbct-blur">***************</span>wi.us</span>
SUMMARY:Last Day of School (1/2 Day)
DESCRIPTION:
URL:https://www.milton.k12.wi.us/event/last-day-of-school-1-2-day-2/
CATEGORIES:Milton High School
END:VEVENT
BEGIN:VEVENT
DTSTART;VALUE=DATE:20260605
DTEND;VALUE=DATE:20260606
DTSTAMP:20260424T192602
CREATED:20250825T071105Z
LAST-MODIFIED:20260424T200746Z
UID:<span 
                data-original-string='bsxOiaF2jJE/BcUWjz9T1g==3862CEaTQgCl6jYLH7gqk7/KdKyMlXJpnXDHUJ26pSaxzGvH9spYc6GuGblNrcH2mRXAAQ6Hhph1iw9oQC80G4Xlw=='
                class='apbct-email-encoder'
                title='This contact has been encoded by Anti-Spam by CleanTalk. Click to decode. To finish the decoding make sure that JavaScript is enabled in your browser.'>10<span class="apbct-blur">****************************</span>@<span class="apbct-blur">***************</span>wi.us</span>
SUMMARY:HES: Last Day of School- Early Dismissal
DESCRIPTION:
URL:https://www.milton.k12.wi.us/event/hes-last-day-of-school-early-dismissal-2/
CATEGORIES:Harmony Elementary
END:VEVENT
BEGIN:VEVENT
DTSTART;VALUE=DATE:20260605
DTEND;VALUE=DATE:20260606
DTSTAMP:20260424T192602
CREATED:20251020T161152Z
LAST-MODIFIED:20260424T200857Z
UID:<span 
                data-original-string='hOtg1kT+2/ANykz9hmKV+w==386RF1kla/xaGv61JezDQPKk3xsdOLUSEdV96hMAP45/9Vf9pelK+yGZXWSCuzmSOVMeNYgzMn/1DCKfYgFUsU4bQ=='
                class='apbct-email-encoder'
                title='This contact has been encoded by Anti-Spam by CleanTalk. Click to decode. To finish the decoding make sure that JavaScript is enabled in your browser.'>10<span class="apbct-blur">****************************</span>@<span class="apbct-blur">***************</span>wi.us</span>
SUMMARY:Last Day of School (half day)
DESCRIPTION:
URL:https://www.milton.k12.wi.us/event/last-day-of-school-half-day-10/
CATEGORIES:Milton Middle School
END:VEVENT
BEGIN:VEVENT
DTSTART;VALUE=DATE:20260608
DTEND;VALUE=DATE:20260609
DTSTAMP:20260424T192602
CREATED:20250611T203915Z
LAST-MODIFIED:20260424T200930Z
UID:<span 
                data-original-string='tj4g9M/G1/f0w3wuVJnPEg==386vR1wAapR5DYoG41EU8F+TwoBBV7plFp+8mXcYrV2RqwGIzP0xXlm/reO0f+yBHYQMf1eJhKr+OkBtLqmriYNRg=='
                class='apbct-email-encoder'
                title='This contact has been encoded by Anti-Spam by CleanTalk. Click to decode. To finish the decoding make sure that JavaScript is enabled in your browser.'>10<span class="apbct-blur">****************************</span>@<span class="apbct-blur">***************</span>wi.us</span>
SUMMARY:Summer School Begins
DESCRIPTION:
URL:https://www.milton.k12.wi.us/event/summer-school-begins-3/
CATEGORIES:Milton East Elementary
END:VEVENT
BEGIN:VEVENT
DTSTART;TZID=America/Chicago:20260608T143500
DTEND;TZID=America/Chicago:20260608T153500
DTSTAMP:20260424T192602
CREATED:20240822T012948Z
LAST-MODIFIED:20260424T201036Z
UID:<span 
                data-original-string='gvvznmtTPpM+sYncqG6vwQ==386mpGqK2x3XMLx+y2fA6v/LfT9ARyu9ro2f9kiYV+is2Dr7cz/msdVoyy2ArkSV5fR6AoGH5pToZWphatTRkN19A=='
                class='apbct-email-encoder'
                title='This contact has been encoded by Anti-Spam by CleanTalk. Click to decode. To finish the decoding make sure that JavaScript is enabled in your browser.'>10<span class="apbct-blur">****************************</span>@<span class="apbct-blur">***************</span>wi.us</span>
SUMMARY:Early Release -
DESCRIPTION:
URL:https://www.milton.k12.wi.us/event/early-release-84/
CATEGORIES:Consolidated
END:VEVENT
BEGIN:VEVENT
DTSTART;TZID=America/Chicago:20260608T183000
DTEND;TZID=America/Chicago:20260608T203000
DTSTAMP:20260424T192602
CREATED:20240822T012959Z
LAST-MODIFIED:20260424T201505Z
UID:<span 
                data-original-string='vJbplpiNnfUXfOwNR7xqdg==386Gfwp8EBfg3PofN+PJz9hmKBgafxMHEPB8qNSieKY1EgoePsEABZfHjh3e1wgUu8yn+3g3LqgEU+ZSJ0hVP1Gjg=='
                class='apbct-email-encoder'
                title='This contact has been encoded by Anti-Spam by CleanTalk. Click to decode. To finish the decoding make sure that JavaScript is enabled in your browser.'>10<span class="apbct-blur">****************************</span>@<span class="apbct-blur">***************</span>wi.us</span>
SUMMARY:School Board Meeting
DESCRIPTION:
URL:https://www.milton.k12.wi.us/event/school-board-meeting-48/
CATEGORIES:District
END:VEVENT
BEGIN:VEVENT
DTSTART;TZID=America/Chicago:20260609T183000
DTEND;TZID=America/Chicago:20260609T193000
DTSTAMP:20260424T192602
CREATED:20240822T012948Z
LAST-MODIFIED:20260424T201037Z
UID:<span 
                data-original-string='eS+FxupAFAY18vVPm+qNJg==3861Ek+lB4/zJn/rXSI9kw86P1HkmwN20QqNNkIiT26Z0PPPD13/tlQFyZJ/rUA0n8XN/bzkHqPGLZI06ravy2wRA=='
                class='apbct-email-encoder'
                title='This contact has been encoded by Anti-Spam by CleanTalk. Click to decode. To finish the decoding make sure that JavaScript is enabled in your browser.'>10<span class="apbct-blur">****************************</span>@<span class="apbct-blur">***************</span>wi.us</span>
SUMMARY:CES - PIE Meeting
DESCRIPTION:
URL:https://www.milton.k12.wi.us/event/pie-meeting-22/
CATEGORIES:Consolidated
END:VEVENT
BEGIN:VEVENT
DTSTART;TZID=America/Chicago:20260615T143500
DTEND;TZID=America/Chicago:20260615T153500
DTSTAMP:20260424T192602
CREATED:20240822T012948Z
LAST-MODIFIED:20260424T201037Z
UID:<span 
                data-original-string='n9xfM32KeZeq5nyODGzIEQ==386kw51ALAYDkQBIMMzVuxiL41ZEg9iy2kYEw5AEBbgYHfysEmkg+ufoUsxlFfdX4USkc4HRkr2iQuNwmMDZE2chg=='
                class='apbct-email-encoder'
                title='This contact has been encoded by Anti-Spam by CleanTalk. Click to decode. To finish the decoding make sure that JavaScript is enabled in your browser.'>10<span class="apbct-blur">****************************</span>@<span class="apbct-blur">***************</span>wi.us</span>
SUMMARY:Early Release -
DESCRIPTION:
URL:https://www.milton.k12.wi.us/event/early-release-85/
CATEGORIES:Consolidated
END:VEVENT
BEGIN:VEVENT
DTSTART;TZID=America/Chicago:20260615T180000
DTEND;TZID=America/Chicago:20260615T200000
DTSTAMP:20260424T192602
CREATED:20240917T180402Z
LAST-MODIFIED:20260424T200759Z
UID:<span 
                data-original-string='TyOXzLetL44NEvxtH4382A==386QElZ1mggVaa3LKjmYqqUdEBbiDNOMw0E+nOYVh0loVFLCTBNpzdqP7ivHdMD/Ro56/paxBR46msx/WtW/0/NsA=='
                class='apbct-email-encoder'
                title='This contact has been encoded by Anti-Spam by CleanTalk. Click to decode. To finish the decoding make sure that JavaScript is enabled in your browser.'>10<span class="apbct-blur">****************************</span>@<span class="apbct-blur">***************</span>wi.us</span>
SUMMARY:PAWS mtg
DESCRIPTION:
URL:https://www.milton.k12.wi.us/event/paws-mtg-22/
CATEGORIES:Milton West Elementary
END:VEVENT
BEGIN:VEVENT
DTSTART;TZID=America/Chicago:20260616T180000
DTEND;TZID=America/Chicago:20260616T190000
DTSTAMP:20260424T192602
CREATED:20240823T224239Z
LAST-MODIFIED:20260424T200945Z
UID:<span 
                data-original-string='hl41l4iMjycNHAZkrS4Pow==386DwAd8+rwhrtGtk8T+9c/JYo/dBfApusi1o10fmc3FmRHzl2RKiSEohRsVtGXc9fcOuF05jO2TywB9JFAUkLQSA=='
                class='apbct-email-encoder'
                title='This contact has been encoded by Anti-Spam by CleanTalk. Click to decode. To finish the decoding make sure that JavaScript is enabled in your browser.'>10<span class="apbct-blur">****************************</span>@<span class="apbct-blur">***************</span>wi.us</span>
SUMMARY:FON Meeting
DESCRIPTION:
URL:https://www.milton.k12.wi.us/event/fon-meeting-22/
CATEGORIES:Northside Intermediate
END:VEVENT
BEGIN:VEVENT
DTSTART;TZID=America/Chicago:20260622T143500
DTEND;TZID=America/Chicago:20260622T153500
DTSTAMP:20260424T192602
CREATED:20240822T012948Z
LAST-MODIFIED:20260424T201052Z
UID:<span 
                data-original-string='R0zCHMHxI0ETlMHA7TzjjA==386YWG4hUD/NYt0CTILZz/l9l97IX4H0TLiVJEl4YyI4+mH8S+raf12l7SNgCiWOIJVuFwz/ZJpPSDnDZRUSP9FFw=='
                class='apbct-email-encoder'
                title='This contact has been encoded by Anti-Spam by CleanTalk. Click to decode. To finish the decoding make sure that JavaScript is enabled in your browser.'>10<span class="apbct-blur">****************************</span>@<span class="apbct-blur">***************</span>wi.us</span>
SUMMARY:Early Release -
DESCRIPTION:
URL:https://www.milton.k12.wi.us/event/early-release-86/
CATEGORIES:Consolidated
END:VEVENT
BEGIN:VEVENT
DTSTART;TZID=America/Chicago:20260622T183000
DTEND;TZID=America/Chicago:20260622T203000
DTSTAMP:20260424T192602
CREATED:20240822T012959Z
LAST-MODIFIED:20260424T201506Z
UID:<span 
                data-original-string='8FqnYjw9wSVOgJ9p2XZzNQ==386VgF0R+k8W6av6llRaBvS3wbcysY4m2YXgg30w544u24+h0llNqiW08X/28K54cjI1zdqhY+jY5pIcT8pc7An3g=='
                class='apbct-email-encoder'
                title='This contact has been encoded by Anti-Spam by CleanTalk. Click to decode. To finish the decoding make sure that JavaScript is enabled in your browser.'>10<span class="apbct-blur">****************************</span>@<span class="apbct-blur">***************</span>wi.us</span>
SUMMARY:School Board Meeting
DESCRIPTION:
URL:https://www.milton.k12.wi.us/event/school-board-meeting-49/
LOCATION:School District of Milton\, 448 E High St\, Milton\, WI\, United States
CATEGORIES:District
GEO:42.773036;-88.944404
X-APPLE-STRUCTURED-LOCATION;VALUE=URI;X-ADDRESS=School District of Milton 448 E High St Milton WI United States;X-APPLE-RADIUS=500;X-TITLE=448 E High St:geo:-88.944404,42.773036
END:VEVENT
BEGIN:VEVENT
DTSTART;TZID=America/Chicago:20260629T143500
DTEND;TZID=America/Chicago:20260629T153500
DTSTAMP:20260424T192602
CREATED:20240822T012949Z
LAST-MODIFIED:20260424T201053Z
UID:<span 
                data-original-string='MYzDLpvUQXPypSO6TUXHwA==386NoI0x366qosOMFpe2zhWhkQIJrpZULNcbRUA5z2j8ZXIxzJm/fWPMdEkqBB+WQh6SOOCI95/Ma1bGC78zLQ/OQ=='
                class='apbct-email-encoder'
                title='This contact has been encoded by Anti-Spam by CleanTalk. Click to decode. To finish the decoding make sure that JavaScript is enabled in your browser.'>10<span class="apbct-blur">****************************</span>@<span class="apbct-blur">***************</span>wi.us</span>
SUMMARY:Early Release -
DESCRIPTION:
URL:https://www.milton.k12.wi.us/event/early-release-87/
CATEGORIES:Consolidated
END:VEVENT
BEGIN:VEVENT
DTSTART;TZID=America/Chicago:20260706T143500
DTEND;TZID=America/Chicago:20260706T153500
DTSTAMP:20260424T192602
CREATED:20240822T012949Z
LAST-MODIFIED:20260424T201053Z
UID:<span 
                data-original-string='MZ8HfdG1+mtCEVbaqCzVBw==386qcP3CZiOHmgb9rY9e6bZYo3UeJqtRNrEujsOQPDTt5j+Uyy3iQl8dNV3bcirx+z4O5XNkcBHIT6EzD9AOAu8hQ=='
                class='apbct-email-encoder'
                title='This contact has been encoded by Anti-Spam by CleanTalk. Click to decode. To finish the decoding make sure that JavaScript is enabled in your browser.'>10<span class="apbct-blur">****************************</span>@<span class="apbct-blur">***************</span>wi.us</span>
SUMMARY:Early Release -
DESCRIPTION:
URL:https://www.milton.k12.wi.us/event/early-release-88/
CATEGORIES:Consolidated
END:VEVENT
END:VCALENDAR