BEGIN:VCALENDAR
VERSION:2.0
PRODID:-//School District of Milton - ECPv6.15.20//NONSGML v1.0//EN
CALSCALE:GREGORIAN
METHOD:PUBLISH
X-ORIGINAL-URL:https://www.milton.k12.wi.us
X-WR-CALDESC:Events for School District of Milton
REFRESH-INTERVAL;VALUE=DURATION:PT1H
X-Robots-Tag:noindex
X-PUBLISHED-TTL:PT1H
BEGIN:VTIMEZONE
TZID:America/Chicago
BEGIN:DAYLIGHT
TZOFFSETFROM:-0600
TZOFFSETTO:-0500
TZNAME:CDT
DTSTART:20230312T080000
END:DAYLIGHT
BEGIN:STANDARD
TZOFFSETFROM:-0500
TZOFFSETTO:-0600
TZNAME:CST
DTSTART:20231105T070000
END:STANDARD
BEGIN:DAYLIGHT
TZOFFSETFROM:-0600
TZOFFSETTO:-0500
TZNAME:CDT
DTSTART:20240310T080000
END:DAYLIGHT
BEGIN:STANDARD
TZOFFSETFROM:-0500
TZOFFSETTO:-0600
TZNAME:CST
DTSTART:20241103T070000
END:STANDARD
BEGIN:DAYLIGHT
TZOFFSETFROM:-0600
TZOFFSETTO:-0500
TZNAME:CDT
DTSTART:20250309T080000
END:DAYLIGHT
BEGIN:STANDARD
TZOFFSETFROM:-0500
TZOFFSETTO:-0600
TZNAME:CST
DTSTART:20251102T070000
END:STANDARD
END:VTIMEZONE
BEGIN:VEVENT
DTSTART;VALUE=DATE:20241111
DTEND;VALUE=DATE:20241112
DTSTAMP:20260421T070914
CREATED:20241016T193811Z
LAST-MODIFIED:20241111T225925Z
UID:<span 
                data-original-string='cUUwgyJvVPb/ITZ/J84sYA==386Y/pFFVLhbso+Irtl35gdb47OYQUWzukNLST14b3KuNcLQnRe5yVqsSk24nrkpPb98ty/EOtRbfgoMAXUcVOL4g=='
                class='apbct-email-encoder'
                title='This contact has been encoded by Anti-Spam by CleanTalk. Click to decode. To finish the decoding make sure that JavaScript is enabled in your browser.'>10<span class="apbct-blur">****************************</span>@<span class="apbct-blur">***************</span>wi.us</span>
SUMMARY:Day 5
DESCRIPTION:
URL:https://www.milton.k12.wi.us/event/day-5-8/
CATEGORIES:Northside Intermediate
END:VEVENT
BEGIN:VEVENT
DTSTART;TZID=America/Chicago:20241111T091500
DTEND;TZID=America/Chicago:20241111T101500
DTSTAMP:20260421T070914
CREATED:20240917T180258Z
LAST-MODIFIED:20241110T220722Z
UID:<span 
                data-original-string='msCL1QA6JeO8hjqAeE6Xnw==386RqB9tpkhxwhNHoo94x/wmwHb6gmEHEolw3hwe7dtsTZLDyNpxF+nkhfYB1xueNKAyRarsSfnSWxqqgn5ivcF/Q=='
                class='apbct-email-encoder'
                title='This contact has been encoded by Anti-Spam by CleanTalk. Click to decode. To finish the decoding make sure that JavaScript is enabled in your browser.'>10<span class="apbct-blur">****************************</span>@<span class="apbct-blur">***************</span>wi.us</span>
SUMMARY:Veterans Day Program
DESCRIPTION:
URL:https://www.milton.k12.wi.us/event/veterans-day-program/
CATEGORIES:Milton West Elementary
END:VEVENT
BEGIN:VEVENT
DTSTART;TZID=America/Chicago:20241111T143500
DTEND;TZID=America/Chicago:20241111T153500
DTSTAMP:20260421T070914
CREATED:20240822T012925Z
LAST-MODIFIED:20241111T205408Z
UID:<span 
                data-original-string='6Wlm2JHE80PaGBWQfHIbPA==3862BQ1l/k+Lck8OwYbS78LLwCzqTHVQaaghX84nM6QaGYlm4Hqd/EwOFElytGuf16lNulOQ9xjuAtaV63wD6aGcA=='
                class='apbct-email-encoder'
                title='This contact has been encoded by Anti-Spam by CleanTalk. Click to decode. To finish the decoding make sure that JavaScript is enabled in your browser.'>10<span class="apbct-blur">****************************</span>@<span class="apbct-blur">***************</span>wi.us</span>
SUMMARY:Early Release -
DESCRIPTION:
URL:https://www.milton.k12.wi.us/event/early-release-8/
CATEGORIES:Consolidated
END:VEVENT
BEGIN:VEVENT
DTSTART;TZID=America/Chicago:20241111T143500
DTEND;TZID=America/Chicago:20241111T153500
DTSTAMP:20260421T070914
CREATED:20240909T203757Z
LAST-MODIFIED:20241111T190728Z
UID:<span 
                data-original-string='Tc0m95iDpMDrkgSntR181w==386aI4nLCzx5vFLlboghJ12rdpcJPByUXmSH6oU0oAzHq+euG7kopBGz5cU5XsVQzTu0GLs5fOL+zpXuuhzVsxpYA=='
                class='apbct-email-encoder'
                title='This contact has been encoded by Anti-Spam by CleanTalk. Click to decode. To finish the decoding make sure that JavaScript is enabled in your browser.'>10<span class="apbct-blur">****************************</span>@<span class="apbct-blur">***************</span>wi.us</span>
SUMMARY:HES: Early Release
DESCRIPTION:
URL:https://www.milton.k12.wi.us/event/hes-early-release-7/
CATEGORIES:Harmony Elementary
END:VEVENT
BEGIN:VEVENT
DTSTART;TZID=America/Chicago:20241111T183000
DTEND;TZID=America/Chicago:20241111T203000
DTSTAMP:20260421T070914
CREATED:20240822T012951Z
LAST-MODIFIED:20241111T235227Z
UID:<span 
                data-original-string='mTeTkC8taAXCKl+KTj391Q==3865LbNY4NCiUUE7LEbY3O7DnpKg9GPu9KTW8ryXhcJEIM64hL1zXokWfdjhfdGuAvV2Fy7XRl9KIGgwJ2q0VhaYA=='
                class='apbct-email-encoder'
                title='This contact has been encoded by Anti-Spam by CleanTalk. Click to decode. To finish the decoding make sure that JavaScript is enabled in your browser.'>10<span class="apbct-blur">****************************</span>@<span class="apbct-blur">***************</span>wi.us</span>
SUMMARY:School Board Meeting
DESCRIPTION:
URL:https://www.milton.k12.wi.us/event/school-board-meeting-6/
CATEGORIES:District
END:VEVENT
BEGIN:VEVENT
DTSTART;VALUE=DATE:20241112
DTEND;VALUE=DATE:20241113
DTSTAMP:20260421T070914
CREATED:20241016T193811Z
LAST-MODIFIED:20241112T225241Z
UID:<span 
                data-original-string='Qd9bIHg55pwUSrMzq4NqbA==386ABw82lafv80lD/1kCcYE9dy06WdG4RMPXo/E8iuklWnFy479v8JMMaRUcRV6XkH+4sxFLgE/D3Cj6p7GOj2cyw=='
                class='apbct-email-encoder'
                title='This contact has been encoded by Anti-Spam by CleanTalk. Click to decode. To finish the decoding make sure that JavaScript is enabled in your browser.'>10<span class="apbct-blur">****************************</span>@<span class="apbct-blur">***************</span>wi.us</span>
SUMMARY:Day 6
DESCRIPTION:
URL:https://www.milton.k12.wi.us/event/day-6-8/
CATEGORIES:Northside Intermediate
END:VEVENT
BEGIN:VEVENT
DTSTART;TZID=America/Chicago:20241112T163000
DTEND;TZID=America/Chicago:20241112T193000
DTSTAMP:20260421T070914
CREATED:20240822T004447Z
LAST-MODIFIED:20241112T233733Z
UID:<span 
                data-original-string='nS5S5oVTHQ7h0GEsKwDMAA==386bxkZMX8ukMsPSTlyuUl++5S5lRLXBym89Pdm28mnehsoMHVd5WwKQfZs4fAZEDPBDGUcvd4De4ChJcg9ywtR2g=='
                class='apbct-email-encoder'
                title='This contact has been encoded by Anti-Spam by CleanTalk. Click to decode. To finish the decoding make sure that JavaScript is enabled in your browser.'>10<span class="apbct-blur">****************************</span>@<span class="apbct-blur">***************</span>wi.us</span>
SUMMARY:EES:  Scoopie Night
DESCRIPTION:
URL:https://www.milton.k12.wi.us/event/ees-scoopie-night-2/
CATEGORIES:Milton East Elementary
END:VEVENT
BEGIN:VEVENT
DTSTART;TZID=America/Chicago:20241112T180000
DTEND;TZID=America/Chicago:20241112T190000
DTSTAMP:20260421T070914
CREATED:20240822T004447Z
LAST-MODIFIED:20241105T180741Z
UID:<span 
                data-original-string='694+cA4LnmBw0zzUkpcNuA==386BJmhykBhE+AOv5D5hqBs4/AxcUMiS12Mfr6+qAmctomGmdptKh7FfWA/mFozBoYFRhK7HGQYeSirN7T4lEekoQ=='
                class='apbct-email-encoder'
                title='This contact has been encoded by Anti-Spam by CleanTalk. Click to decode. To finish the decoding make sure that JavaScript is enabled in your browser.'>10<span class="apbct-blur">****************************</span>@<span class="apbct-blur">***************</span>wi.us</span>
SUMMARY:EES:  MEPG meeting
DESCRIPTION:
URL:https://www.milton.k12.wi.us/event/ees-mepg-meeting-3/
CATEGORIES:Milton East Elementary
END:VEVENT
BEGIN:VEVENT
DTSTART;TZID=America/Chicago:20241112T183000
DTEND;TZID=America/Chicago:20241112T193000
DTSTAMP:20260421T070914
CREATED:20240822T012925Z
LAST-MODIFIED:20241112T225349Z
UID:<span 
                data-original-string='QIB2QOejsg/q7U0lDjk0zQ==386qJK3+LEJnvPXXbVEr3My8JOBusZwdcnNoqGvmg4reZ2WmCUuexXTciOHNMqOA/yRe/5Se3jnVM6LtrFdJ17Qqg=='
                class='apbct-email-encoder'
                title='This contact has been encoded by Anti-Spam by CleanTalk. Click to decode. To finish the decoding make sure that JavaScript is enabled in your browser.'>10<span class="apbct-blur">****************************</span>@<span class="apbct-blur">***************</span>wi.us</span>
SUMMARY:PIE meeting
DESCRIPTION:
URL:https://www.milton.k12.wi.us/event/pie-meeting-3/
CATEGORIES:Consolidated
END:VEVENT
BEGIN:VEVENT
DTSTART;VALUE=DATE:20241113
DTEND;VALUE=DATE:20241114
DTSTAMP:20260421T070914
CREATED:20241016T193810Z
LAST-MODIFIED:20241113T225453Z
UID:<span 
                data-original-string='rueQJweeT57C2wrO2ZvaBA==386USGHTLQmGvrs0tDGhHRbXlGIA3y3ACUbm3sRvj952Bji7CGisr3X1Z2DH2PfjsSB9rRQSVtfg3Kc6bOJDms81w=='
                class='apbct-email-encoder'
                title='This contact has been encoded by Anti-Spam by CleanTalk. Click to decode. To finish the decoding make sure that JavaScript is enabled in your browser.'>10<span class="apbct-blur">****************************</span>@<span class="apbct-blur">***************</span>wi.us</span>
SUMMARY:Day 1
DESCRIPTION:
URL:https://www.milton.k12.wi.us/event/day-1-9/
CATEGORIES:Northside Intermediate
END:VEVENT
BEGIN:VEVENT
DTSTART;TZID=America/Chicago:20241113T160000
DTEND;TZID=America/Chicago:20241113T180000
DTSTAMP:20260421T070914
CREATED:20241030T222227Z
LAST-MODIFIED:20241113T233841Z
UID:<span 
                data-original-string='6/YqVkwdbSEJoVB/9CsXJQ==386YmCDkueyW4FvaYceS+QCbWKvJU9HN7BoFBKVRhilmdSoXyTp81inU7SBxQ9kYQKJxNKOrncjO42qY8wqDSjFag=='
                class='apbct-email-encoder'
                title='This contact has been encoded by Anti-Spam by CleanTalk. Click to decode. To finish the decoding make sure that JavaScript is enabled in your browser.'>10<span class="apbct-blur">****************************</span>@<span class="apbct-blur">***************</span>wi.us</span>
SUMMARY:EES:  Emil's pizza pick up
DESCRIPTION:
URL:https://www.milton.k12.wi.us/event/ees-emils-pizza-pick-up/
CATEGORIES:Milton East Elementary
END:VEVENT
BEGIN:VEVENT
DTSTART;TZID=America/Chicago:20241113T163000
DTEND;TZID=America/Chicago:20241113T193000
DTSTAMP:20260421T070914
CREATED:20240824T110757Z
LAST-MODIFIED:20241113T225453Z
UID:<span 
                data-original-string='Fn42mS/viKnCvJzeH+C4IQ==386gLorRLw5xPFX1PSDZXGPkEFQeLQimnBAWZ19pKacf+CcXvdvcW5z0YCAo933Qi5clpVI27wvu02uU356P2nicg=='
                class='apbct-email-encoder'
                title='This contact has been encoded by Anti-Spam by CleanTalk. Click to decode. To finish the decoding make sure that JavaScript is enabled in your browser.'>10<span class="apbct-blur">****************************</span>@<span class="apbct-blur">***************</span>wi.us</span>
SUMMARY:Scoopie Night (Northside)
DESCRIPTION:
URL:https://www.milton.k12.wi.us/event/scoopie-night-northside/
CATEGORIES:Northside Intermediate
END:VEVENT
BEGIN:VEVENT
DTSTART;VALUE=DATE:20241114
DTEND;VALUE=DATE:20241115
DTSTAMP:20260421T070914
CREATED:20241016T193807Z
LAST-MODIFIED:20241114T225306Z
UID:<span 
                data-original-string='S0hISiDmnVYu1WwNgE5/iw==386VPpqPldA859UrRC2bW9Z+ITGJPtr7SPhHwliRGZFiObHBKNAATIU10D/GNGb5z6T/c50r/nYlLLLVx017sM3lw=='
                class='apbct-email-encoder'
                title='This contact has been encoded by Anti-Spam by CleanTalk. Click to decode. To finish the decoding make sure that JavaScript is enabled in your browser.'>10<span class="apbct-blur">****************************</span>@<span class="apbct-blur">***************</span>wi.us</span>
SUMMARY:Day 2
DESCRIPTION:
URL:https://www.milton.k12.wi.us/event/day-2-9/
CATEGORIES:Northside Intermediate
END:VEVENT
BEGIN:VEVENT
DTSTART;VALUE=DATE:20241115
DTEND;VALUE=DATE:20241116
DTSTAMP:20260421T070914
CREATED:20241016T193812Z
LAST-MODIFIED:20241115T230112Z
UID:<span 
                data-original-string='N0ttm7tZBdntbJ+1UKByFw==386ThJVtONtvam5iFtONvkMaoYiadtSXDNUIz/cbxTUiKDLvxw3lTV41o/eTxRWe3cFY3QH2p01SvdPTT8JSLyHww=='
                class='apbct-email-encoder'
                title='This contact has been encoded by Anti-Spam by CleanTalk. Click to decode. To finish the decoding make sure that JavaScript is enabled in your browser.'>10<span class="apbct-blur">****************************</span>@<span class="apbct-blur">***************</span>wi.us</span>
SUMMARY:Day 3
DESCRIPTION:
URL:https://www.milton.k12.wi.us/event/day-3-9/
CATEGORIES:Northside Intermediate
END:VEVENT
BEGIN:VEVENT
DTSTART;TZID=America/Chicago:20241115T180000
DTEND;TZID=America/Chicago:20241115T190000
DTSTAMP:20260421T070914
CREATED:20240822T004839Z
LAST-MODIFIED:20241115T220928Z
UID:<span 
                data-original-string='cO+FAZzK6FYgFEHDQA7CbQ==386ZL0xm2YfJhgwGwLy8khi3Gf4jQ3Rz5CVgK1cdbDa1e3PkIj2Nn8NG/g4wpT2dmCvlfz5oqexz3MsuLpToSAnjw=='
                class='apbct-email-encoder'
                title='This contact has been encoded by Anti-Spam by CleanTalk. Click to decode. To finish the decoding make sure that JavaScript is enabled in your browser.'>10<span class="apbct-blur">****************************</span>@<span class="apbct-blur">***************</span>wi.us</span>
SUMMARY:PAWS Family Fun Night: Bingo
DESCRIPTION:
URL:https://www.milton.k12.wi.us/event/paws-family-fun-night-bingo/
CATEGORIES:Milton West Elementary
END:VEVENT
BEGIN:VEVENT
DTSTART;TZID=America/Chicago:20241115T190000
DTEND;TZID=America/Chicago:20241115T190000
DTSTAMP:20260421T070914
CREATED:20240822T004635Z
LAST-MODIFIED:20241115T215235Z
UID:<span 
                data-original-string='7fwvFdjCY7NWEu5Xx6Y5xw==386BdBOvx1mycwuSPU3WuhiCaqkgP6FaQbOaNc16pbfAiu4CoRWeL0PaeFgiWeAieKd69pLGa8MEigrgAMiXpGsyg=='
                class='apbct-email-encoder'
                title='This contact has been encoded by Anti-Spam by CleanTalk. Click to decode. To finish the decoding make sure that JavaScript is enabled in your browser.'>10<span class="apbct-blur">****************************</span>@<span class="apbct-blur">***************</span>wi.us</span>
SUMMARY:MHS Musical: Matilda
DESCRIPTION:
URL:https://www.milton.k12.wi.us/event/mhs-musical-matilda/
CATEGORIES:Milton High School
END:VEVENT
BEGIN:VEVENT
DTSTART;TZID=America/Chicago:20241115T190000
DTEND;TZID=America/Chicago:20241115T210000
DTSTAMP:20260421T070914
CREATED:20241113T193818Z
LAST-MODIFIED:20241115T235533Z
UID:<span 
                data-original-string='DyDioggG1pyiaInKc5vi9w==386XvAUJbVnRCxlsfYMGf2moqbKwKCN70N0I9rkEHEtZVq+PFJ13gA0CBrtj1uz6GXP4dJDfFqfVvC+g+Od0gGjAg=='
                class='apbct-email-encoder'
                title='This contact has been encoded by Anti-Spam by CleanTalk. Click to decode. To finish the decoding make sure that JavaScript is enabled in your browser.'>10<span class="apbct-blur">****************************</span>@<span class="apbct-blur">***************</span>wi.us</span>
SUMMARY:Matilda - The Musical
DESCRIPTION:
URL:https://www.milton.k12.wi.us/event/matilda-the-musical/
LOCATION:Milton High School\, 114 W High St\, Milton\, WI\, United States
CATEGORIES:District
GEO:42.773359;-88.954785
X-APPLE-STRUCTURED-LOCATION;VALUE=URI;X-ADDRESS=Milton High School 114 W High St Milton WI United States;X-APPLE-RADIUS=500;X-TITLE=114 W High St:geo:-88.954785,42.773359
END:VEVENT
BEGIN:VEVENT
DTSTART;TZID=America/Chicago:20241116T190000
DTEND;TZID=America/Chicago:20241116T190000
DTSTAMP:20260421T070914
CREATED:20240822T004635Z
LAST-MODIFIED:20241116T215910Z
UID:<span 
                data-original-string='yjQ0l5HosFoVC4GSaPY93w==386xMsU37uOZpGVLNCg6est/wFQKo7R8cpaj0cpBbWhgAux0koXuKB4zXkky5C3LCF4Ze3USzkQC+E2GgFvYdglKg=='
                class='apbct-email-encoder'
                title='This contact has been encoded by Anti-Spam by CleanTalk. Click to decode. To finish the decoding make sure that JavaScript is enabled in your browser.'>10<span class="apbct-blur">****************************</span>@<span class="apbct-blur">***************</span>wi.us</span>
SUMMARY:MHS Musical: Matilda
DESCRIPTION:
URL:https://www.milton.k12.wi.us/event/mhs-musical-matilda-2/
CATEGORIES:Milton High School
END:VEVENT
BEGIN:VEVENT
DTSTART;TZID=America/Chicago:20241116T190000
DTEND;TZID=America/Chicago:20241116T210000
DTSTAMP:20260421T070914
CREATED:20241113T193819Z
LAST-MODIFIED:20241116T235231Z
UID:<span 
                data-original-string='HdwplZ06X/TNQGilOA+cFQ==386R2AJUkscDfQ+SlLpQKJ+Ff1a9ZT4KNUqC+j7pi8isH8z4JoWJTi2uAZWXCRmyTW52RojH+S5iUBS7BWllcb0wA=='
                class='apbct-email-encoder'
                title='This contact has been encoded by Anti-Spam by CleanTalk. Click to decode. To finish the decoding make sure that JavaScript is enabled in your browser.'>10<span class="apbct-blur">****************************</span>@<span class="apbct-blur">***************</span>wi.us</span>
SUMMARY:Matilda - The Musical
DESCRIPTION:
URL:https://www.milton.k12.wi.us/event/matilda-the-musical-2/
LOCATION:Milton High School\, 114 W High St\, Milton\, WI\, United States
CATEGORIES:District
GEO:42.773359;-88.954785
X-APPLE-STRUCTURED-LOCATION;VALUE=URI;X-ADDRESS=Milton High School 114 W High St Milton WI United States;X-APPLE-RADIUS=500;X-TITLE=114 W High St:geo:-88.954785,42.773359
END:VEVENT
BEGIN:VEVENT
DTSTART;TZID=America/Chicago:20241117T140000
DTEND;TZID=America/Chicago:20241117T140000
DTSTAMP:20260421T070914
CREATED:20240822T004636Z
LAST-MODIFIED:20241117T140747Z
UID:<span 
                data-original-string='51eLNfKSfG2x4d3VWWpmrQ==386cG+o99It2RKd39L5VUAQacUAYSLmaRCXyqdwowZ2WcFPGzy45v3Gwpef/SpAAtLybEP26dNAZp+5Q5vC4efi7w=='
                class='apbct-email-encoder'
                title='This contact has been encoded by Anti-Spam by CleanTalk. Click to decode. To finish the decoding make sure that JavaScript is enabled in your browser.'>10<span class="apbct-blur">****************************</span>@<span class="apbct-blur">***************</span>wi.us</span>
SUMMARY:MHS Musical: Matilda
DESCRIPTION:
URL:https://www.milton.k12.wi.us/event/mhs-musical-matilda-3/
CATEGORIES:Milton High School
END:VEVENT
BEGIN:VEVENT
DTSTART;TZID=America/Chicago:20241117T140000
DTEND;TZID=America/Chicago:20241117T160000
DTSTAMP:20260421T070914
CREATED:20241113T193819Z
LAST-MODIFIED:20241117T195601Z
UID:<span 
                data-original-string='aoJU18WgAd5mu9xoVkDQ1g==386g4ot2tkH+Jo5kR2OAHU0hHtb2zvnKLcp3UaUrkk82KAkfK4qv8rj65iWtkIvcWhtyx9iQRUgq2CNBCE1kaBNlQ=='
                class='apbct-email-encoder'
                title='This contact has been encoded by Anti-Spam by CleanTalk. Click to decode. To finish the decoding make sure that JavaScript is enabled in your browser.'>10<span class="apbct-blur">****************************</span>@<span class="apbct-blur">***************</span>wi.us</span>
SUMMARY:Matilda - The Musical
DESCRIPTION:
URL:https://www.milton.k12.wi.us/event/matilda-the-musical-3/
LOCATION:Milton High School\, 114 W High St\, Milton\, WI\, United States
CATEGORIES:District
GEO:42.773359;-88.954785
X-APPLE-STRUCTURED-LOCATION;VALUE=URI;X-ADDRESS=Milton High School 114 W High St Milton WI United States;X-APPLE-RADIUS=500;X-TITLE=114 W High St:geo:-88.954785,42.773359
END:VEVENT
BEGIN:VEVENT
DTSTART;VALUE=DATE:20241118
DTEND;VALUE=DATE:20241119
DTSTAMP:20260421T070914
CREATED:20241016T193815Z
LAST-MODIFIED:20241118T225335Z
UID:<span 
                data-original-string='VuzxbSY1YUdwOVRDQb74bQ==3864KmB1G4jsMNy341ind8Z4Vk/YKWNtMAKpE9eAdWmaqB4pcQxgeheyr1uSmxUW+h7dymahUFqCJjQoT34RKpxkg=='
                class='apbct-email-encoder'
                title='This contact has been encoded by Anti-Spam by CleanTalk. Click to decode. To finish the decoding make sure that JavaScript is enabled in your browser.'>10<span class="apbct-blur">****************************</span>@<span class="apbct-blur">***************</span>wi.us</span>
SUMMARY:Day 4
DESCRIPTION:
URL:https://www.milton.k12.wi.us/event/day-4-9/
CATEGORIES:Northside Intermediate
END:VEVENT
BEGIN:VEVENT
DTSTART;TZID=America/Chicago:20241118T143500
DTEND;TZID=America/Chicago:20241118T153500
DTSTAMP:20260421T070914
CREATED:20240822T012925Z
LAST-MODIFIED:20241118T205306Z
UID:<span 
                data-original-string='AYRX6Ku1NDpjMm1qHmRRIA==3867m5ZNvIJe2DlP7taOefumG8l1hqvSdl3C80JboWJMILp9CJMnBGwMOhzACs60NU+Dv9TSvvpZRIr9to3wQSozA=='
                class='apbct-email-encoder'
                title='This contact has been encoded by Anti-Spam by CleanTalk. Click to decode. To finish the decoding make sure that JavaScript is enabled in your browser.'>10<span class="apbct-blur">****************************</span>@<span class="apbct-blur">***************</span>wi.us</span>
SUMMARY:Early Release -
DESCRIPTION:
URL:https://www.milton.k12.wi.us/event/early-release-9/
CATEGORIES:Consolidated
END:VEVENT
BEGIN:VEVENT
DTSTART;TZID=America/Chicago:20241118T143500
DTEND;TZID=America/Chicago:20241118T153500
DTSTAMP:20260421T070914
CREATED:20240909T203758Z
LAST-MODIFIED:20241118T192851Z
UID:<span 
                data-original-string='a+PceLvElqyHDbYO4WTSvQ==386OBiiOiD7JkNVRaWqCt8skbv5azv/NTGs0IjX/H70ocd7ZYhN2y+L3E/pIj19ZIXI7lKl1dhfg021d2yhEKvAyA=='
                class='apbct-email-encoder'
                title='This contact has been encoded by Anti-Spam by CleanTalk. Click to decode. To finish the decoding make sure that JavaScript is enabled in your browser.'>10<span class="apbct-blur">****************************</span>@<span class="apbct-blur">***************</span>wi.us</span>
SUMMARY:HES: Early Release
DESCRIPTION:
URL:https://www.milton.k12.wi.us/event/hes-early-release-8/
CATEGORIES:Harmony Elementary
END:VEVENT
BEGIN:VEVENT
DTSTART;TZID=America/Chicago:20241118T180000
DTEND;TZID=America/Chicago:20241118T200000
DTSTAMP:20260421T070914
CREATED:20240917T180259Z
LAST-MODIFIED:20241118T220958Z
UID:<span 
                data-original-string='U08LzXNKMGkIcJIXYWgMXw==386bUed4j3VRcOId46MBmu25AAuJpp2sAWseMX4l2Ro6zBueI7Vao5evZAWLDx0EESVUAzl84voxmko9rYF2c7niw=='
                class='apbct-email-encoder'
                title='This contact has been encoded by Anti-Spam by CleanTalk. Click to decode. To finish the decoding make sure that JavaScript is enabled in your browser.'>10<span class="apbct-blur">****************************</span>@<span class="apbct-blur">***************</span>wi.us</span>
SUMMARY:PAWS mtg
DESCRIPTION:
URL:https://www.milton.k12.wi.us/event/paws-mtg-2/
CATEGORIES:Milton West Elementary
END:VEVENT
BEGIN:VEVENT
DTSTART;VALUE=DATE:20241119
DTEND;VALUE=DATE:20241120
DTSTAMP:20260421T070914
CREATED:20241016T193816Z
LAST-MODIFIED:20241119T225237Z
UID:<span 
                data-original-string='SU3Vhw9e0eqiJmvhHWSy6A==386/8xx6YjJbz8yoczdTgK9kjboOZZK/du3Apzr/tH0tXs9IQRk32l2HRn/+EkhRXgjYIy4dGP7yPp1ghHz5Its8Q=='
                class='apbct-email-encoder'
                title='This contact has been encoded by Anti-Spam by CleanTalk. Click to decode. To finish the decoding make sure that JavaScript is enabled in your browser.'>10<span class="apbct-blur">****************************</span>@<span class="apbct-blur">***************</span>wi.us</span>
SUMMARY:Day 5
DESCRIPTION:
URL:https://www.milton.k12.wi.us/event/day-5-9/
CATEGORIES:Northside Intermediate
END:VEVENT
BEGIN:VEVENT
DTSTART;TZID=America/Chicago:20241119T160000
DTEND;TZID=America/Chicago:20241119T163000
DTSTAMP:20260421T070914
CREATED:20241119T180758Z
LAST-MODIFIED:20241119T202552Z
UID:<span 
                data-original-string='u5iJLu+OC8cTDFoVLn0ukg==3868nxAX6QW6KKaFmrR2bc0aDu+jYchpaX4pCnK77wYEmCMVyU+08WXzUbfYv/K9s1e0wNOXAKHVeKq1O802/RPbw=='
                class='apbct-email-encoder'
                title='This contact has been encoded by Anti-Spam by CleanTalk. Click to decode. To finish the decoding make sure that JavaScript is enabled in your browser.'>10<span class="apbct-blur">****************************</span>@<span class="apbct-blur">***************</span>wi.us</span>
SUMMARY:Test 1
DESCRIPTION:
URL:https://www.milton.k12.wi.us/event/test-1/
CATEGORIES:Milton East Elementary
END:VEVENT
BEGIN:VEVENT
DTSTART;TZID=America/Chicago:20241119T160000
DTEND;TZID=America/Chicago:20241119T200000
DTSTAMP:20260421T070914
CREATED:20241107T162322Z
LAST-MODIFIED:20241119T233740Z
UID:<span 
                data-original-string='jf2nHMNoawsFkJOy0WFJMQ==386idVh8UgI1iE3nV4lZiNacI+Rn/9Rjy2XAZZgBb/pcmhl9y9TGx7KiwCKS3DhrUpdolWf3ZCuM1alY39zjTvPcA=='
                class='apbct-email-encoder'
                title='This contact has been encoded by Anti-Spam by CleanTalk. Click to decode. To finish the decoding make sure that JavaScript is enabled in your browser.'>10<span class="apbct-blur">****************************</span>@<span class="apbct-blur">***************</span>wi.us</span>
SUMMARY:MMS Scoopie Night @ Milton Ave
DESCRIPTION:
URL:https://www.milton.k12.wi.us/event/mms-scoopie-night-milton-ave/
CATEGORIES:Milton Middle School
END:VEVENT
BEGIN:VEVENT
DTSTART;TZID=America/Chicago:20241119T180000
DTEND;TZID=America/Chicago:20241119T190000
DTSTAMP:20260421T070914
CREATED:20240823T224230Z
LAST-MODIFIED:20241119T225237Z
UID:<span 
                data-original-string='TtV2hUafO8WsQdiibKIgyQ==386FXIwXMnnqsP8vI3yMmexBzqNVZ+peyPBhUOrml0FeAzBMNXRIqSGXs0jK+R/ezabdcabH9gY8s0o3d3sgeBg1A=='
                class='apbct-email-encoder'
                title='This contact has been encoded by Anti-Spam by CleanTalk. Click to decode. To finish the decoding make sure that JavaScript is enabled in your browser.'>10<span class="apbct-blur">****************************</span>@<span class="apbct-blur">***************</span>wi.us</span>
SUMMARY:FON Meeting
DESCRIPTION:
URL:https://www.milton.k12.wi.us/event/fon-meeting-3/
CATEGORIES:Northside Intermediate
END:VEVENT
BEGIN:VEVENT
DTSTART;VALUE=DATE:20241120
DTEND;VALUE=DATE:20241121
DTSTAMP:20260421T070914
CREATED:20241016T193815Z
LAST-MODIFIED:20241120T230729Z
UID:<span 
                data-original-string='N98wlQpMaHVxDZ+sjxz+SQ==386Qs/ZLkl7Qg4/17BDucxxCpN6KOmoV1iRRWuheNmShu/L9u2aT00e7qq2R+v4t7VHuxgzxRrHIKZ0VWEsbryd2A=='
                class='apbct-email-encoder'
                title='This contact has been encoded by Anti-Spam by CleanTalk. Click to decode. To finish the decoding make sure that JavaScript is enabled in your browser.'>10<span class="apbct-blur">****************************</span>@<span class="apbct-blur">***************</span>wi.us</span>
SUMMARY:Day 6
DESCRIPTION:
URL:https://www.milton.k12.wi.us/event/day-6-9/
CATEGORIES:Northside Intermediate
END:VEVENT
END:VCALENDAR