BEGIN:VCALENDAR
VERSION:2.0
PRODID:-//School District of Milton - ECPv6.15.20//NONSGML v1.0//EN
CALSCALE:GREGORIAN
METHOD:PUBLISH
X-ORIGINAL-URL:https://www.milton.k12.wi.us
X-WR-CALDESC:Events for School District of Milton
REFRESH-INTERVAL;VALUE=DURATION:PT1H
X-Robots-Tag:noindex
X-PUBLISHED-TTL:PT1H
BEGIN:VTIMEZONE
TZID:America/Chicago
BEGIN:DAYLIGHT
TZOFFSETFROM:-0600
TZOFFSETTO:-0500
TZNAME:CDT
DTSTART:20240310T080000
END:DAYLIGHT
BEGIN:STANDARD
TZOFFSETFROM:-0500
TZOFFSETTO:-0600
TZNAME:CST
DTSTART:20241103T070000
END:STANDARD
BEGIN:DAYLIGHT
TZOFFSETFROM:-0600
TZOFFSETTO:-0500
TZNAME:CDT
DTSTART:20250309T080000
END:DAYLIGHT
BEGIN:STANDARD
TZOFFSETFROM:-0500
TZOFFSETTO:-0600
TZNAME:CST
DTSTART:20251102T070000
END:STANDARD
BEGIN:DAYLIGHT
TZOFFSETFROM:-0600
TZOFFSETTO:-0500
TZNAME:CDT
DTSTART:20260308T080000
END:DAYLIGHT
BEGIN:STANDARD
TZOFFSETFROM:-0500
TZOFFSETTO:-0600
TZNAME:CST
DTSTART:20261101T070000
END:STANDARD
END:VTIMEZONE
BEGIN:VEVENT
DTSTART;VALUE=DATE:20250310
DTEND;VALUE=DATE:20250311
DTSTAMP:20260419T075617
CREATED:20250224T163849Z
LAST-MODIFIED:20250310T233733Z
UID:<span 
                data-original-string='EPUknnglb+CqXKsP7rPZRg==386c5IRlAyOwKmj4wIBKTAqWy84CO7nJRd646BoNjkAOMjUgFiT90iL1ag7vSN0ZqgjDR4KGjLGKOXSZIbtbFnMww=='
                class='apbct-email-encoder'
                title='This contact has been encoded by Anti-Spam by CleanTalk. Click to decode. To finish the decoding make sure that JavaScript is enabled in your browser.'>10<span class="apbct-blur">****************************</span>@<span class="apbct-blur">***************</span>wi.us</span>
SUMMARY:Day 6
DESCRIPTION:
URL:https://www.milton.k12.wi.us/event/day-6-21/
CATEGORIES:Northside Intermediate
END:VEVENT
BEGIN:VEVENT
DTSTART;TZID=America/Chicago:20250310T143500
DTEND;TZID=America/Chicago:20250310T153500
DTSTAMP:20260419T075617
CREATED:20240822T012929Z
LAST-MODIFIED:20250310T202241Z
UID:<span 
                data-original-string='PXz5CF5/7iYT/JLiw7sy6w==386xtOD1iDNSEHIlg3ARHTw57y/W/8iedsmGJOtFREycwUokAUQ3rMREiDzU27D6Bo40S+IA0xyNkEwTALKjT8I0w=='
                class='apbct-email-encoder'
                title='This contact has been encoded by Anti-Spam by CleanTalk. Click to decode. To finish the decoding make sure that JavaScript is enabled in your browser.'>10<span class="apbct-blur">****************************</span>@<span class="apbct-blur">***************</span>wi.us</span>
SUMMARY:Early Release -
DESCRIPTION:
URL:https://www.milton.k12.wi.us/event/early-release-20/
CATEGORIES:Consolidated
END:VEVENT
BEGIN:VEVENT
DTSTART;TZID=America/Chicago:20250310T143500
DTEND;TZID=America/Chicago:20250310T153500
DTSTAMP:20260419T075617
CREATED:20240909T204107Z
LAST-MODIFIED:20250310T153726Z
UID:<span 
                data-original-string='MjehfhWKCkGCneQ57+qGpA==386phLmBT78u+J1IZMjC6u4RUdgUpB5McdKq4dIYiI0EW074WaLV/+HEzhiNyioLLisl+il62HcRmskZQ9FbTLoKQ=='
                class='apbct-email-encoder'
                title='This contact has been encoded by Anti-Spam by CleanTalk. Click to decode. To finish the decoding make sure that JavaScript is enabled in your browser.'>10<span class="apbct-blur">****************************</span>@<span class="apbct-blur">***************</span>wi.us</span>
SUMMARY:HES: Early Release
DESCRIPTION:
URL:https://www.milton.k12.wi.us/event/hes-early-release-19/
CATEGORIES:Harmony Elementary
END:VEVENT
BEGIN:VEVENT
DTSTART;TZID=America/Chicago:20250310T183000
DTEND;TZID=America/Chicago:20250310T203000
DTSTAMP:20260419T075617
CREATED:20240822T012953Z
LAST-MODIFIED:20250310T232232Z
UID:<span 
                data-original-string='qUNOh0FDxI5jO+DC8ncBuw==386/w71+xJ9+B4LmOHJ52Ma160OAbKI+yAcM0wr56yey3Vy7uWdyfm8o9Gp0CExCDgvZ+336vav6Il2EKDpeygCMw=='
                class='apbct-email-encoder'
                title='This contact has been encoded by Anti-Spam by CleanTalk. Click to decode. To finish the decoding make sure that JavaScript is enabled in your browser.'>10<span class="apbct-blur">****************************</span>@<span class="apbct-blur">***************</span>wi.us</span>
SUMMARY:School Board Meeting
DESCRIPTION:
URL:https://www.milton.k12.wi.us/event/school-board-meeting-18/
CATEGORIES:District
END:VEVENT
BEGIN:VEVENT
DTSTART;VALUE=DATE:20250311
DTEND;VALUE=DATE:20250312
DTSTAMP:20260419T075617
CREATED:20240822T004649Z
LAST-MODIFIED:20250311T235838Z
UID:<span 
                data-original-string='O88FaF+RAbnfVOZhAcKbIg==386Qq687tWFzN7yY6sDMVq28xcnA+rWcslX8EbfL001Ar8hFBMRfGnOnQrysyiICWgnPietvP9sQ9stJJEhJear2g=='
                class='apbct-email-encoder'
                title='This contact has been encoded by Anti-Spam by CleanTalk. Click to decode. To finish the decoding make sure that JavaScript is enabled in your browser.'>10<span class="apbct-blur">****************************</span>@<span class="apbct-blur">***************</span>wi.us</span>
SUMMARY:9th\, 10th\, 12th gr. - Virtual Learning
DESCRIPTION:
URL:https://www.milton.k12.wi.us/event/9th-10th-12th-gr-virtual-learning/
CATEGORIES:Milton High School
END:VEVENT
BEGIN:VEVENT
DTSTART;VALUE=DATE:20250311
DTEND;VALUE=DATE:20250312
DTSTAMP:20260419T075617
CREATED:20240822T004649Z
LAST-MODIFIED:20250311T235837Z
UID:<span 
                data-original-string='PGa1kp4CiXoFIha25xhALA==386E8u8HqC50Z4RQ0crT0FVILQ10/8PxbspChCrygVVVqTiMK5JqL9dIbx4IO4KjhNXKWKsPUcMU8dwMY5PrKkBVw=='
                class='apbct-email-encoder'
                title='This contact has been encoded by Anti-Spam by CleanTalk. Click to decode. To finish the decoding make sure that JavaScript is enabled in your browser.'>10<span class="apbct-blur">****************************</span>@<span class="apbct-blur">***************</span>wi.us</span>
SUMMARY:11th gr. - ACT Testing
DESCRIPTION:
URL:https://www.milton.k12.wi.us/event/11th-gr-act-testing/
CATEGORIES:Milton High School
END:VEVENT
BEGIN:VEVENT
DTSTART;VALUE=DATE:20250311
DTEND;VALUE=DATE:20250312
DTSTAMP:20260419T075617
CREATED:20250304T140734Z
LAST-MODIFIED:20250311T235233Z
UID:<span 
                data-original-string='DDbkPT8MJzE112SEx1PTVg==386XKNNdwA99RjwlS6aD/mRx7E+QTYw/v9G+z4e7V64dVCULSYDIEt8l6Kwh374GXvpv74y/0/GWnjARNcnKKL0Cg=='
                class='apbct-email-encoder'
                title='This contact has been encoded by Anti-Spam by CleanTalk. Click to decode. To finish the decoding make sure that JavaScript is enabled in your browser.'>10<span class="apbct-blur">****************************</span>@<span class="apbct-blur">***************</span>wi.us</span>
SUMMARY:Day 1
DESCRIPTION:
URL:https://www.milton.k12.wi.us/event/day-1-23/
CATEGORIES:Northside Intermediate
END:VEVENT
BEGIN:VEVENT
DTSTART;TZID=America/Chicago:20250311T081000
DTEND;TZID=America/Chicago:20250311T190000
DTSTAMP:20260419T075617
CREATED:20250204T185253Z
LAST-MODIFIED:20250311T225612Z
UID:<span 
                data-original-string='ZAc+51I8ejND3Ra2y/cF0g==386KeoCg69Ga2/oq1iZsL26DUl+/kmj0Dq5lhPxOUJDAlBeUIIq2lWASDTrOEtaTDd/y6rmkVg5GCFL3B1NSEmxrA=='
                class='apbct-email-encoder'
                title='This contact has been encoded by Anti-Spam by CleanTalk. Click to decode. To finish the decoding make sure that JavaScript is enabled in your browser.'>10<span class="apbct-blur">****************************</span>@<span class="apbct-blur">***************</span>wi.us</span>
SUMMARY:Honors Band Field Trip- Edgerton Middle School
DESCRIPTION:Join with Google Meet: https://meet.google.com/ofv-fhom-jyi\nOr dial: (US) +1 252-385-2649 PIN: 902119024#\nLearn more about Meet at: https://support.google.com/a/users/answer/9282720
URL:https://www.milton.k12.wi.us/event/honors-band-field-trip-edgerton-middle-school/
CATEGORIES:Milton Middle School
ORGANIZER;CN="<span 
                data-original-string='OuZIO76XQvygaZ6AD20gFQ==386k61qrUpU+qjUFC7XBSVqbbit8LRtxky93T7X5OG4z0WA2CpEjRltZCyoeymv2VLkHNCL1XQhO1QoOkoEtY/iHj2ZM3v65OXz7uknAHy+fMI='
                class='apbct-email-encoder'
                title='This contact has been encoded by Anti-Spam by CleanTalk. Click to decode. To finish the decoding make sure that JavaScript is enabled in your browser.'>mi<span class="apbct-blur">*****************************************</span>@<span class="apbct-blur">*******************</span>le.com</span>":MAILTO:<span 
                data-original-string='x6qe1bdX1PvgjWfNFRSqew==386nR6ATXZq1GSzdb8K5yOjoGfMFrAJ+sGc/Vhoqy95+vNI5ge4c3RUZPKqNh3QEfsInUCkQO1bmpWBW7XO6migYiNZdDGEGEQjbTu5OAAw0uQ='
                class='apbct-email-encoder'
                title='This contact has been encoded by Anti-Spam by CleanTalk. Click to decode. To finish the decoding make sure that JavaScript is enabled in your browser.'>mi<span class="apbct-blur">*****************************************</span>@<span class="apbct-blur">*******************</span>le.com</span>
END:VEVENT
BEGIN:VEVENT
DTSTART;TZID=America/Chicago:20250311T123000
DTEND;TZID=America/Chicago:20250311T143000
DTSTAMP:20260419T075617
CREATED:20250311T173740Z
LAST-MODIFIED:20250311T173740Z
UID:<span 
                data-original-string='NJgkUzaomff1MRQmCu/eEA==386sFki1MAfdsUBjoiwXxDc3MsTu0B3YHM77gBdhfzeqqPXi7vR48jFWtxKYA1R5SYjs+5G/MsB8ySeQSKOYxnnrg=='
                class='apbct-email-encoder'
                title='This contact has been encoded by Anti-Spam by CleanTalk. Click to decode. To finish the decoding make sure that JavaScript is enabled in your browser.'>10<span class="apbct-blur">****************************</span>@<span class="apbct-blur">***************</span>wi.us</span>
SUMMARY:Policy Meeting
DESCRIPTION:
URL:https://www.milton.k12.wi.us/event/policy-meeting/
CATEGORIES:District
END:VEVENT
BEGIN:VEVENT
DTSTART;TZID=America/Chicago:20250311T180000
DTEND;TZID=America/Chicago:20250311T190000
DTSTAMP:20260419T075617
CREATED:20240822T004450Z
LAST-MODIFIED:20250311T223725Z
UID:<span 
                data-original-string='l/2RouZIG0Cp69a+ri5/yQ==386oOttHZx2jpl5OOqH6acPvsdy/diPlKhD6y9nZ/J5bnVSdnbSSp1XGSM0NMz0CNjFMkMO7FoLRM8Z6/KmMs+O8g=='
                class='apbct-email-encoder'
                title='This contact has been encoded by Anti-Spam by CleanTalk. Click to decode. To finish the decoding make sure that JavaScript is enabled in your browser.'>10<span class="apbct-blur">****************************</span>@<span class="apbct-blur">***************</span>wi.us</span>
SUMMARY:EES:  MEPG meeting
DESCRIPTION:
URL:https://www.milton.k12.wi.us/event/ees-mepg-meeting-7/
CATEGORIES:Milton East Elementary
END:VEVENT
BEGIN:VEVENT
DTSTART;TZID=America/Chicago:20250311T183000
DTEND;TZID=America/Chicago:20250311T193000
DTSTAMP:20260419T075617
CREATED:20240822T012929Z
LAST-MODIFIED:20250311T235446Z
UID:<span 
                data-original-string='BPLEnMb0FrCBCPhjNCQjxQ==386lL7zLqAhArv1qQTa0ymgHijCFMY2NvyPFnwJdycsI9b3fe0gkf869B/PwwoZRFmPBE19y6ATfKhXN207KGmwEw=='
                class='apbct-email-encoder'
                title='This contact has been encoded by Anti-Spam by CleanTalk. Click to decode. To finish the decoding make sure that JavaScript is enabled in your browser.'>10<span class="apbct-blur">****************************</span>@<span class="apbct-blur">***************</span>wi.us</span>
SUMMARY:CES - PIE Meeting
DESCRIPTION:
URL:https://www.milton.k12.wi.us/event/pie-meeting-7/
CATEGORIES:Consolidated
END:VEVENT
BEGIN:VEVENT
DTSTART;VALUE=DATE:20250312
DTEND;VALUE=DATE:20250313
DTSTAMP:20260419T075617
CREATED:20250304T140733Z
LAST-MODIFIED:20250312T235710Z
UID:<span 
                data-original-string='ypT0NY/x8tyrfUdGuPCGjg==386yw6/9/93MLmwA3x58cDuTpUz7MQdNq+hVZRJs//gTPPD7sE1OWdJWBfe16d2Qc1qMXSo86ikjbEo4M0ZvaaLNg=='
                class='apbct-email-encoder'
                title='This contact has been encoded by Anti-Spam by CleanTalk. Click to decode. To finish the decoding make sure that JavaScript is enabled in your browser.'>10<span class="apbct-blur">****************************</span>@<span class="apbct-blur">***************</span>wi.us</span>
SUMMARY:Day 2
DESCRIPTION:
URL:https://www.milton.k12.wi.us/event/day-2-21/
CATEGORIES:Northside Intermediate
END:VEVENT
BEGIN:VEVENT
DTSTART;TZID=America/Chicago:20250312T180000
DTEND;TZID=America/Chicago:20250312T190000
DTSTAMP:20260419T075617
CREATED:20250223T214257Z
LAST-MODIFIED:20250312T232921Z
UID:<span 
                data-original-string='MD6Rgr/lWts4Phz7hDDi5g==386v4eQoCXVPVG1ZMCovKuqSlmRQhyVzWvx+xSvk9Lt+CtQrK4gEidP/vtOVYLP3V0AvlOuMbBWWIDVh3lXmMDEEQ=='
                class='apbct-email-encoder'
                title='This contact has been encoded by Anti-Spam by CleanTalk. Click to decode. To finish the decoding make sure that JavaScript is enabled in your browser.'>10<span class="apbct-blur">****************************</span>@<span class="apbct-blur">***************</span>wi.us</span>
SUMMARY:WES-K/1 Spring Sing
DESCRIPTION:
URL:https://www.milton.k12.wi.us/event/wes-k-1-spring-sing/
CATEGORIES:Milton West Elementary
END:VEVENT
BEGIN:VEVENT
DTSTART;VALUE=DATE:20250313
DTEND;VALUE=DATE:20250314
DTSTAMP:20260419T075617
CREATED:20250304T140740Z
LAST-MODIFIED:20250313T235242Z
UID:<span 
                data-original-string='0CA43zPUxxes5E4tEAtc6A==386EEVYo8tvtdT7H6l549323WFsXRojxACfnD+LlJEdDA5PkF6qbRFYPbMk6n6LryjKrTsau0YZjSHkBHWQ5rd3Gg=='
                class='apbct-email-encoder'
                title='This contact has been encoded by Anti-Spam by CleanTalk. Click to decode. To finish the decoding make sure that JavaScript is enabled in your browser.'>10<span class="apbct-blur">****************************</span>@<span class="apbct-blur">***************</span>wi.us</span>
SUMMARY:Day 3
DESCRIPTION:
URL:https://www.milton.k12.wi.us/event/day-3-21/
CATEGORIES:Northside Intermediate
END:VEVENT
BEGIN:VEVENT
DTSTART;TZID=America/Chicago:20250313T190000
DTEND;TZID=America/Chicago:20250313T200000
DTSTAMP:20260419T075617
CREATED:20240822T004717Z
LAST-MODIFIED:20250313T225807Z
UID:<span 
                data-original-string='/5n3OVb+zpWmQBqb6J+vlA==386bJ/d/vG+92xRAo1NJ1HGgDT0AMcU6AvBAfOf09ehOO9pXYcTRYgwgbAi3tr8slBKRm6JjJzCVZ0R2OcEcB6IKQ=='
                class='apbct-email-encoder'
                title='This contact has been encoded by Anti-Spam by CleanTalk. Click to decode. To finish the decoding make sure that JavaScript is enabled in your browser.'>10<span class="apbct-blur">****************************</span>@<span class="apbct-blur">***************</span>wi.us</span>
SUMMARY:MMS 6-8 Choir Concert @ MHS PAC
DESCRIPTION:
URL:https://www.milton.k12.wi.us/event/6-8-choir-concert-mhs-pac/
CATEGORIES:Milton Middle School
END:VEVENT
BEGIN:VEVENT
DTSTART;TZID=America/Chicago:20250313T190000
DTEND;TZID=America/Chicago:20250313T200000
DTSTAMP:20260419T075617
CREATED:20240910T181522Z
LAST-MODIFIED:20250313T235241Z
UID:<span 
                data-original-string='blVGSz3frS5iAtA4SrrExw==386Lu4ci/lNg9NF4AJxab7NBywWItp2AKckrVbhkgiK5vuk5QXJ4lpLwbReYb6gYMMLgyrFVewskoveykDwrjn/mg=='
                class='apbct-email-encoder'
                title='This contact has been encoded by Anti-Spam by CleanTalk. Click to decode. To finish the decoding make sure that JavaScript is enabled in your browser.'>10<span class="apbct-blur">****************************</span>@<span class="apbct-blur">***************</span>wi.us</span>
SUMMARY:6th Choir Concert
DESCRIPTION:
URL:https://www.milton.k12.wi.us/event/6th-choir-concert-3/
LOCATION:Milton High School\, 114 W High St\, Milton\, WI\, United States
CATEGORIES:Northside Intermediate
GEO:42.773359;-88.954785
X-APPLE-STRUCTURED-LOCATION;VALUE=URI;X-ADDRESS=Milton High School 114 W High St Milton WI United States;X-APPLE-RADIUS=500;X-TITLE=114 W High St:geo:-88.954785,42.773359
END:VEVENT
BEGIN:VEVENT
DTSTART;VALUE=DATE:20250314
DTEND;VALUE=DATE:20250315
DTSTAMP:20260419T075617
CREATED:20250304T140736Z
LAST-MODIFIED:20250314T235819Z
UID:<span 
                data-original-string='89cmiz6EjA2jIUQK7KFPwg==386cSr/H4WXHACj9FfYHI7u3kLgvOApEXp++IXigqNxMQKkJRAQsZZz1h3JVdQ9UhB1tT1ZItBkpqQ43mz86IzuEA=='
                class='apbct-email-encoder'
                title='This contact has been encoded by Anti-Spam by CleanTalk. Click to decode. To finish the decoding make sure that JavaScript is enabled in your browser.'>10<span class="apbct-blur">****************************</span>@<span class="apbct-blur">***************</span>wi.us</span>
SUMMARY:Day 4
DESCRIPTION:
URL:https://www.milton.k12.wi.us/event/day-4-22/
CATEGORIES:Northside Intermediate
END:VEVENT
BEGIN:VEVENT
DTSTART;TZID=America/Chicago:20250314T100000
DTEND;TZID=America/Chicago:20250314T113000
DTSTAMP:20260419T075617
CREATED:20240930T172542Z
LAST-MODIFIED:20250314T085228Z
UID:<span 
                data-original-string='f5F1NNzW9KbKg17wXDwz/g==386p4bDek7OKl68vSe9bnm86SSmq49Y2M/SVSKVMsgT8OWS/HeHME4ebkLArF+h4cd+3nNnkRg7TpJJ096+EGXFQg=='
                class='apbct-email-encoder'
                title='This contact has been encoded by Anti-Spam by CleanTalk. Click to decode. To finish the decoding make sure that JavaScript is enabled in your browser.'>10<span class="apbct-blur">****************************</span>@<span class="apbct-blur">***************</span>wi.us</span>
SUMMARY:EES:  4K Donut Date (AM)
DESCRIPTION:
URL:https://www.milton.k12.wi.us/event/ees-4k-donut-date-am/
CATEGORIES:Milton East Elementary
END:VEVENT
BEGIN:VEVENT
DTSTART;TZID=America/Chicago:20250314T100000
DTEND;TZID=America/Chicago:20250314T113000
DTSTAMP:20260419T075617
CREATED:20250223T214257Z
LAST-MODIFIED:20250314T155334Z
UID:<span 
                data-original-string='oOqosKL2ToTROZQuAb8WwA==386HCdXsY5SXRpTJe+lhZaFuLaRYVuH2Uhn4VLspmLEOZLf26k7puKhGrlhf7966Ym8spvJBnPQrFW7mipTPJGrGQ=='
                class='apbct-email-encoder'
                title='This contact has been encoded by Anti-Spam by CleanTalk. Click to decode. To finish the decoding make sure that JavaScript is enabled in your browser.'>10<span class="apbct-blur">****************************</span>@<span class="apbct-blur">***************</span>wi.us</span>
SUMMARY:4K Donut Date
DESCRIPTION:
URL:https://www.milton.k12.wi.us/event/4k-donut-date/
CATEGORIES:Milton West Elementary
END:VEVENT
BEGIN:VEVENT
DTSTART;TZID=America/Chicago:20250314T133000
DTEND;TZID=America/Chicago:20250314T150000
DTSTAMP:20260419T075617
CREATED:20250223T214258Z
LAST-MODIFIED:20250314T155335Z
UID:<span 
                data-original-string='CY2DE6METvmkxcuK8p0ApQ==386dVaglE6rl9N1CXef6DDwAkdl8ZLKYPZzDWIpPOQCyeUiGN5mfdN3M8+LI73vDIU0i0OjWaOMdLtlx7W8VvhEoA=='
                class='apbct-email-encoder'
                title='This contact has been encoded by Anti-Spam by CleanTalk. Click to decode. To finish the decoding make sure that JavaScript is enabled in your browser.'>10<span class="apbct-blur">****************************</span>@<span class="apbct-blur">***************</span>wi.us</span>
SUMMARY:4K Donut Date
DESCRIPTION:
URL:https://www.milton.k12.wi.us/event/4k-donut-date-2/
CATEGORIES:Milton West Elementary
END:VEVENT
BEGIN:VEVENT
DTSTART;TZID=America/Chicago:20250314T140000
DTEND;TZID=America/Chicago:20250314T150000
DTSTAMP:20260419T075617
CREATED:20240829T170150Z
LAST-MODIFIED:20250314T155231Z
UID:<span 
                data-original-string='qrVbTTrH280B9JKPyqzOzA==386VqxQ6nuXdx55pR3N2rikpvM9s9Y3l3rXe8MjKXWwSrNpGdzNNyYpBi3Hsdz0VErOL6mEMVD4mbOJEhc5+xQBxg=='
                class='apbct-email-encoder'
                title='This contact has been encoded by Anti-Spam by CleanTalk. Click to decode. To finish the decoding make sure that JavaScript is enabled in your browser.'>10<span class="apbct-blur">****************************</span>@<span class="apbct-blur">***************</span>wi.us</span>
SUMMARY:HES: Spring Sing 1st & 2nd Grade
DESCRIPTION:
URL:https://www.milton.k12.wi.us/event/hes-spring-sing-1st-2nd-grade/
CATEGORIES:Harmony Elementary
END:VEVENT
BEGIN:VEVENT
DTSTART;TZID=America/Chicago:20250314T140000
DTEND;TZID=America/Chicago:20250314T153000
DTSTAMP:20260419T075617
CREATED:20240930T172543Z
LAST-MODIFIED:20250314T200735Z
UID:<span 
                data-original-string='Etu5w2+oYX/qlqc9ICva3Q==386UXpGhCoECI+W8wyesBh5cBAwsAsZUeYoYViFXEOUxsbtc1kAUSwTysciJuJXHcmPY74uwZqmP1pC6/af23snfg=='
                class='apbct-email-encoder'
                title='This contact has been encoded by Anti-Spam by CleanTalk. Click to decode. To finish the decoding make sure that JavaScript is enabled in your browser.'>10<span class="apbct-blur">****************************</span>@<span class="apbct-blur">***************</span>wi.us</span>
SUMMARY:EES:  4K Donut Date (PM)
DESCRIPTION:
URL:https://www.milton.k12.wi.us/event/ees-4k-donut-date-pm/
CATEGORIES:Milton East Elementary
END:VEVENT
BEGIN:VEVENT
DTSTART;VALUE=DATE:20250315
DTEND;VALUE=DATE:20250316
DTSTAMP:20260419T075617
CREATED:20240822T004650Z
LAST-MODIFIED:20250315T235949Z
UID:<span 
                data-original-string='vDwsm3dEajvB7EjteDGB+g==386GL1q4gzv1E5yVvnDhUYu+8hnwH58slexiYlIlY4JC0Jz0I/x77YDBmiqo1pstUk1HuRIsexDf2f36LT97+/lCg=='
                class='apbct-email-encoder'
                title='This contact has been encoded by Anti-Spam by CleanTalk. Click to decode. To finish the decoding make sure that JavaScript is enabled in your browser.'>10<span class="apbct-blur">****************************</span>@<span class="apbct-blur">***************</span>wi.us</span>
SUMMARY:MHS Show Choir CAMPetition
DESCRIPTION:
URL:https://www.milton.k12.wi.us/event/mhs-show-choir-campetition/
CATEGORIES:Milton High School
END:VEVENT
BEGIN:VEVENT
DTSTART;VALUE=DATE:20250317
DTEND;VALUE=DATE:20250318
DTSTAMP:20260419T075617
CREATED:20250106T202343Z
LAST-MODIFIED:20250317T225854Z
UID:<span 
                data-original-string='Z6zq4oriH484mRlssykfxw==386J4ZNTOdabbPpcR5IlDV9f1rttwvu+5NI+zldK0zfEeVmG3vaUTrT6GXyoaSEvY3jATpMKarpLcv/wco0e5g34w=='
                class='apbct-email-encoder'
                title='This contact has been encoded by Anti-Spam by CleanTalk. Click to decode. To finish the decoding make sure that JavaScript is enabled in your browser.'>10<span class="apbct-blur">****************************</span>@<span class="apbct-blur">***************</span>wi.us</span>
SUMMARY:Northside Early Release @ 2:40pm
DESCRIPTION:
URL:https://www.milton.k12.wi.us/event/early-release-240pm-9/
CATEGORIES:Northside Intermediate
END:VEVENT
BEGIN:VEVENT
DTSTART;VALUE=DATE:20250317
DTEND;VALUE=DATE:20250318
DTSTAMP:20260419T075617
CREATED:20250304T140741Z
LAST-MODIFIED:20250317T225853Z
UID:<span 
                data-original-string='O88uq4SnnrkXv/L06Bui4g==386cJ8MY9kvbUsoJ9n4+6bJX8vFnwHso4jm9ZD94cqUCKTEwi7S8Ayz7X7nNB356ZlyDfVWZE62gGTQNie8uYdiKg=='
                class='apbct-email-encoder'
                title='This contact has been encoded by Anti-Spam by CleanTalk. Click to decode. To finish the decoding make sure that JavaScript is enabled in your browser.'>10<span class="apbct-blur">****************************</span>@<span class="apbct-blur">***************</span>wi.us</span>
SUMMARY:Day 5
DESCRIPTION:
URL:https://www.milton.k12.wi.us/event/day-5-21/
CATEGORIES:Northside Intermediate
END:VEVENT
BEGIN:VEVENT
DTSTART;TZID=America/Chicago:20250317T143500
DTEND;TZID=America/Chicago:20250317T153500
DTSTAMP:20260419T075617
CREATED:20240822T012929Z
LAST-MODIFIED:20250317T202335Z
UID:<span 
                data-original-string='zxcXysYoPNtqcILmsj5ppA==38696RHaPZcGoho1TOmuUYp9DAxI4DtufxIILzUqiJRNpJ9faURl/uvGQl2bIT6ydLHzCE9GmdrxhRJKhEa9rylPA=='
                class='apbct-email-encoder'
                title='This contact has been encoded by Anti-Spam by CleanTalk. Click to decode. To finish the decoding make sure that JavaScript is enabled in your browser.'>10<span class="apbct-blur">****************************</span>@<span class="apbct-blur">***************</span>wi.us</span>
SUMMARY:Early Release -
DESCRIPTION:
URL:https://www.milton.k12.wi.us/event/early-release-21/
CATEGORIES:Consolidated
END:VEVENT
BEGIN:VEVENT
DTSTART;TZID=America/Chicago:20250317T143500
DTEND;TZID=America/Chicago:20250317T153500
DTSTAMP:20260419T075617
CREATED:20240909T204108Z
LAST-MODIFIED:20250317T202305Z
UID:<span 
                data-original-string='pB3CG5J8zjbYwDqAtX8GDA==386NS1s4Sct8NVxyaQ1nW9zDQNujR0U95fz32xZGo33Eyo+GyqTjbFXafCxeaIFnxhLO7bSUg12uglU3Uwzo/PWbA=='
                class='apbct-email-encoder'
                title='This contact has been encoded by Anti-Spam by CleanTalk. Click to decode. To finish the decoding make sure that JavaScript is enabled in your browser.'>10<span class="apbct-blur">****************************</span>@<span class="apbct-blur">***************</span>wi.us</span>
SUMMARY:HES: Early Release
DESCRIPTION:
URL:https://www.milton.k12.wi.us/event/hes-early-release-20/
CATEGORIES:Harmony Elementary
END:VEVENT
BEGIN:VEVENT
DTSTART;TZID=America/Chicago:20250317T180000
DTEND;TZID=America/Chicago:20250317T190000
DTSTAMP:20260419T075617
CREATED:20240829T170151Z
LAST-MODIFIED:20250317T220729Z
UID:<span 
                data-original-string='WtAM8WDEmelkdGXj2pXbDQ==386MkpRc9LxSZN+hyIhBgJGf7cr9Xaa9HCt32uYL2Kf3HJz21YAkr6b7nSvzstjDMX3TVls+iusQqQ66bR2Co3xig=='
                class='apbct-email-encoder'
                title='This contact has been encoded by Anti-Spam by CleanTalk. Click to decode. To finish the decoding make sure that JavaScript is enabled in your browser.'>10<span class="apbct-blur">****************************</span>@<span class="apbct-blur">***************</span>wi.us</span>
SUMMARY:HES: Team Harmony Meeting LMC
DESCRIPTION:
URL:https://www.milton.k12.wi.us/event/hes-team-harmony-meeting-lmc-5/
CATEGORIES:Harmony Elementary
END:VEVENT
BEGIN:VEVENT
DTSTART;VALUE=DATE:20250318
DTEND;VALUE=DATE:20250319
DTSTAMP:20260419T075617
CREATED:20250304T140741Z
LAST-MODIFIED:20250318T220725Z
UID:<span 
                data-original-string='6OKg+Li3cvgZDm3TlyTtAg==386eIWVdDXFyAQr2eInp42pg7F3CaGM7EjC4mbdRNnM4KXX2iGeTQwM9YaZbcTESV3tLc6kSIUIbPKtaZtQ+/qOCg=='
                class='apbct-email-encoder'
                title='This contact has been encoded by Anti-Spam by CleanTalk. Click to decode. To finish the decoding make sure that JavaScript is enabled in your browser.'>10<span class="apbct-blur">****************************</span>@<span class="apbct-blur">***************</span>wi.us</span>
SUMMARY:Day 6
DESCRIPTION:
URL:https://www.milton.k12.wi.us/event/day-6-22/
CATEGORIES:Northside Intermediate
END:VEVENT
BEGIN:VEVENT
DTSTART;TZID=America/Chicago:20250318T180000
DTEND;TZID=America/Chicago:20250318T190000
DTSTAMP:20260419T075617
CREATED:20240823T224232Z
LAST-MODIFIED:20250318T220726Z
UID:<span 
                data-original-string='w8r0GyHdui8rUgY1UEWKOA==386L8JPibxUeSZgYEGVvCBPhdXJzvshDpy2E1bz4blq8PlucuB9pAiMOp4svlIIsccurusOjpDGb3tFIhWO85qSYA=='
                class='apbct-email-encoder'
                title='This contact has been encoded by Anti-Spam by CleanTalk. Click to decode. To finish the decoding make sure that JavaScript is enabled in your browser.'>10<span class="apbct-blur">****************************</span>@<span class="apbct-blur">***************</span>wi.us</span>
SUMMARY:FON Meeting
DESCRIPTION:
URL:https://www.milton.k12.wi.us/event/fon-meeting-7/
CATEGORIES:Northside Intermediate
END:VEVENT
END:VCALENDAR