BEGIN:VCALENDAR
VERSION:2.0
PRODID:-//School District of Milton - ECPv6.15.20//NONSGML v1.0//EN
CALSCALE:GREGORIAN
METHOD:PUBLISH
X-WR-CALNAME:School District of Milton
X-ORIGINAL-URL:https://www.milton.k12.wi.us
X-WR-CALDESC:Events for School District of Milton
REFRESH-INTERVAL;VALUE=DURATION:PT1H
X-Robots-Tag:noindex
X-PUBLISHED-TTL:PT1H
BEGIN:VTIMEZONE
TZID:America/Chicago
BEGIN:DAYLIGHT
TZOFFSETFROM:-0600
TZOFFSETTO:-0500
TZNAME:CDT
DTSTART:20240310T080000
END:DAYLIGHT
BEGIN:STANDARD
TZOFFSETFROM:-0500
TZOFFSETTO:-0600
TZNAME:CST
DTSTART:20241103T070000
END:STANDARD
BEGIN:DAYLIGHT
TZOFFSETFROM:-0600
TZOFFSETTO:-0500
TZNAME:CDT
DTSTART:20250309T080000
END:DAYLIGHT
BEGIN:STANDARD
TZOFFSETFROM:-0500
TZOFFSETTO:-0600
TZNAME:CST
DTSTART:20251102T070000
END:STANDARD
BEGIN:DAYLIGHT
TZOFFSETFROM:-0600
TZOFFSETTO:-0500
TZNAME:CDT
DTSTART:20260308T080000
END:DAYLIGHT
BEGIN:STANDARD
TZOFFSETFROM:-0500
TZOFFSETTO:-0600
TZNAME:CST
DTSTART:20261101T070000
END:STANDARD
END:VTIMEZONE
BEGIN:VEVENT
DTSTART;VALUE=DATE:20250121
DTEND;VALUE=DATE:20250122
DTSTAMP:20260423T185110
CREATED:20250102T202335Z
LAST-MODIFIED:20250121T232354Z
UID:<span 
                data-original-string='j+i8JPVPUsWrcTenoQXJiQ==386Z+U+agpU0BTLqGp1Ii/Mm1RYZvPOobzDUupBZEcbpP0iXquNxoiiTF+5yLSakey2+7RDrcaxC0FfMxSF0FJPeg=='
                class='apbct-email-encoder'
                title='This contact has been encoded by Anti-Spam by CleanTalk. Click to decode. To finish the decoding make sure that JavaScript is enabled in your browser.'>10<span class="apbct-blur">****************************</span>@<span class="apbct-blur">***************</span>wi.us</span>
SUMMARY:NIS: No School: Severe Weather
DESCRIPTION:
URL:https://www.milton.k12.wi.us/event/day-6-14/
CATEGORIES:Northside Intermediate
END:VEVENT
BEGIN:VEVENT
DTSTART;TZID=America/Chicago:20250121T180000
DTEND;TZID=America/Chicago:20250121T190000
DTSTAMP:20260423T185110
CREATED:20240823T224231Z
LAST-MODIFIED:20250121T232354Z
UID:<span 
                data-original-string='1K00jEhIVmQSyOg0eC3QSQ==3860neloIEAAA51BqvOjCNbolw4tZmpkxCVLO19BT/bwrRt9G+3KU48aLJ84wwyrsocBqa09BexaabZ9jF+zSxmBQ=='
                class='apbct-email-encoder'
                title='This contact has been encoded by Anti-Spam by CleanTalk. Click to decode. To finish the decoding make sure that JavaScript is enabled in your browser.'>10<span class="apbct-blur">****************************</span>@<span class="apbct-blur">***************</span>wi.us</span>
SUMMARY:FON Meeting
DESCRIPTION:
URL:https://www.milton.k12.wi.us/event/fon-meeting-5/
CATEGORIES:Northside Intermediate
END:VEVENT
BEGIN:VEVENT
DTSTART;VALUE=DATE:20250122
DTEND;VALUE=DATE:20250123
DTSTAMP:20260423T185110
CREATED:20250102T202338Z
LAST-MODIFIED:20250122T233742Z
UID:<span 
                data-original-string='ymRxWv0h5v4eWk4Xg1JIkw==386ipyWregSds6su9Lg/OJSOrvCr4r8GKbT1DwNNg6YDi4RjO5+FgyTcWOAIQBiGhMdkDHqInmBEOC/+KKDMKtohw=='
                class='apbct-email-encoder'
                title='This contact has been encoded by Anti-Spam by CleanTalk. Click to decode. To finish the decoding make sure that JavaScript is enabled in your browser.'>10<span class="apbct-blur">****************************</span>@<span class="apbct-blur">***************</span>wi.us</span>
SUMMARY:Day 6
DESCRIPTION:
URL:https://www.milton.k12.wi.us/event/day-1-15/
CATEGORIES:Northside Intermediate
END:VEVENT
BEGIN:VEVENT
DTSTART;VALUE=DATE:20250122
DTEND;VALUE=DATE:20250123
DTSTAMP:20260423T185110
CREATED:20250122T153741Z
LAST-MODIFIED:20250122T233816Z
UID:<span 
                data-original-string='hdEzSFsyAWW8Rnf2rjIxeg==3869jNEgg1rGD+FL6kRnLcf3NatDGDwDnhbr7nCnjLSsnH/GYyZwn8ErIRvBJUGzxlNQrMz4LvgQLRKNW8Dx0d02g=='
                class='apbct-email-encoder'
                title='This contact has been encoded by Anti-Spam by CleanTalk. Click to decode. To finish the decoding make sure that JavaScript is enabled in your browser.'>10<span class="apbct-blur">****************************</span>@<span class="apbct-blur">***************</span>wi.us</span>
SUMMARY:Day 6
DESCRIPTION:
URL:https://www.milton.k12.wi.us/event/day-6-17/
CATEGORIES:Northside Intermediate
END:VEVENT
BEGIN:VEVENT
DTSTART;TZID=America/Chicago:20250122T153000
DTEND;TZID=America/Chicago:20250122T193000
DTSTAMP:20260423T185110
CREATED:20240823T013740Z
LAST-MODIFIED:20250122T224738Z
UID:<span 
                data-original-string='v1Ks/6AociyshxjB/lzgJw==386hPWi/HatqQciDMNGctQF7wFEiMYER4k0pj1NBFHJRqof2ZCr4on8nggKYdF/Fj0EEaIgXKmdsyIG+Jw5m/03XA=='
                class='apbct-email-encoder'
                title='This contact has been encoded by Anti-Spam by CleanTalk. Click to decode. To finish the decoding make sure that JavaScript is enabled in your browser.'>10<span class="apbct-blur">****************************</span>@<span class="apbct-blur">***************</span>wi.us</span>
SUMMARY:MMS Parent/Teacher Conferences
DESCRIPTION:
URL:https://www.milton.k12.wi.us/event/parent-teacher-conferences-14/
CATEGORIES:Milton Middle School
END:VEVENT
BEGIN:VEVENT
DTSTART;TZID=America/Chicago:20250122T160000
DTEND;TZID=America/Chicago:20250122T200000
DTSTAMP:20260423T185110
CREATED:20240822T004646Z
LAST-MODIFIED:20250122T230825Z
UID:<span 
                data-original-string='2OQIn1vBC/3EkUMaTjfUQw==3869aHaxgeS0cEqfecgKF1rHBCQT44A+rXGg5grbJMrU3YYNiEx6UuezJXaAzeIO6H8DhJzhPJFZco3sTqyhzJPWQ=='
                class='apbct-email-encoder'
                title='This contact has been encoded by Anti-Spam by CleanTalk. Click to decode. To finish the decoding make sure that JavaScript is enabled in your browser.'>10<span class="apbct-blur">****************************</span>@<span class="apbct-blur">***************</span>wi.us</span>
SUMMARY:MHS Career Planning Event
DESCRIPTION:
URL:https://www.milton.k12.wi.us/event/career-planning-event/
CATEGORIES:Milton High School
END:VEVENT
BEGIN:VEVENT
DTSTART;TZID=America/Chicago:20250122T163000
DTEND;TZID=America/Chicago:20250122T193000
DTSTAMP:20260423T185110
CREATED:20240824T110758Z
LAST-MODIFIED:20250122T233742Z
UID:<span 
                data-original-string='aDq0d7vpXfvzKyw93rrCRw==386PseUvysbyo+lV6Kdm1j+Fieg9IO7hUq4228cTxAZWKOdJONsyCN+9Ovsxi/nEzEdPP0qmFqls0F3J9Z68s8wdQ=='
                class='apbct-email-encoder'
                title='This contact has been encoded by Anti-Spam by CleanTalk. Click to decode. To finish the decoding make sure that JavaScript is enabled in your browser.'>10<span class="apbct-blur">****************************</span>@<span class="apbct-blur">***************</span>wi.us</span>
SUMMARY:Scoopie Night (Northside)
DESCRIPTION:
URL:https://www.milton.k12.wi.us/event/scoopie-night-northside-3/
CATEGORIES:Northside Intermediate
END:VEVENT
BEGIN:VEVENT
DTSTART;VALUE=DATE:20250123
DTEND;VALUE=DATE:20250124
DTSTAMP:20260423T185110
CREATED:20250102T202338Z
LAST-MODIFIED:20250123T234632Z
UID:<span 
                data-original-string='gpDXnB/GIACoDUHWampJWQ==386uyZygtjA9m+LT49m7lzwV5mDv5UAZLOADm9a+XT6XYIhjvJkjLF0WM410MqpRP48pC+45aGqkzqs6alJYt7Rlg=='
                class='apbct-email-encoder'
                title='This contact has been encoded by Anti-Spam by CleanTalk. Click to decode. To finish the decoding make sure that JavaScript is enabled in your browser.'>10<span class="apbct-blur">****************************</span>@<span class="apbct-blur">***************</span>wi.us</span>
SUMMARY:Day 1
DESCRIPTION:
URL:https://www.milton.k12.wi.us/event/day-2-15/
CATEGORIES:Northside Intermediate
END:VEVENT
BEGIN:VEVENT
DTSTART;VALUE=DATE:20250123
DTEND;VALUE=DATE:20250124
DTSTAMP:20260423T185110
CREATED:20250122T153732Z
LAST-MODIFIED:20250123T234632Z
UID:<span 
                data-original-string='WLjbzKGrjQuxX3INMbokFg==386K0/Ia1YlxQg+cGjNKH2pMCNGbe7+m0lgbrsMUXiWVABcuouAJ2FuXuEV/FSW2btE1KLqn8n3RUa/AnmXSPOiyw=='
                class='apbct-email-encoder'
                title='This contact has been encoded by Anti-Spam by CleanTalk. Click to decode. To finish the decoding make sure that JavaScript is enabled in your browser.'>10<span class="apbct-blur">****************************</span>@<span class="apbct-blur">***************</span>wi.us</span>
SUMMARY:Day 1
DESCRIPTION:
URL:https://www.milton.k12.wi.us/event/day-1-18/
CATEGORIES:Northside Intermediate
END:VEVENT
BEGIN:VEVENT
DTSTART;TZID=America/Chicago:20250123T153000
DTEND;TZID=America/Chicago:20250123T183000
DTSTAMP:20260423T185110
CREATED:20240822T004647Z
LAST-MODIFIED:20250123T230743Z
UID:<span 
                data-original-string='WrC5QNp46d5yzewArH+CDQ==386TtaOYipx74ccBsHLsNtTpejerRZPOg+CfzDEhQDt40z0kPuApp1REqBiCSqoKBj6VFVrIhV207E30fSdhf8OGQ=='
                class='apbct-email-encoder'
                title='This contact has been encoded by Anti-Spam by CleanTalk. Click to decode. To finish the decoding make sure that JavaScript is enabled in your browser.'>10<span class="apbct-blur">****************************</span>@<span class="apbct-blur">***************</span>wi.us</span>
SUMMARY:MHS Parent Teacher Conferences
DESCRIPTION:
URL:https://www.milton.k12.wi.us/event/parent-teacher-conferences-2/
CATEGORIES:Milton High School
END:VEVENT
BEGIN:VEVENT
DTSTART;TZID=America/Chicago:20250123T173000
DTEND;TZID=America/Chicago:20250123T183000
DTSTAMP:20260423T185110
CREATED:20240822T004647Z
LAST-MODIFIED:20250123T230743Z
UID:<span 
                data-original-string='kQp1Lhu3NLxWJMeoo+k1Uw==386uGHyN7al1OlepR9Cbcw5CgFatOoE6Td6m6mRREYpcXKrcsdHSfyLDfN9UqERrYe5+dIW4rxPZtEBa0uUqWsyfg=='
                class='apbct-email-encoder'
                title='This contact has been encoded by Anti-Spam by CleanTalk. Click to decode. To finish the decoding make sure that JavaScript is enabled in your browser.'>10<span class="apbct-blur">****************************</span>@<span class="apbct-blur">***************</span>wi.us</span>
SUMMARY:Junior Class Parent Meeting
DESCRIPTION:
URL:https://www.milton.k12.wi.us/event/junior-class-parent-meeting/
CATEGORIES:Milton High School
END:VEVENT
BEGIN:VEVENT
DTSTART;TZID=America/Chicago:20250123T173000
DTEND;TZID=America/Chicago:20250123T183000
DTSTAMP:20260423T185110
CREATED:20240822T004716Z
LAST-MODIFIED:20250123T221554Z
UID:<span 
                data-original-string='vSdQqkbqgt2dsDMwane0kA==386E3tRHlBfcilatXGohf1egfZ5xLIPmjYmIlLxxE+OQiKZhyYJAfg0Zosu60P+Uir8CvtQBZETQDIkpjmwsRnYbQ=='
                class='apbct-email-encoder'
                title='This contact has been encoded by Anti-Spam by CleanTalk. Click to decode. To finish the decoding make sure that JavaScript is enabled in your browser.'>10<span class="apbct-blur">****************************</span>@<span class="apbct-blur">***************</span>wi.us</span>
SUMMARY:MMS Parent Group Meeting
DESCRIPTION:
URL:https://www.milton.k12.wi.us/event/parent-group-meeting-4/
CATEGORIES:Milton Middle School
END:VEVENT
BEGIN:VEVENT
DTSTART;VALUE=DATE:20250124
DTEND;VALUE=DATE:20250125
DTSTAMP:20260423T185110
CREATED:20240829T170029Z
LAST-MODIFIED:20250124T234106Z
UID:<span 
                data-original-string='JRi4WlXN21cM2QtiS534oA==386P9dFyJJD7Rrhjx+d+jcggXl/K20Ul6PqoEw+mnKdJ8CQSSQhfHcpIP1uqGdHxwyZvYu8vDyhejDQjro1zOveAg=='
                class='apbct-email-encoder'
                title='This contact has been encoded by Anti-Spam by CleanTalk. Click to decode. To finish the decoding make sure that JavaScript is enabled in your browser.'>10<span class="apbct-blur">****************************</span>@<span class="apbct-blur">***************</span>wi.us</span>
SUMMARY:HES: Family Fun Night
DESCRIPTION:
URL:https://www.milton.k12.wi.us/event/hes-family-fun-night-2/
CATEGORIES:Harmony Elementary
END:VEVENT
BEGIN:VEVENT
DTSTART;VALUE=DATE:20250124
DTEND;VALUE=DATE:20250125
DTSTAMP:20260423T185110
CREATED:20250102T202339Z
LAST-MODIFIED:20250124T233741Z
UID:<span 
                data-original-string='KDONSNp1jjdf7kBFtvWgwA==386Lb7UrcG5PWVIzmiJNYCFykNyT6LUNudgyM2wJADq/LR6Q3PXaAwsDICiR3/emU4y88FHADwVe2sYC0jfFjHI3Q=='
                class='apbct-email-encoder'
                title='This contact has been encoded by Anti-Spam by CleanTalk. Click to decode. To finish the decoding make sure that JavaScript is enabled in your browser.'>10<span class="apbct-blur">****************************</span>@<span class="apbct-blur">***************</span>wi.us</span>
SUMMARY:Day 2
DESCRIPTION:
URL:https://www.milton.k12.wi.us/event/day-3-15/
CATEGORIES:Northside Intermediate
END:VEVENT
BEGIN:VEVENT
DTSTART;VALUE=DATE:20250124
DTEND;VALUE=DATE:20250125
DTSTAMP:20260423T185110
CREATED:20250122T153733Z
LAST-MODIFIED:20250124T233742Z
UID:<span 
                data-original-string='HAuZ2uzor9ZF+GxLDqn36A==386fPQLGF/mJY3Dimp9MXWRtvgr0EjJo5fonfaEukLRRmBojd1MugL4GraGjUhEgW8s9eRDpSqzFD5e0DGQBhLBZg=='
                class='apbct-email-encoder'
                title='This contact has been encoded by Anti-Spam by CleanTalk. Click to decode. To finish the decoding make sure that JavaScript is enabled in your browser.'>10<span class="apbct-blur">****************************</span>@<span class="apbct-blur">***************</span>wi.us</span>
SUMMARY:Day 2
DESCRIPTION:
URL:https://www.milton.k12.wi.us/event/day-2-17/
CATEGORIES:Northside Intermediate
END:VEVENT
BEGIN:VEVENT
DTSTART;TZID=America/Chicago:20250124T180000
DTEND;TZID=America/Chicago:20250124T190000
DTSTAMP:20260423T185110
CREATED:20240822T004843Z
LAST-MODIFIED:20250124T235234Z
UID:<span 
                data-original-string='atvLFS65FUUfqWL2uzW5dw==386+LJuYgQYg6g3QK1SiIy25H/95WTTu5VNgiLf4erSEkRUm6AHfxo1b8J9Q0+6w19gkbED3EsQlB97cMVD5yDRUQ=='
                class='apbct-email-encoder'
                title='This contact has been encoded by Anti-Spam by CleanTalk. Click to decode. To finish the decoding make sure that JavaScript is enabled in your browser.'>10<span class="apbct-blur">****************************</span>@<span class="apbct-blur">***************</span>wi.us</span>
SUMMARY:PAWS Family Fun Night: Movie Night
DESCRIPTION:
URL:https://www.milton.k12.wi.us/event/paws-family-fun-night-color-run-3/
CATEGORIES:Milton West Elementary
END:VEVENT
BEGIN:VEVENT
DTSTART;VALUE=DATE:20250127
DTEND;VALUE=DATE:20250128
DTSTAMP:20260423T185110
CREATED:20250102T202339Z
LAST-MODIFIED:20250127T153728Z
UID:<span 
                data-original-string='4cUF2XBZNQ8bGPO1BV1A5Q==386mBP6wSUXFN0DBR31qIG9IoKXfwcNhxZhMJCAQhhzL78ONl17B72jJP93Le+t9caY6/qaN5IWoGl+lncjUYsKzA=='
                class='apbct-email-encoder'
                title='This contact has been encoded by Anti-Spam by CleanTalk. Click to decode. To finish the decoding make sure that JavaScript is enabled in your browser.'>10<span class="apbct-blur">****************************</span>@<span class="apbct-blur">***************</span>wi.us</span>
SUMMARY:Day 3
DESCRIPTION:
URL:https://www.milton.k12.wi.us/event/day-4-15/
CATEGORIES:Northside Intermediate
END:VEVENT
BEGIN:VEVENT
DTSTART;VALUE=DATE:20250127
DTEND;VALUE=DATE:20250128
DTSTAMP:20260423T185110
CREATED:20250106T202325Z
LAST-MODIFIED:20250127T235232Z
UID:<span 
                data-original-string='oImFKYHNB1zLDzYcStt40w==386wDO5NjjLHJs/13fYhfhbD7EqGTLxsu8fxaqK8zx+4qsrwHbuIhKWrJj6/U0N/wNR/mSadxHOT2eTkhAlF9kmwA=='
                class='apbct-email-encoder'
                title='This contact has been encoded by Anti-Spam by CleanTalk. Click to decode. To finish the decoding make sure that JavaScript is enabled in your browser.'>10<span class="apbct-blur">****************************</span>@<span class="apbct-blur">***************</span>wi.us</span>
SUMMARY:Northside Early Release @ 2:40pm
DESCRIPTION:
URL:https://www.milton.k12.wi.us/event/early-release-240pm-2/
CATEGORIES:Northside Intermediate
END:VEVENT
BEGIN:VEVENT
DTSTART;VALUE=DATE:20250127
DTEND;VALUE=DATE:20250128
DTSTAMP:20260423T185110
CREATED:20250122T153742Z
LAST-MODIFIED:20250127T235232Z
UID:<span 
                data-original-string='I3HAG3UklMQToKedk7L+hw==386ySJyqmjutBeqykMw9GhKfWPpTvuvIoxLgcrCVYhJLjIiSXuRc1xfOddaYD9Pxr40r4P5iiaqB8pS/ND/lq2hcA=='
                class='apbct-email-encoder'
                title='This contact has been encoded by Anti-Spam by CleanTalk. Click to decode. To finish the decoding make sure that JavaScript is enabled in your browser.'>10<span class="apbct-blur">****************************</span>@<span class="apbct-blur">***************</span>wi.us</span>
SUMMARY:Day 3
DESCRIPTION:
URL:https://www.milton.k12.wi.us/event/day-3-17/
CATEGORIES:Northside Intermediate
END:VEVENT
BEGIN:VEVENT
DTSTART;TZID=America/Chicago:20250127T143500
DTEND;TZID=America/Chicago:20250127T153500
DTSTAMP:20260423T185110
CREATED:20240822T012927Z
LAST-MODIFIED:20250127T202445Z
UID:<span 
                data-original-string='Z/MBFqB050UpJrT24KpZSw==386bmTxa/KA3dgNUxz4aFw4kokBbY8qncXQ9fhYix6zOY6k4sruTzEaxk768/YA77tPJmbrOLkfxiRmuSRjiP2sHg=='
                class='apbct-email-encoder'
                title='This contact has been encoded by Anti-Spam by CleanTalk. Click to decode. To finish the decoding make sure that JavaScript is enabled in your browser.'>10<span class="apbct-blur">****************************</span>@<span class="apbct-blur">***************</span>wi.us</span>
SUMMARY:Early Release -
DESCRIPTION:
URL:https://www.milton.k12.wi.us/event/early-release-15/
CATEGORIES:Consolidated
END:VEVENT
BEGIN:VEVENT
DTSTART;TZID=America/Chicago:20250127T143500
DTEND;TZID=America/Chicago:20250127T153500
DTSTAMP:20260423T185110
CREATED:20240909T203934Z
LAST-MODIFIED:20250127T205230Z
UID:<span 
                data-original-string='yJnpbwJJIRIGOZxOqPMdYQ==386AlEglQIVrOjiG+6YW9cGkN1ebO8fbfkXv9Kr7OCeepT8/K8DclsfdLSimo4MotTUrv3gYWZi56Qy5l5IrFHR1A=='
                class='apbct-email-encoder'
                title='This contact has been encoded by Anti-Spam by CleanTalk. Click to decode. To finish the decoding make sure that JavaScript is enabled in your browser.'>10<span class="apbct-blur">****************************</span>@<span class="apbct-blur">***************</span>wi.us</span>
SUMMARY:HES: Early Release
DESCRIPTION:
URL:https://www.milton.k12.wi.us/event/hes-early-release-14/
CATEGORIES:Harmony Elementary
END:VEVENT
BEGIN:VEVENT
DTSTART;TZID=America/Chicago:20250127T180000
DTEND;TZID=America/Chicago:20250127T190000
DTSTAMP:20260423T185110
CREATED:20240829T170030Z
LAST-MODIFIED:20250127T233734Z
UID:<span 
                data-original-string='9t40G09BBHUsbg01OoApkw==386FnKyCmjM/mubm/bSdhL2iRJEzA1EhRIzIiE9o7E97F6D05RQ5vVRtbv8UMjNvsDXtOEeGJy9EuGJ0VCwt+5IDA=='
                class='apbct-email-encoder'
                title='This contact has been encoded by Anti-Spam by CleanTalk. Click to decode. To finish the decoding make sure that JavaScript is enabled in your browser.'>10<span class="apbct-blur">****************************</span>@<span class="apbct-blur">***************</span>wi.us</span>
SUMMARY:HES: Team Harmony Meeting LMC
DESCRIPTION:
URL:https://www.milton.k12.wi.us/event/hes-team-harmony-meeting-lmc-3/
CATEGORIES:Harmony Elementary
END:VEVENT
BEGIN:VEVENT
DTSTART;TZID=America/Chicago:20250127T183000
DTEND;TZID=America/Chicago:20250127T203000
DTSTAMP:20260423T185110
CREATED:20240822T012952Z
LAST-MODIFIED:20250127T220733Z
UID:<span 
                data-original-string='LQCDN5WAdr0jdx9fnXtnrw==386YFYJZ2FISFfurcPFT2rkodnL3K9qhaR3B04Kxpa/qR515iDTA8WdkJd1MFQGHHKvSzxt8xRRL96CfFwI8TawGQ=='
                class='apbct-email-encoder'
                title='This contact has been encoded by Anti-Spam by CleanTalk. Click to decode. To finish the decoding make sure that JavaScript is enabled in your browser.'>10<span class="apbct-blur">****************************</span>@<span class="apbct-blur">***************</span>wi.us</span>
SUMMARY:School Board Meeting
DESCRIPTION:
URL:https://www.milton.k12.wi.us/event/school-board-meeting-12/
LOCATION:School District of Milton\, 448 E High St\, Milton\, WI\, United States
CATEGORIES:District
GEO:42.773036;-88.944404
X-APPLE-STRUCTURED-LOCATION;VALUE=URI;X-ADDRESS=School District of Milton 448 E High St Milton WI United States;X-APPLE-RADIUS=500;X-TITLE=448 E High St:geo:-88.944404,42.773036
END:VEVENT
BEGIN:VEVENT
DTSTART;TZID=America/Chicago:20250127T183000
DTEND;TZID=America/Chicago:20250127T203000
DTSTAMP:20260423T185110
CREATED:20240822T012952Z
LAST-MODIFIED:20240822T012952Z
UID:<span 
                data-original-string='QbOoagpzxPsw/Z2C6UGHOA==386+0JU1MWUoqxjcw4FSo9kIVUsoLPe1mMPNHaneUVPOwS6kX+tWUfwWploMc1WJ8+fj9J8W944T5JRUT5NfcEMrw=='
                class='apbct-email-encoder'
                title='This contact has been encoded by Anti-Spam by CleanTalk. Click to decode. To finish the decoding make sure that JavaScript is enabled in your browser.'>10<span class="apbct-blur">****************************</span>@<span class="apbct-blur">***************</span>wi.us</span>
SUMMARY:School Board Meeting
DESCRIPTION:
URL:https://www.milton.k12.wi.us/event/school-board-meeting-13/
LOCATION:School District of Milton\, 448 E High St\, Milton\, WI\, United States
CATEGORIES:District
GEO:42.773036;-88.944404
X-APPLE-STRUCTURED-LOCATION;VALUE=URI;X-ADDRESS=School District of Milton 448 E High St Milton WI United States;X-APPLE-RADIUS=500;X-TITLE=448 E High St:geo:-88.944404,42.773036
END:VEVENT
BEGIN:VEVENT
DTSTART;VALUE=DATE:20250128
DTEND;VALUE=DATE:20250129
DTSTAMP:20260423T185110
CREATED:20250102T202343Z
LAST-MODIFIED:20250127T153729Z
UID:<span 
                data-original-string='yoWLjs2VuxLnFcd4OAQu2Q==386yMKZcx7LO6PttfNwzZApZ4swf3/v5EpH162GtcYKh0uh41qvpFzKX3T8IVgDHWT8hpn9IyyOVB+F1QDJcSdNaw=='
                class='apbct-email-encoder'
                title='This contact has been encoded by Anti-Spam by CleanTalk. Click to decode. To finish the decoding make sure that JavaScript is enabled in your browser.'>10<span class="apbct-blur">****************************</span>@<span class="apbct-blur">***************</span>wi.us</span>
SUMMARY:Day 4
DESCRIPTION:
URL:https://www.milton.k12.wi.us/event/day-5-15/
CATEGORIES:Northside Intermediate
END:VEVENT
BEGIN:VEVENT
DTSTART;VALUE=DATE:20250128
DTEND;VALUE=DATE:20250129
DTSTAMP:20260423T185110
CREATED:20250122T153743Z
LAST-MODIFIED:20250128T230852Z
UID:<span 
                data-original-string='F9ewrP+6TJ5AgdhCB4MvYA==386cwmni4F0N0VaxQjr+ULggGrX1+NJTw/RnZZGwlIc2ky2DP5n3UuRTExuuCsBig56myrYSmTVreMyvWalJZPFjw=='
                class='apbct-email-encoder'
                title='This contact has been encoded by Anti-Spam by CleanTalk. Click to decode. To finish the decoding make sure that JavaScript is enabled in your browser.'>10<span class="apbct-blur">****************************</span>@<span class="apbct-blur">***************</span>wi.us</span>
SUMMARY:Day 4
DESCRIPTION:
URL:https://www.milton.k12.wi.us/event/day-4-17/
CATEGORIES:Northside Intermediate
END:VEVENT
BEGIN:VEVENT
DTSTART;VALUE=DATE:20250129
DTEND;VALUE=DATE:20250130
DTSTAMP:20260423T185110
CREATED:20250102T202343Z
LAST-MODIFIED:20250127T153729Z
UID:<span 
                data-original-string='2iUrq8znsHQglkrK3k00Og==38627yAK+YoYgw7mXOgvVyXKLcmDPDLYtbBWGbXUJiTE0Tm8a5TJ+sqmP2Cz6QLmxOBk2ENgxjdVtFZClb3tGFWxg=='
                class='apbct-email-encoder'
                title='This contact has been encoded by Anti-Spam by CleanTalk. Click to decode. To finish the decoding make sure that JavaScript is enabled in your browser.'>10<span class="apbct-blur">****************************</span>@<span class="apbct-blur">***************</span>wi.us</span>
SUMMARY:Day 5
DESCRIPTION:
URL:https://www.milton.k12.wi.us/event/day-6-15/
CATEGORIES:Northside Intermediate
END:VEVENT
BEGIN:VEVENT
DTSTART;VALUE=DATE:20250129
DTEND;VALUE=DATE:20250130
DTSTAMP:20260423T185110
CREATED:20250122T153742Z
LAST-MODIFIED:20250129T230741Z
UID:<span 
                data-original-string='HZGZphZuG7wMnDJSSOLxHA==3863IuSAks+FmDBNZmzllJ7NCrsZc3AugflTFTtHugtTOg18dl6E98CUsi6oxJwG97VNdBQPzsImDpg68RQJoU3DQ=='
                class='apbct-email-encoder'
                title='This contact has been encoded by Anti-Spam by CleanTalk. Click to decode. To finish the decoding make sure that JavaScript is enabled in your browser.'>10<span class="apbct-blur">****************************</span>@<span class="apbct-blur">***************</span>wi.us</span>
SUMMARY:Day 5
DESCRIPTION:
URL:https://www.milton.k12.wi.us/event/day-5-17/
CATEGORIES:Northside Intermediate
END:VEVENT
BEGIN:VEVENT
DTSTART;TZID=America/Chicago:20250129T150000
DTEND;TZID=America/Chicago:20250129T160000
DTSTAMP:20260423T185110
CREATED:20250128T112247Z
LAST-MODIFIED:20250129T213736Z
UID:<span 
                data-original-string='knpLKwmVYnefeYiz9wIyuA==386hV3lenhr0LgKCX/j21+DaSA+powE17t94U+Tb6nK8a+Pb8WiNn9I/5CC9aKy9QVpKYSMDy7834NLSarKir3cuw=='
                class='apbct-email-encoder'
                title='This contact has been encoded by Anti-Spam by CleanTalk. Click to decode. To finish the decoding make sure that JavaScript is enabled in your browser.'>10<span class="apbct-blur">****************************</span>@<span class="apbct-blur">***************</span>wi.us</span>
SUMMARY:Finance Committee
DESCRIPTION:
URL:https://www.milton.k12.wi.us/event/finance-committee/
CATEGORIES:District
END:VEVENT
BEGIN:VEVENT
DTSTART;TZID=America/Chicago:20250129T160000
DTEND;TZID=America/Chicago:20250129T170000
DTSTAMP:20260423T185110
CREATED:20250128T112247Z
LAST-MODIFIED:20250129T220730Z
UID:<span 
                data-original-string='puuNdziOCBp9Pc8UtyjDZw==386gY5AxV4aui3uraIreZdVfluemBhLN7wYFaAy8MAZrvqtRyBj4BpDGmc7g33mEC99scdB6fxVVgJq5zd7WJDg1A=='
                class='apbct-email-encoder'
                title='This contact has been encoded by Anti-Spam by CleanTalk. Click to decode. To finish the decoding make sure that JavaScript is enabled in your browser.'>10<span class="apbct-blur">****************************</span>@<span class="apbct-blur">***************</span>wi.us</span>
SUMMARY:Policy Committee
DESCRIPTION:
URL:https://www.milton.k12.wi.us/event/policy-committee/
CATEGORIES:District
END:VEVENT
END:VCALENDAR