BEGIN:VCALENDAR
VERSION:2.0
PRODID:-//School District of Milton - ECPv6.15.20//NONSGML v1.0//EN
CALSCALE:GREGORIAN
METHOD:PUBLISH
X-WR-CALNAME:School District of Milton
X-ORIGINAL-URL:https://www.milton.k12.wi.us
X-WR-CALDESC:Events for School District of Milton
REFRESH-INTERVAL;VALUE=DURATION:PT1H
X-Robots-Tag:noindex
X-PUBLISHED-TTL:PT1H
BEGIN:VTIMEZONE
TZID:America/Chicago
BEGIN:DAYLIGHT
TZOFFSETFROM:-0600
TZOFFSETTO:-0500
TZNAME:CDT
DTSTART:20230312T080000
END:DAYLIGHT
BEGIN:STANDARD
TZOFFSETFROM:-0500
TZOFFSETTO:-0600
TZNAME:CST
DTSTART:20231105T070000
END:STANDARD
BEGIN:DAYLIGHT
TZOFFSETFROM:-0600
TZOFFSETTO:-0500
TZNAME:CDT
DTSTART:20240310T080000
END:DAYLIGHT
BEGIN:STANDARD
TZOFFSETFROM:-0500
TZOFFSETTO:-0600
TZNAME:CST
DTSTART:20241103T070000
END:STANDARD
BEGIN:DAYLIGHT
TZOFFSETFROM:-0600
TZOFFSETTO:-0500
TZNAME:CDT
DTSTART:20250309T080000
END:DAYLIGHT
BEGIN:STANDARD
TZOFFSETFROM:-0500
TZOFFSETTO:-0600
TZNAME:CST
DTSTART:20251102T070000
END:STANDARD
BEGIN:DAYLIGHT
TZOFFSETFROM:-0600
TZOFFSETTO:-0500
TZNAME:CDT
DTSTART:20260308T080000
END:DAYLIGHT
BEGIN:STANDARD
TZOFFSETFROM:-0500
TZOFFSETTO:-0600
TZNAME:CST
DTSTART:20261101T070000
END:STANDARD
END:VTIMEZONE
BEGIN:VEVENT
DTSTART;VALUE=DATE:20241223
DTEND;VALUE=DATE:20250102
DTSTAMP:20260421T140031
CREATED:20241113T193823Z
LAST-MODIFIED:20250101T211550Z
UID:<span 
                data-original-string='AIip8mzxFIV+vrGs6/k7og==386aa7cijbfwssuP3YlS4zBx43H9UXAS5HKeuS1OSPds3DxGq8V/i6PTmEww6DiJ3bSVs8aqcnuSGFQmf3MlaOKsw=='
                class='apbct-email-encoder'
                title='This contact has been encoded by Anti-Spam by CleanTalk. Click to decode. To finish the decoding make sure that JavaScript is enabled in your browser.'>10<span class="apbct-blur">****************************</span>@<span class="apbct-blur">***************</span>wi.us</span>
SUMMARY:NO SCHOOl - Winter Break
DESCRIPTION:
URL:https://www.milton.k12.wi.us/event/no-school-winter-break/
CATEGORIES:District
END:VEVENT
BEGIN:VEVENT
DTSTART;VALUE=DATE:20241224
DTEND;VALUE=DATE:20241225
DTSTAMP:20260421T140031
CREATED:20240822T004641Z
LAST-MODIFIED:20241224T220801Z
UID:<span 
                data-original-string='B8+CdJGcgoDiRIB4L5nXIQ==386I8LXqcMZuJTVvK1kfOF0ZYwMy5YV1bZ/85AsGJahNMDerulgHlhB1nLMopFlaEb98RQkqiY9XsOUaYNswkEKyQ=='
                class='apbct-email-encoder'
                title='This contact has been encoded by Anti-Spam by CleanTalk. Click to decode. To finish the decoding make sure that JavaScript is enabled in your browser.'>10<span class="apbct-blur">****************************</span>@<span class="apbct-blur">***************</span>wi.us</span>
SUMMARY:Winter Break - No School
DESCRIPTION:
URL:https://www.milton.k12.wi.us/event/winter-break-no-school-4/
CATEGORIES:Milton High School
END:VEVENT
BEGIN:VEVENT
DTSTART;VALUE=DATE:20241225
DTEND;VALUE=DATE:20241226
DTSTAMP:20260421T140031
CREATED:20240822T004642Z
LAST-MODIFIED:20241225T222055Z
UID:<span 
                data-original-string='I14MeK7lzmHnA0kn7XPcRQ==386qrFXI7rHekb8X/PGrcGe6KKBBLb65rnGZySSngmrswGl19qPejVg6mBqFo8bM2yp7KySKA1VaswDEuy6yywy6A=='
                class='apbct-email-encoder'
                title='This contact has been encoded by Anti-Spam by CleanTalk. Click to decode. To finish the decoding make sure that JavaScript is enabled in your browser.'>10<span class="apbct-blur">****************************</span>@<span class="apbct-blur">***************</span>wi.us</span>
SUMMARY:Winter Break - No School
DESCRIPTION:
URL:https://www.milton.k12.wi.us/event/winter-break-no-school-6/
CATEGORIES:Milton High School
END:VEVENT
BEGIN:VEVENT
DTSTART;VALUE=DATE:20241225
DTEND;VALUE=DATE:20241226
DTSTAMP:20260421T140031
CREATED:20241018T172617Z
LAST-MODIFIED:20241225T225314Z
UID:<span 
                data-original-string='PL6+RbCCdLSmH0RQDnn7ow==386hULN56cabaot9oIiKy5lJlvL3RiNFjQIpcULNiKaTp0P+dc4AXZ4TqfSBnd7QfXyvEr2RF3LmmNvCRX3SsBi2g=='
                class='apbct-email-encoder'
                title='This contact has been encoded by Anti-Spam by CleanTalk. Click to decode. To finish the decoding make sure that JavaScript is enabled in your browser.'>10<span class="apbct-blur">****************************</span>@<span class="apbct-blur">***************</span>wi.us</span>
SUMMARY:Aimsweb Plus Test
DESCRIPTION:
URL:https://www.milton.k12.wi.us/event/aimsweb-plus-test/
CATEGORIES:Harmony Elementary
END:VEVENT
BEGIN:VEVENT
DTSTART;VALUE=DATE:20241226
DTEND;VALUE=DATE:20241227
DTSTAMP:20260421T140031
CREATED:20240822T004641Z
LAST-MODIFIED:20241226T220757Z
UID:<span 
                data-original-string='NiuShSnHprZaE8G9mK9U3g==386shjA/NjPwPYoVqGZytvLVh3iPWftBt57g2IgGuuneYde+mb9GlDT3gJQVJvIDfi4HEWC9HONmksjXTB9dGGEnw=='
                class='apbct-email-encoder'
                title='This contact has been encoded by Anti-Spam by CleanTalk. Click to decode. To finish the decoding make sure that JavaScript is enabled in your browser.'>10<span class="apbct-blur">****************************</span>@<span class="apbct-blur">***************</span>wi.us</span>
SUMMARY:Winter Break - No School
DESCRIPTION:
URL:https://www.milton.k12.wi.us/event/winter-break-no-school-5/
CATEGORIES:Milton High School
END:VEVENT
BEGIN:VEVENT
DTSTART;VALUE=DATE:20241227
DTEND;VALUE=DATE:20241228
DTSTAMP:20260421T140031
CREATED:20240822T004642Z
LAST-MODIFIED:20241227T145237Z
UID:<span 
                data-original-string='7rbgV3gInkZqlzVEiOV6Mw==386OBI+B0N1lqJznDHQujnO8QX/FRh9VCEldgoPw6OGPDJH5qdYoY4FNQ5oIL+hQYqQPdU4ocOGgb1RQOuIc8h3Lg=='
                class='apbct-email-encoder'
                title='This contact has been encoded by Anti-Spam by CleanTalk. Click to decode. To finish the decoding make sure that JavaScript is enabled in your browser.'>10<span class="apbct-blur">****************************</span>@<span class="apbct-blur">***************</span>wi.us</span>
SUMMARY:Winter Break - No School
DESCRIPTION:
URL:https://www.milton.k12.wi.us/event/winter-break-no-school-7/
CATEGORIES:Milton High School
END:VEVENT
BEGIN:VEVENT
DTSTART;VALUE=DATE:20241230
DTEND;VALUE=DATE:20241231
DTSTAMP:20260421T140031
CREATED:20240822T004643Z
LAST-MODIFIED:20241230T221057Z
UID:<span 
                data-original-string='blE2T8wDf1x1DB6Pnfj8oA==386pvIfPYYz5BP02D5t+tCcxH4pz0I/SQjkhPxQ/IVFMd5+3pUpzOyHklTEKOcd9yR2cc0LKMxQye1zpAtaIs6xJA=='
                class='apbct-email-encoder'
                title='This contact has been encoded by Anti-Spam by CleanTalk. Click to decode. To finish the decoding make sure that JavaScript is enabled in your browser.'>10<span class="apbct-blur">****************************</span>@<span class="apbct-blur">***************</span>wi.us</span>
SUMMARY:Winter Break - No School
DESCRIPTION:
URL:https://www.milton.k12.wi.us/event/winter-break-no-school-8/
CATEGORIES:Milton High School
END:VEVENT
BEGIN:VEVENT
DTSTART;VALUE=DATE:20241230
DTEND;VALUE=DATE:20250102
DTSTAMP:20260421T140031
CREATED:20240822T004841Z
LAST-MODIFIED:20250101T225242Z
UID:<span 
                data-original-string='+br2Z2b30wuFUVr5cA1unQ==3868oes2y0PPnc7qqy9dXtEacbIcyyrDlcSvpB1lwoHU3TRryErKzkhIuL3Vksmj9TUTaTnvLPkik0T+h7EYEb7PQ=='
                class='apbct-email-encoder'
                title='This contact has been encoded by Anti-Spam by CleanTalk. Click to decode. To finish the decoding make sure that JavaScript is enabled in your browser.'>10<span class="apbct-blur">****************************</span>@<span class="apbct-blur">***************</span>wi.us</span>
SUMMARY:Winter Break/No School
DESCRIPTION:
URL:https://www.milton.k12.wi.us/event/winter-break-no-school-13/
CATEGORIES:Milton West Elementary
END:VEVENT
BEGIN:VEVENT
DTSTART;VALUE=DATE:20241230
DTEND;VALUE=DATE:20250102
DTSTAMP:20260421T140031
CREATED:20240822T012927Z
LAST-MODIFIED:20250101T232242Z
UID:<span 
                data-original-string='02xi+nSXdynlx1ysW1VbKQ==386Io6Nc6cBEdedwpaTqjqMkodCzLIkK8XKZ32/61IWxq/oUxdoX2dPOEEiFsziEw7U9Po0x++qyGOY27oeRAtn6A=='
                class='apbct-email-encoder'
                title='This contact has been encoded by Anti-Spam by CleanTalk. Click to decode. To finish the decoding make sure that JavaScript is enabled in your browser.'>10<span class="apbct-blur">****************************</span>@<span class="apbct-blur">***************</span>wi.us</span>
SUMMARY:Winter Break/No School
DESCRIPTION:
URL:https://www.milton.k12.wi.us/event/winter-break-no-school-3/
CATEGORIES:Consolidated
END:VEVENT
BEGIN:VEVENT
DTSTART;VALUE=DATE:20241231
DTEND;VALUE=DATE:20250101
DTSTAMP:20260421T140031
CREATED:20240822T004643Z
LAST-MODIFIED:20241231T220740Z
UID:<span 
                data-original-string='sVnjNrS6lu1hhagat8Ww7g==386SUGkM9Txf0+noNirfTmcOKIozWCwOHvolhh1celJh+bSTy2kmDIIelHUTtMxnpU4YRjwKIs8VMMVtmI5+zvXug=='
                class='apbct-email-encoder'
                title='This contact has been encoded by Anti-Spam by CleanTalk. Click to decode. To finish the decoding make sure that JavaScript is enabled in your browser.'>10<span class="apbct-blur">****************************</span>@<span class="apbct-blur">***************</span>wi.us</span>
SUMMARY:Winter Break - No School
DESCRIPTION:
URL:https://www.milton.k12.wi.us/event/winter-break-no-school-9/
CATEGORIES:Milton High School
END:VEVENT
BEGIN:VEVENT
DTSTART;VALUE=DATE:20250101
DTEND;VALUE=DATE:20250102
DTSTAMP:20260421T140031
CREATED:20240822T004644Z
LAST-MODIFIED:20250101T222445Z
UID:<span 
                data-original-string='jFr6h3GiqoQJhgnIZIEyrQ==386AgM9tx31I804nZjgNb+8IpI2Poh1ORLWI1Z5yMLgAsgrBAUNENugdrG+ObKU7MtZDqqhH1mY4M28UevOgYgfmw=='
                class='apbct-email-encoder'
                title='This contact has been encoded by Anti-Spam by CleanTalk. Click to decode. To finish the decoding make sure that JavaScript is enabled in your browser.'>10<span class="apbct-blur">****************************</span>@<span class="apbct-blur">***************</span>wi.us</span>
SUMMARY:Winter Break - No School
DESCRIPTION:
URL:https://www.milton.k12.wi.us/event/winter-break-no-school-10/
CATEGORIES:Milton High School
END:VEVENT
BEGIN:VEVENT
DTSTART;VALUE=DATE:20250102
DTEND;VALUE=DATE:20250103
DTSTAMP:20260421T140031
CREATED:20240829T170021Z
LAST-MODIFIED:20250102T230743Z
UID:<span 
                data-original-string='V5NM7RX8mx29MVF8GKZZQA==3869fr9wKz6jessd9egEqMpyx5wV3kGVIl4HM1lmVxHpa+rmdAoPVkWDC2SJatf0xKPzh9eIhGiQji2+9VSBtdWyw=='
                class='apbct-email-encoder'
                title='This contact has been encoded by Anti-Spam by CleanTalk. Click to decode. To finish the decoding make sure that JavaScript is enabled in your browser.'>10<span class="apbct-blur">****************************</span>@<span class="apbct-blur">***************</span>wi.us</span>
SUMMARY:HES: Classes Resume
DESCRIPTION:
URL:https://www.milton.k12.wi.us/event/hes-classes-resume/
CATEGORIES:Harmony Elementary
END:VEVENT
BEGIN:VEVENT
DTSTART;VALUE=DATE:20250102
DTEND;VALUE=DATE:20250103
DTSTAMP:20260421T140031
CREATED:20241113T193841Z
LAST-MODIFIED:20250102T203739Z
UID:<span 
                data-original-string='mrKuu01teHfsDIOByqACxw==386T513pJxRnLsHv6hAYnX2uVqsSDHyg8vGnK+N9TIEuXNDcEQ8QNsBtVZseRkRXOSRAkBwrvZJlZSux3Sn/hiRew=='
                class='apbct-email-encoder'
                title='This contact has been encoded by Anti-Spam by CleanTalk. Click to decode. To finish the decoding make sure that JavaScript is enabled in your browser.'>10<span class="apbct-blur">****************************</span>@<span class="apbct-blur">***************</span>wi.us</span>
SUMMARY:Classes Resume
DESCRIPTION:
URL:https://www.milton.k12.wi.us/event/classes-resume-2/
CATEGORIES:District
END:VEVENT
BEGIN:VEVENT
DTSTART;VALUE=DATE:20250102
DTEND;VALUE=DATE:20250103
DTSTAMP:20260421T140031
CREATED:20241210T202245Z
LAST-MODIFIED:20250102T232229Z
UID:<span 
                data-original-string='QoQEcwO6p+gHJJzLE9/IXQ==386Pkof+f3fpEJ6wwOyu6ooKxX+dCK4W1U2navkUjTSYy+Di2UWtO57P2/k6U1hmAPBfr/TTjT1Mg7o/HrxZxC5nQ=='
                class='apbct-email-encoder'
                title='This contact has been encoded by Anti-Spam by CleanTalk. Click to decode. To finish the decoding make sure that JavaScript is enabled in your browser.'>10<span class="apbct-blur">****************************</span>@<span class="apbct-blur">***************</span>wi.us</span>
SUMMARY:Day 6
DESCRIPTION:
URL:https://www.milton.k12.wi.us/event/day-6-12/
CATEGORIES:Northside Intermediate
END:VEVENT
BEGIN:VEVENT
DTSTART;VALUE=DATE:20250103
DTEND;VALUE=DATE:20250104
DTSTAMP:20260421T140031
CREATED:20241210T202245Z
LAST-MODIFIED:20250103T223725Z
UID:<span 
                data-original-string='P5iru39j0B9nf05FWENaAA==386mURqrd6Obv8tj261xZwmPQKZyG4gaXeMvhmXTyvlvqG2lLog2e7Cqsai7rcdZ0A0YIdi2RXcDEz2BNFaNJ9SKA=='
                class='apbct-email-encoder'
                title='This contact has been encoded by Anti-Spam by CleanTalk. Click to decode. To finish the decoding make sure that JavaScript is enabled in your browser.'>10<span class="apbct-blur">****************************</span>@<span class="apbct-blur">***************</span>wi.us</span>
SUMMARY:Day 1
DESCRIPTION:
URL:https://www.milton.k12.wi.us/event/day-1-13/
CATEGORIES:Northside Intermediate
END:VEVENT
BEGIN:VEVENT
DTSTART;VALUE=DATE:20250106
DTEND;VALUE=DATE:20250107
DTSTAMP:20260421T140031
CREATED:20241210T202249Z
LAST-MODIFIED:20250106T232239Z
UID:<span 
                data-original-string='ZvDNMFaAjVAL0ScOFawbXg==386RBWsN3zIL9VunjnhCWSIZU1XLdp0xawbMDm2HDmIUo5ZtSdU1d5+f8pzcifi42mbos64y58zcSDRX7xGzsnI/w=='
                class='apbct-email-encoder'
                title='This contact has been encoded by Anti-Spam by CleanTalk. Click to decode. To finish the decoding make sure that JavaScript is enabled in your browser.'>10<span class="apbct-blur">****************************</span>@<span class="apbct-blur">***************</span>wi.us</span>
SUMMARY:Day 2
DESCRIPTION:
URL:https://www.milton.k12.wi.us/event/day-2-13/
CATEGORIES:Northside Intermediate
END:VEVENT
BEGIN:VEVENT
DTSTART;TZID=America/Chicago:20250106T143500
DTEND;TZID=America/Chicago:20250106T153500
DTSTAMP:20260421T140031
CREATED:20240822T012927Z
LAST-MODIFIED:20250106T211106Z
UID:<span 
                data-original-string='xs/HZnQl2UuIF+PAxkUnrQ==386dz8p+X06ESNspsHGplHrzA8OkX4LmM/vpfHWkuZ2hFPcpCqAotWgxr1/bjhKg24K6i+3mRVP/ZTINNu4DQo9LA=='
                class='apbct-email-encoder'
                title='This contact has been encoded by Anti-Spam by CleanTalk. Click to decode. To finish the decoding make sure that JavaScript is enabled in your browser.'>10<span class="apbct-blur">****************************</span>@<span class="apbct-blur">***************</span>wi.us</span>
SUMMARY:Early Release -
DESCRIPTION:
URL:https://www.milton.k12.wi.us/event/early-release-13/
CATEGORIES:Consolidated
END:VEVENT
BEGIN:VEVENT
DTSTART;TZID=America/Chicago:20250106T143500
DTEND;TZID=America/Chicago:20250106T153500
DTSTAMP:20260421T140031
CREATED:20240909T203927Z
LAST-MODIFIED:20250106T205233Z
UID:<span 
                data-original-string='tS23PnyQiEeSwCk7kyirBg==386BiZNiyD+yG/zudC8/PWuVnPZE55/pr0YiNDlYIyMCnnClQfnUTvDXkHHH9wR1A6IciznYbXjlpALqa+DKmR6uQ=='
                class='apbct-email-encoder'
                title='This contact has been encoded by Anti-Spam by CleanTalk. Click to decode. To finish the decoding make sure that JavaScript is enabled in your browser.'>10<span class="apbct-blur">****************************</span>@<span class="apbct-blur">***************</span>wi.us</span>
SUMMARY:HES: Early Release
DESCRIPTION:
URL:https://www.milton.k12.wi.us/event/hes-early-release-12/
CATEGORIES:Harmony Elementary
END:VEVENT
BEGIN:VEVENT
DTSTART;VALUE=DATE:20250107
DTEND;VALUE=DATE:20250108
DTSTAMP:20260421T140031
CREATED:20241210T202250Z
LAST-MODIFIED:20250107T235355Z
UID:<span 
                data-original-string='GobNMqb7jjJEEa9evvNVug==386pTUjO77KiOgU4ghyMzrAvbifoggiOpf/xcxBA//vDK0z75dfn9TdRXyWSUSvANizZ4K2qzYwAe9mrQqprO1KEQ=='
                class='apbct-email-encoder'
                title='This contact has been encoded by Anti-Spam by CleanTalk. Click to decode. To finish the decoding make sure that JavaScript is enabled in your browser.'>10<span class="apbct-blur">****************************</span>@<span class="apbct-blur">***************</span>wi.us</span>
SUMMARY:Day 3
DESCRIPTION:
URL:https://www.milton.k12.wi.us/event/day-3-13/
CATEGORIES:Northside Intermediate
END:VEVENT
BEGIN:VEVENT
DTSTART;VALUE=DATE:20250108
DTEND;VALUE=DATE:20250109
DTSTAMP:20260421T140031
CREATED:20241210T202250Z
LAST-MODIFIED:20250108T232230Z
UID:<span 
                data-original-string='mYb72NrYmgQh2KoemXNgzg==386p0/AhSv6CeqgW3Szp1HL6CtBhbJWjUuts/ud18+GsT5XfAq5mbEnEyUGUTCifHDNT/94SfFczxKD55w6P9QfdQ=='
                class='apbct-email-encoder'
                title='This contact has been encoded by Anti-Spam by CleanTalk. Click to decode. To finish the decoding make sure that JavaScript is enabled in your browser.'>10<span class="apbct-blur">****************************</span>@<span class="apbct-blur">***************</span>wi.us</span>
SUMMARY:Day 4
DESCRIPTION:
URL:https://www.milton.k12.wi.us/event/day-4-13/
CATEGORIES:Northside Intermediate
END:VEVENT
BEGIN:VEVENT
DTSTART;TZID=America/Chicago:20250108T160000
DTEND;TZID=America/Chicago:20250108T200000
DTSTAMP:20260421T140031
CREATED:20240822T004842Z
LAST-MODIFIED:20250108T225430Z
UID:<span 
                data-original-string='kyufUzxPvbpi6i6V7jJQqg==3860iQAIlzI92Tn/tsJCHDqRaXVZSWtL+72iNZFCxIn570WYCc/+T2WYo2rRYgVm62UkkGj5vge5evf5X9yC7nOtw=='
                class='apbct-email-encoder'
                title='This contact has been encoded by Anti-Spam by CleanTalk. Click to decode. To finish the decoding make sure that JavaScript is enabled in your browser.'>10<span class="apbct-blur">****************************</span>@<span class="apbct-blur">***************</span>wi.us</span>
SUMMARY:Scoopie Night
DESCRIPTION:
URL:https://www.milton.k12.wi.us/event/scoopie-night-2/
LOCATION:2633 Milton Ave\, Janesville\, WI\, United States
CATEGORIES:Milton West Elementary
GEO:42.738888;-89.0403
END:VEVENT
BEGIN:VEVENT
DTSTART;TZID=America/Chicago:20250108T183000
DTEND;TZID=America/Chicago:20250108T200000
DTSTAMP:20260421T140031
CREATED:20240822T004644Z
LAST-MODIFIED:20250108T222821Z
UID:<span 
                data-original-string='ESbrydmcrlgKVxjvPE7HSA==386HnVHuAuxIL9y5WucMOhUtjO12imGwQ986RfHWMWj25HIdk7GwGBkfadDiSHtTvxpg3rtLnxZb+LsUzlZSAD7oA=='
                class='apbct-email-encoder'
                title='This contact has been encoded by Anti-Spam by CleanTalk. Click to decode. To finish the decoding make sure that JavaScript is enabled in your browser.'>10<span class="apbct-blur">****************************</span>@<span class="apbct-blur">***************</span>wi.us</span>
SUMMARY:9th Grade Academic Planning
DESCRIPTION:
URL:https://www.milton.k12.wi.us/event/9th-grade-academic-planning/
CATEGORIES:Milton High School
END:VEVENT
BEGIN:VEVENT
DTSTART;VALUE=DATE:20250109
DTEND;VALUE=DATE:20250110
DTSTAMP:20260421T140031
CREATED:20241210T202250Z
LAST-MODIFIED:20250109T233135Z
UID:<span 
                data-original-string='0iCh1iw7ohgVN5EjYCv0uA==386D18dsxRW1HwCtFTGe3pNwAqkAyhg36dzxgj663IksT7LW9D4FIAzioK8U/lGbVbSktr7h5vXiHKzse3MJx2e3g=='
                class='apbct-email-encoder'
                title='This contact has been encoded by Anti-Spam by CleanTalk. Click to decode. To finish the decoding make sure that JavaScript is enabled in your browser.'>10<span class="apbct-blur">****************************</span>@<span class="apbct-blur">***************</span>wi.us</span>
SUMMARY:Day 5
DESCRIPTION:
URL:https://www.milton.k12.wi.us/event/day-5-13/
CATEGORIES:Northside Intermediate
END:VEVENT
BEGIN:VEVENT
DTSTART;VALUE=DATE:20250110
DTEND;VALUE=DATE:20250111
DTSTAMP:20260421T140031
CREATED:20241210T202251Z
LAST-MODIFIED:20250110T232311Z
UID:<span 
                data-original-string='PCsPuVc9UEvjxCnwdX0XsA==3860CNRCbXkp8DcSGKFrz30E5fqsFqhgS1d6rFaKyEuHvJlWLwebP+NVqiKpU92amMvcalc0hdtunGB3PEhamoKKQ=='
                class='apbct-email-encoder'
                title='This contact has been encoded by Anti-Spam by CleanTalk. Click to decode. To finish the decoding make sure that JavaScript is enabled in your browser.'>10<span class="apbct-blur">****************************</span>@<span class="apbct-blur">***************</span>wi.us</span>
SUMMARY:Day 6
DESCRIPTION:
URL:https://www.milton.k12.wi.us/event/day-6-13/
CATEGORIES:Northside Intermediate
END:VEVENT
BEGIN:VEVENT
DTSTART;VALUE=DATE:20250113
DTEND;VALUE=DATE:20250114
DTSTAMP:20260421T140031
CREATED:20241217T220744Z
LAST-MODIFIED:20250113T232607Z
UID:<span 
                data-original-string='TVlsjFYURMzfnvSD9BdD2g==386qy++/uGs6xS9kGG3RUhK8iUvGJ1bzy2VF9Chmk4BlTGbxfpBUDtiBaAD0Ol5F40LAjntV+7gJwZ0WZgT+IDxyw=='
                class='apbct-email-encoder'
                title='This contact has been encoded by Anti-Spam by CleanTalk. Click to decode. To finish the decoding make sure that JavaScript is enabled in your browser.'>10<span class="apbct-blur">****************************</span>@<span class="apbct-blur">***************</span>wi.us</span>
SUMMARY:Day 1
DESCRIPTION:
URL:https://www.milton.k12.wi.us/event/day-1-14/
CATEGORIES:Northside Intermediate
END:VEVENT
BEGIN:VEVENT
DTSTART;VALUE=DATE:20250113
DTEND;VALUE=DATE:20250114
DTSTAMP:20260421T140031
CREATED:20250106T202248Z
LAST-MODIFIED:20250113T232607Z
UID:<span 
                data-original-string='lrPAeIQN4SOOnuOkYZcjuw==386kQK0UHl9eGc8Q7N4YQYPZDvx+t26ea/uqAc05oULaNsrVpKRnPBTTru53Tf9o4cLoz9LOmtup2Hmc/9ARUOvxg=='
                class='apbct-email-encoder'
                title='This contact has been encoded by Anti-Spam by CleanTalk. Click to decode. To finish the decoding make sure that JavaScript is enabled in your browser.'>10<span class="apbct-blur">****************************</span>@<span class="apbct-blur">***************</span>wi.us</span>
SUMMARY:Northside Early Release @ 2:40pm
DESCRIPTION:
URL:https://www.milton.k12.wi.us/event/early-release-240pm/
CATEGORIES:Northside Intermediate
END:VEVENT
BEGIN:VEVENT
DTSTART;TZID=America/Chicago:20250113T143500
DTEND;TZID=America/Chicago:20250113T153500
DTSTAMP:20260421T140031
CREATED:20240822T012927Z
LAST-MODIFIED:20250113T211406Z
UID:<span 
                data-original-string='K8EsLb2tJuQgT8LUUFhvTg==3867B8bCRw0Mk2upkREPpJO0eG+I3WvpgA9uR/Q53i4NhepXWmIiiO0hKYFdKYwdhDhmQanz6cDTMqQIJpqCeE/MA=='
                class='apbct-email-encoder'
                title='This contact has been encoded by Anti-Spam by CleanTalk. Click to decode. To finish the decoding make sure that JavaScript is enabled in your browser.'>10<span class="apbct-blur">****************************</span>@<span class="apbct-blur">***************</span>wi.us</span>
SUMMARY:Early Release -
DESCRIPTION:
URL:https://www.milton.k12.wi.us/event/early-release-14/
CATEGORIES:Consolidated
END:VEVENT
BEGIN:VEVENT
DTSTART;TZID=America/Chicago:20250113T143500
DTEND;TZID=America/Chicago:20250113T153500
DTSTAMP:20260421T140031
CREATED:20240909T203932Z
LAST-MODIFIED:20250113T211131Z
UID:<span 
                data-original-string='5H5EA7KkCM3xAtaNLxpv/Q==386jMJT6eUiR64VHvey+apo5VuA/0cNM4tfmPnRCQQCExEeBGfnWxNcWgrQtujUfxJLLu3JXBvzyhz7VXi7c4obmw=='
                class='apbct-email-encoder'
                title='This contact has been encoded by Anti-Spam by CleanTalk. Click to decode. To finish the decoding make sure that JavaScript is enabled in your browser.'>10<span class="apbct-blur">****************************</span>@<span class="apbct-blur">***************</span>wi.us</span>
SUMMARY:HES: Early Release
DESCRIPTION:
URL:https://www.milton.k12.wi.us/event/hes-early-release-13/
CATEGORIES:Harmony Elementary
END:VEVENT
BEGIN:VEVENT
DTSTART;TZID=America/Chicago:20250113T183000
DTEND;TZID=America/Chicago:20250113T203000
DTSTAMP:20260421T140031
CREATED:20240822T012952Z
LAST-MODIFIED:20250113T213858Z
UID:<span 
                data-original-string='0Yp8SaHtr+fyN9F6ZYFZRg==3860uM/m3MOfdQl/OJIQdUxlnW3fRO7eWivo/9FttPKWEKI1qzHLuEq9oFUgbal0vRlw3yHvXTkfOHziGMwW6dcWg=='
                class='apbct-email-encoder'
                title='This contact has been encoded by Anti-Spam by CleanTalk. Click to decode. To finish the decoding make sure that JavaScript is enabled in your browser.'>10<span class="apbct-blur">****************************</span>@<span class="apbct-blur">***************</span>wi.us</span>
SUMMARY:School Board Meeting
DESCRIPTION:
URL:https://www.milton.k12.wi.us/event/school-board-meeting-10/
CATEGORIES:District
END:VEVENT
BEGIN:VEVENT
DTSTART;VALUE=DATE:20250114
DTEND;VALUE=DATE:20250115
DTSTAMP:20260421T140031
CREATED:20240829T170028Z
LAST-MODIFIED:20250114T233752Z
UID:<span 
                data-original-string='CB5SN73QmaH5PXQ8UzPjJA==386Cjfe3L86uS5aUQ8XgQ3iOAVU1vI/9dfbTAUByGXWKP9E7AP+ym0WKSNsKq1WyyYvkFh/6oLbDrt6hr5XDK7KYg=='
                class='apbct-email-encoder'
                title='This contact has been encoded by Anti-Spam by CleanTalk. Click to decode. To finish the decoding make sure that JavaScript is enabled in your browser.'>10<span class="apbct-blur">****************************</span>@<span class="apbct-blur">***************</span>wi.us</span>
SUMMARY:HES: Culver's Scoopie Night
DESCRIPTION:
URL:https://www.milton.k12.wi.us/event/hes-culvers-scoopie-night-2/
CATEGORIES:Harmony Elementary
END:VEVENT
END:VCALENDAR