BEGIN:VCALENDAR
VERSION:2.0
PRODID:-//School District of Milton - ECPv6.15.20//NONSGML v1.0//EN
CALSCALE:GREGORIAN
METHOD:PUBLISH
X-WR-CALNAME:School District of Milton
X-ORIGINAL-URL:https://www.milton.k12.wi.us
X-WR-CALDESC:Events for School District of Milton
REFRESH-INTERVAL;VALUE=DURATION:PT1H
X-Robots-Tag:noindex
X-PUBLISHED-TTL:PT1H
BEGIN:VTIMEZONE
TZID:America/Chicago
BEGIN:DAYLIGHT
TZOFFSETFROM:-0600
TZOFFSETTO:-0500
TZNAME:CDT
DTSTART:20260308T080000
END:DAYLIGHT
BEGIN:STANDARD
TZOFFSETFROM:-0500
TZOFFSETTO:-0600
TZNAME:CST
DTSTART:20261101T070000
END:STANDARD
BEGIN:DAYLIGHT
TZOFFSETFROM:-0600
TZOFFSETTO:-0500
TZNAME:CDT
DTSTART:20270314T080000
END:DAYLIGHT
BEGIN:STANDARD
TZOFFSETFROM:-0500
TZOFFSETTO:-0600
TZNAME:CST
DTSTART:20271107T070000
END:STANDARD
BEGIN:DAYLIGHT
TZOFFSETFROM:-0600
TZOFFSETTO:-0500
TZNAME:CDT
DTSTART:20280312T080000
END:DAYLIGHT
BEGIN:STANDARD
TZOFFSETFROM:-0500
TZOFFSETTO:-0600
TZNAME:CST
DTSTART:20281105T070000
END:STANDARD
BEGIN:DAYLIGHT
TZOFFSETFROM:-0600
TZOFFSETTO:-0500
TZNAME:CDT
DTSTART:20290311T080000
END:DAYLIGHT
BEGIN:STANDARD
TZOFFSETFROM:-0500
TZOFFSETTO:-0600
TZNAME:CST
DTSTART:20291104T070000
END:STANDARD
END:VTIMEZONE
BEGIN:VEVENT
DTSTART;TZID=America/Chicago:20271025T143500
DTEND;TZID=America/Chicago:20271025T153500
DTSTAMP:20260424T194247
CREATED:20251025T090015Z
LAST-MODIFIED:20260424T201339Z
UID:<span 
                data-original-string='t1ckfYmSky/N+b+T+EebdQ==386rSS00YUS8ZaHyppWs52dvsm8QfNCQ96vReb3iWYyVKMIJ+1JJHDvWLmP7YIwADvP9ZzLEZ1HF6W88KpNiPS9TA=='
                class='apbct-email-encoder'
                title='This contact has been encoded by Anti-Spam by CleanTalk. Click to decode. To finish the decoding make sure that JavaScript is enabled in your browser.'>10<span class="apbct-blur">****************************</span>@<span class="apbct-blur">***************</span>wi.us</span>
SUMMARY:Early Release -
DESCRIPTION:
URL:https://www.milton.k12.wi.us/event/early-release-156/
CATEGORIES:Consolidated
END:VEVENT
BEGIN:VEVENT
DTSTART;TZID=America/Chicago:20271025T183000
DTEND;TZID=America/Chicago:20271025T203000
DTSTAMP:20260424T194247
CREATED:20251025T092839Z
LAST-MODIFIED:20260424T201653Z
UID:<span 
                data-original-string='fyoE64YfLj871uvkd3gFiA==386I6wwfxqwqgZV8r1mI2kYM5oPcFR2XlDaTpEVxfIR1NmTaVKrr5JOfanQiervyYGPklkX7EDlo8z+Ydh4EAc3sA=='
                class='apbct-email-encoder'
                title='This contact has been encoded by Anti-Spam by CleanTalk. Click to decode. To finish the decoding make sure that JavaScript is enabled in your browser.'>10<span class="apbct-blur">****************************</span>@<span class="apbct-blur">***************</span>wi.us</span>
SUMMARY:School Board Meeting
DESCRIPTION:
URL:https://www.milton.k12.wi.us/event/school-board-meeting-81/
LOCATION:School District of Milton\, 448 E High St\, Milton\, WI\, United States
CATEGORIES:District
GEO:42.773036;-88.944404
X-APPLE-STRUCTURED-LOCATION;VALUE=URI;X-ADDRESS=School District of Milton 448 E High St Milton WI United States;X-APPLE-RADIUS=500;X-TITLE=448 E High St:geo:-88.944404,42.773036
END:VEVENT
BEGIN:VEVENT
DTSTART;TZID=America/Chicago:20271101T143500
DTEND;TZID=America/Chicago:20271101T153500
DTSTAMP:20260424T194247
CREATED:20251101T091539Z
LAST-MODIFIED:20260424T201339Z
UID:<span 
                data-original-string='Qhx9JM0rfsCodf8K/zasEw==386C2qSeVTOkow2NEm9OTys0sKFul6MtS7rykxlvyqI3CI0We0cc3RZ2h8HlV+NAymPfWAqkhj6328Y5UUcPIggog=='
                class='apbct-email-encoder'
                title='This contact has been encoded by Anti-Spam by CleanTalk. Click to decode. To finish the decoding make sure that JavaScript is enabled in your browser.'>10<span class="apbct-blur">****************************</span>@<span class="apbct-blur">***************</span>wi.us</span>
SUMMARY:Early Release -
DESCRIPTION:
URL:https://www.milton.k12.wi.us/event/early-release-157/
CATEGORIES:Consolidated
END:VEVENT
BEGIN:VEVENT
DTSTART;TZID=America/Chicago:20271108T143500
DTEND;TZID=America/Chicago:20271108T153500
DTSTAMP:20260424T194247
CREATED:20251108T094851Z
LAST-MODIFIED:20260424T201340Z
UID:<span 
                data-original-string='1L5RWMzccga/a75Su+KKSw==386CNU3mPG3PoyRB5/0r98usN++ewPok9ol2us8dfHgCRfoSuu8lPGAWj4bvW+Nib6/DL70isbW7G5HlR8ixUubgA=='
                class='apbct-email-encoder'
                title='This contact has been encoded by Anti-Spam by CleanTalk. Click to decode. To finish the decoding make sure that JavaScript is enabled in your browser.'>10<span class="apbct-blur">****************************</span>@<span class="apbct-blur">***************</span>wi.us</span>
SUMMARY:Early Release -
DESCRIPTION:
URL:https://www.milton.k12.wi.us/event/early-release-158/
CATEGORIES:Consolidated
END:VEVENT
BEGIN:VEVENT
DTSTART;TZID=America/Chicago:20271108T183000
DTEND;TZID=America/Chicago:20271108T203000
DTSTAMP:20260424T194247
CREATED:20251109T101549Z
LAST-MODIFIED:20260424T201654Z
UID:<span 
                data-original-string='M2CV2bTUHEMWYOTqvbQBKQ==386aJU2M4cXlKqeRHIYuqsbBJKXL3RjAU63Z+dEIMqyWWDiyC6N6Tntu7tfAn3EzSzCucQkHTcSDy1/J5X6jQq9lg=='
                class='apbct-email-encoder'
                title='This contact has been encoded by Anti-Spam by CleanTalk. Click to decode. To finish the decoding make sure that JavaScript is enabled in your browser.'>10<span class="apbct-blur">****************************</span>@<span class="apbct-blur">***************</span>wi.us</span>
SUMMARY:School Board Meeting
DESCRIPTION:
URL:https://www.milton.k12.wi.us/event/school-board-meeting-82/
CATEGORIES:District
END:VEVENT
BEGIN:VEVENT
DTSTART;TZID=America/Chicago:20271109T183000
DTEND;TZID=America/Chicago:20271109T193000
DTSTAMP:20260424T194247
CREATED:20251110T110242Z
LAST-MODIFIED:20260424T201340Z
UID:<span 
                data-original-string='PR3d1ztfpRsaL5IjfoOBOg==386LhZDyPmjeQcTCzXeSs1TJaBCPl4TZkHR/7EiwN9WbO7BUFJI0eTsz3zcF5xR15bU+J3yQyFic3zZnrUNUuHhZw=='
                class='apbct-email-encoder'
                title='This contact has been encoded by Anti-Spam by CleanTalk. Click to decode. To finish the decoding make sure that JavaScript is enabled in your browser.'>10<span class="apbct-blur">****************************</span>@<span class="apbct-blur">***************</span>wi.us</span>
SUMMARY:CES - PIE Meeting
DESCRIPTION:
URL:https://www.milton.k12.wi.us/event/ces-pie-meeting-15/
CATEGORIES:Consolidated
END:VEVENT
BEGIN:VEVENT
DTSTART;TZID=America/Chicago:20271115T143500
DTEND;TZID=America/Chicago:20271115T153500
DTSTAMP:20260424T194247
CREATED:20251115T094326Z
LAST-MODIFIED:20260424T201402Z
UID:<span 
                data-original-string='vTuzrZ4XchH9nm+gHnyUAA==386ldo7worVlgbuC0NUPdFAPXVITN6Wabn8b/78RZ35iTxY0Bcz08EfLfR3FcMZ7j5ZBDm5OZXUMxoD22c3Omwe1Q=='
                class='apbct-email-encoder'
                title='This contact has been encoded by Anti-Spam by CleanTalk. Click to decode. To finish the decoding make sure that JavaScript is enabled in your browser.'>10<span class="apbct-blur">****************************</span>@<span class="apbct-blur">***************</span>wi.us</span>
SUMMARY:Early Release -
DESCRIPTION:
URL:https://www.milton.k12.wi.us/event/early-release-159/
CATEGORIES:Consolidated
END:VEVENT
BEGIN:VEVENT
DTSTART;TZID=America/Chicago:20271115T180000
DTEND;TZID=America/Chicago:20271115T200000
DTSTAMP:20260424T194247
CREATED:20251116T102307Z
LAST-MODIFIED:20260424T200830Z
UID:<span 
                data-original-string='E4KLuodY0sYJW/qMV2kmHg==386ub6RGeXwP9kdR2u40bKNc+1+9xKySQa9pwlUgKi7rQ980bUcILeRTqtqg3x5UubXuzgmOAY1CPmNfSH8/Eee2w=='
                class='apbct-email-encoder'
                title='This contact has been encoded by Anti-Spam by CleanTalk. Click to decode. To finish the decoding make sure that JavaScript is enabled in your browser.'>10<span class="apbct-blur">****************************</span>@<span class="apbct-blur">***************</span>wi.us</span>
SUMMARY:PAWS mtg
DESCRIPTION:
URL:https://www.milton.k12.wi.us/event/paws-mtg-39/
CATEGORIES:Milton West Elementary
END:VEVENT
BEGIN:VEVENT
DTSTART;TZID=America/Chicago:20271116T180000
DTEND;TZID=America/Chicago:20271116T190000
DTSTAMP:20260424T194247
CREATED:20251117T101142Z
LAST-MODIFIED:20260424T201016Z
UID:<span 
                data-original-string='z2+kBKYuSozik2D0ol2gdg==386EHN8c2Gy+9+jBKyJoLTZuNxaKnomaFOu3ksVIcGvBlslhThYtigJ5kSCjQNQIrKmiH8uFNN5FRstUEI91gIY1g=='
                class='apbct-email-encoder'
                title='This contact has been encoded by Anti-Spam by CleanTalk. Click to decode. To finish the decoding make sure that JavaScript is enabled in your browser.'>10<span class="apbct-blur">****************************</span>@<span class="apbct-blur">***************</span>wi.us</span>
SUMMARY:FON Meeting
DESCRIPTION:
URL:https://www.milton.k12.wi.us/event/fon-meeting-39/
CATEGORIES:Northside Intermediate
END:VEVENT
BEGIN:VEVENT
DTSTART;TZID=America/Chicago:20271122T143500
DTEND;TZID=America/Chicago:20271122T153500
DTSTAMP:20260424T194247
CREATED:20251122T094605Z
LAST-MODIFIED:20260424T201403Z
UID:<span 
                data-original-string='de+yrwlvxIzU+x2von8MFg==386/V4D4uMs+5APVs1l0zE3jI8XBy/NLshU+KrywIBmzHUfeGxySJqn8gK5dceCG8X1UbE55hZC1LVeEOJvoyDM4w=='
                class='apbct-email-encoder'
                title='This contact has been encoded by Anti-Spam by CleanTalk. Click to decode. To finish the decoding make sure that JavaScript is enabled in your browser.'>10<span class="apbct-blur">****************************</span>@<span class="apbct-blur">***************</span>wi.us</span>
SUMMARY:Early Release -
DESCRIPTION:
URL:https://www.milton.k12.wi.us/event/early-release-161/
CATEGORIES:Consolidated
END:VEVENT
BEGIN:VEVENT
DTSTART;TZID=America/Chicago:20271122T183000
DTEND;TZID=America/Chicago:20271122T203000
DTSTAMP:20260424T194247
CREATED:20251123T101014Z
LAST-MODIFIED:20260424T201655Z
UID:<span 
                data-original-string='Pq26l8AyjNAb5XK2M6eVqA==38679+Fwli3Pnm38bbowwaEUFpmOm9PMRG6xbOuN51nm9G2oENpJCqsfFVnO+M2MNybV5sR0qhLxHq0lbhTxkLing=='
                class='apbct-email-encoder'
                title='This contact has been encoded by Anti-Spam by CleanTalk. Click to decode. To finish the decoding make sure that JavaScript is enabled in your browser.'>10<span class="apbct-blur">****************************</span>@<span class="apbct-blur">***************</span>wi.us</span>
SUMMARY:School Board Meeting
DESCRIPTION:
URL:https://www.milton.k12.wi.us/event/school-board-meeting-83/
LOCATION:School District of Milton\, 448 E High St\, Milton\, WI\, United States
CATEGORIES:District
GEO:42.773036;-88.944404
X-APPLE-STRUCTURED-LOCATION;VALUE=URI;X-ADDRESS=School District of Milton 448 E High St Milton WI United States;X-APPLE-RADIUS=500;X-TITLE=448 E High St:geo:-88.944404,42.773036
END:VEVENT
BEGIN:VEVENT
DTSTART;TZID=America/Chicago:20271129T143500
DTEND;TZID=America/Chicago:20271129T153500
DTSTAMP:20260424T194247
CREATED:20251129T111407Z
LAST-MODIFIED:20260424T201403Z
UID:<span 
                data-original-string='qKPJiILOhogmcdTSromj+g==386aBcXUbU3FhWb4fZIE5MZ3oMFa8DXfHSCuDZk2bO9R32n49V6ZfP7TIdIPx/sUHyrMJ/VhWBBnjA4QF6zgXMh9A=='
                class='apbct-email-encoder'
                title='This contact has been encoded by Anti-Spam by CleanTalk. Click to decode. To finish the decoding make sure that JavaScript is enabled in your browser.'>10<span class="apbct-blur">****************************</span>@<span class="apbct-blur">***************</span>wi.us</span>
SUMMARY:Early Release -
DESCRIPTION:
URL:https://www.milton.k12.wi.us/event/early-release-162/
CATEGORIES:Consolidated
END:VEVENT
BEGIN:VEVENT
DTSTART;TZID=America/Chicago:20271206T143500
DTEND;TZID=America/Chicago:20271206T153500
DTSTAMP:20260424T194247
CREATED:20251206T102816Z
LAST-MODIFIED:20260424T201404Z
UID:<span 
                data-original-string='qO2xSIOa2jUxKgVLmqZxXA==386p+UJIJWU9G0gb+j4r0j58XgTExfSqK9aTAzVJgBFIct8LjxrFW4z9suTt4t5Tz2mh2gKMdjabTk/Eioz4DbTVQ=='
                class='apbct-email-encoder'
                title='This contact has been encoded by Anti-Spam by CleanTalk. Click to decode. To finish the decoding make sure that JavaScript is enabled in your browser.'>10<span class="apbct-blur">****************************</span>@<span class="apbct-blur">***************</span>wi.us</span>
SUMMARY:Early Release -
DESCRIPTION:
URL:https://www.milton.k12.wi.us/event/early-release-163/
CATEGORIES:Consolidated
END:VEVENT
BEGIN:VEVENT
DTSTART;TZID=America/Chicago:20271213T143500
DTEND;TZID=America/Chicago:20271213T153500
DTSTAMP:20260424T194247
CREATED:20251213T102900Z
LAST-MODIFIED:20260424T201405Z
UID:<span 
                data-original-string='togeJ9QPi/0G80UDjW88uQ==386uDL3zuyWqNK36htWfG3nD1nEKgj2bcUBdqhWitn/CCrHJCnyTLXMDctJeyjwQcESWYyLfw6u/MVD5RC1qkyxiw=='
                class='apbct-email-encoder'
                title='This contact has been encoded by Anti-Spam by CleanTalk. Click to decode. To finish the decoding make sure that JavaScript is enabled in your browser.'>10<span class="apbct-blur">****************************</span>@<span class="apbct-blur">***************</span>wi.us</span>
SUMMARY:Early Release -
DESCRIPTION:
URL:https://www.milton.k12.wi.us/event/early-release-164/
CATEGORIES:Consolidated
END:VEVENT
BEGIN:VEVENT
DTSTART;TZID=America/Chicago:20271213T183000
DTEND;TZID=America/Chicago:20271213T203000
DTSTAMP:20260424T194247
CREATED:20251214T102428Z
LAST-MODIFIED:20260424T201655Z
UID:<span 
                data-original-string='7HMbdfTPZoW1uKZLmLo5jA==3863tVHZeoZ0S7pxIpnOaID8S5C97Y/x7h/qreqY5RnUKZQnPIx3UrA6CB0Y8WZpDVz0mqM68zFzB6z0b7Zjtr1nQ=='
                class='apbct-email-encoder'
                title='This contact has been encoded by Anti-Spam by CleanTalk. Click to decode. To finish the decoding make sure that JavaScript is enabled in your browser.'>10<span class="apbct-blur">****************************</span>@<span class="apbct-blur">***************</span>wi.us</span>
SUMMARY:School Board Meeting
DESCRIPTION:
URL:https://www.milton.k12.wi.us/event/school-board-meeting-84/
CATEGORIES:District
END:VEVENT
BEGIN:VEVENT
DTSTART;TZID=America/Chicago:20271214T183000
DTEND;TZID=America/Chicago:20271214T193000
DTSTAMP:20260424T194247
CREATED:20251215T103125Z
LAST-MODIFIED:20260424T201410Z
UID:<span 
                data-original-string='Y0PqVJwO0zgeZ3KvKDxUYw==386BL1gav/llFkRjp9o9hhtHWFt99zQFvjF/5scxFExNkkaqFdvKH/uy1KDVrd1kla3ty/33GUyLydg+fqEZrHPlg=='
                class='apbct-email-encoder'
                title='This contact has been encoded by Anti-Spam by CleanTalk. Click to decode. To finish the decoding make sure that JavaScript is enabled in your browser.'>10<span class="apbct-blur">****************************</span>@<span class="apbct-blur">***************</span>wi.us</span>
SUMMARY:CES - PIE Meeting
DESCRIPTION:
URL:https://www.milton.k12.wi.us/event/ces-pie-meeting-16/
CATEGORIES:Consolidated
END:VEVENT
BEGIN:VEVENT
DTSTART;TZID=America/Chicago:20271220T143500
DTEND;TZID=America/Chicago:20271220T153500
DTSTAMP:20260424T194247
CREATED:20251220T104458Z
LAST-MODIFIED:20260424T201411Z
UID:<span 
                data-original-string='1PHYxzcM0xyO/I2n2bPLQQ==386Two2921UNYKsBLnIBVNYWxBpDFPY32kew7VTOa/t5V1Ihlm+OFZbcTPAPPtbX6XXQpdwWOUow1JTOjFk02wFZg=='
                class='apbct-email-encoder'
                title='This contact has been encoded by Anti-Spam by CleanTalk. Click to decode. To finish the decoding make sure that JavaScript is enabled in your browser.'>10<span class="apbct-blur">****************************</span>@<span class="apbct-blur">***************</span>wi.us</span>
SUMMARY:Early Release -
DESCRIPTION:
URL:https://www.milton.k12.wi.us/event/early-release-165/
CATEGORIES:Consolidated
END:VEVENT
BEGIN:VEVENT
DTSTART;TZID=America/Chicago:20271220T180000
DTEND;TZID=America/Chicago:20271220T200000
DTSTAMP:20260424T194247
CREATED:20251221T105402Z
LAST-MODIFIED:20260424T200831Z
UID:<span 
                data-original-string='Zxdb5tjz8BD6Qt6duEgCjQ==386v/sqGwyTwJXYPJ0GJ3hnrnvY5letfy+LdEaFvMcOB9eHr3Gu/VhNa1n9dsAog11f8DY80ldk2PXS71o7asrJaQ=='
                class='apbct-email-encoder'
                title='This contact has been encoded by Anti-Spam by CleanTalk. Click to decode. To finish the decoding make sure that JavaScript is enabled in your browser.'>10<span class="apbct-blur">****************************</span>@<span class="apbct-blur">***************</span>wi.us</span>
SUMMARY:PAWS mtg
DESCRIPTION:
URL:https://www.milton.k12.wi.us/event/paws-mtg-40/
CATEGORIES:Milton West Elementary
END:VEVENT
BEGIN:VEVENT
DTSTART;TZID=America/Chicago:20271221T180000
DTEND;TZID=America/Chicago:20271221T190000
DTSTAMP:20260424T194247
CREATED:20251222T103925Z
LAST-MODIFIED:20260424T201019Z
UID:<span 
                data-original-string='oEdxbyIXiv7LbNHlw9QzXg==386Ny5+KeQDvAmrb+hEJHLvnl8JgQxp8NcrVscCcrp6VTCo+pPeCie0u86GjkWzZGVBkq4WwS/g3cl3WtdcJkDuVQ=='
                class='apbct-email-encoder'
                title='This contact has been encoded by Anti-Spam by CleanTalk. Click to decode. To finish the decoding make sure that JavaScript is enabled in your browser.'>10<span class="apbct-blur">****************************</span>@<span class="apbct-blur">***************</span>wi.us</span>
SUMMARY:FON Meeting
DESCRIPTION:
URL:https://www.milton.k12.wi.us/event/fon-meeting-40/
CATEGORIES:Northside Intermediate
END:VEVENT
BEGIN:VEVENT
DTSTART;TZID=America/Chicago:20271227T143500
DTEND;TZID=America/Chicago:20271227T153500
DTSTAMP:20260424T194247
CREATED:20251227T110259Z
LAST-MODIFIED:20260424T201412Z
UID:<span 
                data-original-string='jeYJcifsMweBFPVsWqUExQ==386zZwzwlGf+0FqUlIzenS22Sz7fz1DG635Yyu73PsNulAylP0lKuA15Vd17u4QlrfZFMz3uXqHmZj/WZZEB2hC8Q=='
                class='apbct-email-encoder'
                title='This contact has been encoded by Anti-Spam by CleanTalk. Click to decode. To finish the decoding make sure that JavaScript is enabled in your browser.'>10<span class="apbct-blur">****************************</span>@<span class="apbct-blur">***************</span>wi.us</span>
SUMMARY:Early Release -
DESCRIPTION:
URL:https://www.milton.k12.wi.us/event/early-release-166/
CATEGORIES:Consolidated
END:VEVENT
BEGIN:VEVENT
DTSTART;TZID=America/Chicago:20271227T183000
DTEND;TZID=America/Chicago:20271227T203000
DTSTAMP:20260424T194247
CREATED:20251228T111012Z
LAST-MODIFIED:20260424T201659Z
UID:<span 
                data-original-string='nweNf3tm48M1P3Osl9ntkQ==386teq8fY3SRdzFDy3v0Tvhg0yCuaNgFJgHdAR8OF9aht05iycqJ/jIXkC2ZyNRvyqrO6p4IogfnUWWWNooe6NdNw=='
                class='apbct-email-encoder'
                title='This contact has been encoded by Anti-Spam by CleanTalk. Click to decode. To finish the decoding make sure that JavaScript is enabled in your browser.'>10<span class="apbct-blur">****************************</span>@<span class="apbct-blur">***************</span>wi.us</span>
SUMMARY:School Board Meeting
DESCRIPTION:
URL:https://www.milton.k12.wi.us/event/school-board-meeting-85/
LOCATION:School District of Milton\, 448 E High St\, Milton\, WI\, United States
CATEGORIES:District
GEO:42.773036;-88.944404
X-APPLE-STRUCTURED-LOCATION;VALUE=URI;X-ADDRESS=School District of Milton 448 E High St Milton WI United States;X-APPLE-RADIUS=500;X-TITLE=448 E High St:geo:-88.944404,42.773036
END:VEVENT
BEGIN:VEVENT
DTSTART;TZID=America/Chicago:20280103T143500
DTEND;TZID=America/Chicago:20280103T153500
DTSTAMP:20260424T194247
CREATED:20260103T111100Z
LAST-MODIFIED:20260424T201412Z
UID:<span 
                data-original-string='RtUwO7X/RuUBcjHcQt25gQ==3863Aiv5DGTfZN4sUQQJIZJnek0rwN2fml6QkpdNbzvWY5UaJOfpKspH0QZpW2/ekcEjpgqX+qnnOXuJH+iWgLnOQ=='
                class='apbct-email-encoder'
                title='This contact has been encoded by Anti-Spam by CleanTalk. Click to decode. To finish the decoding make sure that JavaScript is enabled in your browser.'>10<span class="apbct-blur">****************************</span>@<span class="apbct-blur">***************</span>wi.us</span>
SUMMARY:Early Release -
DESCRIPTION:
URL:https://www.milton.k12.wi.us/event/early-release-167/
CATEGORIES:Consolidated
END:VEVENT
BEGIN:VEVENT
DTSTART;TZID=America/Chicago:20280110T143500
DTEND;TZID=America/Chicago:20280110T153500
DTSTAMP:20260424T194247
CREATED:20260110T114634Z
LAST-MODIFIED:20260424T201413Z
UID:<span 
                data-original-string='f8ZIKFzBZFMR4mU1M9kJMg==386yh7yAaCiXOuEVwME9vpdaluJEaq78DNNZ4jzjdIciSPJoe7oVq4NdYbSTq1LhZxQPJhS0GO5K2ngkXIbCA1jaQ=='
                class='apbct-email-encoder'
                title='This contact has been encoded by Anti-Spam by CleanTalk. Click to decode. To finish the decoding make sure that JavaScript is enabled in your browser.'>10<span class="apbct-blur">****************************</span>@<span class="apbct-blur">***************</span>wi.us</span>
SUMMARY:Early Release -
DESCRIPTION:
URL:https://www.milton.k12.wi.us/event/early-release-168/
CATEGORIES:Consolidated
END:VEVENT
BEGIN:VEVENT
DTSTART;TZID=America/Chicago:20280110T183000
DTEND;TZID=America/Chicago:20280110T203000
DTSTAMP:20260424T194247
CREATED:20260111T112609Z
LAST-MODIFIED:20260424T201659Z
UID:<span 
                data-original-string='7EI4Vz69aTNKip6Wi70USw==386/+QLpkMPOLveGGQXVLkygYifVH4GGVsBswRR2FgwbdoDL7FjJ0njGlLQxpQungZpeIZzeA0LpNhriz5ezqzJtA=='
                class='apbct-email-encoder'
                title='This contact has been encoded by Anti-Spam by CleanTalk. Click to decode. To finish the decoding make sure that JavaScript is enabled in your browser.'>10<span class="apbct-blur">****************************</span>@<span class="apbct-blur">***************</span>wi.us</span>
SUMMARY:School Board Meeting
DESCRIPTION:
URL:https://www.milton.k12.wi.us/event/school-board-meeting-86/
CATEGORIES:District
END:VEVENT
BEGIN:VEVENT
DTSTART;TZID=America/Chicago:20280111T183000
DTEND;TZID=America/Chicago:20280111T193000
DTSTAMP:20260424T194247
CREATED:20260112T112843Z
LAST-MODIFIED:20260424T201421Z
UID:<span 
                data-original-string='HJtzius2ORbFapKORoVxUw==386Y1ItxHuiBMSFsOCNmX33hhjlInCKue96ItIpGiyz9pVNkRc5jtLkqE4Ue00LtmIeCfqlYgDbZcnQzjTZpo83yA=='
                class='apbct-email-encoder'
                title='This contact has been encoded by Anti-Spam by CleanTalk. Click to decode. To finish the decoding make sure that JavaScript is enabled in your browser.'>10<span class="apbct-blur">****************************</span>@<span class="apbct-blur">***************</span>wi.us</span>
SUMMARY:CES - PIE Meeting
DESCRIPTION:
URL:https://www.milton.k12.wi.us/event/ces-pie-meeting-17/
CATEGORIES:Consolidated
END:VEVENT
BEGIN:VEVENT
DTSTART;TZID=America/Chicago:20280117T143500
DTEND;TZID=America/Chicago:20280117T153500
DTSTAMP:20260424T194247
CREATED:20260117T115935Z
LAST-MODIFIED:20260424T201422Z
UID:<span 
                data-original-string='Gb8O81ZJO90k85mQcmx2dw==386dewMBPysdN/ARmG4DDkBws4uyVqcm1L09RmS7Ia1PhMrTR6VouaL+nus1v/pKhCA5VPnLfOCjb2wMN1PSA+iIw=='
                class='apbct-email-encoder'
                title='This contact has been encoded by Anti-Spam by CleanTalk. Click to decode. To finish the decoding make sure that JavaScript is enabled in your browser.'>10<span class="apbct-blur">****************************</span>@<span class="apbct-blur">***************</span>wi.us</span>
SUMMARY:Early Release -
DESCRIPTION:
URL:https://www.milton.k12.wi.us/event/early-release-169/
CATEGORIES:Consolidated
END:VEVENT
BEGIN:VEVENT
DTSTART;TZID=America/Chicago:20280117T180000
DTEND;TZID=America/Chicago:20280117T200000
DTSTAMP:20260424T194247
CREATED:20260118T120813Z
LAST-MODIFIED:20260424T200832Z
UID:<span 
                data-original-string='dqCe0tM3ODr4S6jcnT0qmg==386M/SkwtvGsUYY9yiHO430tcPwO0p6I1rbs1KYW75v0XW+Nuo6uUPnG2BdCFEowUO4xHYBpbGv99cYhK5KGgsVlw=='
                class='apbct-email-encoder'
                title='This contact has been encoded by Anti-Spam by CleanTalk. Click to decode. To finish the decoding make sure that JavaScript is enabled in your browser.'>10<span class="apbct-blur">****************************</span>@<span class="apbct-blur">***************</span>wi.us</span>
SUMMARY:PAWS mtg
DESCRIPTION:
URL:https://www.milton.k12.wi.us/event/paws-mtg-41/
CATEGORIES:Milton West Elementary
END:VEVENT
BEGIN:VEVENT
DTSTART;TZID=America/Chicago:20280118T180000
DTEND;TZID=America/Chicago:20280118T190000
DTSTAMP:20260424T194247
CREATED:20260119T103914Z
LAST-MODIFIED:20260424T201020Z
UID:<span 
                data-original-string='PaDfaKxNx6k8JL2SQEdidA==386ectYsINL/pRxa4ZnSbjbsfn3QWA+O9BftRC7egBS0EiMn6QBPctZKmPeuW6gCVSc441//5YbnMH1APbC+cH5Yw=='
                class='apbct-email-encoder'
                title='This contact has been encoded by Anti-Spam by CleanTalk. Click to decode. To finish the decoding make sure that JavaScript is enabled in your browser.'>10<span class="apbct-blur">****************************</span>@<span class="apbct-blur">***************</span>wi.us</span>
SUMMARY:FON Meeting
DESCRIPTION:
URL:https://www.milton.k12.wi.us/event/fon-meeting-41/
CATEGORIES:Northside Intermediate
END:VEVENT
BEGIN:VEVENT
DTSTART;TZID=America/Chicago:20280124T143500
DTEND;TZID=America/Chicago:20280124T153500
DTSTAMP:20260424T194247
CREATED:20260124T121400Z
LAST-MODIFIED:20260424T201422Z
UID:<span 
                data-original-string='loTJJh3BIqt/1FQuNzaXYA==3867nhdzt2zJxHQlH9Hyh4sgfbsSKTbkX4Hdn412KDE1EMHXAR48aPO80ANNfNp0KnehGDnofhj21DSqmI67qosAg=='
                class='apbct-email-encoder'
                title='This contact has been encoded by Anti-Spam by CleanTalk. Click to decode. To finish the decoding make sure that JavaScript is enabled in your browser.'>10<span class="apbct-blur">****************************</span>@<span class="apbct-blur">***************</span>wi.us</span>
SUMMARY:Early Release -
DESCRIPTION:
URL:https://www.milton.k12.wi.us/event/early-release-170/
CATEGORIES:Consolidated
END:VEVENT
BEGIN:VEVENT
DTSTART;TZID=America/Chicago:20280124T183000
DTEND;TZID=America/Chicago:20280124T203000
DTSTAMP:20260424T194247
CREATED:20260125T115446Z
LAST-MODIFIED:20260424T201701Z
UID:<span 
                data-original-string='MJGBQtF8RipLDhcszjaN7A==386KDN1HSRXReJK7Mr9TWPYG026q8h+Tn1OdiDh+4QC8p++Jui6G8Vr0ljpsDkDZV7tY6mkAo0/vYZkF39RF0C6tw=='
                class='apbct-email-encoder'
                title='This contact has been encoded by Anti-Spam by CleanTalk. Click to decode. To finish the decoding make sure that JavaScript is enabled in your browser.'>10<span class="apbct-blur">****************************</span>@<span class="apbct-blur">***************</span>wi.us</span>
SUMMARY:School Board Meeting
DESCRIPTION:
URL:https://www.milton.k12.wi.us/event/school-board-meeting-87/
LOCATION:School District of Milton\, 448 E High St\, Milton\, WI\, United States
CATEGORIES:District
GEO:42.773036;-88.944404
X-APPLE-STRUCTURED-LOCATION;VALUE=URI;X-ADDRESS=School District of Milton 448 E High St Milton WI United States;X-APPLE-RADIUS=500;X-TITLE=448 E High St:geo:-88.944404,42.773036
END:VEVENT
END:VCALENDAR