BEGIN:VCALENDAR
VERSION:2.0
PRODID:-//School District of Milton - ECPv6.15.20//NONSGML v1.0//EN
CALSCALE:GREGORIAN
METHOD:PUBLISH
X-WR-CALNAME:School District of Milton
X-ORIGINAL-URL:https://www.milton.k12.wi.us
X-WR-CALDESC:Events for School District of Milton
REFRESH-INTERVAL;VALUE=DURATION:PT1H
X-Robots-Tag:noindex
X-PUBLISHED-TTL:PT1H
BEGIN:VTIMEZONE
TZID:America/Chicago
BEGIN:DAYLIGHT
TZOFFSETFROM:-0600
TZOFFSETTO:-0500
TZNAME:CDT
DTSTART:20230312T080000
END:DAYLIGHT
BEGIN:STANDARD
TZOFFSETFROM:-0500
TZOFFSETTO:-0600
TZNAME:CST
DTSTART:20231105T070000
END:STANDARD
BEGIN:DAYLIGHT
TZOFFSETFROM:-0600
TZOFFSETTO:-0500
TZNAME:CDT
DTSTART:20240310T080000
END:DAYLIGHT
BEGIN:STANDARD
TZOFFSETFROM:-0500
TZOFFSETTO:-0600
TZNAME:CST
DTSTART:20241103T070000
END:STANDARD
BEGIN:DAYLIGHT
TZOFFSETFROM:-0600
TZOFFSETTO:-0500
TZNAME:CDT
DTSTART:20250309T080000
END:DAYLIGHT
BEGIN:STANDARD
TZOFFSETFROM:-0500
TZOFFSETTO:-0600
TZNAME:CST
DTSTART:20251102T070000
END:STANDARD
END:VTIMEZONE
BEGIN:VEVENT
DTSTART;VALUE=DATE:20240913
DTEND;VALUE=DATE:20240914
DTSTAMP:20260419T135041
CREATED:20240824T110750Z
LAST-MODIFIED:20240913T210920Z
UID:<span 
                data-original-string='dfhSaaEeKYOF0VfUaYvuYQ==386Rx4IGMkfJPJEoDuGMwwSOWc+L70lfWVTL/2ksXMPhyjSS8B9tnwDJ8ng/VNmIKb+40Qp+Y0TxVLbDs7w7yVn0Q=='
                class='apbct-email-encoder'
                title='This contact has been encoded by Anti-Spam by CleanTalk. Click to decode. To finish the decoding make sure that JavaScript is enabled in your browser.'>10<span class="apbct-blur">****************************</span>@<span class="apbct-blur">***************</span>wi.us</span>
SUMMARY:Day 3
DESCRIPTION:
URL:https://www.milton.k12.wi.us/event/day-3-2/
CATEGORIES:Northside Intermediate
END:VEVENT
BEGIN:VEVENT
DTSTART;VALUE=DATE:20240912
DTEND;VALUE=DATE:20240913
DTSTAMP:20260419T135041
CREATED:20240824T110750Z
LAST-MODIFIED:20240912T210736Z
UID:<span 
                data-original-string='J6SkAGEOxs8BaoEScoKZEg==386jy1N65f4yQ3dBVc6ci57aaGkQzb1pAhzpEa1Wxbi6PbSOzVMRkJBXzvAzhCgbZYhugOASgVBSPe5YJfOkxIqAQ=='
                class='apbct-email-encoder'
                title='This contact has been encoded by Anti-Spam by CleanTalk. Click to decode. To finish the decoding make sure that JavaScript is enabled in your browser.'>10<span class="apbct-blur">****************************</span>@<span class="apbct-blur">***************</span>wi.us</span>
SUMMARY:Day 2
DESCRIPTION:
URL:https://www.milton.k12.wi.us/event/day-2-2/
CATEGORIES:Northside Intermediate
END:VEVENT
BEGIN:VEVENT
DTSTART;VALUE=DATE:20240911
DTEND;VALUE=DATE:20240912
DTSTAMP:20260419T135041
CREATED:20240824T110750Z
LAST-MODIFIED:20240911T211125Z
UID:<span 
                data-original-string='/FRwZpsVViu4zQFBkfeOgA==386TPqFEuWlqVM2250vJqFdUDGoklzqNm86UkBQoFjBJVjBFgNin6VRHjA07dNMi4ESTHyOD4GxxXnv7CdvJ704Ag=='
                class='apbct-email-encoder'
                title='This contact has been encoded by Anti-Spam by CleanTalk. Click to decode. To finish the decoding make sure that JavaScript is enabled in your browser.'>10<span class="apbct-blur">****************************</span>@<span class="apbct-blur">***************</span>wi.us</span>
SUMMARY:Day 1
DESCRIPTION:
URL:https://www.milton.k12.wi.us/event/day-1-2/
CATEGORIES:Northside Intermediate
END:VEVENT
BEGIN:VEVENT
DTSTART;TZID=America/Chicago:20240910T183000
DTEND;TZID=America/Chicago:20240910T193000
DTSTAMP:20260419T135041
CREATED:20240822T012923Z
LAST-MODIFIED:20240910T212229Z
UID:<span 
                data-original-string='1t5XNJL093Qvpgp1sXvsZg==386TuPNf57EWyr2PIkwk0anLx+sc9ArocPG7NvHppATKfuWCeatjTrw6Z4mcJdVz3KxLloR3wIrPTEHaUcka6gIuw=='
                class='apbct-email-encoder'
                title='This contact has been encoded by Anti-Spam by CleanTalk. Click to decode. To finish the decoding make sure that JavaScript is enabled in your browser.'>10<span class="apbct-blur">****************************</span>@<span class="apbct-blur">***************</span>wi.us</span>
SUMMARY:CES - PIE Meeting
DESCRIPTION:
URL:https://www.milton.k12.wi.us/event/pie-meeting/
CATEGORIES:Consolidated
END:VEVENT
BEGIN:VEVENT
DTSTART;TZID=America/Chicago:20240910T180000
DTEND;TZID=America/Chicago:20240910T190000
DTSTAMP:20260419T135041
CREATED:20240822T004444Z
LAST-MODIFIED:20240910T213200Z
UID:<span 
                data-original-string='cmONBwZEB4kiM54vD/BqCw==386XjvaJ7cvFbBU7Haa7OTkGTbnGTkRxYMLnTV1dYWhNa9uoHduNUdp8cpxeEWkHCVhNE0psDdx220gugBzUgr8UA=='
                class='apbct-email-encoder'
                title='This contact has been encoded by Anti-Spam by CleanTalk. Click to decode. To finish the decoding make sure that JavaScript is enabled in your browser.'>10<span class="apbct-blur">****************************</span>@<span class="apbct-blur">***************</span>wi.us</span>
SUMMARY:EES:  MEPG meeting
DESCRIPTION:
URL:https://www.milton.k12.wi.us/event/ees-mepg-meeting/
CATEGORIES:Milton East Elementary
END:VEVENT
BEGIN:VEVENT
DTSTART;TZID=America/Chicago:20240910T160000
DTEND;TZID=America/Chicago:20240910T200000
DTSTAMP:20260419T135041
CREATED:20240822T004835Z
LAST-MODIFIED:20240910T205714Z
UID:<span 
                data-original-string='hZ7Ms1Jrez/RmP+vIP3P/A==386MLRKU8ILhQjVISM67UK2ew9zMiZZqGFZ1yAhPnXPO983DiegO6lZ7NwjyptgHFrTdqreulygDp2t31B0RBNcPw=='
                class='apbct-email-encoder'
                title='This contact has been encoded by Anti-Spam by CleanTalk. Click to decode. To finish the decoding make sure that JavaScript is enabled in your browser.'>10<span class="apbct-blur">****************************</span>@<span class="apbct-blur">***************</span>wi.us</span>
SUMMARY:Scoopie Night
DESCRIPTION:
URL:https://www.milton.k12.wi.us/event/scoopie-night/
CATEGORIES:Milton West Elementary
END:VEVENT
BEGIN:VEVENT
DTSTART;VALUE=DATE:20240910
DTEND;VALUE=DATE:20240911
DTSTAMP:20260419T135041
CREATED:20240824T110749Z
LAST-MODIFIED:20240910T210901Z
UID:<span 
                data-original-string='8+P37wqm0XU9tohNmYXFdA==386VmcvdGnr+I0JopdzyXKPZ/iU7RKOW4K+YLeLh61DuDu9dnd3CM2rc9vJ/fzrDca+wdBrkDxKYG5sCDL4PM88DA=='
                class='apbct-email-encoder'
                title='This contact has been encoded by Anti-Spam by CleanTalk. Click to decode. To finish the decoding make sure that JavaScript is enabled in your browser.'>10<span class="apbct-blur">****************************</span>@<span class="apbct-blur">***************</span>wi.us</span>
SUMMARY:Day 6
DESCRIPTION:
URL:https://www.milton.k12.wi.us/event/day-6/
CATEGORIES:Northside Intermediate
END:VEVENT
BEGIN:VEVENT
DTSTART;TZID=America/Chicago:20240909T183000
DTEND;TZID=America/Chicago:20240909T203000
DTSTAMP:20260419T135041
CREATED:20240822T012950Z
LAST-MODIFIED:20240909T205829Z
UID:<span 
                data-original-string='70sYEYhz1xbeWlB/6cc7CA==386yLsNZuaNgPu2WB08VuyBXubihDt5sZYNFRdUV9uINHCqtnMNi3SavTtpOq6HWjNSwXQqrIyC7jLdQKBa+xoMSw=='
                class='apbct-email-encoder'
                title='This contact has been encoded by Anti-Spam by CleanTalk. Click to decode. To finish the decoding make sure that JavaScript is enabled in your browser.'>10<span class="apbct-blur">****************************</span>@<span class="apbct-blur">***************</span>wi.us</span>
SUMMARY:School Board Meeting
DESCRIPTION:
URL:https://www.milton.k12.wi.us/event/school-board-meeting-2/
CATEGORIES:District
END:VEVENT
BEGIN:VEVENT
DTSTART;TZID=America/Chicago:20240909T143500
DTEND;TZID=America/Chicago:20240909T153500
DTSTAMP:20260419T135041
CREATED:20240822T012923Z
LAST-MODIFIED:20240909T202232Z
UID:<span 
                data-original-string='C8xWltFv6/jZwQEMkzfahQ==386ihCOvRv3GmTun53fvpUNYfAM4QImLCiioVv6L43MxYGdXwtP5GZdzRR2XqbRaszhxR2NTvg5kNqths8WARhKsQ=='
                class='apbct-email-encoder'
                title='This contact has been encoded by Anti-Spam by CleanTalk. Click to decode. To finish the decoding make sure that JavaScript is enabled in your browser.'>10<span class="apbct-blur">****************************</span>@<span class="apbct-blur">***************</span>wi.us</span>
SUMMARY:Early Release -
DESCRIPTION:
URL:https://www.milton.k12.wi.us/event/early-release/
CATEGORIES:Consolidated
END:VEVENT
BEGIN:VEVENT
DTSTART;VALUE=DATE:20240909
DTEND;VALUE=DATE:20240910
DTSTAMP:20260419T135041
CREATED:20240909T151739Z
LAST-MODIFIED:20251110T174224Z
UID:<span 
                data-original-string='pnwn+S1DNi1l1z27DmUC7g==386jzU4rkesIpJQH5mJo/KIhcWl8O9wg70nuIOG88BJqbO1seas8SJ1JxRO+BJtqNhwq5Xu/BZkKT6NzLYc46kZ9Q=='
                class='apbct-email-encoder'
                title='This contact has been encoded by Anti-Spam by CleanTalk. Click to decode. To finish the decoding make sure that JavaScript is enabled in your browser.'>10<span class="apbct-blur">****************************</span>@<span class="apbct-blur">***************</span>wi.us</span>
SUMMARY:Early Release Day
DESCRIPTION:
URL:https://www.milton.k12.wi.us/event/early-release-day/
CATEGORIES:District
END:VEVENT
BEGIN:VEVENT
DTSTART;VALUE=DATE:20240909
DTEND;VALUE=DATE:20240910
DTSTAMP:20260419T135041
CREATED:20240824T110749Z
LAST-MODIFIED:20240909T211248Z
UID:<span 
                data-original-string='BxOKNs2kGeIuZ7JCXhfaWQ==38614eSmD8dDDEBxQc86nyWVRyFv4WVwLA5suy4LP7cN4w4WKUc2314qYBYo2xGJVn7cdWUup9JxyK6cXTqwXPiaA=='
                class='apbct-email-encoder'
                title='This contact has been encoded by Anti-Spam by CleanTalk. Click to decode. To finish the decoding make sure that JavaScript is enabled in your browser.'>10<span class="apbct-blur">****************************</span>@<span class="apbct-blur">***************</span>wi.us</span>
SUMMARY:Day 5
DESCRIPTION:
URL:https://www.milton.k12.wi.us/event/day-5/
CATEGORIES:Northside Intermediate
END:VEVENT
BEGIN:VEVENT
DTSTART;VALUE=DATE:20240909
DTEND;VALUE=DATE:20240910
DTSTAMP:20260419T135041
CREATED:20240822T004626Z
LAST-MODIFIED:20240909T211051Z
UID:<span 
                data-original-string='8K3KUgpxPvNVADpwcwfbCQ==386eEkXCwc3m+sKPiFrreKRjIsRFHxxS+b7xIYF4OLGt6rzFV2fRQdujzpS57jZvZlZeewbwOg3fELW2o3/X/mWCg=='
                class='apbct-email-encoder'
                title='This contact has been encoded by Anti-Spam by CleanTalk. Click to decode. To finish the decoding make sure that JavaScript is enabled in your browser.'>10<span class="apbct-blur">****************************</span>@<span class="apbct-blur">***************</span>wi.us</span>
SUMMARY:MHS Picture Day
DESCRIPTION:
URL:https://www.milton.k12.wi.us/event/picture-day/
CATEGORIES:Milton High School
END:VEVENT
BEGIN:VEVENT
DTSTART;VALUE=DATE:20240906
DTEND;VALUE=DATE:20240907
DTSTAMP:20260419T135041
CREATED:20240822T004749Z
LAST-MODIFIED:20240906T210746Z
UID:<span 
                data-original-string='EiZDjsI+Dur5e4breTZpqQ==386yeEbJlFxpTAHL1/F0UGBVlTUeRLFwFTWiSao0oALN8gj0Q39D4YAzP0F9oYSWW1J/h0V5kRMNrxq+B73ub8rkQ=='
                class='apbct-email-encoder'
                title='This contact has been encoded by Anti-Spam by CleanTalk. Click to decode. To finish the decoding make sure that JavaScript is enabled in your browser.'>10<span class="apbct-blur">****************************</span>@<span class="apbct-blur">***************</span>wi.us</span>
SUMMARY:Day 4
DESCRIPTION:
URL:https://www.milton.k12.wi.us/event/day-4/
CATEGORIES:Northside Intermediate
END:VEVENT
BEGIN:VEVENT
DTSTART;VALUE=DATE:20240905
DTEND;VALUE=DATE:20240906
DTSTAMP:20260419T135041
CREATED:20240822T004748Z
LAST-MODIFIED:20240905T205808Z
UID:<span 
                data-original-string='6y7uYMLPi9zfwOU9Quyv8g==386yR+dbVmo+ZbMEAc4Nqy48TjhR+KT5whe+xoTqtqXVa0h36MVuhuWob/rhhlF1DdzPavqG/SkyplpqweTznQBIQ=='
                class='apbct-email-encoder'
                title='This contact has been encoded by Anti-Spam by CleanTalk. Click to decode. To finish the decoding make sure that JavaScript is enabled in your browser.'>10<span class="apbct-blur">****************************</span>@<span class="apbct-blur">***************</span>wi.us</span>
SUMMARY:Day 3
DESCRIPTION:
URL:https://www.milton.k12.wi.us/event/day-3/
CATEGORIES:Northside Intermediate
END:VEVENT
BEGIN:VEVENT
DTSTART;VALUE=DATE:20240904
DTEND;VALUE=DATE:20240905
DTSTAMP:20260419T135041
CREATED:20240822T004747Z
LAST-MODIFIED:20240904T205331Z
UID:<span 
                data-original-string='VnEDOy/U4K88V3pi8vYS+w==386MpWj6oYZJVk5oGgk57EdihgeiNGr+bCqV7N+xKhXPwNgtGab5MQu6AOxtiDLYZMIqiPcAn4M1/XgNc+ZjxxwuA=='
                class='apbct-email-encoder'
                title='This contact has been encoded by Anti-Spam by CleanTalk. Click to decode. To finish the decoding make sure that JavaScript is enabled in your browser.'>10<span class="apbct-blur">****************************</span>@<span class="apbct-blur">***************</span>wi.us</span>
SUMMARY:Day 2
DESCRIPTION:
URL:https://www.milton.k12.wi.us/event/day-2/
CATEGORIES:Northside Intermediate
END:VEVENT
BEGIN:VEVENT
DTSTART;VALUE=DATE:20240903
DTEND;VALUE=DATE:20240904
DTSTAMP:20260419T135041
CREATED:20240829T165934Z
LAST-MODIFIED:20240903T205417Z
UID:<span 
                data-original-string='TDzxAJ6cOpiChhySohagWQ==38628fThjzWzBedzdqe1uz+V5Kdct2rHvpWtbU+/HfktCWzMs6+NhtZpSmubBCL5BFgHMCXn+7tPwgOmBIOYPvZcw=='
                class='apbct-email-encoder'
                title='This contact has been encoded by Anti-Spam by CleanTalk. Click to decode. To finish the decoding make sure that JavaScript is enabled in your browser.'>10<span class="apbct-blur">****************************</span>@<span class="apbct-blur">***************</span>wi.us</span>
SUMMARY:HES: First Day of School
DESCRIPTION:
URL:https://www.milton.k12.wi.us/event/hes-first-day-of-school/
CATEGORIES:Harmony Elementary
END:VEVENT
BEGIN:VEVENT
DTSTART;VALUE=DATE:20240903
DTEND;VALUE=DATE:20240904
DTSTAMP:20260419T135041
CREATED:20240822T012923Z
LAST-MODIFIED:20240903T210812Z
UID:<span 
                data-original-string='DhJkQK3a9BnWeForltDrmg==386m3+aOz9O2MPjJMybROdYV0wSXsz3Fu6L8AC5TTrYNXsLmbvIAS/RTuHoYZFMPpHvThdF+CFmFiTTn43QtTKhiw=='
                class='apbct-email-encoder'
                title='This contact has been encoded by Anti-Spam by CleanTalk. Click to decode. To finish the decoding make sure that JavaScript is enabled in your browser.'>10<span class="apbct-blur">****************************</span>@<span class="apbct-blur">***************</span>wi.us</span>
SUMMARY:First Day of School
DESCRIPTION:
URL:https://www.milton.k12.wi.us/event/first-day-of-school/
CATEGORIES:Consolidated
END:VEVENT
BEGIN:VEVENT
DTSTART;VALUE=DATE:20240903
DTEND;VALUE=DATE:20240904
DTSTAMP:20260419T135041
CREATED:20240822T004834Z
LAST-MODIFIED:20240903T204201Z
UID:<span 
                data-original-string='rMJ92BeaXuUbMXORUqkP3w==386Fd/n9ZwyDrd5imwCHDJoHQVXrIMtZJ5WpztwrNZTDChDBH030XXf55u7ZK1TaVCovVLnfGWOZCvePjtuRI/R4A=='
                class='apbct-email-encoder'
                title='This contact has been encoded by Anti-Spam by CleanTalk. Click to decode. To finish the decoding make sure that JavaScript is enabled in your browser.'>10<span class="apbct-blur">****************************</span>@<span class="apbct-blur">***************</span>wi.us</span>
SUMMARY:First Day of School for Students
DESCRIPTION:
URL:https://www.milton.k12.wi.us/event/first-day-of-school-for-students/
CATEGORIES:Milton West Elementary
END:VEVENT
BEGIN:VEVENT
DTSTART;VALUE=DATE:20240903
DTEND;VALUE=DATE:20240904
DTSTAMP:20260419T135041
CREATED:20240822T004748Z
LAST-MODIFIED:20240903T205543Z
UID:<span 
                data-original-string='Eaj/uEKXtsASRIOvG3aUfA==386tHOttzVs/ypVAPciFltMXq8OOR9QRrAcLbJWNa9XOsUlxLj0djm004q9053CwjO+ekBseJiQPS57dnLyFFVGwg=='
                class='apbct-email-encoder'
                title='This contact has been encoded by Anti-Spam by CleanTalk. Click to decode. To finish the decoding make sure that JavaScript is enabled in your browser.'>10<span class="apbct-blur">****************************</span>@<span class="apbct-blur">***************</span>wi.us</span>
SUMMARY:Day 1
DESCRIPTION:
URL:https://www.milton.k12.wi.us/event/day-1/
CATEGORIES:Northside Intermediate
END:VEVENT
BEGIN:VEVENT
DTSTART;VALUE=DATE:20240903
DTEND;VALUE=DATE:20240904
DTSTAMP:20260419T135041
CREATED:20240822T004705Z
LAST-MODIFIED:20240903T213721Z
UID:<span 
                data-original-string='FyrQH2WzPQdet/UtTuE6wQ==3860mG3ereL3Y3VmU7F7t+ajpS6jk+uNuPQnWQTrfQcCMMezoAfb6GSe1/55jSV8FMeLT3A/Kk4Aps65qZC6yE6Lg=='
                class='apbct-email-encoder'
                title='This contact has been encoded by Anti-Spam by CleanTalk. Click to decode. To finish the decoding make sure that JavaScript is enabled in your browser.'>10<span class="apbct-blur">****************************</span>@<span class="apbct-blur">***************</span>wi.us</span>
SUMMARY:First Day of School
DESCRIPTION:
URL:https://www.milton.k12.wi.us/event/first-day-of-school-3/
CATEGORIES:Milton Middle School
END:VEVENT
BEGIN:VEVENT
DTSTART;VALUE=DATE:20240903
DTEND;VALUE=DATE:20240904
DTSTAMP:20260419T135041
CREATED:20240822T004625Z
LAST-MODIFIED:20240903T205740Z
UID:<span 
                data-original-string='UUmsNxWZut36Q/21N6/zmg==386URQKOXPbe0YiM3p9YBZupZIlosmvf/2iPWFWjpXu5DhlgLHcG6rGfyt5lrZbMgSl4ccjZRM5hTp1svcqMuUG7A=='
                class='apbct-email-encoder'
                title='This contact has been encoded by Anti-Spam by CleanTalk. Click to decode. To finish the decoding make sure that JavaScript is enabled in your browser.'>10<span class="apbct-blur">****************************</span>@<span class="apbct-blur">***************</span>wi.us</span>
SUMMARY:First Day of School
DESCRIPTION:
URL:https://www.milton.k12.wi.us/event/first-day-of-school-2/
CATEGORIES:Homepage Events,Milton High School
END:VEVENT
BEGIN:VEVENT
DTSTART;VALUE=DATE:20240903
DTEND;VALUE=DATE:20240904
DTSTAMP:20260419T135041
CREATED:20240822T004443Z
LAST-MODIFIED:20240903T212226Z
UID:<span 
                data-original-string='y/MK8MeVbAL4U8sTlPnuPg==386qNAE90Vq29NqREGspxujt/TJ3rBCMnCWgzRpnUz3I8jzbuGSB3rUvtnP/7PblrJXbhg0tSTcZopT3nUa4W6krA=='
                class='apbct-email-encoder'
                title='This contact has been encoded by Anti-Spam by CleanTalk. Click to decode. To finish the decoding make sure that JavaScript is enabled in your browser.'>10<span class="apbct-blur">****************************</span>@<span class="apbct-blur">***************</span>wi.us</span>
SUMMARY:EES:  School Starts
DESCRIPTION:
URL:https://www.milton.k12.wi.us/event/ees-school-starts/
CATEGORIES:Milton East Elementary
END:VEVENT
BEGIN:VEVENT
DTSTART;VALUE=DATE:20240902
DTEND;VALUE=DATE:20240903
DTSTAMP:20260419T135041
CREATED:20240829T165933Z
LAST-MODIFIED:20240902T205733Z
UID:<span 
                data-original-string='iua5ocivzb1cyIbb14oV0g==386qbuELKUcKfURIZk4z2Vyp8LlKX45oz6OILygso9Yp7MYFsu9ms1BTFSQYXcIczjL1ULZGCLKiG1DoGJbMhBd1w=='
                class='apbct-email-encoder'
                title='This contact has been encoded by Anti-Spam by CleanTalk. Click to decode. To finish the decoding make sure that JavaScript is enabled in your browser.'>10<span class="apbct-blur">****************************</span>@<span class="apbct-blur">***************</span>wi.us</span>
SUMMARY:Labor Day
DESCRIPTION:
URL:https://www.milton.k12.wi.us/event/labor-day/
CATEGORIES:Harmony Elementary
END:VEVENT
BEGIN:VEVENT
DTSTART;VALUE=DATE:20240902
DTEND;VALUE=DATE:20240903
DTSTAMP:20260419T135041
CREATED:20240822T004624Z
LAST-MODIFIED:20240902T205301Z
UID:<span 
                data-original-string='jbuAoiDQv5xB0M5wfNTNlA==386HJs1p5fn9QwUnUd+s+peyCk0HtLHe3Ng5UzStRXvGcfBa9tf/m7ghTzgFF/rzUenOAfPxqE8bZRX+jIPJHgmqw=='
                class='apbct-email-encoder'
                title='This contact has been encoded by Anti-Spam by CleanTalk. Click to decode. To finish the decoding make sure that JavaScript is enabled in your browser.'>10<span class="apbct-blur">****************************</span>@<span class="apbct-blur">***************</span>wi.us</span>
SUMMARY:Labor Day - No School
DESCRIPTION:
URL:https://www.milton.k12.wi.us/event/labor-day-no-school/
CATEGORIES:Homepage Events,Milton High School
END:VEVENT
BEGIN:VEVENT
DTSTART;TZID=America/Chicago:20240828T174500
DTEND;TZID=America/Chicago:20240828T190000
DTSTAMP:20260419T135041
CREATED:20240824T110749Z
LAST-MODIFIED:20240828T203846Z
UID:<span 
                data-original-string='gcBRTe92qx7YAjxILLyXXg==386WtNHkguI0bU4Xi0XkFHVHXF0zw4e50L+BoqX0z5F1G42aYdyZLzk/3OreO0Nv4EhNOprqBSFYS5lLkqIe6Z0tg=='
                class='apbct-email-encoder'
                title='This contact has been encoded by Anti-Spam by CleanTalk. Click to decode. To finish the decoding make sure that JavaScript is enabled in your browser.'>10<span class="apbct-blur">****************************</span>@<span class="apbct-blur">***************</span>wi.us</span>
SUMMARY:Northside Open House
DESCRIPTION:
URL:https://www.milton.k12.wi.us/event/northside-open-house/
CATEGORIES:Northside Intermediate
END:VEVENT
BEGIN:VEVENT
DTSTART;TZID=America/Chicago:20240828T160000
DTEND;TZID=America/Chicago:20240828T180000
DTSTAMP:20260419T135041
CREATED:20240823T013734Z
LAST-MODIFIED:20240828T212230Z
UID:<span 
                data-original-string='zCJU10LgMI8T739/+uDlfA==386NbJh0/QtUdYzFN5+JTvQIku1PiXYzocbiox35lJ0v24GlmZNUkkXXMqYRZLlDd1zOldq5NHAW8+LUaNTH536Aw=='
                class='apbct-email-encoder'
                title='This contact has been encoded by Anti-Spam by CleanTalk. Click to decode. To finish the decoding make sure that JavaScript is enabled in your browser.'>10<span class="apbct-blur">****************************</span>@<span class="apbct-blur">***************</span>wi.us</span>
SUMMARY:EES:  Open House
DESCRIPTION:
URL:https://www.milton.k12.wi.us/event/ees-open-house/
CATEGORIES:Milton East Elementary
END:VEVENT
BEGIN:VEVENT
DTSTART;TZID=America/Chicago:20240828T160000
DTEND;TZID=America/Chicago:20240828T180000
DTSTAMP:20260419T135041
CREATED:20240822T012922Z
LAST-MODIFIED:20240828T210814Z
UID:<span 
                data-original-string='z/Hpc4RXUDBUaC3lvoAz3w==386aoVXoAYzkoVrWI7ukRYBpxmCv0MeuwPdnRc5J1FNaIapKvgcnTMfmvUVcGMbbwdgzlKtgVuCQWU7N3cTPCqGPg=='
                class='apbct-email-encoder'
                title='This contact has been encoded by Anti-Spam by CleanTalk. Click to decode. To finish the decoding make sure that JavaScript is enabled in your browser.'>10<span class="apbct-blur">****************************</span>@<span class="apbct-blur">***************</span>wi.us</span>
SUMMARY:CES Back to School Open House
DESCRIPTION:
URL:https://www.milton.k12.wi.us/event/back-to-school-open-house/
CATEGORIES:Consolidated
END:VEVENT
BEGIN:VEVENT
DTSTART;TZID=America/Chicago:20240828T160000
DTEND;TZID=America/Chicago:20240828T180000
DTSTAMP:20260419T135041
CREATED:20240822T004834Z
LAST-MODIFIED:20240828T202749Z
UID:<span 
                data-original-string='SydmAxtpdpQbB60B0wx1Sg==386ww1XX3DF+TLJIuu71hEmt99XrI+nHGDlS+Y318l+lrcOScXY3Os+rJzKmaM0Yg41vZhPRDnwnVvp3e62X8J7Cw=='
                class='apbct-email-encoder'
                title='This contact has been encoded by Anti-Spam by CleanTalk. Click to decode. To finish the decoding make sure that JavaScript is enabled in your browser.'>10<span class="apbct-blur">****************************</span>@<span class="apbct-blur">***************</span>wi.us</span>
SUMMARY:Open house
DESCRIPTION:More details to come from your child’s teacher
URL:https://www.milton.k12.wi.us/event/open-house-2/
CATEGORIES:Milton West Elementary
END:VEVENT
BEGIN:VEVENT
DTSTART;TZID=America/Chicago:20240827T180000
DTEND;TZID=America/Chicago:20240827T190000
DTSTAMP:20260419T135041
CREATED:20240822T004624Z
LAST-MODIFIED:20240827T203825Z
UID:<span 
                data-original-string='ngxnAeknpUIG7cifr2VVCg==386JgJn10MzwG6UWJ/9is7kX8sEXUg7pG/7azaKIBOh3mlYE7EnvXDJwkrF9E68waV3K6AckW/wx/vu9/BTW4IxqA=='
                class='apbct-email-encoder'
                title='This contact has been encoded by Anti-Spam by CleanTalk. Click to decode. To finish the decoding make sure that JavaScript is enabled in your browser.'>10<span class="apbct-blur">****************************</span>@<span class="apbct-blur">***************</span>wi.us</span>
SUMMARY:MHS Open House
DESCRIPTION:
URL:https://www.milton.k12.wi.us/event/open-house/
CATEGORIES:Milton High School
END:VEVENT
BEGIN:VEVENT
DTSTART;TZID=America/Chicago:20240827T173000
DTEND;TZID=America/Chicago:20240827T183000
DTSTAMP:20260419T135041
CREATED:20240822T004705Z
LAST-MODIFIED:20240827T213725Z
UID:<span 
                data-original-string='Po0iFH5+wN0EtbAcej5yBw==386XQwY300Nt+B1RARxr5JckRWp5akx2V92BevcYkq+9Ii2mcT3vIoZup86i0FPmd5lTkqFrMWdeJZdsFRYjrDwmw=='
                class='apbct-email-encoder'
                title='This contact has been encoded by Anti-Spam by CleanTalk. Click to decode. To finish the decoding make sure that JavaScript is enabled in your browser.'>10<span class="apbct-blur">****************************</span>@<span class="apbct-blur">***************</span>wi.us</span>
SUMMARY:MMS Open House
DESCRIPTION:
URL:https://www.milton.k12.wi.us/event/mms-open-house/
LOCATION:Milton Middle School
CATEGORIES:Homepage Events,Milton Middle School
END:VEVENT
END:VCALENDAR