BEGIN:VCALENDAR
VERSION:2.0
PRODID:-//School District of Milton - ECPv6.15.20//NONSGML v1.0//EN
CALSCALE:GREGORIAN
METHOD:PUBLISH
X-ORIGINAL-URL:https://www.milton.k12.wi.us
X-WR-CALDESC:Events for School District of Milton
REFRESH-INTERVAL;VALUE=DURATION:PT1H
X-Robots-Tag:noindex
X-PUBLISHED-TTL:PT1H
BEGIN:VTIMEZONE
TZID:America/Chicago
BEGIN:DAYLIGHT
TZOFFSETFROM:-0600
TZOFFSETTO:-0500
TZNAME:CDT
DTSTART:20240310T080000
END:DAYLIGHT
BEGIN:STANDARD
TZOFFSETFROM:-0500
TZOFFSETTO:-0600
TZNAME:CST
DTSTART:20241103T070000
END:STANDARD
BEGIN:DAYLIGHT
TZOFFSETFROM:-0600
TZOFFSETTO:-0500
TZNAME:CDT
DTSTART:20250309T080000
END:DAYLIGHT
BEGIN:STANDARD
TZOFFSETFROM:-0500
TZOFFSETTO:-0600
TZNAME:CST
DTSTART:20251102T070000
END:STANDARD
BEGIN:DAYLIGHT
TZOFFSETFROM:-0600
TZOFFSETTO:-0500
TZNAME:CDT
DTSTART:20260308T080000
END:DAYLIGHT
BEGIN:STANDARD
TZOFFSETFROM:-0500
TZOFFSETTO:-0600
TZNAME:CST
DTSTART:20261101T070000
END:STANDARD
END:VTIMEZONE
BEGIN:VEVENT
DTSTART;VALUE=DATE:20250421
DTEND;VALUE=DATE:20250422
DTSTAMP:20260420T040617
CREATED:20250106T202404Z
LAST-MODIFIED:20250421T235221Z
UID:<span 
                data-original-string='zNbulqTZHtpDa92PqgRTxA==386Z1mVpD3zRofnD6M++1MR5bT+Wb1aedQgbcLpKrcdzT3LcixX9oB7+AsinXmnq8vxBF8And/HQmDjEmEGqI+b0A=='
                class='apbct-email-encoder'
                title='This contact has been encoded by Anti-Spam by CleanTalk. Click to decode. To finish the decoding make sure that JavaScript is enabled in your browser.'>10<span class="apbct-blur">****************************</span>@<span class="apbct-blur">***************</span>wi.us</span>
SUMMARY:Northside Early Release @ 2:40pm
DESCRIPTION:
URL:https://www.milton.k12.wi.us/event/early-release-240pm-14/
CATEGORIES:Northside Intermediate
END:VEVENT
BEGIN:VEVENT
DTSTART;VALUE=DATE:20250421
DTEND;VALUE=DATE:20250422
DTSTAMP:20260420T040617
CREATED:20250407T224137Z
LAST-MODIFIED:20250421T235222Z
UID:<span 
                data-original-string='4kFDqYUyJM6Ty6LrgNBpvA==3861it4YebokbpJHowiFv+95g7omx29yA00zgR2FJ+XTOwPmZWuh6yqHAXxhTX6606E0Q7x/gEnOU699Fb/2Ti4Gg=='
                class='apbct-email-encoder'
                title='This contact has been encoded by Anti-Spam by CleanTalk. Click to decode. To finish the decoding make sure that JavaScript is enabled in your browser.'>10<span class="apbct-blur">****************************</span>@<span class="apbct-blur">***************</span>wi.us</span>
SUMMARY:Northside Day 6
DESCRIPTION:
URL:https://www.milton.k12.wi.us/event/day-6-25/
CATEGORIES:Northside Intermediate
END:VEVENT
BEGIN:VEVENT
DTSTART;TZID=America/Chicago:20250421T143500
DTEND;TZID=America/Chicago:20250421T153500
DTSTAMP:20260420T040617
CREATED:20240822T012931Z
LAST-MODIFIED:20250421T192240Z
UID:<span 
                data-original-string='54hlr60lL3wCFFdDshNx/w==386fUeImUXkHiiyy8C3JmNs7XXcsNAl7+36OL81kXvKcF+TEh6J5rgccl2nh9fSUlOj0TJDeNAfi3WWZOKhiWnN/Q=='
                class='apbct-email-encoder'
                title='This contact has been encoded by Anti-Spam by CleanTalk. Click to decode. To finish the decoding make sure that JavaScript is enabled in your browser.'>10<span class="apbct-blur">****************************</span>@<span class="apbct-blur">***************</span>wi.us</span>
SUMMARY:Early Release -
DESCRIPTION:
URL:https://www.milton.k12.wi.us/event/early-release-26/
CATEGORIES:Consolidated
END:VEVENT
BEGIN:VEVENT
DTSTART;TZID=America/Chicago:20250421T143500
DTEND;TZID=America/Chicago:20250421T153500
DTSTAMP:20260420T040617
CREATED:20240909T204119Z
LAST-MODIFIED:20250421T165241Z
UID:<span 
                data-original-string='CuH3azLNyvelGCaAlN5bdg==386d7qi+UTJT9LuEkjEiNvZmbVPg+h5LBDTt/t+4HVJOrygW8Nr1oQPSqsWcSln44Lh5zyxasCQ90O+KA3BRblT1g=='
                class='apbct-email-encoder'
                title='This contact has been encoded by Anti-Spam by CleanTalk. Click to decode. To finish the decoding make sure that JavaScript is enabled in your browser.'>10<span class="apbct-blur">****************************</span>@<span class="apbct-blur">***************</span>wi.us</span>
SUMMARY:HES: Early Release
DESCRIPTION:
URL:https://www.milton.k12.wi.us/event/hes-early-release-24/
CATEGORIES:Harmony Elementary
END:VEVENT
BEGIN:VEVENT
DTSTART;TZID=America/Chicago:20250421T180000
DTEND;TZID=America/Chicago:20250421T190000
DTSTAMP:20260420T040617
CREATED:20240829T170202Z
LAST-MODIFIED:20250421T234813Z
UID:<span 
                data-original-string='LWgjNWF8nF2IW04/BTNhnw==386Za9aDVJwszpjs7XBckBfbvP/doinWO5cL8JunT5bxcrC6wMm8rBCtRmb0PS/j1LC5NNks6YRDGH3Wu8Jg/SV8g=='
                class='apbct-email-encoder'
                title='This contact has been encoded by Anti-Spam by CleanTalk. Click to decode. To finish the decoding make sure that JavaScript is enabled in your browser.'>10<span class="apbct-blur">****************************</span>@<span class="apbct-blur">***************</span>wi.us</span>
SUMMARY:HES: Team Harmony Meeting LMC
DESCRIPTION:
URL:https://www.milton.k12.wi.us/event/hes-team-harmony-meeting-lmc-6/
CATEGORIES:Harmony Elementary
END:VEVENT
BEGIN:VEVENT
DTSTART;TZID=America/Chicago:20250421T180000
DTEND;TZID=America/Chicago:20250421T200000
DTSTAMP:20260420T040617
CREATED:20240917T180335Z
LAST-MODIFIED:20250421T234412Z
UID:<span 
                data-original-string='GU7DU4oB2nehU7W1slfNyg==386axjlYKLgLDE7mccw9DTKPDlIOqq3oa2LmIaJ5irvDRoxG3dwEohv71YzK0/Hb7SFunjYInzZjJiNjK0Icnve9A=='
                class='apbct-email-encoder'
                title='This contact has been encoded by Anti-Spam by CleanTalk. Click to decode. To finish the decoding make sure that JavaScript is enabled in your browser.'>10<span class="apbct-blur">****************************</span>@<span class="apbct-blur">***************</span>wi.us</span>
SUMMARY:PAWS mtg
DESCRIPTION:
URL:https://www.milton.k12.wi.us/event/paws-mtg-8/
CATEGORIES:Milton West Elementary
END:VEVENT
BEGIN:VEVENT
DTSTART;TZID=America/Chicago:20250421T183000
DTEND;TZID=America/Chicago:20250421T203000
DTSTAMP:20260420T040617
CREATED:20250415T183859Z
LAST-MODIFIED:20250421T234533Z
UID:<span 
                data-original-string='h1RMPwgeri0jDqsdraK5Mw==38678QGbkjCV7w98ZiErjt1SpOHPa/lRhHeoQy04jbw0xQKUDUndPNkl4Wk3xFcbWL+DLEFNqA1+mENk6fw1y4AZw=='
                class='apbct-email-encoder'
                title='This contact has been encoded by Anti-Spam by CleanTalk. Click to decode. To finish the decoding make sure that JavaScript is enabled in your browser.'>10<span class="apbct-blur">****************************</span>@<span class="apbct-blur">***************</span>wi.us</span>
SUMMARY:HR Committee
DESCRIPTION:
URL:https://www.milton.k12.wi.us/event/hr-committee-3/
CATEGORIES:District
END:VEVENT
BEGIN:VEVENT
DTSTART;VALUE=DATE:20250422
DTEND;VALUE=DATE:20250423
DTSTAMP:20260420T040617
CREATED:20250407T224150Z
LAST-MODIFIED:20250422T235227Z
UID:<span 
                data-original-string='jvVPwGQkL1D7qnMNDq4DDA==386k+q5UKbfQjb2acxP3gTvi4eZvVutAdUwO8e2/wjzSFEACUPB15jKGq2oIK6iudVLdNYadhMBuTonPX/hWx88eQ=='
                class='apbct-email-encoder'
                title='This contact has been encoded by Anti-Spam by CleanTalk. Click to decode. To finish the decoding make sure that JavaScript is enabled in your browser.'>10<span class="apbct-blur">****************************</span>@<span class="apbct-blur">***************</span>wi.us</span>
SUMMARY:Northside Day 1
DESCRIPTION:
URL:https://www.milton.k12.wi.us/event/day-1-27/
CATEGORIES:Northside Intermediate
END:VEVENT
BEGIN:VEVENT
DTSTART;VALUE=DATE:20250423
DTEND;VALUE=DATE:20250424
DTSTAMP:20260420T040617
CREATED:20240829T170203Z
LAST-MODIFIED:20250423T235328Z
UID:<span 
                data-original-string='TwuV8yXexgTr1LiKyrY8MQ==386o/1dD10zRySQtHQ2t83IXbCLfmanwG1NBXHSNOVm5jFsEsoWnuo/oeN/WwLm83IfLfO8mjJbzrVSrq3rWZJXIw=='
                class='apbct-email-encoder'
                title='This contact has been encoded by Anti-Spam by CleanTalk. Click to decode. To finish the decoding make sure that JavaScript is enabled in your browser.'>10<span class="apbct-blur">****************************</span>@<span class="apbct-blur">***************</span>wi.us</span>
SUMMARY:HES: Culver's Scoopie Night
DESCRIPTION:
URL:https://www.milton.k12.wi.us/event/hes-culvers-scoopie-night-3/
CATEGORIES:Harmony Elementary
END:VEVENT
BEGIN:VEVENT
DTSTART;VALUE=DATE:20250423
DTEND;VALUE=DATE:20250424
DTSTAMP:20260420T040617
CREATED:20250407T224150Z
LAST-MODIFIED:20250423T235351Z
UID:<span 
                data-original-string='UonUOM1E9wb3hD8ulnQLiA==386Ll+dSdUIY3qaeuUQ9jC8h+8RCicwxMV33H4rtwEuMKLhajOZhyr+ftNV5Vx6ZS2jnjOxyQdORUdfGpziKrowKQ=='
                class='apbct-email-encoder'
                title='This contact has been encoded by Anti-Spam by CleanTalk. Click to decode. To finish the decoding make sure that JavaScript is enabled in your browser.'>10<span class="apbct-blur">****************************</span>@<span class="apbct-blur">***************</span>wi.us</span>
SUMMARY:Northside Day 2
DESCRIPTION:
URL:https://www.milton.k12.wi.us/event/day-2-25/
CATEGORIES:Northside Intermediate
END:VEVENT
BEGIN:VEVENT
DTSTART;VALUE=DATE:20250424
DTEND;VALUE=DATE:20250425
DTSTAMP:20260420T040617
CREATED:20250407T224151Z
LAST-MODIFIED:20250424T235230Z
UID:<span 
                data-original-string='vCWwgpR/YhchUt7HX7LveQ==386PksUxIMB066nuHxs3XX1qqS9bo64GdlNPYhtCGvP+mHqkW+dAdBfgMwhgjaeqsJ0dlz1+2EegzOTb3k3GPOpbg=='
                class='apbct-email-encoder'
                title='This contact has been encoded by Anti-Spam by CleanTalk. Click to decode. To finish the decoding make sure that JavaScript is enabled in your browser.'>10<span class="apbct-blur">****************************</span>@<span class="apbct-blur">***************</span>wi.us</span>
SUMMARY:Northside Day 3
DESCRIPTION:
URL:https://www.milton.k12.wi.us/event/day-3-25/
CATEGORIES:Northside Intermediate
END:VEVENT
BEGIN:VEVENT
DTSTART;TZID=America/Chicago:20250424T173000
DTEND;TZID=America/Chicago:20250424T183000
DTSTAMP:20260420T040617
CREATED:20240822T004718Z
LAST-MODIFIED:20250424T222406Z
UID:<span 
                data-original-string='x9WBM98YwQyHo7CEUZxXMg==3866aL9Vm1EDK02nYqCmjd5OZVf2pcWb2M8BY/evmyH7Ois3ctaij24IrpbQq+GO62Xq7+XCokBYIDD+lSUanioQA=='
                class='apbct-email-encoder'
                title='This contact has been encoded by Anti-Spam by CleanTalk. Click to decode. To finish the decoding make sure that JavaScript is enabled in your browser.'>10<span class="apbct-blur">****************************</span>@<span class="apbct-blur">***************</span>wi.us</span>
SUMMARY:MMS Parent Group Meeting
DESCRIPTION:
URL:https://www.milton.k12.wi.us/event/parent-group-meeting-7/
CATEGORIES:Milton Middle School
END:VEVENT
BEGIN:VEVENT
DTSTART;VALUE=DATE:20250425
DTEND;VALUE=DATE:20250426
DTSTAMP:20260420T040617
CREATED:20250407T224152Z
LAST-MODIFIED:20250425T235313Z
UID:<span 
                data-original-string='H0jWv08ciuTIT2nDzcpXrA==3862oqAjED14AcMATgsbVXyS0x9PX8eRBAd8zAn1NAiRPqTU2EE3Tvv6qIQNh30QvqPWKaUsPvUZP6WANAORagXWg=='
                class='apbct-email-encoder'
                title='This contact has been encoded by Anti-Spam by CleanTalk. Click to decode. To finish the decoding make sure that JavaScript is enabled in your browser.'>10<span class="apbct-blur">****************************</span>@<span class="apbct-blur">***************</span>wi.us</span>
SUMMARY:Northside Day 4
DESCRIPTION:
URL:https://www.milton.k12.wi.us/event/day-4-26/
CATEGORIES:Northside Intermediate
END:VEVENT
BEGIN:VEVENT
DTSTART;TZID=America/Chicago:20250425T180000
DTEND;TZID=America/Chicago:20250425T190000
DTSTAMP:20260420T040617
CREATED:20240822T004849Z
LAST-MODIFIED:20250425T234446Z
UID:<span 
                data-original-string='hDcIHH/dRh7F1LHsR+U6tg==386LQrIGzJ+rwWDCZ9g4zAb9FIZJVZ1EGyGHbnxNMog1LXkOIxB85aSnGxWlZrhEaB9tvUr2Oivzm02dfVBhCxosg=='
                class='apbct-email-encoder'
                title='This contact has been encoded by Anti-Spam by CleanTalk. Click to decode. To finish the decoding make sure that JavaScript is enabled in your browser.'>10<span class="apbct-blur">****************************</span>@<span class="apbct-blur">***************</span>wi.us</span>
SUMMARY:PAWS Family Fun Night: playground
DESCRIPTION:
URL:https://www.milton.k12.wi.us/event/paws-family-fun-night-playground/
CATEGORIES:Milton West Elementary
END:VEVENT
BEGIN:VEVENT
DTSTART;TZID=America/Chicago:20250426T180000
DTEND;TZID=America/Chicago:20250426T213000
DTSTAMP:20260420T040617
CREATED:20240822T004654Z
LAST-MODIFIED:20250426T232848Z
UID:<span 
                data-original-string='E7/QPx1crz/2CVueZtrQ3Q==386p8LWNH9y1I0S8KIOeBIf3yhc3poSUTjK6FKRrUCmhdaAcO12JVLTovXOaDKtXx2zL71QVNjDLo4MLemmcg8i5A=='
                class='apbct-email-encoder'
                title='This contact has been encoded by Anti-Spam by CleanTalk. Click to decode. To finish the decoding make sure that JavaScript is enabled in your browser.'>10<span class="apbct-blur">****************************</span>@<span class="apbct-blur">***************</span>wi.us</span>
SUMMARY:Prom
DESCRIPTION:
URL:https://www.milton.k12.wi.us/event/prom/
CATEGORIES:Milton High School
END:VEVENT
BEGIN:VEVENT
DTSTART;VALUE=DATE:20250428
DTEND;VALUE=DATE:20250429
DTSTAMP:20260420T040617
CREATED:20250106T202404Z
LAST-MODIFIED:20250428T235644Z
UID:<span 
                data-original-string='x5dYsjlXzgzxLuXtPvtlkg==3860WQZqPkhsdw4gKqqJPOzKsdKYkjWGmSh0wvhQCHjHbMRX0uJ6jca2S5x1gSDOeH4/a6sNTIjoWp08bO1l4KzUg=='
                class='apbct-email-encoder'
                title='This contact has been encoded by Anti-Spam by CleanTalk. Click to decode. To finish the decoding make sure that JavaScript is enabled in your browser.'>10<span class="apbct-blur">****************************</span>@<span class="apbct-blur">***************</span>wi.us</span>
SUMMARY:Northside Early Release @ 2:40pm
DESCRIPTION:
URL:https://www.milton.k12.wi.us/event/early-release-240pm-15/
CATEGORIES:Northside Intermediate
END:VEVENT
BEGIN:VEVENT
DTSTART;VALUE=DATE:20250428
DTEND;VALUE=DATE:20250429
DTSTAMP:20260420T040617
CREATED:20250417T135237Z
LAST-MODIFIED:20250428T235644Z
UID:<span 
                data-original-string='9m3BYa88/rVBTL7yBiX38g==386WsKRBrlS+MUgHVGxtVoxfKordc2LbWr7RbNmpJCQtSd9t63FAV1lbQgRe88Q2CARFjtIWKnKkmA+QDQZiLFsgQ=='
                class='apbct-email-encoder'
                title='This contact has been encoded by Anti-Spam by CleanTalk. Click to decode. To finish the decoding make sure that JavaScript is enabled in your browser.'>10<span class="apbct-blur">****************************</span>@<span class="apbct-blur">***************</span>wi.us</span>
SUMMARY:Northside Day 5
DESCRIPTION:
URL:https://www.milton.k12.wi.us/event/day-5-25/
CATEGORIES:Northside Intermediate
END:VEVENT
BEGIN:VEVENT
DTSTART;TZID=America/Chicago:20250428T093000
DTEND;TZID=America/Chicago:20250428T113000
DTSTAMP:20260420T040617
CREATED:20240930T172554Z
LAST-MODIFIED:20250428T110726Z
UID:<span 
                data-original-string='S8A4I25W68BjdpkXmIwymQ==386WPyD7se2NHUIMLp4ylkotFnwUnoOxTAOKQwnLN+2CEDFpzZF7o/Ct3u+SsjEC2vnoctZmV8EnoB5uRYHvxSgcA=='
                class='apbct-email-encoder'
                title='This contact has been encoded by Anti-Spam by CleanTalk. Click to decode. To finish the decoding make sure that JavaScript is enabled in your browser.'>10<span class="apbct-blur">****************************</span>@<span class="apbct-blur">***************</span>wi.us</span>
SUMMARY:EES:  4K meet at Henry Vilas Zoo
DESCRIPTION:
URL:https://www.milton.k12.wi.us/event/ees-4k-meet-at-henry-vilas-zoo/
CATEGORIES:Milton East Elementary
END:VEVENT
BEGIN:VEVENT
DTSTART;TZID=America/Chicago:20250428T143500
DTEND;TZID=America/Chicago:20250428T153500
DTSTAMP:20260420T040617
CREATED:20240822T012931Z
LAST-MODIFIED:20250428T193901Z
UID:<span 
                data-original-string='vTYigNHVzsKlwlSWQW+mOw==386ZmWY8iGBdvuyt9DNgOPqrFYwsrkdMH1gdDkDwHB3qdgswB3khMAHsRtIYmmC0Di3sygSnyV1/CFJBtIfsgozGw=='
                class='apbct-email-encoder'
                title='This contact has been encoded by Anti-Spam by CleanTalk. Click to decode. To finish the decoding make sure that JavaScript is enabled in your browser.'>10<span class="apbct-blur">****************************</span>@<span class="apbct-blur">***************</span>wi.us</span>
SUMMARY:Early Release -
DESCRIPTION:
URL:https://www.milton.k12.wi.us/event/early-release-27/
CATEGORIES:Consolidated
END:VEVENT
BEGIN:VEVENT
DTSTART;TZID=America/Chicago:20250428T143500
DTEND;TZID=America/Chicago:20250428T153500
DTSTAMP:20260420T040617
CREATED:20240909T204123Z
LAST-MODIFIED:20250428T170728Z
UID:<span 
                data-original-string='KhDe3Zyurgr6oWOgLFxSDw==386FOcCdBOAoeO/muWGNBcpM2pEo6GSEcdEt9LCsSojCsQxBVhsfiaK0az1KDjRxmguTjncMExyxtp7STEfjlDFlQ=='
                class='apbct-email-encoder'
                title='This contact has been encoded by Anti-Spam by CleanTalk. Click to decode. To finish the decoding make sure that JavaScript is enabled in your browser.'>10<span class="apbct-blur">****************************</span>@<span class="apbct-blur">***************</span>wi.us</span>
SUMMARY:HES: Early Release
DESCRIPTION:
URL:https://www.milton.k12.wi.us/event/hes-early-release-25/
CATEGORIES:Harmony Elementary
END:VEVENT
BEGIN:VEVENT
DTSTART;TZID=America/Chicago:20250428T183000
DTEND;TZID=America/Chicago:20250428T203000
DTSTAMP:20260420T040617
CREATED:20240822T012953Z
LAST-MODIFIED:20250428T233729Z
UID:<span 
                data-original-string='7KZ6pxbEpUmWsYO2TDfBFw==386EHvDBmKe0TC8IZ6iXTGCdCwxw0KI4JXkcO9uBoe76MXkr0MzIjzInckKZRffq8NQNCPFskEM/FtMmec2h5ir3w=='
                class='apbct-email-encoder'
                title='This contact has been encoded by Anti-Spam by CleanTalk. Click to decode. To finish the decoding make sure that JavaScript is enabled in your browser.'>10<span class="apbct-blur">****************************</span>@<span class="apbct-blur">***************</span>wi.us</span>
SUMMARY:School Board Meeting
DESCRIPTION:
URL:https://www.milton.k12.wi.us/event/school-board-meeting-21/
LOCATION:School District of Milton\, 448 E High St\, Milton\, WI\, United States
CATEGORIES:District
GEO:42.773036;-88.944404
X-APPLE-STRUCTURED-LOCATION;VALUE=URI;X-ADDRESS=School District of Milton 448 E High St Milton WI United States;X-APPLE-RADIUS=500;X-TITLE=448 E High St:geo:-88.944404,42.773036
END:VEVENT
BEGIN:VEVENT
DTSTART;VALUE=DATE:20250429
DTEND;VALUE=DATE:20250430
DTSTAMP:20260420T040617
CREATED:20250417T135240Z
LAST-MODIFIED:20250429T235704Z
UID:<span 
                data-original-string='KHY4Ol7kqz1JBHqHJexzHA==386vY99KDmJ+nUNRBwmN3SoQdLBCV8K3K8AUc7OHWB0GYKHe+skTXHjGGg2NJiEABxQtlN0F3RLLgwxbugd2qLKvg=='
                class='apbct-email-encoder'
                title='This contact has been encoded by Anti-Spam by CleanTalk. Click to decode. To finish the decoding make sure that JavaScript is enabled in your browser.'>10<span class="apbct-blur">****************************</span>@<span class="apbct-blur">***************</span>wi.us</span>
SUMMARY:Northside Day 6
DESCRIPTION:
URL:https://www.milton.k12.wi.us/event/day-6-26/
CATEGORIES:Northside Intermediate
END:VEVENT
BEGIN:VEVENT
DTSTART;VALUE=DATE:20250430
DTEND;VALUE=DATE:20250501
DTSTAMP:20260420T040617
CREATED:20250417T135243Z
LAST-MODIFIED:20250430T235911Z
UID:<span 
                data-original-string='/i/4rtljAUSj/C4Dc6gemA==386C97uigJaW3v4iZovlEvQKjJPZNXKmREolrmU16ud1dN33FJHHCt+IPV7fhpZLZsTOPh2TMzGZfDXk+Bivmn2YA=='
                class='apbct-email-encoder'
                title='This contact has been encoded by Anti-Spam by CleanTalk. Click to decode. To finish the decoding make sure that JavaScript is enabled in your browser.'>10<span class="apbct-blur">****************************</span>@<span class="apbct-blur">***************</span>wi.us</span>
SUMMARY:Northside Day 1
DESCRIPTION:
URL:https://www.milton.k12.wi.us/event/day-1-28/
CATEGORIES:Northside Intermediate
END:VEVENT
BEGIN:VEVENT
DTSTART;VALUE=DATE:20250501
DTEND;VALUE=DATE:20250502
DTSTAMP:20260420T040617
CREATED:20250417T135242Z
LAST-MODIFIED:20250501T232400Z
UID:<span 
                data-original-string='xxJ1KQ0Jzmj6ACzUZ2H9oA==386UaIU5uRRTf+EbsUDy2ESfE25CmePBZ+WuHkL/9Xx5/1XKC6zPklfQBbfldzS1jE5TpbdGuDDef90jGelQnwjhQ=='
                class='apbct-email-encoder'
                title='This contact has been encoded by Anti-Spam by CleanTalk. Click to decode. To finish the decoding make sure that JavaScript is enabled in your browser.'>10<span class="apbct-blur">****************************</span>@<span class="apbct-blur">***************</span>wi.us</span>
SUMMARY:Northside Day 2
DESCRIPTION:
URL:https://www.milton.k12.wi.us/event/day-2-26/
CATEGORIES:Northside Intermediate
END:VEVENT
BEGIN:VEVENT
DTSTART;VALUE=DATE:20250502
DTEND;VALUE=DATE:20250503
DTSTAMP:20260420T040617
CREATED:20250417T135241Z
LAST-MODIFIED:20250502T235921Z
UID:<span 
                data-original-string='DLv0KMPyGpYAg8ZTNXb/iQ==3863BPpZao1iSx8riObaCtYrQvMazn+XFaJ0YHZ2yY7aFRgDjkwa6KRSllj6kCsYJPZq1wpmT1xAG3gHDCSBMj8dQ=='
                class='apbct-email-encoder'
                title='This contact has been encoded by Anti-Spam by CleanTalk. Click to decode. To finish the decoding make sure that JavaScript is enabled in your browser.'>10<span class="apbct-blur">****************************</span>@<span class="apbct-blur">***************</span>wi.us</span>
SUMMARY:Northside Day 3
DESCRIPTION:
URL:https://www.milton.k12.wi.us/event/day-3-26/
CATEGORIES:Northside Intermediate
END:VEVENT
BEGIN:VEVENT
DTSTART;VALUE=DATE:20250505
DTEND;VALUE=DATE:20250506
DTSTAMP:20260420T040617
CREATED:20250106T202405Z
LAST-MODIFIED:20250505T235717Z
UID:<span 
                data-original-string='ZSAuJPsJCbAH2yWxRqH3xA==386/6+Odl/65l6bzdgD/WVcGnSSocBy84GDo9UarhLWQlf12lTu2MxURUTp2wpgY6kBb+P7XVlzb9QzE/HsUGXSDA=='
                class='apbct-email-encoder'
                title='This contact has been encoded by Anti-Spam by CleanTalk. Click to decode. To finish the decoding make sure that JavaScript is enabled in your browser.'>10<span class="apbct-blur">****************************</span>@<span class="apbct-blur">***************</span>wi.us</span>
SUMMARY:Northside Early Release @ 2:40pm
DESCRIPTION:
URL:https://www.milton.k12.wi.us/event/early-release-240pm-16/
CATEGORIES:Northside Intermediate
END:VEVENT
BEGIN:VEVENT
DTSTART;VALUE=DATE:20250505
DTEND;VALUE=DATE:20250506
DTSTAMP:20260420T040617
CREATED:20250417T135244Z
LAST-MODIFIED:20250505T235717Z
UID:<span 
                data-original-string='BNAPl5AVj5PhU4Q4gXUhMg==386PH0DKoWlZa+INLskdCOT0roiuPyMFfH/5qLEYVb99Eo9YQPUp2HXEaYLLn2Ebarl6FxE9BZkrbC/yrK6EgNtjw=='
                class='apbct-email-encoder'
                title='This contact has been encoded by Anti-Spam by CleanTalk. Click to decode. To finish the decoding make sure that JavaScript is enabled in your browser.'>10<span class="apbct-blur">****************************</span>@<span class="apbct-blur">***************</span>wi.us</span>
SUMMARY:Northside Day 4
DESCRIPTION:
URL:https://www.milton.k12.wi.us/event/day-4-27/
CATEGORIES:Northside Intermediate
END:VEVENT
BEGIN:VEVENT
DTSTART;TZID=America/Chicago:20250505T143500
DTEND;TZID=America/Chicago:20250505T153500
DTSTAMP:20260420T040617
CREATED:20240822T012931Z
LAST-MODIFIED:20250505T195247Z
UID:<span 
                data-original-string='9axmg6ON1QAwkqWdOf4cKw==386vaPFZBR7N7MfPGypmdEshdBsCn7jPU8V04VdHmEgPdXwnTEBOzdvrYhdw/d5NtHPmB87mUBd7BicHr4P31rbAg=='
                class='apbct-email-encoder'
                title='This contact has been encoded by Anti-Spam by CleanTalk. Click to decode. To finish the decoding make sure that JavaScript is enabled in your browser.'>10<span class="apbct-blur">****************************</span>@<span class="apbct-blur">***************</span>wi.us</span>
SUMMARY:Early Release -
DESCRIPTION:
URL:https://www.milton.k12.wi.us/event/early-release-28/
CATEGORIES:Consolidated
END:VEVENT
BEGIN:VEVENT
DTSTART;TZID=America/Chicago:20250505T143500
DTEND;TZID=America/Chicago:20250505T153500
DTSTAMP:20260420T040617
CREATED:20240909T204125Z
LAST-MODIFIED:20250505T170728Z
UID:<span 
                data-original-string='mHYm/si9t+U/M7FvT2V+vg==386Gj5TfROjiBrfqbroiWyoFzFt7NuI15Gqta+r0vKwz47vX3nVK/JH/3HjqK7jDBhCGrM7BFVTtBvrzXsVeZ2Zgw=='
                class='apbct-email-encoder'
                title='This contact has been encoded by Anti-Spam by CleanTalk. Click to decode. To finish the decoding make sure that JavaScript is enabled in your browser.'>10<span class="apbct-blur">****************************</span>@<span class="apbct-blur">***************</span>wi.us</span>
SUMMARY:HES: Early Release
DESCRIPTION:
URL:https://www.milton.k12.wi.us/event/hes-early-release-26/
CATEGORIES:Harmony Elementary
END:VEVENT
BEGIN:VEVENT
DTSTART;VALUE=DATE:20250506
DTEND;VALUE=DATE:20250507
DTSTAMP:20260420T040617
CREATED:20250417T135246Z
LAST-MODIFIED:20250506T232438Z
UID:<span 
                data-original-string='OZCi67fHUB8ktxp5J4JQTA==386Xktdhb940qTqkKFNvix68PW14IsCvO9n4io96VW0ht6KfzELWlLNCM/QiOMF1eXG1rV665RkOZl3AYUtb89l4g=='
                class='apbct-email-encoder'
                title='This contact has been encoded by Anti-Spam by CleanTalk. Click to decode. To finish the decoding make sure that JavaScript is enabled in your browser.'>10<span class="apbct-blur">****************************</span>@<span class="apbct-blur">***************</span>wi.us</span>
SUMMARY:Northside Day 5
DESCRIPTION:
URL:https://www.milton.k12.wi.us/event/day-5-26/
CATEGORIES:Northside Intermediate
END:VEVENT
END:VCALENDAR