BEGIN:VCALENDAR
VERSION:2.0
PRODID:-//School District of Milton - ECPv6.15.20//NONSGML v1.0//EN
CALSCALE:GREGORIAN
METHOD:PUBLISH
X-WR-CALNAME:School District of Milton
X-ORIGINAL-URL:https://www.milton.k12.wi.us
X-WR-CALDESC:Events for School District of Milton
REFRESH-INTERVAL;VALUE=DURATION:PT1H
X-Robots-Tag:noindex
X-PUBLISHED-TTL:PT1H
BEGIN:VTIMEZONE
TZID:America/Chicago
BEGIN:DAYLIGHT
TZOFFSETFROM:-0600
TZOFFSETTO:-0500
TZNAME:CDT
DTSTART:20240310T080000
END:DAYLIGHT
BEGIN:STANDARD
TZOFFSETFROM:-0500
TZOFFSETTO:-0600
TZNAME:CST
DTSTART:20241103T070000
END:STANDARD
BEGIN:DAYLIGHT
TZOFFSETFROM:-0600
TZOFFSETTO:-0500
TZNAME:CDT
DTSTART:20250309T080000
END:DAYLIGHT
BEGIN:STANDARD
TZOFFSETFROM:-0500
TZOFFSETTO:-0600
TZNAME:CST
DTSTART:20251102T070000
END:STANDARD
BEGIN:DAYLIGHT
TZOFFSETFROM:-0600
TZOFFSETTO:-0500
TZNAME:CDT
DTSTART:20260308T080000
END:DAYLIGHT
BEGIN:STANDARD
TZOFFSETFROM:-0500
TZOFFSETTO:-0600
TZNAME:CST
DTSTART:20261101T070000
END:STANDARD
END:VTIMEZONE
BEGIN:VEVENT
DTSTART;TZID=America/Chicago:20250210T183000
DTEND;TZID=America/Chicago:20250210T203000
DTSTAMP:20260421T072857
CREATED:20240822T012952Z
LAST-MODIFIED:20240822T012952Z
UID:<span 
                data-original-string='9uzFWvZgVuhgdcBLQfGGPw==3865xdm+c7RqJIpOnGDYnQTNBQZ0pxeUri9hGfmEhnnFSxH09bFpnQT2xo7h18maWC1Z6rcBXiyiFxiGMenDx7NtQ=='
                class='apbct-email-encoder'
                title='This contact has been encoded by Anti-Spam by CleanTalk. Click to decode. To finish the decoding make sure that JavaScript is enabled in your browser.'>10<span class="apbct-blur">****************************</span>@<span class="apbct-blur">***************</span>wi.us</span>
SUMMARY:School Board Meeting
DESCRIPTION:
URL:https://www.milton.k12.wi.us/event/school-board-meeting-15/
CATEGORIES:District
END:VEVENT
BEGIN:VEVENT
DTSTART;VALUE=DATE:20250211
DTEND;VALUE=DATE:20250212
DTSTAMP:20260421T072857
CREATED:20250129T201322Z
LAST-MODIFIED:20250211T232259Z
UID:<span 
                data-original-string='V5yj3JObLbVhyMQmR0OQYw==3869U12WgS8YsVq3/slgY8YVVR1adH8n3tWEB0HpV8EYygzrg/a+/YfEb4DiBRxVScmoee+HjWxt1ncOgJXeWNjaw=='
                class='apbct-email-encoder'
                title='This contact has been encoded by Anti-Spam by CleanTalk. Click to decode. To finish the decoding make sure that JavaScript is enabled in your browser.'>10<span class="apbct-blur">****************************</span>@<span class="apbct-blur">***************</span>wi.us</span>
SUMMARY:Day 1
DESCRIPTION:
URL:https://www.milton.k12.wi.us/event/day-1-20/
CATEGORIES:Northside Intermediate
END:VEVENT
BEGIN:VEVENT
DTSTART;TZID=America/Chicago:20250211T180000
DTEND;TZID=America/Chicago:20250211T190000
DTSTAMP:20260421T072857
CREATED:20240822T004449Z
LAST-MODIFIED:20250211T231714Z
UID:<span 
                data-original-string='oaWYHT8O9P4aElxA0TgT0A==386ycbTfSx4P3mYrXNDRHgYl16MmUt0lUoqh9KKqRwFs0f1TueHNamYCGASJetrrViicJIOcBX/+b1wepDuLB2cng=='
                class='apbct-email-encoder'
                title='This contact has been encoded by Anti-Spam by CleanTalk. Click to decode. To finish the decoding make sure that JavaScript is enabled in your browser.'>10<span class="apbct-blur">****************************</span>@<span class="apbct-blur">***************</span>wi.us</span>
SUMMARY:EES:  MEPG meeting
DESCRIPTION:
URL:https://www.milton.k12.wi.us/event/ees-mepg-meeting-6/
CATEGORIES:Milton East Elementary
END:VEVENT
BEGIN:VEVENT
DTSTART;TZID=America/Chicago:20250211T183000
DTEND;TZID=America/Chicago:20250211T193000
DTSTAMP:20260421T072857
CREATED:20240822T012928Z
LAST-MODIFIED:20250211T230859Z
UID:<span 
                data-original-string='BoAOVviIVmMaevHUJLQr9Q==3864B6cAVQJ2TwVBljIuKKy/FVIgrLWkR/m6SAo0+5mV93jOmF/qdPYKprDGfgrN28FcMDsEbhnMOjT6pzylFkBIA=='
                class='apbct-email-encoder'
                title='This contact has been encoded by Anti-Spam by CleanTalk. Click to decode. To finish the decoding make sure that JavaScript is enabled in your browser.'>10<span class="apbct-blur">****************************</span>@<span class="apbct-blur">***************</span>wi.us</span>
SUMMARY:CES - PIE Meeting
DESCRIPTION:
URL:https://www.milton.k12.wi.us/event/pie-meeting-6/
CATEGORIES:Consolidated
END:VEVENT
BEGIN:VEVENT
DTSTART;VALUE=DATE:20250212
DTEND;VALUE=DATE:20250213
DTSTAMP:20260421T072857
CREATED:20250129T201321Z
LAST-MODIFIED:20250212T232424Z
UID:<span 
                data-original-string='mJFsEqMagf22sqQT2w2qLg==386SOjgKcS3yoCQJNBIQWWIifiiZ2zyfKLbU+PWvOYU7xs10mBjdtHzaY7bgJmZ5tcJnOYGsrxuEoPPxkwuDFfthw=='
                class='apbct-email-encoder'
                title='This contact has been encoded by Anti-Spam by CleanTalk. Click to decode. To finish the decoding make sure that JavaScript is enabled in your browser.'>10<span class="apbct-blur">****************************</span>@<span class="apbct-blur">***************</span>wi.us</span>
SUMMARY:No School: Snow Day
DESCRIPTION:
URL:https://www.milton.k12.wi.us/event/day-2-18/
CATEGORIES:Northside Intermediate
END:VEVENT
BEGIN:VEVENT
DTSTART;TZID=America/Chicago:20250212T173000
DTEND;TZID=America/Chicago:20250212T183000
DTSTAMP:20260421T072857
CREATED:20250210T190726Z
LAST-MODIFIED:20250212T232357Z
UID:<span 
                data-original-string='rlI235NVS7tRr7H4FRnwdw==386ekARJp0rbkL3d8r/bFRZsaITQR5LV1h2J2ErW5/5xiwyED0AqfGiKNkz4Gusg4oqAW2VmJgABtutjRJap1uwAg=='
                class='apbct-email-encoder'
                title='This contact has been encoded by Anti-Spam by CleanTalk. Click to decode. To finish the decoding make sure that JavaScript is enabled in your browser.'>10<span class="apbct-blur">****************************</span>@<span class="apbct-blur">***************</span>wi.us</span>
SUMMARY:EES FAMILY NIGHT - FUR THE LOVE OF READING
DESCRIPTION:
URL:https://www.milton.k12.wi.us/event/ees-family-night-fur-the-love-of-reading/
CATEGORIES:Milton East Elementary
END:VEVENT
BEGIN:VEVENT
DTSTART;VALUE=DATE:20250213
DTEND;VALUE=DATE:20250214
DTSTAMP:20260421T072857
CREATED:20250129T201323Z
LAST-MODIFIED:20250213T232250Z
UID:<span 
                data-original-string='J9HA7JyXoNvyIBMHFJH8CA==386Zs3ImoHoGixDjgw8aa8fKMYIFqGtShh4CjtdNqr/tvA2Gv/+KBfgcBVI6rHq1vH3epo1fPEeCzUBhBDcj+Thkw=='
                class='apbct-email-encoder'
                title='This contact has been encoded by Anti-Spam by CleanTalk. Click to decode. To finish the decoding make sure that JavaScript is enabled in your browser.'>10<span class="apbct-blur">****************************</span>@<span class="apbct-blur">***************</span>wi.us</span>
SUMMARY:Day 2
DESCRIPTION:
URL:https://www.milton.k12.wi.us/event/day-3-18/
CATEGORIES:Northside Intermediate
END:VEVENT
BEGIN:VEVENT
DTSTART;VALUE=DATE:20250214
DTEND;VALUE=DATE:20250215
DTSTAMP:20260421T072857
CREATED:20250129T201323Z
LAST-MODIFIED:20250214T233727Z
UID:<span 
                data-original-string='vGKM9Iu7NAcbLZh3OV4fxQ==386rZflhFGvkN7BUF2k+0Gvf/lDTfLFtfDYM8pSJxyJw9XmU2hMZTLzu0QKq+N3TxNMyx4l0TtLPK2beFIEvCx2+A=='
                class='apbct-email-encoder'
                title='This contact has been encoded by Anti-Spam by CleanTalk. Click to decode. To finish the decoding make sure that JavaScript is enabled in your browser.'>10<span class="apbct-blur">****************************</span>@<span class="apbct-blur">***************</span>wi.us</span>
SUMMARY:Day 3
DESCRIPTION:
URL:https://www.milton.k12.wi.us/event/day-4-18/
CATEGORIES:Northside Intermediate
END:VEVENT
BEGIN:VEVENT
DTSTART;VALUE=DATE:20250217
DTEND;VALUE=DATE:20250218
DTSTAMP:20260421T072857
CREATED:20250106T202338Z
LAST-MODIFIED:20250217T232714Z
UID:<span 
                data-original-string='FBxZzwMd7z8xg3/rZdB87Q==386P47wMt6C4BpzIvbbNKm4HxxNNCLJcnMGE1Aqo9gWuCE0EJ70LMXOJtDqDpqWAfSA1XQWNna1gFlMxi20o3z28g=='
                class='apbct-email-encoder'
                title='This contact has been encoded by Anti-Spam by CleanTalk. Click to decode. To finish the decoding make sure that JavaScript is enabled in your browser.'>10<span class="apbct-blur">****************************</span>@<span class="apbct-blur">***************</span>wi.us</span>
SUMMARY:Northside Early Release @ 2:40pm
DESCRIPTION:
URL:https://www.milton.k12.wi.us/event/early-release-240pm-5/
CATEGORIES:Northside Intermediate
END:VEVENT
BEGIN:VEVENT
DTSTART;VALUE=DATE:20250217
DTEND;VALUE=DATE:20250218
DTSTAMP:20260421T072857
CREATED:20250213T162225Z
LAST-MODIFIED:20250217T232713Z
UID:<span 
                data-original-string='bMZmPrJOMq2vZUqZLtPJ5g==386fE5vQErVRps1UPs0eiyEcmJM2eFq2SiO1DSQ2zRudDr4qTVNf1zvEDBlJshWiqaOM0t04zQIqi14WAHYjkvOAw=='
                class='apbct-email-encoder'
                title='This contact has been encoded by Anti-Spam by CleanTalk. Click to decode. To finish the decoding make sure that JavaScript is enabled in your browser.'>10<span class="apbct-blur">****************************</span>@<span class="apbct-blur">***************</span>wi.us</span>
SUMMARY:Day 4
DESCRIPTION:
URL:https://www.milton.k12.wi.us/event/day-4-19/
CATEGORIES:Northside Intermediate
END:VEVENT
BEGIN:VEVENT
DTSTART;TZID=America/Chicago:20250217T143500
DTEND;TZID=America/Chicago:20250217T153500
DTSTAMP:20260421T072857
CREATED:20240822T012928Z
LAST-MODIFIED:20250217T203743Z
UID:<span 
                data-original-string='0ooQ19sn4iV5CYubOJuTpQ==386tEf2qw2GuppFwf9t/5RpvRZmxGXxN3iNssDwlbUfzembTBudus96VkBab3UJdM5vocHXriumt/AuAKQ60Zjd8A=='
                class='apbct-email-encoder'
                title='This contact has been encoded by Anti-Spam by CleanTalk. Click to decode. To finish the decoding make sure that JavaScript is enabled in your browser.'>10<span class="apbct-blur">****************************</span>@<span class="apbct-blur">***************</span>wi.us</span>
SUMMARY:Early Release -
DESCRIPTION:
URL:https://www.milton.k12.wi.us/event/early-release-17/
CATEGORIES:Consolidated
END:VEVENT
BEGIN:VEVENT
DTSTART;TZID=America/Chicago:20250217T143500
DTEND;TZID=America/Chicago:20250217T153500
DTSTAMP:20260421T072857
CREATED:20240909T204050Z
LAST-MODIFIED:20250217T212357Z
UID:<span 
                data-original-string='eHbwR3ErA42gDL5qIu2jog==386hhCh4UHOebJ1LgVY5tW3BGtKtkqkGpUxQTugN7E/uK0io2xswRuOBOjFDeo567O1sORm3Dt0up2pUD1CSSxm+g=='
                class='apbct-email-encoder'
                title='This contact has been encoded by Anti-Spam by CleanTalk. Click to decode. To finish the decoding make sure that JavaScript is enabled in your browser.'>10<span class="apbct-blur">****************************</span>@<span class="apbct-blur">***************</span>wi.us</span>
SUMMARY:HES: Early Release
DESCRIPTION:
URL:https://www.milton.k12.wi.us/event/hes-early-release-16/
CATEGORIES:Harmony Elementary
END:VEVENT
BEGIN:VEVENT
DTSTART;TZID=America/Chicago:20250217T150000
DTEND;TZID=America/Chicago:20250217T160000
DTSTAMP:20260421T072857
CREATED:20250128T112249Z
LAST-MODIFIED:20250217T210754Z
UID:<span 
                data-original-string='A8EYke28ltBwy4+Fsnuqeg==3864HzcLIrMDyVX1/41cIORYKZFs6ceb7HgDamlXKWD2rh1aNmYIWTwVwJj22U9zWVY7T7xP0zuCtIVCNShSq+zyg=='
                class='apbct-email-encoder'
                title='This contact has been encoded by Anti-Spam by CleanTalk. Click to decode. To finish the decoding make sure that JavaScript is enabled in your browser.'>10<span class="apbct-blur">****************************</span>@<span class="apbct-blur">***************</span>wi.us</span>
SUMMARY:Finance Committee
DESCRIPTION:
URL:https://www.milton.k12.wi.us/event/finance-committee-2/
CATEGORIES:District
END:VEVENT
BEGIN:VEVENT
DTSTART;TZID=America/Chicago:20250217T150000
DTEND;TZID=America/Chicago:20250217T160000
DTSTAMP:20260421T072857
CREATED:20250211T113928Z
LAST-MODIFIED:20250217T210754Z
UID:<span 
                data-original-string='fGDNWqvtgYQzkfnunSOy+g==386w9ueS20N0I8TjDqlxpBaoNEWPIad0zwVvA0Va3nfeyeknsN9sHXff+WC6UyzJcPmlssdJ4F/1hlvAS1QJZVb/Q=='
                class='apbct-email-encoder'
                title='This contact has been encoded by Anti-Spam by CleanTalk. Click to decode. To finish the decoding make sure that JavaScript is enabled in your browser.'>10<span class="apbct-blur">****************************</span>@<span class="apbct-blur">***************</span>wi.us</span>
SUMMARY:Finance Committee
DESCRIPTION:
URL:https://www.milton.k12.wi.us/event/finance-committee-3/
CATEGORIES:District
END:VEVENT
BEGIN:VEVENT
DTSTART;TZID=America/Chicago:20250217T180000
DTEND;TZID=America/Chicago:20250217T190000
DTSTAMP:20260421T072857
CREATED:20240829T170144Z
LAST-MODIFIED:20250217T215416Z
UID:<span 
                data-original-string='kAGFM7RTSvI3GglOBTFI9g==386y4MsgrXoe5khOjDgWmSDQmxIqxrdU+Ee05xgTMc9MuGoMqRS6vzEijgGe/rB2pJUhQg4rcEcFfTf5JHbdTJfZQ=='
                class='apbct-email-encoder'
                title='This contact has been encoded by Anti-Spam by CleanTalk. Click to decode. To finish the decoding make sure that JavaScript is enabled in your browser.'>10<span class="apbct-blur">****************************</span>@<span class="apbct-blur">***************</span>wi.us</span>
SUMMARY:HES: Team Harmony Meeting LMC
DESCRIPTION:
URL:https://www.milton.k12.wi.us/event/hes-team-harmony-meeting-lmc-4/
CATEGORIES:Harmony Elementary
END:VEVENT
BEGIN:VEVENT
DTSTART;TZID=America/Chicago:20250217T180000
DTEND;TZID=America/Chicago:20250217T200000
DTSTAMP:20260421T072857
CREATED:20240917T180322Z
LAST-MODIFIED:20250217T225321Z
UID:<span 
                data-original-string='9Px3e3xo5/M4X7bjtBZ5EA==3868wznrO+YkjfCzxmx4HaLJ59e/pPclXAJodqMpdyWaYtzm8qn8cqrxVN7n7iAMZZHHxt1Gkds0pzeVEUG3U7xLw=='
                class='apbct-email-encoder'
                title='This contact has been encoded by Anti-Spam by CleanTalk. Click to decode. To finish the decoding make sure that JavaScript is enabled in your browser.'>10<span class="apbct-blur">****************************</span>@<span class="apbct-blur">***************</span>wi.us</span>
SUMMARY:PAWS mtg
DESCRIPTION:
URL:https://www.milton.k12.wi.us/event/paws-mtg-5/
CATEGORIES:Milton West Elementary
END:VEVENT
BEGIN:VEVENT
DTSTART;TZID=America/Chicago:20250217T180000
DTEND;TZID=America/Chicago:20250217T200000
DTSTAMP:20260421T072857
CREATED:20240917T180322Z
LAST-MODIFIED:20240917T180322Z
UID:<span 
                data-original-string='DmpFQUxGMkdSTFgCuXMndA==3868F2zaai90Qime1WmSRXwLYW3JcRyjTuPvd61Ks9jUNJA4eGwsKomxjV0xpx643GRzTqghhxxnngJL9F5oBNiTQ=='
                class='apbct-email-encoder'
                title='This contact has been encoded by Anti-Spam by CleanTalk. Click to decode. To finish the decoding make sure that JavaScript is enabled in your browser.'>10<span class="apbct-blur">****************************</span>@<span class="apbct-blur">***************</span>wi.us</span>
SUMMARY:PAWS mtg
DESCRIPTION:
URL:https://www.milton.k12.wi.us/event/paws-mtg-6/
CATEGORIES:Milton West Elementary
END:VEVENT
BEGIN:VEVENT
DTSTART;VALUE=DATE:20250218
DTEND;VALUE=DATE:20250219
DTSTAMP:20260421T072857
CREATED:20250213T162231Z
LAST-MODIFIED:20250218T232734Z
UID:<span 
                data-original-string='HmH+zSGLuGDNwq7OQJk/mQ==38656GFQgxjWoXi86P8R7Fdqc6fgdkJhxFFxOkmikl/+/Iw5brOk2RIzvMZnUAgyWzV98V9RHWPEMtawl4uYrPUsw=='
                class='apbct-email-encoder'
                title='This contact has been encoded by Anti-Spam by CleanTalk. Click to decode. To finish the decoding make sure that JavaScript is enabled in your browser.'>10<span class="apbct-blur">****************************</span>@<span class="apbct-blur">***************</span>wi.us</span>
SUMMARY:Day 5
DESCRIPTION:
URL:https://www.milton.k12.wi.us/event/day-5-18/
CATEGORIES:Northside Intermediate
END:VEVENT
BEGIN:VEVENT
DTSTART;TZID=America/Chicago:20250218T160000
DTEND;TZID=America/Chicago:20250218T200000
DTSTAMP:20260421T072857
CREATED:20250205T195233Z
LAST-MODIFIED:20250218T225555Z
UID:<span 
                data-original-string='x0AF//Tq7LkqcAdGmZWUlQ==386NQNou0UTTfRcmgLMeV4+Pvi8Uqj4fwGzCqU+gMDh83/lJ4d6m/JcqPP61upH5C3GTUSVY+YGixr2++DLeGp6wA=='
                class='apbct-email-encoder'
                title='This contact has been encoded by Anti-Spam by CleanTalk. Click to decode. To finish the decoding make sure that JavaScript is enabled in your browser.'>10<span class="apbct-blur">****************************</span>@<span class="apbct-blur">***************</span>wi.us</span>
SUMMARY:MMS Scoopie Night
DESCRIPTION:
URL:https://www.milton.k12.wi.us/event/mms-scoopie-night/
LOCATION:Milton Ave
CATEGORIES:Milton Middle School
END:VEVENT
BEGIN:VEVENT
DTSTART;TZID=America/Chicago:20250218T180000
DTEND;TZID=America/Chicago:20250218T190000
DTSTAMP:20260421T072857
CREATED:20240823T224231Z
LAST-MODIFIED:20250218T232733Z
UID:<span 
                data-original-string='xuwxxqf+riHNyybrfUygRQ==386eP2PVel65XLFU1LJVTtBLu0E45KA4dqwBx4aqJabp76Tlc3NZgyxGlAPjHQIxwd7T+uY6sQX1/hjAhpvAolrBA=='
                class='apbct-email-encoder'
                title='This contact has been encoded by Anti-Spam by CleanTalk. Click to decode. To finish the decoding make sure that JavaScript is enabled in your browser.'>10<span class="apbct-blur">****************************</span>@<span class="apbct-blur">***************</span>wi.us</span>
SUMMARY:FON Meeting
DESCRIPTION:
URL:https://www.milton.k12.wi.us/event/fon-meeting-6/
CATEGORIES:Northside Intermediate
END:VEVENT
BEGIN:VEVENT
DTSTART;VALUE=DATE:20250219
DTEND;VALUE=DATE:20250220
DTSTAMP:20260421T072857
CREATED:20250213T162232Z
LAST-MODIFIED:20250219T233845Z
UID:<span 
                data-original-string='lDoqvHsUDXo77c+Rlf+vbw==3865cIfTSNNrzcbOwwrY+bfFJFGP/BGoypk7BpW6VrhhCFfXDTi84K1VGYmgVtLKLKXZx/t5+iK3Qy2RmQjMqpv0g=='
                class='apbct-email-encoder'
                title='This contact has been encoded by Anti-Spam by CleanTalk. Click to decode. To finish the decoding make sure that JavaScript is enabled in your browser.'>10<span class="apbct-blur">****************************</span>@<span class="apbct-blur">***************</span>wi.us</span>
SUMMARY:Day 6
DESCRIPTION:
URL:https://www.milton.k12.wi.us/event/day-6-19/
CATEGORIES:Northside Intermediate
END:VEVENT
BEGIN:VEVENT
DTSTART;VALUE=DATE:20250220
DTEND;VALUE=DATE:20250221
DTSTAMP:20260421T072857
CREATED:20250213T162232Z
LAST-MODIFIED:20250220T232759Z
UID:<span 
                data-original-string='0zzEwem21R9lHBtv68qwoA==386q9dFp4USzXMYNxgo/nz63j6NFFYnOiCwhvEGFqYgJEehzQSJAGWXjw4KA74R0l1S8JkNao8oOGiMt+imhyPFMw=='
                class='apbct-email-encoder'
                title='This contact has been encoded by Anti-Spam by CleanTalk. Click to decode. To finish the decoding make sure that JavaScript is enabled in your browser.'>10<span class="apbct-blur">****************************</span>@<span class="apbct-blur">***************</span>wi.us</span>
SUMMARY:Day 1
DESCRIPTION:
URL:https://www.milton.k12.wi.us/event/day-1-21/
CATEGORIES:Northside Intermediate
END:VEVENT
BEGIN:VEVENT
DTSTART;VALUE=DATE:20250221
DTEND;VALUE=DATE:20250222
DTSTAMP:20260421T072857
CREATED:20250213T162233Z
LAST-MODIFIED:20250221T232755Z
UID:<span 
                data-original-string='Nz45ac2a9Xup9/D5b02fZQ==386nIwEWCAWZ16KGjKOpHs3VrnNQMCmvrZI264Q7oFfmqyUMgX70vw3hkHXhPmSDNUCaVLtN7N422HUc6o6p8nmZQ=='
                class='apbct-email-encoder'
                title='This contact has been encoded by Anti-Spam by CleanTalk. Click to decode. To finish the decoding make sure that JavaScript is enabled in your browser.'>10<span class="apbct-blur">****************************</span>@<span class="apbct-blur">***************</span>wi.us</span>
SUMMARY:Day 2
DESCRIPTION:
URL:https://www.milton.k12.wi.us/event/day-2-19/
CATEGORIES:Northside Intermediate
END:VEVENT
BEGIN:VEVENT
DTSTART;TZID=America/Chicago:20250221T180000
DTEND;TZID=America/Chicago:20250221T190000
DTSTAMP:20260421T072857
CREATED:20240822T004844Z
LAST-MODIFIED:20250221T230741Z
UID:<span 
                data-original-string='CQ+bo2CSHvVeYgdkCoAXmQ==386KESe3UvM2F6dZMPd/NceJtwNX9YyDOzaodOymJUGY7mCGeFpoPj+EfxoRsaYCCTUR5eKbTXsJwWEozoGksHDbw=='
                class='apbct-email-encoder'
                title='This contact has been encoded by Anti-Spam by CleanTalk. Click to decode. To finish the decoding make sure that JavaScript is enabled in your browser.'>10<span class="apbct-blur">****************************</span>@<span class="apbct-blur">***************</span>wi.us</span>
SUMMARY:PAWS Family Fun Night: Valentine's Dance
DESCRIPTION:
URL:https://www.milton.k12.wi.us/event/paws-family-fun-night-color-run-4/
CATEGORIES:Milton West Elementary
END:VEVENT
BEGIN:VEVENT
DTSTART;VALUE=DATE:20250222
DTEND;VALUE=DATE:20250223
DTSTAMP:20260421T072857
CREATED:20241004T155656Z
LAST-MODIFIED:20250222T230726Z
UID:<span 
                data-original-string='RWig4L2kxsf15vv8gmwmsw==386nbEx4Dwd9MXuR65bnE/r1CUJRi1E1f7BSsd4w/BpMMcIAus0rJ1RGMuaZMo1rFCDBy+39jej0nBlupnqUdwbQA=='
                class='apbct-email-encoder'
                title='This contact has been encoded by Anti-Spam by CleanTalk. Click to decode. To finish the decoding make sure that JavaScript is enabled in your browser.'>10<span class="apbct-blur">****************************</span>@<span class="apbct-blur">***************</span>wi.us</span>
SUMMARY:MMS/MHS Solo/Ensemble Festival at Craig HS
DESCRIPTION:
URL:https://www.milton.k12.wi.us/event/mms-mhs-solo-ensemble-festival-at-craig-hs/
CATEGORIES:Milton Middle School
END:VEVENT
BEGIN:VEVENT
DTSTART;TZID=America/Chicago:20250222T130000
DTEND;TZID=America/Chicago:20250222T160000
DTSTAMP:20260421T072857
CREATED:20250113T203927Z
LAST-MODIFIED:20250222T214042Z
UID:<span 
                data-original-string='xQ0fFEfsNQErgBX4CEe3/Q==3866nxpzS6lsWBQ3k3z38Lmnu8/aRN3riEbSPtByd94Wd7vQzBuPZrcSDg5YOxME2MQcjCGALmJdIWpBmTH9xc+9A=='
                class='apbct-email-encoder'
                title='This contact has been encoded by Anti-Spam by CleanTalk. Click to decode. To finish the decoding make sure that JavaScript is enabled in your browser.'>10<span class="apbct-blur">****************************</span>@<span class="apbct-blur">***************</span>wi.us</span>
SUMMARY:Family Fun Swim
DESCRIPTION:
URL:https://www.milton.k12.wi.us/event/family-fun-swim/
CATEGORIES:District
END:VEVENT
BEGIN:VEVENT
DTSTART;VALUE=DATE:20250224
DTEND;VALUE=DATE:20250225
DTSTAMP:20260421T072857
CREATED:20250106T202339Z
LAST-MODIFIED:20250224T233015Z
UID:<span 
                data-original-string='OGxtyKCmn5sW2cUsn5kuJw==386UUpgqe4YdQtkrvofsJJJrOl3rndxryRZnoNkCHunQe8SLWtEryZGAfSlbaUnYPBKd0x8jnbeZLRyPii+Bvrz6g=='
                class='apbct-email-encoder'
                title='This contact has been encoded by Anti-Spam by CleanTalk. Click to decode. To finish the decoding make sure that JavaScript is enabled in your browser.'>10<span class="apbct-blur">****************************</span>@<span class="apbct-blur">***************</span>wi.us</span>
SUMMARY:Northside Early Release @ 2:40pm
DESCRIPTION:
URL:https://www.milton.k12.wi.us/event/early-release-240pm-6/
CATEGORIES:Northside Intermediate
END:VEVENT
BEGIN:VEVENT
DTSTART;VALUE=DATE:20250224
DTEND;VALUE=DATE:20250225
DTSTAMP:20260421T072857
CREATED:20250224T163836Z
LAST-MODIFIED:20250224T233015Z
UID:<span 
                data-original-string='59eBy/Mjzc6q0Kr784zQHQ==386W+HcLSfZxTZUnCJY6Q7PMPVmxA8Wr3XwlFC4nyMhtv0TMGHqhxBIrPQyZBdiQOSn1ZoEXrhd/hTXm4bsMZBGmQ=='
                class='apbct-email-encoder'
                title='This contact has been encoded by Anti-Spam by CleanTalk. Click to decode. To finish the decoding make sure that JavaScript is enabled in your browser.'>10<span class="apbct-blur">****************************</span>@<span class="apbct-blur">***************</span>wi.us</span>
SUMMARY:Day 3
DESCRIPTION:
URL:https://www.milton.k12.wi.us/event/day-3-19/
CATEGORIES:Northside Intermediate
END:VEVENT
BEGIN:VEVENT
DTSTART;TZID=America/Chicago:20250224T143500
DTEND;TZID=America/Chicago:20250224T153500
DTSTAMP:20260421T072857
CREATED:20240822T012928Z
LAST-MODIFIED:20250224T205535Z
UID:<span 
                data-original-string='yjy4BFElV+0rxNpGnBb+sw==3861YO4e/eblt+BAhi3zdLVCKxwdRu2z0xpxBIGHkpDkjfpisqdQKHTj8r4I97StzOQaAPGkRsGnIy7tMfR9zuYZA=='
                class='apbct-email-encoder'
                title='This contact has been encoded by Anti-Spam by CleanTalk. Click to decode. To finish the decoding make sure that JavaScript is enabled in your browser.'>10<span class="apbct-blur">****************************</span>@<span class="apbct-blur">***************</span>wi.us</span>
SUMMARY:Early Release -
DESCRIPTION:
URL:https://www.milton.k12.wi.us/event/early-release-18/
CATEGORIES:Consolidated
END:VEVENT
BEGIN:VEVENT
DTSTART;TZID=America/Chicago:20250224T143500
DTEND;TZID=America/Chicago:20250224T153500
DTSTAMP:20260421T072857
CREATED:20240909T204059Z
LAST-MODIFIED:20250224T212230Z
UID:<span 
                data-original-string='kF5Yckt+t+Rqn6otyLOrbg==386XyJ4IE0B7usM9OPJb3sd4lpAoeSO1kdtLL6V4GBEnmqNGkGmxVkFjeUfRqM4r2aZgJ53ugippzHsB8UnrUugOQ=='
                class='apbct-email-encoder'
                title='This contact has been encoded by Anti-Spam by CleanTalk. Click to decode. To finish the decoding make sure that JavaScript is enabled in your browser.'>10<span class="apbct-blur">****************************</span>@<span class="apbct-blur">***************</span>wi.us</span>
SUMMARY:HES: Early Release
DESCRIPTION:
URL:https://www.milton.k12.wi.us/event/hes-early-release-17/
CATEGORIES:Harmony Elementary
END:VEVENT
END:VCALENDAR