BEGIN:VCALENDAR
VERSION:2.0
PRODID:-//School District of Milton - ECPv6.15.20//NONSGML v1.0//EN
CALSCALE:GREGORIAN
METHOD:PUBLISH
X-WR-CALNAME:School District of Milton
X-ORIGINAL-URL:https://www.milton.k12.wi.us
X-WR-CALDESC:Events for School District of Milton
REFRESH-INTERVAL;VALUE=DURATION:PT1H
X-Robots-Tag:noindex
X-PUBLISHED-TTL:PT1H
BEGIN:VTIMEZONE
TZID:America/Chicago
BEGIN:DAYLIGHT
TZOFFSETFROM:-0600
TZOFFSETTO:-0500
TZNAME:CDT
DTSTART:20230312T080000
END:DAYLIGHT
BEGIN:STANDARD
TZOFFSETFROM:-0500
TZOFFSETTO:-0600
TZNAME:CST
DTSTART:20231105T070000
END:STANDARD
BEGIN:DAYLIGHT
TZOFFSETFROM:-0600
TZOFFSETTO:-0500
TZNAME:CDT
DTSTART:20240310T080000
END:DAYLIGHT
BEGIN:STANDARD
TZOFFSETFROM:-0500
TZOFFSETTO:-0600
TZNAME:CST
DTSTART:20241103T070000
END:STANDARD
BEGIN:DAYLIGHT
TZOFFSETFROM:-0600
TZOFFSETTO:-0500
TZNAME:CDT
DTSTART:20250309T080000
END:DAYLIGHT
BEGIN:STANDARD
TZOFFSETFROM:-0500
TZOFFSETTO:-0600
TZNAME:CST
DTSTART:20251102T070000
END:STANDARD
END:VTIMEZONE
BEGIN:VEVENT
DTSTART;VALUE=DATE:20240905
DTEND;VALUE=DATE:20240906
DTSTAMP:20260422T122131
CREATED:20240822T004748Z
LAST-MODIFIED:20240905T205808Z
UID:<span 
                data-original-string='UEQiFLhbHG/5+jrIElmmng==386jE7QOTFhNLevuhsfbQOVe1/o/dj8IBwW6LLGshXlD83rsWDixvoOUWhe2CdbgZX2bJO040/vlQ7Ap7GEP+zRxg=='
                class='apbct-email-encoder'
                title='This contact has been encoded by Anti-Spam by CleanTalk. Click to decode. To finish the decoding make sure that JavaScript is enabled in your browser.'>10<span class="apbct-blur">****************************</span>@<span class="apbct-blur">***************</span>wi.us</span>
SUMMARY:Day 3
DESCRIPTION:
URL:https://www.milton.k12.wi.us/event/day-3/
CATEGORIES:Northside Intermediate
END:VEVENT
BEGIN:VEVENT
DTSTART;VALUE=DATE:20240906
DTEND;VALUE=DATE:20240907
DTSTAMP:20260422T122131
CREATED:20240822T004749Z
LAST-MODIFIED:20240906T210746Z
UID:<span 
                data-original-string='qNPMpWPvY24EFbrC4IikiA==3867vHV1azQ4R/1zIanlXMX4Tt7DJ6uCvt3PRTdpCxH/BGnz56/hWaup4mzmVOHZPq1t4wyGOjrlflKQpF+sYXo0Q=='
                class='apbct-email-encoder'
                title='This contact has been encoded by Anti-Spam by CleanTalk. Click to decode. To finish the decoding make sure that JavaScript is enabled in your browser.'>10<span class="apbct-blur">****************************</span>@<span class="apbct-blur">***************</span>wi.us</span>
SUMMARY:Day 4
DESCRIPTION:
URL:https://www.milton.k12.wi.us/event/day-4/
CATEGORIES:Northside Intermediate
END:VEVENT
BEGIN:VEVENT
DTSTART;VALUE=DATE:20240909
DTEND;VALUE=DATE:20240910
DTSTAMP:20260422T122131
CREATED:20240822T004626Z
LAST-MODIFIED:20240909T211051Z
UID:<span 
                data-original-string='mv3bjpkfG2lcAhpwQc+dAQ==386WkwnRyIJhdtSmtJAZxj49ah5htNfrG8whDwiJ6Zy8OKLiNMcAeiQigMH8VpSDjclAXIRY73MEfv+H3kLqCuZkg=='
                class='apbct-email-encoder'
                title='This contact has been encoded by Anti-Spam by CleanTalk. Click to decode. To finish the decoding make sure that JavaScript is enabled in your browser.'>10<span class="apbct-blur">****************************</span>@<span class="apbct-blur">***************</span>wi.us</span>
SUMMARY:MHS Picture Day
DESCRIPTION:
URL:https://www.milton.k12.wi.us/event/picture-day/
CATEGORIES:Milton High School
END:VEVENT
BEGIN:VEVENT
DTSTART;VALUE=DATE:20240909
DTEND;VALUE=DATE:20240910
DTSTAMP:20260422T122131
CREATED:20240824T110749Z
LAST-MODIFIED:20240909T211248Z
UID:<span 
                data-original-string='rKNP5+ouQuuu4VuGVjydpg==386D2W93KoMmVEHxzCLKtCyhLvr1MhELvVcpFnBnl48ArsUQUEN4OJpYJ2XAy9QHvlot0OxraDa+4RmSkJXpbc58A=='
                class='apbct-email-encoder'
                title='This contact has been encoded by Anti-Spam by CleanTalk. Click to decode. To finish the decoding make sure that JavaScript is enabled in your browser.'>10<span class="apbct-blur">****************************</span>@<span class="apbct-blur">***************</span>wi.us</span>
SUMMARY:Day 5
DESCRIPTION:
URL:https://www.milton.k12.wi.us/event/day-5/
CATEGORIES:Northside Intermediate
END:VEVENT
BEGIN:VEVENT
DTSTART;VALUE=DATE:20240909
DTEND;VALUE=DATE:20240910
DTSTAMP:20260422T122131
CREATED:20240909T151739Z
LAST-MODIFIED:20251110T174224Z
UID:<span 
                data-original-string='SrCLmOGfQwD4MSDJJt9deA==386ZEdmIpDoJfVb1JJo/LwO8XkT3ii3fQzW4MiGDNqEcpLVcCyOhzeViEEGtlBOnsNKxFJkbJdAPrvVPNtTVpCQyA=='
                class='apbct-email-encoder'
                title='This contact has been encoded by Anti-Spam by CleanTalk. Click to decode. To finish the decoding make sure that JavaScript is enabled in your browser.'>10<span class="apbct-blur">****************************</span>@<span class="apbct-blur">***************</span>wi.us</span>
SUMMARY:Early Release Day
DESCRIPTION:
URL:https://www.milton.k12.wi.us/event/early-release-day/
CATEGORIES:District
END:VEVENT
BEGIN:VEVENT
DTSTART;TZID=America/Chicago:20240909T143500
DTEND;TZID=America/Chicago:20240909T153500
DTSTAMP:20260422T122131
CREATED:20240822T012923Z
LAST-MODIFIED:20240909T202232Z
UID:<span 
                data-original-string='A/tkNPDO/ou6QsJLUnVUHw==386PeSNAXWLNHF5rZnaZO0CjxZooLkFQtGWJYSEIbJfi9kKCywrvitucSnUHCZGD4cxSLnEra3j/ki7xd/qCtG4Mg=='
                class='apbct-email-encoder'
                title='This contact has been encoded by Anti-Spam by CleanTalk. Click to decode. To finish the decoding make sure that JavaScript is enabled in your browser.'>10<span class="apbct-blur">****************************</span>@<span class="apbct-blur">***************</span>wi.us</span>
SUMMARY:Early Release -
DESCRIPTION:
URL:https://www.milton.k12.wi.us/event/early-release/
CATEGORIES:Consolidated
END:VEVENT
BEGIN:VEVENT
DTSTART;TZID=America/Chicago:20240909T183000
DTEND;TZID=America/Chicago:20240909T203000
DTSTAMP:20260422T122131
CREATED:20240822T012950Z
LAST-MODIFIED:20240909T205829Z
UID:<span 
                data-original-string='ooKiBr2WSGZXOHUHKE3a6g==3864V2WnAajQNyTLKpxsn5B3C10B3zciaHV2ijgUKuuV3GE/eX7+NZl/YHKPU/zdw9PK0jB0n5uJrPG8GFoWr1F4g=='
                class='apbct-email-encoder'
                title='This contact has been encoded by Anti-Spam by CleanTalk. Click to decode. To finish the decoding make sure that JavaScript is enabled in your browser.'>10<span class="apbct-blur">****************************</span>@<span class="apbct-blur">***************</span>wi.us</span>
SUMMARY:School Board Meeting
DESCRIPTION:
URL:https://www.milton.k12.wi.us/event/school-board-meeting-2/
CATEGORIES:District
END:VEVENT
BEGIN:VEVENT
DTSTART;VALUE=DATE:20240910
DTEND;VALUE=DATE:20240911
DTSTAMP:20260422T122131
CREATED:20240824T110749Z
LAST-MODIFIED:20240910T210901Z
UID:<span 
                data-original-string='mdRizDBmXrGY7T50QkPmKg==386fGjtJpZneRI/mrpVI56u4eCrLbhf4yVDeQ/kbHgA3ba2YnE5tNLpBqERa90J82PQFF8g0tXEVTIJLFq2f/allQ=='
                class='apbct-email-encoder'
                title='This contact has been encoded by Anti-Spam by CleanTalk. Click to decode. To finish the decoding make sure that JavaScript is enabled in your browser.'>10<span class="apbct-blur">****************************</span>@<span class="apbct-blur">***************</span>wi.us</span>
SUMMARY:Day 6
DESCRIPTION:
URL:https://www.milton.k12.wi.us/event/day-6/
CATEGORIES:Northside Intermediate
END:VEVENT
BEGIN:VEVENT
DTSTART;TZID=America/Chicago:20240910T160000
DTEND;TZID=America/Chicago:20240910T200000
DTSTAMP:20260422T122131
CREATED:20240822T004835Z
LAST-MODIFIED:20240910T205714Z
UID:<span 
                data-original-string='p2SfXusmkrnPOdZtvyseUQ==386bEqk/3FyKGDlQUUpBCUITgw+Aea+pAndZ3hutSyk9kmYOkoASR0UEzLR4Q9q3+FdBWpVegZ1Fzi/wpTtxBDJdQ=='
                class='apbct-email-encoder'
                title='This contact has been encoded by Anti-Spam by CleanTalk. Click to decode. To finish the decoding make sure that JavaScript is enabled in your browser.'>10<span class="apbct-blur">****************************</span>@<span class="apbct-blur">***************</span>wi.us</span>
SUMMARY:Scoopie Night
DESCRIPTION:
URL:https://www.milton.k12.wi.us/event/scoopie-night/
CATEGORIES:Milton West Elementary
END:VEVENT
BEGIN:VEVENT
DTSTART;TZID=America/Chicago:20240910T180000
DTEND;TZID=America/Chicago:20240910T190000
DTSTAMP:20260422T122131
CREATED:20240822T004444Z
LAST-MODIFIED:20240910T213200Z
UID:<span 
                data-original-string='2vRswMhhGNgfahUPM9VoNA==386m8iM3XpU8jpmJOBMTKwyUBh7SbQz0qT4ymHcv5ON2m4n38g3SPTzj0dexIK/+GjmZGIHtIH+tjwL5TVbORJrXQ=='
                class='apbct-email-encoder'
                title='This contact has been encoded by Anti-Spam by CleanTalk. Click to decode. To finish the decoding make sure that JavaScript is enabled in your browser.'>10<span class="apbct-blur">****************************</span>@<span class="apbct-blur">***************</span>wi.us</span>
SUMMARY:EES:  MEPG meeting
DESCRIPTION:
URL:https://www.milton.k12.wi.us/event/ees-mepg-meeting/
CATEGORIES:Milton East Elementary
END:VEVENT
BEGIN:VEVENT
DTSTART;TZID=America/Chicago:20240910T183000
DTEND;TZID=America/Chicago:20240910T193000
DTSTAMP:20260422T122131
CREATED:20240822T012923Z
LAST-MODIFIED:20240910T212229Z
UID:<span 
                data-original-string='nQ6kefQ72hcBL0bfhkp1nw==3868kz/QXVqnPDmbYuoRqvE2Byy/EsCQr9UgDxS9QVHHBRxa/xI1DaXW2NdGIHXc8+mklcUPY9/A+PVoraI7HuVpw=='
                class='apbct-email-encoder'
                title='This contact has been encoded by Anti-Spam by CleanTalk. Click to decode. To finish the decoding make sure that JavaScript is enabled in your browser.'>10<span class="apbct-blur">****************************</span>@<span class="apbct-blur">***************</span>wi.us</span>
SUMMARY:CES - PIE Meeting
DESCRIPTION:
URL:https://www.milton.k12.wi.us/event/pie-meeting/
CATEGORIES:Consolidated
END:VEVENT
BEGIN:VEVENT
DTSTART;VALUE=DATE:20240911
DTEND;VALUE=DATE:20240912
DTSTAMP:20260422T122131
CREATED:20240824T110750Z
LAST-MODIFIED:20240911T211125Z
UID:<span 
                data-original-string='A1Wd1f7/Az0WU5JRduQjSg==386Pb3tQ6SIkohWIMAkIjmTN4EVc40COmBMueOgn17F9D3Mv2oA0HDd6M68PZs28DnswHEgN/QsDxdoG0HvPN/Q4Q=='
                class='apbct-email-encoder'
                title='This contact has been encoded by Anti-Spam by CleanTalk. Click to decode. To finish the decoding make sure that JavaScript is enabled in your browser.'>10<span class="apbct-blur">****************************</span>@<span class="apbct-blur">***************</span>wi.us</span>
SUMMARY:Day 1
DESCRIPTION:
URL:https://www.milton.k12.wi.us/event/day-1-2/
CATEGORIES:Northside Intermediate
END:VEVENT
BEGIN:VEVENT
DTSTART;VALUE=DATE:20240912
DTEND;VALUE=DATE:20240913
DTSTAMP:20260422T122131
CREATED:20240824T110750Z
LAST-MODIFIED:20240912T210736Z
UID:<span 
                data-original-string='ztJU/CZEAlrtM4qbZTTI/A==3864ESSLqf+GeslWSi+9zHB7wscSgoGUVZ2LC5VC9Fv705NQ+yfBdeD/5c9JLKynQrY7jdGdx14lOXfv+Ee+EbFdw=='
                class='apbct-email-encoder'
                title='This contact has been encoded by Anti-Spam by CleanTalk. Click to decode. To finish the decoding make sure that JavaScript is enabled in your browser.'>10<span class="apbct-blur">****************************</span>@<span class="apbct-blur">***************</span>wi.us</span>
SUMMARY:Day 2
DESCRIPTION:
URL:https://www.milton.k12.wi.us/event/day-2-2/
CATEGORIES:Northside Intermediate
END:VEVENT
BEGIN:VEVENT
DTSTART;VALUE=DATE:20240913
DTEND;VALUE=DATE:20240914
DTSTAMP:20260422T122131
CREATED:20240824T110750Z
LAST-MODIFIED:20240913T210920Z
UID:<span 
                data-original-string='0vNA21sPcIi+9+p0EtBb7w==386JjKqnPp6wzJlkZlbXCLCqpQprYXA0mljnabSBcYA5/+zg4eclCUZRwxdCV1X+u1eg/KYaRPHPrqA8K0ho4nOMw=='
                class='apbct-email-encoder'
                title='This contact has been encoded by Anti-Spam by CleanTalk. Click to decode. To finish the decoding make sure that JavaScript is enabled in your browser.'>10<span class="apbct-blur">****************************</span>@<span class="apbct-blur">***************</span>wi.us</span>
SUMMARY:Day 3
DESCRIPTION:
URL:https://www.milton.k12.wi.us/event/day-3-2/
CATEGORIES:Northside Intermediate
END:VEVENT
BEGIN:VEVENT
DTSTART;TZID=America/Chicago:20240913T170000
DTEND;TZID=America/Chicago:20240913T190000
DTSTAMP:20260422T122131
CREATED:20240822T012923Z
LAST-MODIFIED:20240913T212531Z
UID:<span 
                data-original-string='abz6XhW5zbn//78PReQHeQ==386M8oC5ohTtMvoV8p9z1Lmk7TsA9xXPmqO48Y9vRurFwIDDAddbs3yV1WGAVqkpPw6arnqBdOW1vUxt5JLJxvecQ=='
                class='apbct-email-encoder'
                title='This contact has been encoded by Anti-Spam by CleanTalk. Click to decode. To finish the decoding make sure that JavaScript is enabled in your browser.'>10<span class="apbct-blur">****************************</span>@<span class="apbct-blur">***************</span>wi.us</span>
SUMMARY:CES Back to School Night
DESCRIPTION:
URL:https://www.milton.k12.wi.us/event/ces-back-to-school-night/
CATEGORIES:Consolidated
END:VEVENT
BEGIN:VEVENT
DTSTART;VALUE=DATE:20240916
DTEND;VALUE=DATE:20240917
DTSTAMP:20260422T122131
CREATED:20240822T004749Z
LAST-MODIFIED:20240916T210801Z
UID:<span 
                data-original-string='5zFogJ5/RhMwknsSx9IqPQ==386Xz7x81W9caVZwdaV59BjgTgYkuvTlUK6oFTS23lyilPgLcCWo9BL9ZiLChMXI1UCz7OURLWe0r3wmYT0QGpMDg=='
                class='apbct-email-encoder'
                title='This contact has been encoded by Anti-Spam by CleanTalk. Click to decode. To finish the decoding make sure that JavaScript is enabled in your browser.'>10<span class="apbct-blur">****************************</span>@<span class="apbct-blur">***************</span>wi.us</span>
SUMMARY:Picture Day (Northside)
DESCRIPTION:
URL:https://www.milton.k12.wi.us/event/picture-day-northside/
CATEGORIES:Northside Intermediate
END:VEVENT
BEGIN:VEVENT
DTSTART;VALUE=DATE:20240916
DTEND;VALUE=DATE:20240917
DTSTAMP:20260422T122131
CREATED:20240824T110750Z
LAST-MODIFIED:20240916T210802Z
UID:<span 
                data-original-string='v6yhtHp2jjSEr4DGi9H6mg==386crGebIPTLQUIlKsqfNwX1Eg3xdRbol4krntN4yS9VqGLTX32GaIeyTav+cbp6YgiR1Bx9i4Eo1v47K58T70VJg=='
                class='apbct-email-encoder'
                title='This contact has been encoded by Anti-Spam by CleanTalk. Click to decode. To finish the decoding make sure that JavaScript is enabled in your browser.'>10<span class="apbct-blur">****************************</span>@<span class="apbct-blur">***************</span>wi.us</span>
SUMMARY:Day 4
DESCRIPTION:
URL:https://www.milton.k12.wi.us/event/day-4-2/
CATEGORIES:Northside Intermediate
END:VEVENT
BEGIN:VEVENT
DTSTART;TZID=America/Chicago:20240916T143500
DTEND;TZID=America/Chicago:20240916T153500
DTSTAMP:20260422T122131
CREATED:20240822T012923Z
LAST-MODIFIED:20240916T195402Z
UID:<span 
                data-original-string='YpRoRkh2BXE5yNqN7ZNmnA==386AxSZkvmNFPofDVMbxbvira/6I5BDGG8SNbnln2lNPxO0c8oDLRrn0lJ70cOd1Jq+IWfjsicYSWmUka5FR3xhkA=='
                class='apbct-email-encoder'
                title='This contact has been encoded by Anti-Spam by CleanTalk. Click to decode. To finish the decoding make sure that JavaScript is enabled in your browser.'>10<span class="apbct-blur">****************************</span>@<span class="apbct-blur">***************</span>wi.us</span>
SUMMARY:Early Release -
DESCRIPTION:
URL:https://www.milton.k12.wi.us/event/early-release-2/
CATEGORIES:Consolidated
END:VEVENT
BEGIN:VEVENT
DTSTART;TZID=America/Chicago:20240916T143500
DTEND;TZID=America/Chicago:20240916T153500
DTSTAMP:20260422T122131
CREATED:20240909T203735Z
LAST-MODIFIED:20240916T200552Z
UID:<span 
                data-original-string='nl1ZxXJOg39VUbwFW+vb2w==386pN/v9nw3pFGDE+37dSzb2wEWInAsfr9R2MSiQI/pUl7ziKHxL1BKn3288iVtDqm6RwZJ1FhdnWrJi0hdLJZ2bw=='
                class='apbct-email-encoder'
                title='This contact has been encoded by Anti-Spam by CleanTalk. Click to decode. To finish the decoding make sure that JavaScript is enabled in your browser.'>10<span class="apbct-blur">****************************</span>@<span class="apbct-blur">***************</span>wi.us</span>
SUMMARY:HES: Early Release
DESCRIPTION:
URL:https://www.milton.k12.wi.us/event/hes-early-release/
CATEGORIES:Harmony Elementary
END:VEVENT
BEGIN:VEVENT
DTSTART;TZID=America/Chicago:20240916T160000
DTEND;TZID=America/Chicago:20240916T200000
DTSTAMP:20260422T122131
CREATED:20240822T004706Z
LAST-MODIFIED:20240916T222253Z
UID:<span 
                data-original-string='3nEA+Zne/yxRa7H4xNHsxw==386sxpgVMSpiFDEiLvPJYgERazC9U4c95oHXfv0MvpR/UhLuMXxZIGqcdmvMv/4lfoJb4wu6T+MKptXNtqZDzGWyQ=='
                class='apbct-email-encoder'
                title='This contact has been encoded by Anti-Spam by CleanTalk. Click to decode. To finish the decoding make sure that JavaScript is enabled in your browser.'>10<span class="apbct-blur">****************************</span>@<span class="apbct-blur">***************</span>wi.us</span>
SUMMARY:MMS Scoopie Night @ Milton Ave
DESCRIPTION:
URL:https://www.milton.k12.wi.us/event/scoopie-night-milton-ave/
CATEGORIES:Milton Middle School
END:VEVENT
BEGIN:VEVENT
DTSTART;TZID=America/Chicago:20240916T173000
DTEND;TZID=America/Chicago:20240916T183000
DTSTAMP:20260422T122131
CREATED:20240906T145236Z
LAST-MODIFIED:20240916T221030Z
UID:<span 
                data-original-string='1Q4XgXivbxICQSTG+JkPmQ==386tjhME63uO2Z51w80qDrG+x4Y6+buFN7zMjERvvHjfjB59BhQ5p93sxGkq0lAGCyfWP2N4wLGLuJAb5LFzff7aw=='
                class='apbct-email-encoder'
                title='This contact has been encoded by Anti-Spam by CleanTalk. Click to decode. To finish the decoding make sure that JavaScript is enabled in your browser.'>10<span class="apbct-blur">****************************</span>@<span class="apbct-blur">***************</span>wi.us</span>
SUMMARY:EES:  Milton East Triple Play Family Night
DESCRIPTION:
URL:https://www.milton.k12.wi.us/event/ees-milton-east-triple-play-family-night/
CATEGORIES:Milton East Elementary
END:VEVENT
BEGIN:VEVENT
DTSTART;TZID=America/Chicago:20240916T180000
DTEND;TZID=America/Chicago:20240916T190000
DTSTAMP:20260422T122131
CREATED:20240829T165935Z
LAST-MODIFIED:20240916T211155Z
UID:<span 
                data-original-string='SUdF1EtJOjNZgGSaX9kN0Q==386ffi0ThLN1HgU/ZncBAPHNkcJgQ7vK4mPtk0Y7NU1dMLxlSR6Ts0X0V3c/1mTjcJvktIlrIIQP/NUbJteZ02flA=='
                class='apbct-email-encoder'
                title='This contact has been encoded by Anti-Spam by CleanTalk. Click to decode. To finish the decoding make sure that JavaScript is enabled in your browser.'>10<span class="apbct-blur">****************************</span>@<span class="apbct-blur">***************</span>wi.us</span>
SUMMARY:HES: Team Harmony Meeting LMC 6pm
DESCRIPTION:
URL:https://www.milton.k12.wi.us/event/hes-team-harmony-meeting-lmc-6pm/
CATEGORIES:Harmony Elementary
END:VEVENT
BEGIN:VEVENT
DTSTART;VALUE=DATE:20240917
DTEND;VALUE=DATE:20240918
DTSTAMP:20260422T122131
CREATED:20240824T110750Z
LAST-MODIFIED:20240917T211049Z
UID:<span 
                data-original-string='ayi9v7naBFYpUTil2zeswg==386mp4y6JSeSXaA8SBMCT9gbssGyQj4gMiuvglt08ZP95q0ULRRLOx+KSkN5yxk18lHIghZlF3wXxDa/lzGa+8L1A=='
                class='apbct-email-encoder'
                title='This contact has been encoded by Anti-Spam by CleanTalk. Click to decode. To finish the decoding make sure that JavaScript is enabled in your browser.'>10<span class="apbct-blur">****************************</span>@<span class="apbct-blur">***************</span>wi.us</span>
SUMMARY:Day 5
DESCRIPTION:
URL:https://www.milton.k12.wi.us/event/day-5-2/
CATEGORIES:Northside Intermediate
END:VEVENT
BEGIN:VEVENT
DTSTART;TZID=America/Chicago:20240917T180000
DTEND;TZID=America/Chicago:20240917T190000
DTSTAMP:20260422T122131
CREATED:20240823T224229Z
LAST-MODIFIED:20240915T210932Z
UID:<span 
                data-original-string='Ypx1jVjoe+OJTbJ0Q6Y3iQ==3864zcglBXcfA7bKNwq3T7xQhK/MNLeLNYY2NiA9E0yR3yrXJqR9PDX+2xfOzROc/OJZwgSIQVzgJ+FeVJc5kQozA=='
                class='apbct-email-encoder'
                title='This contact has been encoded by Anti-Spam by CleanTalk. Click to decode. To finish the decoding make sure that JavaScript is enabled in your browser.'>10<span class="apbct-blur">****************************</span>@<span class="apbct-blur">***************</span>wi.us</span>
SUMMARY:FON Meeting
DESCRIPTION:
URL:https://www.milton.k12.wi.us/event/fon-meeting/
CATEGORIES:Northside Intermediate
END:VEVENT
BEGIN:VEVENT
DTSTART;VALUE=DATE:20240918
DTEND;VALUE=DATE:20240919
DTSTAMP:20260422T122131
CREATED:20240822T004445Z
LAST-MODIFIED:20240918T223725Z
UID:<span 
                data-original-string='4lqXE/yXJKCI6oN/BQM+yA==3868DPElxS2elJMh3n/d9BDcH1XA9gZJyoSPO8cE/3CbGoS2guvYohriLPsEnc2DGhtE/w6FpuScuuefViPFSZ/ZQ=='
                class='apbct-email-encoder'
                title='This contact has been encoded by Anti-Spam by CleanTalk. Click to decode. To finish the decoding make sure that JavaScript is enabled in your browser.'>10<span class="apbct-blur">****************************</span>@<span class="apbct-blur">***************</span>wi.us</span>
SUMMARY:EES:  Picture day
DESCRIPTION:
URL:https://www.milton.k12.wi.us/event/ees-picture-day/
CATEGORIES:Milton East Elementary
END:VEVENT
BEGIN:VEVENT
DTSTART;VALUE=DATE:20240918
DTEND;VALUE=DATE:20240919
DTSTAMP:20260422T122131
CREATED:20240822T004706Z
LAST-MODIFIED:20240918T222250Z
UID:<span 
                data-original-string='54Occn0RBr2AtVxAsDyBuA==386jpnzNcKl5Eg8ozLcFr2PJcbH2htEcw8uA1PnyV11DXK4OwvhkebqwVsz078tN481xrMyosshYd3be3YXNBA8Iw=='
                class='apbct-email-encoder'
                title='This contact has been encoded by Anti-Spam by CleanTalk. Click to decode. To finish the decoding make sure that JavaScript is enabled in your browser.'>10<span class="apbct-blur">****************************</span>@<span class="apbct-blur">***************</span>wi.us</span>
SUMMARY:MMS Picture Day
DESCRIPTION:
URL:https://www.milton.k12.wi.us/event/mms-picture-day/
CATEGORIES:Milton Middle School
END:VEVENT
BEGIN:VEVENT
DTSTART;VALUE=DATE:20240918
DTEND;VALUE=DATE:20240919
DTSTAMP:20260422T122131
CREATED:20240824T110751Z
LAST-MODIFIED:20240918T211018Z
UID:<span 
                data-original-string='WkT9wtYFf3GtNLzEfyZTNQ==386aGKfH9TkzVb/Ol5ZYJ7kCDktgatNJwrVnlKmNTsAxhNiQ/WeO6Xa4p82w1CKUwnkK8a9D+KPbjZqZh7CvKXmPg=='
                class='apbct-email-encoder'
                title='This contact has been encoded by Anti-Spam by CleanTalk. Click to decode. To finish the decoding make sure that JavaScript is enabled in your browser.'>10<span class="apbct-blur">****************************</span>@<span class="apbct-blur">***************</span>wi.us</span>
SUMMARY:Day 6
DESCRIPTION:
URL:https://www.milton.k12.wi.us/event/day-6-2/
CATEGORIES:Northside Intermediate
END:VEVENT
BEGIN:VEVENT
DTSTART;VALUE=DATE:20240918
DTEND;VALUE=DATE:20240919
DTSTAMP:20260422T122131
CREATED:20240829T165935Z
LAST-MODIFIED:20240918T213002Z
UID:<span 
                data-original-string='uOoH7SDVQ+lIdfJ7IYtScQ==386AhkD2EksSwNaXdewe8Mzqqo0x96hUntA9+u6w0zlyN1M5dZh7UFA4fdHbMxqj6vqKpf6/NfNk65ypzEifox8Pw=='
                class='apbct-email-encoder'
                title='This contact has been encoded by Anti-Spam by CleanTalk. Click to decode. To finish the decoding make sure that JavaScript is enabled in your browser.'>10<span class="apbct-blur">****************************</span>@<span class="apbct-blur">***************</span>wi.us</span>
SUMMARY:HES: Culver's Scoopie Night
DESCRIPTION:
URL:https://www.milton.k12.wi.us/event/hes-culvers-scoopie-night/
CATEGORIES:Harmony Elementary
END:VEVENT
BEGIN:VEVENT
DTSTART;TZID=America/Chicago:20240918T074500
DTEND;TZID=America/Chicago:20240918T144500
DTSTAMP:20260422T122131
CREATED:20240911T181317Z
LAST-MODIFIED:20240918T194106Z
UID:<span 
                data-original-string='2okBqI5PIBNhe43DGQAu5w==386PZOUzB0HL/9p9oBP+D17oO1RI7a/ppHjwuHtdDdh893PJdhw+7/kS0ywkmffyNpfoCm2nQO2C2gtNW1+G9hKzw=='
                class='apbct-email-encoder'
                title='This contact has been encoded by Anti-Spam by CleanTalk. Click to decode. To finish the decoding make sure that JavaScript is enabled in your browser.'>10<span class="apbct-blur">****************************</span>@<span class="apbct-blur">***************</span>wi.us</span>
SUMMARY:Picture Day
DESCRIPTION:
URL:https://www.milton.k12.wi.us/event/picture-day-2/
CATEGORIES:Milton West Elementary
END:VEVENT
BEGIN:VEVENT
DTSTART;VALUE=DATE:20240919
DTEND;VALUE=DATE:20240920
DTSTAMP:20260422T122131
CREATED:20240824T110751Z
LAST-MODIFIED:20240919T212158Z
UID:<span 
                data-original-string='6YaDe3FgrF9+DwkBj1LsOg==386+xWZskHxKhog4rAI+vlX2xRdAnUtZwrq47WJSFmh6KdBD+75Njgh/YbyiYcsV95RJfsegbhBoAKeo/B3cUu5fQ=='
                class='apbct-email-encoder'
                title='This contact has been encoded by Anti-Spam by CleanTalk. Click to decode. To finish the decoding make sure that JavaScript is enabled in your browser.'>10<span class="apbct-blur">****************************</span>@<span class="apbct-blur">***************</span>wi.us</span>
SUMMARY:Day 1
DESCRIPTION:
URL:https://www.milton.k12.wi.us/event/day-1-3/
CATEGORIES:Northside Intermediate
END:VEVENT
END:VCALENDAR