BEGIN:VCALENDAR
VERSION:2.0
PRODID:-//School District of Milton - ECPv6.15.20//NONSGML v1.0//EN
CALSCALE:GREGORIAN
METHOD:PUBLISH
X-WR-CALNAME:School District of Milton
X-ORIGINAL-URL:https://www.milton.k12.wi.us
X-WR-CALDESC:Events for School District of Milton
REFRESH-INTERVAL;VALUE=DURATION:PT1H
X-Robots-Tag:noindex
X-PUBLISHED-TTL:PT1H
BEGIN:VTIMEZONE
TZID:America/Chicago
BEGIN:DAYLIGHT
TZOFFSETFROM:-0600
TZOFFSETTO:-0500
TZNAME:CDT
DTSTART:20230312T080000
END:DAYLIGHT
BEGIN:STANDARD
TZOFFSETFROM:-0500
TZOFFSETTO:-0600
TZNAME:CST
DTSTART:20231105T070000
END:STANDARD
BEGIN:DAYLIGHT
TZOFFSETFROM:-0600
TZOFFSETTO:-0500
TZNAME:CDT
DTSTART:20240310T080000
END:DAYLIGHT
BEGIN:STANDARD
TZOFFSETFROM:-0500
TZOFFSETTO:-0600
TZNAME:CST
DTSTART:20241103T070000
END:STANDARD
BEGIN:DAYLIGHT
TZOFFSETFROM:-0600
TZOFFSETTO:-0500
TZNAME:CDT
DTSTART:20250309T080000
END:DAYLIGHT
BEGIN:STANDARD
TZOFFSETFROM:-0500
TZOFFSETTO:-0600
TZNAME:CST
DTSTART:20251102T070000
END:STANDARD
END:VTIMEZONE
BEGIN:VEVENT
DTSTART;VALUE=DATE:20241217
DTEND;VALUE=DATE:20241218
DTSTAMP:20260423T140158
CREATED:20241016T193838Z
LAST-MODIFIED:20241217T235326Z
UID:<span 
                data-original-string='uvlFFuEqcrDX2+u14TK1SQ==3865qfisQ5FLMOp+iCWIfXdXMPRy0izRBRDLZ1owx43nSjpnfquy4TmtO/2ABZQRgQw2nsipbCPLvTHOA0K34Qmqg=='
                class='apbct-email-encoder'
                title='This contact has been encoded by Anti-Spam by CleanTalk. Click to decode. To finish the decoding make sure that JavaScript is enabled in your browser.'>10<span class="apbct-blur">****************************</span>@<span class="apbct-blur">***************</span>wi.us</span>
SUMMARY:Day 2
DESCRIPTION:
URL:https://www.milton.k12.wi.us/event/day-2-12/
CATEGORIES:Northside Intermediate
END:VEVENT
BEGIN:VEVENT
DTSTART;TZID=America/Chicago:20241216T183000
DTEND;TZID=America/Chicago:20241216T203000
DTSTAMP:20260423T140158
CREATED:20241126T103917Z
LAST-MODIFIED:20241216T205229Z
UID:<span 
                data-original-string='iPC9lF08WrsBgkWt6MVyYw==386I830YZahCWuMAgsjqBg41mVb2npsqc7gI2lpc8CvQVvS67+rjBzDHRGWkDPVtHTGS/6ArDSEHuL1WMsylE/5bA=='
                class='apbct-email-encoder'
                title='This contact has been encoded by Anti-Spam by CleanTalk. Click to decode. To finish the decoding make sure that JavaScript is enabled in your browser.'>10<span class="apbct-blur">****************************</span>@<span class="apbct-blur">***************</span>wi.us</span>
SUMMARY:Board Data Workshop
DESCRIPTION:
URL:https://www.milton.k12.wi.us/event/board-data-workshop/
CATEGORIES:District
END:VEVENT
BEGIN:VEVENT
DTSTART;TZID=America/Chicago:20241216T180000
DTEND;TZID=America/Chicago:20241216T200000
DTSTAMP:20260423T140158
CREATED:20240917T180304Z
LAST-MODIFIED:20241216T222431Z
UID:<span 
                data-original-string='k9mCUGu6PKDUsLzJX8dOeQ==38696msTAIHfJKe+k6BkIg6s3QeNyj6TWe9QW/90N/okbiXxpVvdqrNsm0SLboyKy8GR5UmWi5cOu94bmcRnsyBBQ=='
                class='apbct-email-encoder'
                title='This contact has been encoded by Anti-Spam by CleanTalk. Click to decode. To finish the decoding make sure that JavaScript is enabled in your browser.'>10<span class="apbct-blur">****************************</span>@<span class="apbct-blur">***************</span>wi.us</span>
SUMMARY:PAWS mtg
DESCRIPTION:
URL:https://www.milton.k12.wi.us/event/paws-mtg-3/
CATEGORIES:Milton West Elementary
END:VEVENT
BEGIN:VEVENT
DTSTART;TZID=America/Chicago:20241216T180000
DTEND;TZID=America/Chicago:20241216T190000
DTSTAMP:20260423T140158
CREATED:20240829T170019Z
LAST-MODIFIED:20241216T222227Z
UID:<span 
                data-original-string='+uJqzmndcgU9urmjptCz+g==386UTyDBkku6jshzEcF+bll+hQVMsxfPP69Jdjkuz0uRfN3XKCoBUtjQDXa65/tKuyP2OHzDMDRPwkHRgTv3GVa8A=='
                class='apbct-email-encoder'
                title='This contact has been encoded by Anti-Spam by CleanTalk. Click to decode. To finish the decoding make sure that JavaScript is enabled in your browser.'>10<span class="apbct-blur">****************************</span>@<span class="apbct-blur">***************</span>wi.us</span>
SUMMARY:HES: Team Harmony Meeting LMC
DESCRIPTION:
URL:https://www.milton.k12.wi.us/event/hes-team-harmony-meeting-lmc-2/
CATEGORIES:Harmony Elementary
END:VEVENT
BEGIN:VEVENT
DTSTART;TZID=America/Chicago:20241216T143500
DTEND;TZID=America/Chicago:20241216T153500
DTSTAMP:20260423T140158
CREATED:20240909T203924Z
LAST-MODIFIED:20241216T195231Z
UID:<span 
                data-original-string='JFyRbIxhSMdXKI0hEQnhYQ==386Xc1f9nYw60D3iCB4A1j3XPvpYH0QVn8MJYie7ITpg0Wg9RQgdemFKRuoToWWVkizgqjCzx0vziR8Yx8RWr13Ww=='
                class='apbct-email-encoder'
                title='This contact has been encoded by Anti-Spam by CleanTalk. Click to decode. To finish the decoding make sure that JavaScript is enabled in your browser.'>10<span class="apbct-blur">****************************</span>@<span class="apbct-blur">***************</span>wi.us</span>
SUMMARY:HES: Early Release
DESCRIPTION:
URL:https://www.milton.k12.wi.us/event/hes-early-release-11/
CATEGORIES:Harmony Elementary
END:VEVENT
BEGIN:VEVENT
DTSTART;TZID=America/Chicago:20241216T143500
DTEND;TZID=America/Chicago:20241216T153500
DTSTAMP:20260423T140158
CREATED:20240822T012926Z
LAST-MODIFIED:20241216T193907Z
UID:<span 
                data-original-string='gMdyKx0OxFC8YNInteQOag==386307A3hb+7UXERcgwq+XdMiIUKwzhaIjrA+DgwzzY2mhQRBJTcIfP0KCKnRqZK7D/HeOctZRAUW9T0YXrKMsvhQ=='
                class='apbct-email-encoder'
                title='This contact has been encoded by Anti-Spam by CleanTalk. Click to decode. To finish the decoding make sure that JavaScript is enabled in your browser.'>10<span class="apbct-blur">****************************</span>@<span class="apbct-blur">***************</span>wi.us</span>
SUMMARY:Early Release -
DESCRIPTION:
URL:https://www.milton.k12.wi.us/event/early-release-12/
CATEGORIES:Consolidated
END:VEVENT
BEGIN:VEVENT
DTSTART;VALUE=DATE:20241216
DTEND;VALUE=DATE:20241217
DTSTAMP:20260423T140158
CREATED:20241211T175226Z
LAST-MODIFIED:20241216T233752Z
UID:<span 
                data-original-string='60n+DLLzcCw7h7Q2CqtJVg==386hHpneV494Qeo1pqoJIrfGCIuxvpt0AtVdgc4apivOqnG/NMOu9SdqRwf3naKC+fiN/uM0j2PtaZ0qkLclQVAPQ=='
                class='apbct-email-encoder'
                title='This contact has been encoded by Anti-Spam by CleanTalk. Click to decode. To finish the decoding make sure that JavaScript is enabled in your browser.'>10<span class="apbct-blur">****************************</span>@<span class="apbct-blur">***************</span>wi.us</span>
SUMMARY:No Melissa
DESCRIPTION:
URL:https://www.milton.k12.wi.us/event/no-melissa/
CATEGORIES:Milton East Elementary
END:VEVENT
BEGIN:VEVENT
DTSTART;VALUE=DATE:20241216
DTEND;VALUE=DATE:20241217
DTSTAMP:20260423T140158
CREATED:20241016T193835Z
LAST-MODIFIED:20241216T235242Z
UID:<span 
                data-original-string='Nhl+gEgROCcacdVGtZg9XA==386AO9OXSaP7DXJE6eybtYiFz9SR1EZVysrhyfRiPOxCZILkS7diRB8cMTDAZXeC5Np3kl9YyN/cXKMXADWVagegA=='
                class='apbct-email-encoder'
                title='This contact has been encoded by Anti-Spam by CleanTalk. Click to decode. To finish the decoding make sure that JavaScript is enabled in your browser.'>10<span class="apbct-blur">****************************</span>@<span class="apbct-blur">***************</span>wi.us</span>
SUMMARY:Day 1
DESCRIPTION:
URL:https://www.milton.k12.wi.us/event/day-1-12/
CATEGORIES:Northside Intermediate
END:VEVENT
BEGIN:VEVENT
DTSTART;TZID=America/Chicago:20241213T140000
DTEND;TZID=America/Chicago:20241213T150000
DTSTAMP:20260423T140158
CREATED:20240829T170019Z
LAST-MODIFIED:20241213T195227Z
UID:<span 
                data-original-string='YaaS6PWe1GLWrUXatKOMKw==386a1Jg//5awSeCrBp2egTefOKPfWBfZQcAg54A2Ui/0KY1f7+Lm9QUvsNYobWyM6/2s0JbscKRiv01lVvcOlt/yw=='
                class='apbct-email-encoder'
                title='This contact has been encoded by Anti-Spam by CleanTalk. Click to decode. To finish the decoding make sure that JavaScript is enabled in your browser.'>10<span class="apbct-blur">****************************</span>@<span class="apbct-blur">***************</span>wi.us</span>
SUMMARY:HES: Winter Sing K & 3rd Grade
DESCRIPTION:
URL:https://www.milton.k12.wi.us/event/hes-winter-sing-k-3rd-grade/
CATEGORIES:Harmony Elementary
END:VEVENT
BEGIN:VEVENT
DTSTART;VALUE=DATE:20241213
DTEND;VALUE=DATE:20241214
DTSTAMP:20260423T140158
CREATED:20241016T193834Z
LAST-MODIFIED:20241213T235406Z
UID:<span 
                data-original-string='iLHal40SCxgAvZ3Ic1xMQg==386nujVlhFRS+DySncJJDl3CSjK2tx9jiNWhyumNY0Wn1sQnEx0FxWBCniSURPBHfkKemVUJCAmqdYSs6yPDpjK3A=='
                class='apbct-email-encoder'
                title='This contact has been encoded by Anti-Spam by CleanTalk. Click to decode. To finish the decoding make sure that JavaScript is enabled in your browser.'>10<span class="apbct-blur">****************************</span>@<span class="apbct-blur">***************</span>wi.us</span>
SUMMARY:Day 6
DESCRIPTION:
URL:https://www.milton.k12.wi.us/event/day-6-11/
CATEGORIES:Northside Intermediate
END:VEVENT
BEGIN:VEVENT
DTSTART;VALUE=DATE:20241213
DTEND;VALUE=DATE:20241214
DTSTAMP:20260423T140158
CREATED:20240829T170018Z
LAST-MODIFIED:20241213T223810Z
UID:<span 
                data-original-string='QOztPWMj0Mi8l80K/wJMbQ==386UPmmNDdcQudUjazFCFOVUkjUeW0RYfq7GCCJLMpfVW7zYbsyflLy7wq51LwnhTlxPDXkHfbvZocC8khL6elDjA=='
                class='apbct-email-encoder'
                title='This contact has been encoded by Anti-Spam by CleanTalk. Click to decode. To finish the decoding make sure that JavaScript is enabled in your browser.'>10<span class="apbct-blur">****************************</span>@<span class="apbct-blur">***************</span>wi.us</span>
SUMMARY:HES: Scrip Wars End
DESCRIPTION:
URL:https://www.milton.k12.wi.us/event/hes-scrip-wars-end/
CATEGORIES:Harmony Elementary
END:VEVENT
BEGIN:VEVENT
DTSTART;TZID=America/Chicago:20241212T190000
DTEND;TZID=America/Chicago:20241212T190000
DTSTAMP:20260423T140158
CREATED:20240822T004639Z
LAST-MODIFIED:20241212T215222Z
UID:<span 
                data-original-string='TLKUe8zdtA0cCvrtMWPnqw==386aXXcT89HOMIJhR6sO/REbtxdgFkMrsjh4NVczwddqgUyoL2lQybckj0qn7/yk36iiB02S7+iVdhjY6iIbCPWEQ=='
                class='apbct-email-encoder'
                title='This contact has been encoded by Anti-Spam by CleanTalk. Click to decode. To finish the decoding make sure that JavaScript is enabled in your browser.'>10<span class="apbct-blur">****************************</span>@<span class="apbct-blur">***************</span>wi.us</span>
SUMMARY:MHS Winter Choir Concert
DESCRIPTION:
URL:https://www.milton.k12.wi.us/event/winter-choir-concert/
CATEGORIES:Milton High School
END:VEVENT
BEGIN:VEVENT
DTSTART;VALUE=DATE:20241212
DTEND;VALUE=DATE:20241213
DTSTAMP:20260423T140158
CREATED:20241016T193833Z
LAST-MODIFIED:20241212T235230Z
UID:<span 
                data-original-string='ptUQ5lGZxo4nouyJyOCqnw==386Tt6+lSeq5+hPLbeUexjWJdWnL0kLLkYnC+kTcAAunblj0YTHDz7qrDJN1kat6kJEk8QXv8IZghr0133dJjTDIQ=='
                class='apbct-email-encoder'
                title='This contact has been encoded by Anti-Spam by CleanTalk. Click to decode. To finish the decoding make sure that JavaScript is enabled in your browser.'>10<span class="apbct-blur">****************************</span>@<span class="apbct-blur">***************</span>wi.us</span>
SUMMARY:Day 5
DESCRIPTION:
URL:https://www.milton.k12.wi.us/event/day-5-11/
CATEGORIES:Northside Intermediate
END:VEVENT
BEGIN:VEVENT
DTSTART;VALUE=DATE:20241211
DTEND;VALUE=DATE:20241212
DTSTAMP:20260423T140158
CREATED:20241016T193834Z
LAST-MODIFIED:20241211T235320Z
UID:<span 
                data-original-string='vuJ4O8TJiHH1wZfHgSc/+Q==386/T2UZvimzJtBgmFTK8+ISZ56BGSQyAnpbkaw0TFiX0d4D8jTtOP+riaUt9QkMKx3VeR9eN+OSeDSbEHFzFEAlw=='
                class='apbct-email-encoder'
                title='This contact has been encoded by Anti-Spam by CleanTalk. Click to decode. To finish the decoding make sure that JavaScript is enabled in your browser.'>10<span class="apbct-blur">****************************</span>@<span class="apbct-blur">***************</span>wi.us</span>
SUMMARY:Day 4
DESCRIPTION:
URL:https://www.milton.k12.wi.us/event/day-4-11/
CATEGORIES:Northside Intermediate
END:VEVENT
BEGIN:VEVENT
DTSTART;TZID=America/Chicago:20241210T190000
DTEND;TZID=America/Chicago:20241210T200000
DTSTAMP:20260423T140158
CREATED:20240910T181514Z
LAST-MODIFIED:20241210T235231Z
UID:<span 
                data-original-string='UmQ2RTN+PZDrJ7hoUobSMg==386mAevG5equuruqAvlr3Oy65d4Y7MJih3UjeC4dhttcKpDHQRVDsBIRJ9WqdVYLQtoudIgYZ07vF4qyQo5GTJA3g=='
                class='apbct-email-encoder'
                title='This contact has been encoded by Anti-Spam by CleanTalk. Click to decode. To finish the decoding make sure that JavaScript is enabled in your browser.'>10<span class="apbct-blur">****************************</span>@<span class="apbct-blur">***************</span>wi.us</span>
SUMMARY:6th Choir Concert
DESCRIPTION:
URL:https://www.milton.k12.wi.us/event/6th-choir-concert-2/
LOCATION:Milton High School\, 114 W High St\, Milton\, WI\, United States
CATEGORIES:Northside Intermediate
GEO:42.773359;-88.954785
X-APPLE-STRUCTURED-LOCATION;VALUE=URI;X-ADDRESS=Milton High School 114 W High St Milton WI United States;X-APPLE-RADIUS=500;X-TITLE=114 W High St:geo:-88.954785,42.773359
END:VEVENT
BEGIN:VEVENT
DTSTART;TZID=America/Chicago:20241210T190000
DTEND;TZID=America/Chicago:20241210T200000
DTSTAMP:20260423T140158
CREATED:20240822T004715Z
LAST-MODIFIED:20241210T235435Z
UID:<span 
                data-original-string='2Ksroga4QiNWuyDl4B8oNw==386xU/0qZmvIFtEoBKUoB5QMRCWRpqPFKQwi74JoRgmukhLxd5X5LUO+cliq5iccnpJkv5K/9jAGyrVJ4Rhy63nYA=='
                class='apbct-email-encoder'
                title='This contact has been encoded by Anti-Spam by CleanTalk. Click to decode. To finish the decoding make sure that JavaScript is enabled in your browser.'>10<span class="apbct-blur">****************************</span>@<span class="apbct-blur">***************</span>wi.us</span>
SUMMARY:MMS 6-8 Winter Choir Concert @ MHS PAC
DESCRIPTION:
URL:https://www.milton.k12.wi.us/event/6-8-winter-choir-concert-mhs-pac/
CATEGORIES:Milton Middle School
END:VEVENT
BEGIN:VEVENT
DTSTART;TZID=America/Chicago:20241210T183000
DTEND;TZID=America/Chicago:20241210T193000
DTSTAMP:20260423T140158
CREATED:20240822T012926Z
LAST-MODIFIED:20241210T232235Z
UID:<span 
                data-original-string='4paS/jsm3P3zFDgJf229yQ==386N0/qiw6SbjNUkiDxnER4N+esj5mFWivHEhtv4XERPDRTBZ3n7+/ckSxU5tSfMjgf02bSSyNkNzywdjv+U9lUIg=='
                class='apbct-email-encoder'
                title='This contact has been encoded by Anti-Spam by CleanTalk. Click to decode. To finish the decoding make sure that JavaScript is enabled in your browser.'>10<span class="apbct-blur">****************************</span>@<span class="apbct-blur">***************</span>wi.us</span>
SUMMARY:CES - PIE Meeting
DESCRIPTION:
URL:https://www.milton.k12.wi.us/event/pie-meeting-4/
CATEGORIES:Consolidated
END:VEVENT
BEGIN:VEVENT
DTSTART;TZID=America/Chicago:20241210T180000
DTEND;TZID=America/Chicago:20241210T190000
DTSTAMP:20260423T140158
CREATED:20240822T004448Z
LAST-MODIFIED:20241210T060935Z
UID:<span 
                data-original-string='+pODTiERJXpn1ceW9aNGPw==386tvy9GF7z3T5WAkxFdJSa1XTpmKXy6kIzd3HZtLEQg2M1OY+JA8RD2S0ZCF0G1uUz0Ax6NuoAvyyqqigRVdD0Zg=='
                class='apbct-email-encoder'
                title='This contact has been encoded by Anti-Spam by CleanTalk. Click to decode. To finish the decoding make sure that JavaScript is enabled in your browser.'>10<span class="apbct-blur">****************************</span>@<span class="apbct-blur">***************</span>wi.us</span>
SUMMARY:EES:  MEPG meeting
DESCRIPTION:
URL:https://www.milton.k12.wi.us/event/ees-mepg-meeting-4/
CATEGORIES:Milton East Elementary
END:VEVENT
BEGIN:VEVENT
DTSTART;TZID=America/Chicago:20241210T163000
DTEND;TZID=America/Chicago:20241210T193000
DTSTAMP:20260423T140158
CREATED:20240824T110757Z
LAST-MODIFIED:20241210T235232Z
UID:<span 
                data-original-string='O7PK82sedFOD0AMB3I1CqQ==3867BntBn7gDhKzzt3ITDnh3QWPz7ijDzK2IiFtOAP78hHvXFeWd8+8RQJwVduIBKsLkOi1wiDYtWAQg/nYgFrAkA=='
                class='apbct-email-encoder'
                title='This contact has been encoded by Anti-Spam by CleanTalk. Click to decode. To finish the decoding make sure that JavaScript is enabled in your browser.'>10<span class="apbct-blur">****************************</span>@<span class="apbct-blur">***************</span>wi.us</span>
SUMMARY:Scoopie Night (Northside)
DESCRIPTION:
URL:https://www.milton.k12.wi.us/event/scoopie-night-northside-2/
CATEGORIES:Northside Intermediate
END:VEVENT
BEGIN:VEVENT
DTSTART;VALUE=DATE:20241210
DTEND;VALUE=DATE:20241211
DTSTAMP:20260423T140158
CREATED:20241016T193831Z
LAST-MODIFIED:20241210T235231Z
UID:<span 
                data-original-string='IULwT9t1CkNU6RnO7KjUeA==3869S6Mc3aur+9bF0cZOfMd8hn/PWHb1VKl15raJDqjfOxVaCNYl3X44qPsZJ+03ic11bdwiyvk8ANJtygQudccWw=='
                class='apbct-email-encoder'
                title='This contact has been encoded by Anti-Spam by CleanTalk. Click to decode. To finish the decoding make sure that JavaScript is enabled in your browser.'>10<span class="apbct-blur">****************************</span>@<span class="apbct-blur">***************</span>wi.us</span>
SUMMARY:Day 3
DESCRIPTION:
URL:https://www.milton.k12.wi.us/event/day-3-11/
CATEGORIES:Northside Intermediate
END:VEVENT
BEGIN:VEVENT
DTSTART;TZID=America/Chicago:20241209T183000
DTEND;TZID=America/Chicago:20241209T203000
DTSTAMP:20260423T140158
CREATED:20240822T012952Z
LAST-MODIFIED:20241209T203740Z
UID:<span 
                data-original-string='iiY5ztGSLrRwyvovxzg3OA==3862CgI3NBU7tUIxX4BiQz+7y9vlK2N2+iud8fjXlRavocX7GicmPAXL+u/gIQIfSy2vr8Advf6fh4+fUzS87A14w=='
                class='apbct-email-encoder'
                title='This contact has been encoded by Anti-Spam by CleanTalk. Click to decode. To finish the decoding make sure that JavaScript is enabled in your browser.'>10<span class="apbct-blur">****************************</span>@<span class="apbct-blur">***************</span>wi.us</span>
SUMMARY:School Board Meeting
DESCRIPTION:
URL:https://www.milton.k12.wi.us/event/school-board-meeting-8/
CATEGORIES:District
END:VEVENT
BEGIN:VEVENT
DTSTART;TZID=America/Chicago:20241209T143500
DTEND;TZID=America/Chicago:20241209T153500
DTSTAMP:20260423T140158
CREATED:20240909T203806Z
LAST-MODIFIED:20241209T192356Z
UID:<span 
                data-original-string='lCTJFOjWGmOVuz5JCswLxQ==386NYupMXT4vF2GYPzOYKPdjSdPb/NqB0Z06vZgarDhuxrTC3ze3CyyBJ5IrVuS7algMoEAruoD6F51zL0O+QFk0g=='
                class='apbct-email-encoder'
                title='This contact has been encoded by Anti-Spam by CleanTalk. Click to decode. To finish the decoding make sure that JavaScript is enabled in your browser.'>10<span class="apbct-blur">****************************</span>@<span class="apbct-blur">***************</span>wi.us</span>
SUMMARY:HES: Early Release
DESCRIPTION:
URL:https://www.milton.k12.wi.us/event/hes-early-release-10/
CATEGORIES:Harmony Elementary
END:VEVENT
BEGIN:VEVENT
DTSTART;TZID=America/Chicago:20241209T143500
DTEND;TZID=America/Chicago:20241209T153500
DTSTAMP:20260423T140158
CREATED:20240822T012926Z
LAST-MODIFIED:20241209T211042Z
UID:<span 
                data-original-string='uFh6P1lwrjf/BUkuREZ2ng==386m6aR2bmIds4fPVcJrH9HNAQhuIxOnvs3g/YkxFhEiHKRPQ7EBb3ghkwARcfVFNAW33AESpI+r+iUGUHiX8AR7Q=='
                class='apbct-email-encoder'
                title='This contact has been encoded by Anti-Spam by CleanTalk. Click to decode. To finish the decoding make sure that JavaScript is enabled in your browser.'>10<span class="apbct-blur">****************************</span>@<span class="apbct-blur">***************</span>wi.us</span>
SUMMARY:Early Release -
DESCRIPTION:
URL:https://www.milton.k12.wi.us/event/early-release-11/
CATEGORIES:Consolidated
END:VEVENT
BEGIN:VEVENT
DTSTART;TZID=America/Chicago:20241209T093000
DTEND;TZID=America/Chicago:20241209T110000
DTSTAMP:20260423T140158
CREATED:20240827T143755Z
LAST-MODIFIED:20241209T060816Z
UID:<span 
                data-original-string='u+8n9Yp/waPMldnoJzOzxg==386lMf9Hz9x05SHa0fGZag7098AMT5V0JboGRL1kzxI9nvcq+ZqDRIZ0s9T1fldI7mJf+W+KPy8bXDmBoWrukCkbw=='
                class='apbct-email-encoder'
                title='This contact has been encoded by Anti-Spam by CleanTalk. Click to decode. To finish the decoding make sure that JavaScript is enabled in your browser.'>10<span class="apbct-blur">****************************</span>@<span class="apbct-blur">***************</span>wi.us</span>
SUMMARY:EES:  4K Make & Take
DESCRIPTION:
URL:https://www.milton.k12.wi.us/event/ees-4k-make-take/
CATEGORIES:Milton East Elementary
END:VEVENT
BEGIN:VEVENT
DTSTART;VALUE=DATE:20241209
DTEND;VALUE=DATE:20241210
DTSTAMP:20260423T140158
CREATED:20241016T193830Z
LAST-MODIFIED:20241209T235446Z
UID:<span 
                data-original-string='t8SbxfuN086B5xnp1efJXg==386iWmRN75qk2y1TcLuxFSTi/IddALSZVKfxv/tfrtq4d8fzMJ72hzS0htgtO43BThy5sYnKUKWQYYVQgNDbrBCiw=='
                class='apbct-email-encoder'
                title='This contact has been encoded by Anti-Spam by CleanTalk. Click to decode. To finish the decoding make sure that JavaScript is enabled in your browser.'>10<span class="apbct-blur">****************************</span>@<span class="apbct-blur">***************</span>wi.us</span>
SUMMARY:Day 2
DESCRIPTION:
URL:https://www.milton.k12.wi.us/event/day-2-11/
CATEGORIES:Northside Intermediate
END:VEVENT
BEGIN:VEVENT
DTSTART;TZID=America/Chicago:20241206T170000
DTEND;TZID=America/Chicago:20241206T190000
DTSTAMP:20260423T140158
CREATED:20241004T155507Z
LAST-MODIFIED:20241206T235710Z
UID:<span 
                data-original-string='FIVun6opq+QJ7ZHOa0e5zQ==386nLE6ZieY+veCTeyyjjgccnk7J30bcDNb3HO1YlFTW8gwOEZvr3PQcn32KopLdiOWlmsnHM24cPcwpOBKnLchMg=='
                class='apbct-email-encoder'
                title='This contact has been encoded by Anti-Spam by CleanTalk. Click to decode. To finish the decoding make sure that JavaScript is enabled in your browser.'>10<span class="apbct-blur">****************************</span>@<span class="apbct-blur">***************</span>wi.us</span>
SUMMARY:MMS Dance/Activity Night
DESCRIPTION:
URL:https://www.milton.k12.wi.us/event/mms-dance-activity-night/
CATEGORIES:Milton Middle School
END:VEVENT
BEGIN:VEVENT
DTSTART;TZID=America/Chicago:20241206T141500
DTEND;TZID=America/Chicago:20241206T150000
DTSTAMP:20260423T140158
CREATED:20240826T212239Z
LAST-MODIFIED:20241206T205430Z
UID:<span 
                data-original-string='FCriT5wds6Q7/bnaWfATiw==386+X6fK02Xatbxw0j9+cvRtywMq4RdeCPg1Aeeg78vU5zVp2PBBdPqXPTuE2u2s2btcz4uvFLX6xKEevSsrCcZ4w=='
                class='apbct-email-encoder'
                title='This contact has been encoded by Anti-Spam by CleanTalk. Click to decode. To finish the decoding make sure that JavaScript is enabled in your browser.'>10<span class="apbct-blur">****************************</span>@<span class="apbct-blur">***************</span>wi.us</span>
SUMMARY:EES:  3rd Grade Winter Concert
DESCRIPTION:
URL:https://www.milton.k12.wi.us/event/ees-3rd-grade-winter-concert/
CATEGORIES:Milton East Elementary
END:VEVENT
BEGIN:VEVENT
DTSTART;TZID=America/Chicago:20241206T093000
DTEND;TZID=America/Chicago:20241206T101500
DTSTAMP:20260423T140158
CREATED:20240826T212238Z
LAST-MODIFIED:20241206T060816Z
UID:<span 
                data-original-string='CsQOYnCns/vYe2GkQMvNCQ==3865ug2IUTAWEKBM/gq7mxVRn21MSAf8qYZDdzKxf4WVvNwBd8PbIAOoD6SR5w62B2FyKx36ayEHB8Qsy5Gl8X4bg=='
                class='apbct-email-encoder'
                title='This contact has been encoded by Anti-Spam by CleanTalk. Click to decode. To finish the decoding make sure that JavaScript is enabled in your browser.'>10<span class="apbct-blur">****************************</span>@<span class="apbct-blur">***************</span>wi.us</span>
SUMMARY:EES:  2nd Grade Winter Concert
DESCRIPTION:
URL:https://www.milton.k12.wi.us/event/ees-2nd-grade-winter-concert/
CATEGORIES:Milton East Elementary
END:VEVENT
BEGIN:VEVENT
DTSTART;VALUE=DATE:20241206
DTEND;VALUE=DATE:20241207
DTSTAMP:20260423T140158
CREATED:20241016T193829Z
LAST-MODIFIED:20241206T235255Z
UID:<span 
                data-original-string='8zXBjpHinMwZkYrtUg7Xpg==386j2jziZj1RSLhIfLfME6VE/uTb8Dk35iQxZFRvs4CeGoczYtcDPMeYBeQjiMyZIO81pjGGiZpk6WHJb/ptmOfKw=='
                class='apbct-email-encoder'
                title='This contact has been encoded by Anti-Spam by CleanTalk. Click to decode. To finish the decoding make sure that JavaScript is enabled in your browser.'>10<span class="apbct-blur">****************************</span>@<span class="apbct-blur">***************</span>wi.us</span>
SUMMARY:Day 1
DESCRIPTION:
URL:https://www.milton.k12.wi.us/event/day-1-11/
CATEGORIES:Northside Intermediate
END:VEVENT
BEGIN:VEVENT
DTSTART;TZID=America/Chicago:20241205T141500
DTEND;TZID=America/Chicago:20241205T150000
DTSTAMP:20260423T140158
CREATED:20240826T212238Z
LAST-MODIFIED:20241205T205230Z
UID:<span 
                data-original-string='bwrd/j6U+zDEhTCqnARQnA==3860lP0pn2Uz6x5UMgzw2lzVr2kjaXPBmYmfOxUZZ9C4dsd0u5e1hyxnpK9UpqRQqA4Eg0Us5kYGNQtW22luatLcg=='
                class='apbct-email-encoder'
                title='This contact has been encoded by Anti-Spam by CleanTalk. Click to decode. To finish the decoding make sure that JavaScript is enabled in your browser.'>10<span class="apbct-blur">****************************</span>@<span class="apbct-blur">***************</span>wi.us</span>
SUMMARY:EES:  1st Grade Winter Concert
DESCRIPTION:
URL:https://www.milton.k12.wi.us/event/ees-1st-grade-winter-concert/
CATEGORIES:Milton East Elementary
END:VEVENT
END:VCALENDAR