BEGIN:VCALENDAR
VERSION:2.0
PRODID:-//School District of Milton - ECPv6.15.20//NONSGML v1.0//EN
CALSCALE:GREGORIAN
METHOD:PUBLISH
X-ORIGINAL-URL:https://www.milton.k12.wi.us
X-WR-CALDESC:Events for School District of Milton
REFRESH-INTERVAL;VALUE=DURATION:PT1H
X-Robots-Tag:noindex
X-PUBLISHED-TTL:PT1H
BEGIN:VTIMEZONE
TZID:America/Chicago
BEGIN:DAYLIGHT
TZOFFSETFROM:-0600
TZOFFSETTO:-0500
TZNAME:CDT
DTSTART:20260308T080000
END:DAYLIGHT
BEGIN:STANDARD
TZOFFSETFROM:-0500
TZOFFSETTO:-0600
TZNAME:CST
DTSTART:20261101T070000
END:STANDARD
BEGIN:DAYLIGHT
TZOFFSETFROM:-0600
TZOFFSETTO:-0500
TZNAME:CDT
DTSTART:20270314T080000
END:DAYLIGHT
BEGIN:STANDARD
TZOFFSETFROM:-0500
TZOFFSETTO:-0600
TZNAME:CST
DTSTART:20271107T070000
END:STANDARD
BEGIN:DAYLIGHT
TZOFFSETFROM:-0600
TZOFFSETTO:-0500
TZNAME:CDT
DTSTART:20280312T080000
END:DAYLIGHT
BEGIN:STANDARD
TZOFFSETFROM:-0500
TZOFFSETTO:-0600
TZNAME:CST
DTSTART:20281105T070000
END:STANDARD
END:VTIMEZONE
BEGIN:VEVENT
DTSTART;TZID=America/Chicago:20270719T180000
DTEND;TZID=America/Chicago:20270719T200000
DTSTAMP:20260419T201808
CREATED:20250719T065348Z
LAST-MODIFIED:20260419T235602Z
UID:<span 
                data-original-string='hfcsbqQw3jQsxTGEme90zA==3865b+pj2Chp1LnNNog4fhLn6uziQkpIe/FSOOGLzK8K70S93bsjvZ2Ew3zOtND2WyVZ3YxgtEnRvwqdVlXuBZDow=='
                class='apbct-email-encoder'
                title='This contact has been encoded by Anti-Spam by CleanTalk. Click to decode. To finish the decoding make sure that JavaScript is enabled in your browser.'>10<span class="apbct-blur">****************************</span>@<span class="apbct-blur">***************</span>wi.us</span>
SUMMARY:PAWS mtg
DESCRIPTION:
URL:https://www.milton.k12.wi.us/event/paws-mtg-35/
CATEGORIES:Milton West Elementary
END:VEVENT
BEGIN:VEVENT
DTSTART;TZID=America/Chicago:20270720T180000
DTEND;TZID=America/Chicago:20270720T190000
DTSTAMP:20260419T201808
CREATED:20250720T062439Z
LAST-MODIFIED:20260419T232924Z
UID:<span 
                data-original-string='mnRdy5WOhDPPB6S/GQLh1A==386XtS06KjoBI8VfRRWU1Q1o3474GwFhJJsWp+ZK1ml84xWFPx2tPjInkzW7A5kQ6mFl9TuVZd0WffcWp93acHeFQ=='
                class='apbct-email-encoder'
                title='This contact has been encoded by Anti-Spam by CleanTalk. Click to decode. To finish the decoding make sure that JavaScript is enabled in your browser.'>10<span class="apbct-blur">****************************</span>@<span class="apbct-blur">***************</span>wi.us</span>
SUMMARY:FON Meeting
DESCRIPTION:
URL:https://www.milton.k12.wi.us/event/fon-meeting-35/
CATEGORIES:Northside Intermediate
END:VEVENT
BEGIN:VEVENT
DTSTART;TZID=America/Chicago:20270726T143500
DTEND;TZID=America/Chicago:20270726T153500
DTSTAMP:20260419T201808
CREATED:20250726T071537Z
LAST-MODIFIED:20260419T232555Z
UID:<span 
                data-original-string='EL0Y/1TZ3EpSSGwD78EfZg==386E1V1kklrQ7k26G+qkiEo1F273PsF+nh8Whfznvd9HE4182t+6OEPnXDWq8EyYA7VZy3bChtYacsM99xd9rg54g=='
                class='apbct-email-encoder'
                title='This contact has been encoded by Anti-Spam by CleanTalk. Click to decode. To finish the decoding make sure that JavaScript is enabled in your browser.'>10<span class="apbct-blur">****************************</span>@<span class="apbct-blur">***************</span>wi.us</span>
SUMMARY:Early Release -
DESCRIPTION:
URL:https://www.milton.k12.wi.us/event/early-release-143/
CATEGORIES:Consolidated
END:VEVENT
BEGIN:VEVENT
DTSTART;TZID=America/Chicago:20270726T183000
DTEND;TZID=America/Chicago:20270726T203000
DTSTAMP:20260419T201808
CREATED:20250726T063850Z
LAST-MODIFIED:20260419T235351Z
UID:<span 
                data-original-string='eZp3BcciJ1B+J9sAmNplJg==386vnQv8z9mIAf0NKqUGFr46P5axZs9oSZUEGbg+L9quAVLbpDHtTc7f5ijka0L+aVn+TCczjVlV6RrUoUNCZtVFQ=='
                class='apbct-email-encoder'
                title='This contact has been encoded by Anti-Spam by CleanTalk. Click to decode. To finish the decoding make sure that JavaScript is enabled in your browser.'>10<span class="apbct-blur">****************************</span>@<span class="apbct-blur">***************</span>wi.us</span>
SUMMARY:School Board Meeting
DESCRIPTION:
URL:https://www.milton.k12.wi.us/event/school-board-meeting-75/
LOCATION:School District of Milton\, 448 E High St\, Milton\, WI\, United States
CATEGORIES:District
GEO:42.773036;-88.944404
X-APPLE-STRUCTURED-LOCATION;VALUE=URI;X-ADDRESS=School District of Milton 448 E High St Milton WI United States;X-APPLE-RADIUS=500;X-TITLE=448 E High St:geo:-88.944404,42.773036
END:VEVENT
BEGIN:VEVENT
DTSTART;TZID=America/Chicago:20270802T143500
DTEND;TZID=America/Chicago:20270802T153500
DTSTAMP:20260419T201808
CREATED:20250802T074329Z
LAST-MODIFIED:20260419T232555Z
UID:<span 
                data-original-string='8cLSneo/clK46bp09XxOnQ==3864DJ+J+rWonsYLLNDPawAvZbjhxXAYSFN6i4V4HPKAKpKOgLpCE/qL7OjxC7YYXGDMxGKlLUM4Y+FlwV+X5CC+w=='
                class='apbct-email-encoder'
                title='This contact has been encoded by Anti-Spam by CleanTalk. Click to decode. To finish the decoding make sure that JavaScript is enabled in your browser.'>10<span class="apbct-blur">****************************</span>@<span class="apbct-blur">***************</span>wi.us</span>
SUMMARY:Early Release -
DESCRIPTION:
URL:https://www.milton.k12.wi.us/event/early-release-144/
CATEGORIES:Consolidated
END:VEVENT
BEGIN:VEVENT
DTSTART;TZID=America/Chicago:20270809T143500
DTEND;TZID=America/Chicago:20270809T153500
DTSTAMP:20260419T201808
CREATED:20250809T080402Z
LAST-MODIFIED:20260419T232556Z
UID:<span 
                data-original-string='/J+8ZWlPqWsTEZkDtL+6aA==3865bwt9fiZNsZU85doSqQjX4AUhgf1ApVePTRoIh1zFJMpOknBzuQvZH6fLUMjPEjC8LUyYZv9G59y8zEPSJd/fw=='
                class='apbct-email-encoder'
                title='This contact has been encoded by Anti-Spam by CleanTalk. Click to decode. To finish the decoding make sure that JavaScript is enabled in your browser.'>10<span class="apbct-blur">****************************</span>@<span class="apbct-blur">***************</span>wi.us</span>
SUMMARY:Early Release -
DESCRIPTION:
URL:https://www.milton.k12.wi.us/event/early-release-145/
CATEGORIES:Consolidated
END:VEVENT
BEGIN:VEVENT
DTSTART;TZID=America/Chicago:20270809T183000
DTEND;TZID=America/Chicago:20270809T203000
DTSTAMP:20260419T201808
CREATED:20250809T064159Z
LAST-MODIFIED:20260419T235351Z
UID:<span 
                data-original-string='bS8Y9uM1xSuPy6Gi/8QpJA==386P7fQYX2dRipHg6tL/+JPoXzIseVv0YnOMwSnu2I7/4JchfQegyPtzRuUAO2b+RwQgNhVr7b0aflkQS4qDwjrlw=='
                class='apbct-email-encoder'
                title='This contact has been encoded by Anti-Spam by CleanTalk. Click to decode. To finish the decoding make sure that JavaScript is enabled in your browser.'>10<span class="apbct-blur">****************************</span>@<span class="apbct-blur">***************</span>wi.us</span>
SUMMARY:School Board Meeting
DESCRIPTION:
URL:https://www.milton.k12.wi.us/event/school-board-meeting-76/
CATEGORIES:District
END:VEVENT
BEGIN:VEVENT
DTSTART;TZID=America/Chicago:20270810T183000
DTEND;TZID=America/Chicago:20270810T193000
DTSTAMP:20260419T201808
CREATED:20250810T080330Z
LAST-MODIFIED:20260419T232612Z
UID:<span 
                data-original-string='9fQqsTJDpXoCThioK7VHRg==386Y6Sm6Uhyd5jYfF532BrwkN3fu56C8d4Xvw191So1isvn2MzBhNpW1o2x+21FLf5sNUS3GEQApGCwRfVTBlY3Lw=='
                class='apbct-email-encoder'
                title='This contact has been encoded by Anti-Spam by CleanTalk. Click to decode. To finish the decoding make sure that JavaScript is enabled in your browser.'>10<span class="apbct-blur">****************************</span>@<span class="apbct-blur">***************</span>wi.us</span>
SUMMARY:CES - PIE Meeting
DESCRIPTION:
URL:https://www.milton.k12.wi.us/event/ces-pie-meeting-12/
CATEGORIES:Consolidated
END:VEVENT
BEGIN:VEVENT
DTSTART;TZID=America/Chicago:20270816T143500
DTEND;TZID=America/Chicago:20270816T153500
DTSTAMP:20260419T201808
CREATED:20250816T080426Z
LAST-MODIFIED:20260419T232613Z
UID:<span 
                data-original-string='jtHkSeu3Qen7/O1/cZtgIg==386fx0Dw5GGx6f8Ss5ef/9EuxnpqiPADqhG4q1T6FQcBYsKyRaf+Zpk7aD4un8akPC3No5kDvhcfHznB17xydUchQ=='
                class='apbct-email-encoder'
                title='This contact has been encoded by Anti-Spam by CleanTalk. Click to decode. To finish the decoding make sure that JavaScript is enabled in your browser.'>10<span class="apbct-blur">****************************</span>@<span class="apbct-blur">***************</span>wi.us</span>
SUMMARY:Early Release -
DESCRIPTION:
URL:https://www.milton.k12.wi.us/event/early-release-146/
CATEGORIES:Consolidated
END:VEVENT
BEGIN:VEVENT
DTSTART;TZID=America/Chicago:20270816T180000
DTEND;TZID=America/Chicago:20270816T200000
DTSTAMP:20260419T201808
CREATED:20250816T071032Z
LAST-MODIFIED:20260419T235603Z
UID:<span 
                data-original-string='WcEVu601e53dGk8tFX8/VA==386Wi8hJ0HDlk2fAUiGh79MdUwCHtt9E02F6TKxlPoyaGOUlcP6O/8xosL7Srf7Ov8LT6JWbG/A7AQRugRLGIdkvw=='
                class='apbct-email-encoder'
                title='This contact has been encoded by Anti-Spam by CleanTalk. Click to decode. To finish the decoding make sure that JavaScript is enabled in your browser.'>10<span class="apbct-blur">****************************</span>@<span class="apbct-blur">***************</span>wi.us</span>
SUMMARY:PAWS mtg
DESCRIPTION:
URL:https://www.milton.k12.wi.us/event/paws-mtg-36/
CATEGORIES:Milton West Elementary
END:VEVENT
BEGIN:VEVENT
DTSTART;TZID=America/Chicago:20270817T180000
DTEND;TZID=America/Chicago:20270817T190000
DTSTAMP:20260419T201808
CREATED:20250817T072621Z
LAST-MODIFIED:20260419T232924Z
UID:<span 
                data-original-string='XZ7S3RfCOVsUN6bvaDskQA==386JSEiUN9lcKMp+4FC0oLIcO46mI8mmjIwPnI+wUxak0rKPX/vXo6nS/PgCT6UFYVztJJqvGGVyGVy6DvQXT1jzA=='
                class='apbct-email-encoder'
                title='This contact has been encoded by Anti-Spam by CleanTalk. Click to decode. To finish the decoding make sure that JavaScript is enabled in your browser.'>10<span class="apbct-blur">****************************</span>@<span class="apbct-blur">***************</span>wi.us</span>
SUMMARY:FON Meeting
DESCRIPTION:
URL:https://www.milton.k12.wi.us/event/fon-meeting-36/
CATEGORIES:Northside Intermediate
END:VEVENT
BEGIN:VEVENT
DTSTART;TZID=America/Chicago:20270823T143500
DTEND;TZID=America/Chicago:20270823T153500
DTSTAMP:20260419T201808
CREATED:20250823T081748Z
LAST-MODIFIED:20260419T232613Z
UID:<span 
                data-original-string='Ar4k7Lmz/oAswZ6h7aVARw==386LJdSfWaXfoNMu4Su0HFZtDitxyZK3IFPFZQ1rrbAgaTZu7ChK8WFsfkeWV5V0qRglpu+2C0Us5UmTAbmh2XYgw=='
                class='apbct-email-encoder'
                title='This contact has been encoded by Anti-Spam by CleanTalk. Click to decode. To finish the decoding make sure that JavaScript is enabled in your browser.'>10<span class="apbct-blur">****************************</span>@<span class="apbct-blur">***************</span>wi.us</span>
SUMMARY:Early Release -
DESCRIPTION:
URL:https://www.milton.k12.wi.us/event/early-release-147/
CATEGORIES:Consolidated
END:VEVENT
BEGIN:VEVENT
DTSTART;TZID=America/Chicago:20270823T183000
DTEND;TZID=America/Chicago:20270823T203000
DTSTAMP:20260419T201808
CREATED:20250823T094249Z
LAST-MODIFIED:20260419T235352Z
UID:<span 
                data-original-string='Io7yCJhtG6axklHh3Tzgig==386xVIGjf/aVlFE77yYdnDD3CZMkSbfqAvA6rEhqfm8dpNlR2+bAt54W0G8Twx5Nyi2AqcHCiKmppO1EdHYpGUu/A=='
                class='apbct-email-encoder'
                title='This contact has been encoded by Anti-Spam by CleanTalk. Click to decode. To finish the decoding make sure that JavaScript is enabled in your browser.'>10<span class="apbct-blur">****************************</span>@<span class="apbct-blur">***************</span>wi.us</span>
SUMMARY:School Board Meeting
DESCRIPTION:
URL:https://www.milton.k12.wi.us/event/school-board-meeting-77/
LOCATION:School District of Milton\, 448 E High St\, Milton\, WI\, United States
CATEGORIES:District
GEO:42.773036;-88.944404
X-APPLE-STRUCTURED-LOCATION;VALUE=URI;X-ADDRESS=School District of Milton 448 E High St Milton WI United States;X-APPLE-RADIUS=500;X-TITLE=448 E High St:geo:-88.944404,42.773036
END:VEVENT
BEGIN:VEVENT
DTSTART;TZID=America/Chicago:20270830T143500
DTEND;TZID=America/Chicago:20270830T153500
DTSTAMP:20260419T201808
CREATED:20250830T081516Z
LAST-MODIFIED:20260419T232614Z
UID:<span 
                data-original-string='DATvsWysQtqXWy0DETYrsQ==386V0Me1lFApHk2gfnOSTh8ogtX6NR+5mR0KZnvZtxpgzSkJn8csmBvMzkmRAY4lOAjpyozq8pdT10xqfSnG5FEQA=='
                class='apbct-email-encoder'
                title='This contact has been encoded by Anti-Spam by CleanTalk. Click to decode. To finish the decoding make sure that JavaScript is enabled in your browser.'>10<span class="apbct-blur">****************************</span>@<span class="apbct-blur">***************</span>wi.us</span>
SUMMARY:Early Release -
DESCRIPTION:
URL:https://www.milton.k12.wi.us/event/early-release-148/
CATEGORIES:Consolidated
END:VEVENT
BEGIN:VEVENT
DTSTART;TZID=America/Chicago:20270906T143500
DTEND;TZID=America/Chicago:20270906T153500
DTSTAMP:20260419T201808
CREATED:20250906T081516Z
LAST-MODIFIED:20260419T232614Z
UID:<span 
                data-original-string='3z/hx9kcnsL8otD0gGlgtQ==386M2wJN4nOTGVyppEAQfZ/FMyayyt0/54wFVESNUo28IssMrpp08Wvl/lMvUrcFgDfV0lS1lRfldl1FqOBfMbqCQ=='
                class='apbct-email-encoder'
                title='This contact has been encoded by Anti-Spam by CleanTalk. Click to decode. To finish the decoding make sure that JavaScript is enabled in your browser.'>10<span class="apbct-blur">****************************</span>@<span class="apbct-blur">***************</span>wi.us</span>
SUMMARY:Early Release -
DESCRIPTION:
URL:https://www.milton.k12.wi.us/event/early-release-149/
CATEGORIES:Consolidated
END:VEVENT
BEGIN:VEVENT
DTSTART;TZID=America/Chicago:20270913T143500
DTEND;TZID=America/Chicago:20270913T153500
DTSTAMP:20260419T201808
CREATED:20250913T082120Z
LAST-MODIFIED:20260419T232617Z
UID:<span 
                data-original-string='VD1A6ipuADaNe5O048s27g==386Fe0ONaY5as/+tIbkoSdEg3O8PBt4X7UkJIQqwMUzMnlxh14TgERbdRPFMh7OUBj61HW4JtnLGE6uFLGIQeHNuQ=='
                class='apbct-email-encoder'
                title='This contact has been encoded by Anti-Spam by CleanTalk. Click to decode. To finish the decoding make sure that JavaScript is enabled in your browser.'>10<span class="apbct-blur">****************************</span>@<span class="apbct-blur">***************</span>wi.us</span>
SUMMARY:Early Release -
DESCRIPTION:
URL:https://www.milton.k12.wi.us/event/early-release-150/
CATEGORIES:Consolidated
END:VEVENT
BEGIN:VEVENT
DTSTART;TZID=America/Chicago:20270913T183000
DTEND;TZID=America/Chicago:20270913T203000
DTSTAMP:20260419T201808
CREATED:20250913T081009Z
LAST-MODIFIED:20260419T235353Z
UID:<span 
                data-original-string='DBrB9kiZoWJaVcJ9vt7Dng==386Y/VNTUxh4zZ0WmWDcL5W0o0DRUfcubs1MFs7PsIphzhHNO6B9VZ/zXAAu1RKGa0PUzl/BMfTDH+g2SGZ089fpg=='
                class='apbct-email-encoder'
                title='This contact has been encoded by Anti-Spam by CleanTalk. Click to decode. To finish the decoding make sure that JavaScript is enabled in your browser.'>10<span class="apbct-blur">****************************</span>@<span class="apbct-blur">***************</span>wi.us</span>
SUMMARY:School Board Meeting
DESCRIPTION:
URL:https://www.milton.k12.wi.us/event/school-board-meeting-78/
CATEGORIES:District
END:VEVENT
BEGIN:VEVENT
DTSTART;TZID=America/Chicago:20270914T183000
DTEND;TZID=America/Chicago:20270914T193000
DTSTAMP:20260419T201808
CREATED:20250914T082135Z
LAST-MODIFIED:20260419T232617Z
UID:<span 
                data-original-string='uOEWSGVSruzRQ1MKerVJ8g==386wg8iATSqZPnOdTTjAU59Zq/5W6JYUsBfl0tJl5fo78DF0ssAgj4/K+Jpsrp33EdOubnbje2HzZMp1E15D81eog=='
                class='apbct-email-encoder'
                title='This contact has been encoded by Anti-Spam by CleanTalk. Click to decode. To finish the decoding make sure that JavaScript is enabled in your browser.'>10<span class="apbct-blur">****************************</span>@<span class="apbct-blur">***************</span>wi.us</span>
SUMMARY:CES - PIE Meeting
DESCRIPTION:
URL:https://www.milton.k12.wi.us/event/ces-pie-meeting-13/
CATEGORIES:Consolidated
END:VEVENT
BEGIN:VEVENT
DTSTART;TZID=America/Chicago:20270920T143500
DTEND;TZID=America/Chicago:20270920T153500
DTSTAMP:20260419T201808
CREATED:20250920T083442Z
LAST-MODIFIED:20260419T232618Z
UID:<span 
                data-original-string='s5Yn95F64HDplBTEBLAPMg==386BI1keHTXfjqGsKG8FWwkkDAjUEcQS7biwm7NirDo8drzZsRrSz6h0RosYdJcB6zuVvaj24FU2yhzNZ0fb+b7ew=='
                class='apbct-email-encoder'
                title='This contact has been encoded by Anti-Spam by CleanTalk. Click to decode. To finish the decoding make sure that JavaScript is enabled in your browser.'>10<span class="apbct-blur">****************************</span>@<span class="apbct-blur">***************</span>wi.us</span>
SUMMARY:Early Release -
DESCRIPTION:
URL:https://www.milton.k12.wi.us/event/early-release-151/
CATEGORIES:Consolidated
END:VEVENT
BEGIN:VEVENT
DTSTART;TZID=America/Chicago:20270920T180000
DTEND;TZID=America/Chicago:20270920T200000
DTSTAMP:20260419T201808
CREATED:20250920T083750Z
LAST-MODIFIED:20260419T235603Z
UID:<span 
                data-original-string='5BTpYx2AfxtVKbpT1by9/w==386dNrAerEMyPMUlh+LHQWDaZKatBjxclI4Zw+81NC57hpmJgPxm2BpDDTLbZxP9gOLgqCzCV0mW6XiHFr0aG3psA=='
                class='apbct-email-encoder'
                title='This contact has been encoded by Anti-Spam by CleanTalk. Click to decode. To finish the decoding make sure that JavaScript is enabled in your browser.'>10<span class="apbct-blur">****************************</span>@<span class="apbct-blur">***************</span>wi.us</span>
SUMMARY:PAWS mtg
DESCRIPTION:
URL:https://www.milton.k12.wi.us/event/paws-mtg-37/
CATEGORIES:Milton West Elementary
END:VEVENT
BEGIN:VEVENT
DTSTART;TZID=America/Chicago:20270921T180000
DTEND;TZID=America/Chicago:20270921T190000
DTSTAMP:20260419T201808
CREATED:20250921T081744Z
LAST-MODIFIED:20260419T232925Z
UID:<span 
                data-original-string='FHF5dpEx0A5Y3G5WezRJLg==386wEXr9M/pJsV6xpNcYQ1bCeJmlTyM4vL3v0Ss5XUJaVaWl7el1/uCrD01Kw0wdlIERPLUPXIz1GTvWTvwzIJr0g=='
                class='apbct-email-encoder'
                title='This contact has been encoded by Anti-Spam by CleanTalk. Click to decode. To finish the decoding make sure that JavaScript is enabled in your browser.'>10<span class="apbct-blur">****************************</span>@<span class="apbct-blur">***************</span>wi.us</span>
SUMMARY:FON Meeting
DESCRIPTION:
URL:https://www.milton.k12.wi.us/event/fon-meeting-37/
CATEGORIES:Northside Intermediate
END:VEVENT
BEGIN:VEVENT
DTSTART;TZID=America/Chicago:20270927T143500
DTEND;TZID=America/Chicago:20270927T153500
DTSTAMP:20260419T201808
CREATED:20250927T084245Z
LAST-MODIFIED:20260419T232619Z
UID:<span 
                data-original-string='Gi5iRlMcZeF0LUnpL9bDSg==386zHOxtc0MbQSg3PccDsUESV3SlwoN12ZQddGpyhsyhgDhhQQHifmS6iS5LT6/rnC7jXdnBaxntf2XB8FsdvCzMA=='
                class='apbct-email-encoder'
                title='This contact has been encoded by Anti-Spam by CleanTalk. Click to decode. To finish the decoding make sure that JavaScript is enabled in your browser.'>10<span class="apbct-blur">****************************</span>@<span class="apbct-blur">***************</span>wi.us</span>
SUMMARY:Early Release -
DESCRIPTION:
URL:https://www.milton.k12.wi.us/event/early-release-152/
CATEGORIES:Consolidated
END:VEVENT
BEGIN:VEVENT
DTSTART;TZID=America/Chicago:20270927T183000
DTEND;TZID=America/Chicago:20270927T203000
DTSTAMP:20260419T201808
CREATED:20250927T081328Z
LAST-MODIFIED:20260419T235354Z
UID:<span 
                data-original-string='7UiiaIQ8vvM0iFvAJy06Bw==386peQnfbDcw/Tf8fXFM0Gd18bM87/PtdL7liiHDvsT6/Bfn0sFaiWoDBEz0SofdE/S7c+/iSyCBaGx8WHTl5ebgg=='
                class='apbct-email-encoder'
                title='This contact has been encoded by Anti-Spam by CleanTalk. Click to decode. To finish the decoding make sure that JavaScript is enabled in your browser.'>10<span class="apbct-blur">****************************</span>@<span class="apbct-blur">***************</span>wi.us</span>
SUMMARY:School Board Meeting
DESCRIPTION:
URL:https://www.milton.k12.wi.us/event/school-board-meeting-79/
LOCATION:School District of Milton\, 448 E High St\, Milton\, WI\, United States
CATEGORIES:District
GEO:42.773036;-88.944404
X-APPLE-STRUCTURED-LOCATION;VALUE=URI;X-ADDRESS=School District of Milton 448 E High St Milton WI United States;X-APPLE-RADIUS=500;X-TITLE=448 E High St:geo:-88.944404,42.773036
END:VEVENT
BEGIN:VEVENT
DTSTART;TZID=America/Chicago:20271004T143500
DTEND;TZID=America/Chicago:20271004T153500
DTSTAMP:20260419T201808
CREATED:20251004T084940Z
LAST-MODIFIED:20260419T232619Z
UID:<span 
                data-original-string='IZB4x6jDSlFSL8700XeIYg==386s27M8/yTXmDlvqBGUtEu3ESxDCGF04SHz4PRvcA5ijWYL+q4vLwkEUArYrP75lQnfK9QvG8sSj/Yl0F8eQk6Ew=='
                class='apbct-email-encoder'
                title='This contact has been encoded by Anti-Spam by CleanTalk. Click to decode. To finish the decoding make sure that JavaScript is enabled in your browser.'>10<span class="apbct-blur">****************************</span>@<span class="apbct-blur">***************</span>wi.us</span>
SUMMARY:Early Release -
DESCRIPTION:
URL:https://www.milton.k12.wi.us/event/early-release-153/
CATEGORIES:Consolidated
END:VEVENT
BEGIN:VEVENT
DTSTART;TZID=America/Chicago:20271011T143500
DTEND;TZID=America/Chicago:20271011T153500
DTSTAMP:20260419T201808
CREATED:20251011T084627Z
LAST-MODIFIED:20260419T232630Z
UID:<span 
                data-original-string='b2A4jQujYPJZIGRzrtaBiw==386Tr1xzuhXz4RVBNMmf1U+5EUdvG07wR1dYZXod7InJPexKTGVmwCy5mEEvStv8K+gbNw07L3xrQpwHHyoazyMYg=='
                class='apbct-email-encoder'
                title='This contact has been encoded by Anti-Spam by CleanTalk. Click to decode. To finish the decoding make sure that JavaScript is enabled in your browser.'>10<span class="apbct-blur">****************************</span>@<span class="apbct-blur">***************</span>wi.us</span>
SUMMARY:Early Release -
DESCRIPTION:
URL:https://www.milton.k12.wi.us/event/early-release-154/
CATEGORIES:Consolidated
END:VEVENT
BEGIN:VEVENT
DTSTART;TZID=America/Chicago:20271011T183000
DTEND;TZID=America/Chicago:20271011T203000
DTSTAMP:20260419T201808
CREATED:20251011T082500Z
LAST-MODIFIED:20260419T235403Z
UID:<span 
                data-original-string='FPQ2T3UkgFWaNrpMHn4SLg==386X5fro1SJLNli5OsSDRI9VfKOfLqZmgWTa7MBRfcliyQSAPgUeID96yXj01mlPE+sUarLV/If+nvImvBnqUHnaw=='
                class='apbct-email-encoder'
                title='This contact has been encoded by Anti-Spam by CleanTalk. Click to decode. To finish the decoding make sure that JavaScript is enabled in your browser.'>10<span class="apbct-blur">****************************</span>@<span class="apbct-blur">***************</span>wi.us</span>
SUMMARY:School Board Meeting
DESCRIPTION:
URL:https://www.milton.k12.wi.us/event/school-board-meeting-80/
CATEGORIES:District
END:VEVENT
BEGIN:VEVENT
DTSTART;TZID=America/Chicago:20271012T183000
DTEND;TZID=America/Chicago:20271012T193000
DTSTAMP:20260419T201808
CREATED:20251012T084936Z
LAST-MODIFIED:20260419T232631Z
UID:<span 
                data-original-string='SObShiT2SQfJlBFPFSadGQ==386uPR9hAJQ1OA2CeUlGJBUIjMZfjSfdmfs6JzLtxqxvLQV+4oUUZEiwXHRqYaxDMXWRgqNfP8KBbnPG0Ravfia3w=='
                class='apbct-email-encoder'
                title='This contact has been encoded by Anti-Spam by CleanTalk. Click to decode. To finish the decoding make sure that JavaScript is enabled in your browser.'>10<span class="apbct-blur">****************************</span>@<span class="apbct-blur">***************</span>wi.us</span>
SUMMARY:CES - PIE Meeting
DESCRIPTION:
URL:https://www.milton.k12.wi.us/event/ces-pie-meeting-14/
CATEGORIES:Consolidated
END:VEVENT
BEGIN:VEVENT
DTSTART;TZID=America/Chicago:20271018T143500
DTEND;TZID=America/Chicago:20271018T153500
DTSTAMP:20260419T201808
CREATED:20251018T084630Z
LAST-MODIFIED:20260419T232631Z
UID:<span 
                data-original-string='NZrHsI96uRX8o5IwI6nd/w==3863Kdfxz9M0xdX+xiVPnbLG8+9JNZ9vRihZlukHG/ULVUXSC3zWLwE/G46GFlvno5NsKP3pdk51ydfhcB9ePXFNQ=='
                class='apbct-email-encoder'
                title='This contact has been encoded by Anti-Spam by CleanTalk. Click to decode. To finish the decoding make sure that JavaScript is enabled in your browser.'>10<span class="apbct-blur">****************************</span>@<span class="apbct-blur">***************</span>wi.us</span>
SUMMARY:Early Release -
DESCRIPTION:
URL:https://www.milton.k12.wi.us/event/early-release-155/
CATEGORIES:Consolidated
END:VEVENT
BEGIN:VEVENT
DTSTART;TZID=America/Chicago:20271018T180000
DTEND;TZID=America/Chicago:20271018T200000
DTSTAMP:20260419T201808
CREATED:20251018T095421Z
LAST-MODIFIED:20260419T235618Z
UID:<span 
                data-original-string='tS7idQv/90avTQkZmxQXwQ==386+eZIgbfmGzfoJjAXxC5tcJLumFlCQADQ3ql0KXcIGkH1m2rEMXlNjCw0SWL2abzMmTKJbob10T8YJjilvOjE+Q=='
                class='apbct-email-encoder'
                title='This contact has been encoded by Anti-Spam by CleanTalk. Click to decode. To finish the decoding make sure that JavaScript is enabled in your browser.'>10<span class="apbct-blur">****************************</span>@<span class="apbct-blur">***************</span>wi.us</span>
SUMMARY:PAWS mtg
DESCRIPTION:
URL:https://www.milton.k12.wi.us/event/paws-mtg-38/
CATEGORIES:Milton West Elementary
END:VEVENT
BEGIN:VEVENT
DTSTART;TZID=America/Chicago:20271019T180000
DTEND;TZID=America/Chicago:20271019T190000
DTSTAMP:20260419T201808
CREATED:20251019T092554Z
LAST-MODIFIED:20260419T232926Z
UID:<span 
                data-original-string='M53JgkZkIDzd05pXlzI+VQ==386LraPJ3EEX+y5mP7m7kZQV/RCCIFkBNrrXEerkeDCdLzxA2NjpnvonX40swh56DnzRRH7IelTievY7Fsgg/QXdg=='
                class='apbct-email-encoder'
                title='This contact has been encoded by Anti-Spam by CleanTalk. Click to decode. To finish the decoding make sure that JavaScript is enabled in your browser.'>10<span class="apbct-blur">****************************</span>@<span class="apbct-blur">***************</span>wi.us</span>
SUMMARY:FON Meeting
DESCRIPTION:
URL:https://www.milton.k12.wi.us/event/fon-meeting-38/
CATEGORIES:Northside Intermediate
END:VEVENT
END:VCALENDAR