BEGIN:VCALENDAR
VERSION:2.0
PRODID:-//School District of Milton - ECPv6.15.20//NONSGML v1.0//EN
CALSCALE:GREGORIAN
METHOD:PUBLISH
X-WR-CALNAME:School District of Milton
X-ORIGINAL-URL:https://www.milton.k12.wi.us
X-WR-CALDESC:Events for School District of Milton
REFRESH-INTERVAL;VALUE=DURATION:PT1H
X-Robots-Tag:noindex
X-PUBLISHED-TTL:PT1H
BEGIN:VTIMEZONE
TZID:America/Chicago
BEGIN:DAYLIGHT
TZOFFSETFROM:-0600
TZOFFSETTO:-0500
TZNAME:CDT
DTSTART:20240310T080000
END:DAYLIGHT
BEGIN:STANDARD
TZOFFSETFROM:-0500
TZOFFSETTO:-0600
TZNAME:CST
DTSTART:20241103T070000
END:STANDARD
BEGIN:DAYLIGHT
TZOFFSETFROM:-0600
TZOFFSETTO:-0500
TZNAME:CDT
DTSTART:20250309T080000
END:DAYLIGHT
BEGIN:STANDARD
TZOFFSETFROM:-0500
TZOFFSETTO:-0600
TZNAME:CST
DTSTART:20251102T070000
END:STANDARD
BEGIN:DAYLIGHT
TZOFFSETFROM:-0600
TZOFFSETTO:-0500
TZNAME:CDT
DTSTART:20260308T080000
END:DAYLIGHT
BEGIN:STANDARD
TZOFFSETFROM:-0500
TZOFFSETTO:-0600
TZNAME:CST
DTSTART:20261101T070000
END:STANDARD
END:VTIMEZONE
BEGIN:VEVENT
DTSTART;TZID=America/Chicago:20251029T100000
DTEND;TZID=America/Chicago:20251029T130000
DTSTAMP:20260419T071025
CREATED:20250908T222231Z
LAST-MODIFIED:20251029T150727Z
UID:<span 
                data-original-string='+M9/P6Ce3aoxXyjtJK1rdw==386AxFFBlIY2Vi/oj9901GuJ7AitifbucxuaMAimwEiyMHl5I8lFxngE4NIBE0vVdiWyPXPfX2AB/hy0oqiSgWyMA=='
                class='apbct-email-encoder'
                title='This contact has been encoded by Anti-Spam by CleanTalk. Click to decode. To finish the decoding make sure that JavaScript is enabled in your browser.'>10<span class="apbct-blur">****************************</span>@<span class="apbct-blur">***************</span>wi.us</span>
SUMMARY:Picture Retake Day
DESCRIPTION:
URL:https://www.milton.k12.wi.us/event/picture-retake-day-4/
CATEGORIES:Milton West Elementary
END:VEVENT
BEGIN:VEVENT
DTSTART;VALUE=DATE:20251030
DTEND;VALUE=DATE:20251031
DTSTAMP:20260419T071025
CREATED:20250925T133947Z
LAST-MODIFIED:20251030T220754Z
UID:<span 
                data-original-string='VXSL7QBPKomVcmTuJr359A==386VzxFxuwE8xULwjcjwt5UPzd6otTG6bdcKK87AidbjnzWjTeYOHkFaBNVY7h8ZgsOoruS5hkvhG0+aJQAxem/DA=='
                class='apbct-email-encoder'
                title='This contact has been encoded by Anti-Spam by CleanTalk. Click to decode. To finish the decoding make sure that JavaScript is enabled in your browser.'>10<span class="apbct-blur">****************************</span>@<span class="apbct-blur">***************</span>wi.us</span>
SUMMARY:DAY 5
DESCRIPTION:
URL:https://www.milton.k12.wi.us/event/day-5-32/
CATEGORIES:Northside Intermediate
END:VEVENT
BEGIN:VEVENT
DTSTART;VALUE=DATE:20251031
DTEND;VALUE=DATE:20251101
DTSTAMP:20260419T071025
CREATED:20250925T133948Z
LAST-MODIFIED:20251031T220729Z
UID:<span 
                data-original-string='cxtKly1M814ABThMRaVOPg==386TtunPmjQrE/ih+QSDGgwNJup0C4ckwn9Z7BTg0B+ZwMINsHJVt4+M+ZV1kXmRroArLK44RXabxqv9QC2Z7hbFw=='
                class='apbct-email-encoder'
                title='This contact has been encoded by Anti-Spam by CleanTalk. Click to decode. To finish the decoding make sure that JavaScript is enabled in your browser.'>10<span class="apbct-blur">****************************</span>@<span class="apbct-blur">***************</span>wi.us</span>
SUMMARY:DAY 6
DESCRIPTION:
URL:https://www.milton.k12.wi.us/event/day-6-33/
CATEGORIES:Northside Intermediate
END:VEVENT
BEGIN:VEVENT
DTSTART;VALUE=DATE:20251103
DTEND;VALUE=DATE:20251104
DTSTAMP:20260419T071025
CREATED:20251022T174305Z
LAST-MODIFIED:20251103T222237Z
UID:<span 
                data-original-string='YtiE+xLbsMhvVe6dhOGb7Q==3860X13bKqd4rC8YSYvPgheOGmHeWJeX4hb+JSFPP7yNTfCDf+CpJ+GC81YefZnPK0MaHPboyDimrZcd2xWTf/55w=='
                class='apbct-email-encoder'
                title='This contact has been encoded by Anti-Spam by CleanTalk. Click to decode. To finish the decoding make sure that JavaScript is enabled in your browser.'>10<span class="apbct-blur">****************************</span>@<span class="apbct-blur">***************</span>wi.us</span>
SUMMARY:DAY 1
DESCRIPTION:
URL:https://www.milton.k12.wi.us/event/day-1-35/
CATEGORIES:Northside Intermediate
END:VEVENT
BEGIN:VEVENT
DTSTART;TZID=America/Chicago:20251103T143500
DTEND;TZID=America/Chicago:20251103T153500
DTSTAMP:20260419T071025
CREATED:20240822T012937Z
LAST-MODIFIED:20251103T205638Z
UID:<span 
                data-original-string='wiMVIRojZHbrH2ur5u4iDw==386ohDO8w+EMBQQPWlX2lbPv5vZUfP2ruXQJlIrFkc4YQ45ajwJI1Xrqd0KwwGJDi2fyZklbhrXLpefLEnhVPDkug=='
                class='apbct-email-encoder'
                title='This contact has been encoded by Anti-Spam by CleanTalk. Click to decode. To finish the decoding make sure that JavaScript is enabled in your browser.'>10<span class="apbct-blur">****************************</span>@<span class="apbct-blur">***************</span>wi.us</span>
SUMMARY:Early Release -
DESCRIPTION:
URL:https://www.milton.k12.wi.us/event/early-release-53/
CATEGORIES:Consolidated
END:VEVENT
BEGIN:VEVENT
DTSTART;VALUE=DATE:20251104
DTEND;VALUE=DATE:20251105
DTSTAMP:20260419T071025
CREATED:20251023T144132Z
LAST-MODIFIED:20251104T222228Z
UID:<span 
                data-original-string='b+3U8nAsfh9jKGr7Jqflig==386u7hvxRaSx/cxlBiISVgZsLGh33NGVTAwjv89rvc2tFWRBBzXcKc97XP4fNwgrHCSHv0vRLr2Ap14KiY6eLqQ6A=='
                class='apbct-email-encoder'
                title='This contact has been encoded by Anti-Spam by CleanTalk. Click to decode. To finish the decoding make sure that JavaScript is enabled in your browser.'>10<span class="apbct-blur">****************************</span>@<span class="apbct-blur">***************</span>wi.us</span>
SUMMARY:DAY 2
DESCRIPTION:
URL:https://www.milton.k12.wi.us/event/day-2-33/
CATEGORIES:Northside Intermediate
END:VEVENT
BEGIN:VEVENT
DTSTART;VALUE=DATE:20251105
DTEND;VALUE=DATE:20251106
DTSTAMP:20260419T071025
CREATED:20251023T144208Z
LAST-MODIFIED:20251105T222255Z
UID:<span 
                data-original-string='Z2Fq4JtPlhgEmljIkEF/Xg==386rfwcxCRhfuMGNFz8B085oWdQqqCG3CIP7bJn1NzGXhT21l04AT4TtXwT9ORVK6rG3rlQVYgzi9tqOpFd7G1MiQ=='
                class='apbct-email-encoder'
                title='This contact has been encoded by Anti-Spam by CleanTalk. Click to decode. To finish the decoding make sure that JavaScript is enabled in your browser.'>10<span class="apbct-blur">****************************</span>@<span class="apbct-blur">***************</span>wi.us</span>
SUMMARY:DAY 3
DESCRIPTION:
URL:https://www.milton.k12.wi.us/event/day-3-34/
CATEGORIES:Northside Intermediate
END:VEVENT
BEGIN:VEVENT
DTSTART;VALUE=DATE:20251106
DTEND;VALUE=DATE:20251107
DTSTAMP:20260419T071025
CREATED:20251023T144208Z
LAST-MODIFIED:20251106T222224Z
UID:<span 
                data-original-string='szIiR7pPVD9Rto4RspDsdg==386U5QO8nSMP3durNqChUX5yRIqQYrYeNbXsgL/FhyQ2XJeMNQWWaEI67xT8N1OxOC8RG8H9n61hzD58mcVQ2JHDQ=='
                class='apbct-email-encoder'
                title='This contact has been encoded by Anti-Spam by CleanTalk. Click to decode. To finish the decoding make sure that JavaScript is enabled in your browser.'>10<span class="apbct-blur">****************************</span>@<span class="apbct-blur">***************</span>wi.us</span>
SUMMARY:DAY 4
DESCRIPTION:
URL:https://www.milton.k12.wi.us/event/day-4-34/
CATEGORIES:Northside Intermediate
END:VEVENT
BEGIN:VEVENT
DTSTART;VALUE=DATE:20251107
DTEND;VALUE=DATE:20251108
DTSTAMP:20260419T071025
CREATED:20250905T073945Z
LAST-MODIFIED:20251107T232225Z
UID:<span 
                data-original-string='J5BXgNGeo1Jr5x+avEn/4Q==386puKwDbwzcLUH7jVGDsBGADFRODWlvwxyZ46QJf1eFzEGFGhVzN3tzgaBiR7GECprhP/MIlkYw9nB5Ergm255Dg=='
                class='apbct-email-encoder'
                title='This contact has been encoded by Anti-Spam by CleanTalk. Click to decode. To finish the decoding make sure that JavaScript is enabled in your browser.'>10<span class="apbct-blur">****************************</span>@<span class="apbct-blur">***************</span>wi.us</span>
SUMMARY:HES: Family Fun Night
DESCRIPTION:
URL:https://www.milton.k12.wi.us/event/hes-family-fun-night-3/
CATEGORIES:Harmony Elementary
END:VEVENT
BEGIN:VEVENT
DTSTART;VALUE=DATE:20251107
DTEND;VALUE=DATE:20251108
DTSTAMP:20260419T071025
CREATED:20251023T144133Z
LAST-MODIFIED:20251107T223727Z
UID:<span 
                data-original-string='ureZ5YTzMMiD8FUEQmMjnw==386Iqgj3DT0/SqJAPDhtknj235ZkBV9hyaPkCUiUWtVfOAwnZZtH74iytM7jY5sTDE6ZmWwHeDuWD/4mHJFUgeLDw=='
                class='apbct-email-encoder'
                title='This contact has been encoded by Anti-Spam by CleanTalk. Click to decode. To finish the decoding make sure that JavaScript is enabled in your browser.'>10<span class="apbct-blur">****************************</span>@<span class="apbct-blur">***************</span>wi.us</span>
SUMMARY:DAY 5
DESCRIPTION:
URL:https://www.milton.k12.wi.us/event/day-5-33/
CATEGORIES:Northside Intermediate
END:VEVENT
BEGIN:VEVENT
DTSTART;VALUE=DATE:20251110
DTEND;VALUE=DATE:20251111
DTSTAMP:20260419T071025
CREATED:20251023T144209Z
LAST-MODIFIED:20251110T225237Z
UID:<span 
                data-original-string='M9CpIeGrRY5D02lzlSMtGA==386mbIkn4cy2P58LnegoylyDfE0DI4LeKe2PKtncca/ZWj4GB9Ldif3ZixLnogcd5cAxdPP0y81gXDlir5QDGEIMQ=='
                class='apbct-email-encoder'
                title='This contact has been encoded by Anti-Spam by CleanTalk. Click to decode. To finish the decoding make sure that JavaScript is enabled in your browser.'>10<span class="apbct-blur">****************************</span>@<span class="apbct-blur">***************</span>wi.us</span>
SUMMARY:DAY 6
DESCRIPTION:
URL:https://www.milton.k12.wi.us/event/day-6-34/
CATEGORIES:Northside Intermediate
END:VEVENT
BEGIN:VEVENT
DTSTART;TZID=America/Chicago:20251110T143500
DTEND;TZID=America/Chicago:20251110T153500
DTSTAMP:20260419T071025
CREATED:20240822T012937Z
LAST-MODIFIED:20251110T212520Z
UID:<span 
                data-original-string='uUjTad5OijrX6Q5wDTNK6g==386z4arAyuyAv5X1VzkTaQG5rMTxJE1BObiRrk6KwV4f4xfo7cxvZVcx/JwkrFh6lVOkmPZiOjszI8zUeL2i4RUxQ=='
                class='apbct-email-encoder'
                title='This contact has been encoded by Anti-Spam by CleanTalk. Click to decode. To finish the decoding make sure that JavaScript is enabled in your browser.'>10<span class="apbct-blur">****************************</span>@<span class="apbct-blur">***************</span>wi.us</span>
SUMMARY:Early Release -
DESCRIPTION:
URL:https://www.milton.k12.wi.us/event/early-release-54/
CATEGORIES:Consolidated
END:VEVENT
BEGIN:VEVENT
DTSTART;TZID=America/Chicago:20251110T183000
DTEND;TZID=America/Chicago:20251110T203000
DTSTAMP:20260419T071025
CREATED:20240822T012956Z
LAST-MODIFIED:20251110T230754Z
UID:<span 
                data-original-string='aXGzvFB/Ch50mWnnAZMddw==3868FOefEvzm4uR+KCgCUxByhK+D6QDbunnu5HDpkIP7rMIUkwzNs2adixOm99jNV9LtVZL+gUNkQhuLpxDM8wCRQ=='
                class='apbct-email-encoder'
                title='This contact has been encoded by Anti-Spam by CleanTalk. Click to decode. To finish the decoding make sure that JavaScript is enabled in your browser.'>10<span class="apbct-blur">****************************</span>@<span class="apbct-blur">***************</span>wi.us</span>
SUMMARY:School Board Meeting
DESCRIPTION:
URL:https://www.milton.k12.wi.us/event/school-board-meeting-34/
CATEGORIES:District
END:VEVENT
BEGIN:VEVENT
DTSTART;VALUE=DATE:20251111
DTEND;VALUE=DATE:20251112
DTSTAMP:20260419T071025
CREATED:20251023T144210Z
LAST-MODIFIED:20251111T225314Z
UID:<span 
                data-original-string='tA1vMWh1ODqdxnQrL7HzRg==386OpWFTXb2SSzxjp/lEduw/IvB1a3kndsjpKfsMevQx/PstXr8q2M4OkOTrAuxZV4vpbE6TXsCyZB+1VJdD897sA=='
                class='apbct-email-encoder'
                title='This contact has been encoded by Anti-Spam by CleanTalk. Click to decode. To finish the decoding make sure that JavaScript is enabled in your browser.'>10<span class="apbct-blur">****************************</span>@<span class="apbct-blur">***************</span>wi.us</span>
SUMMARY:DAY 1
DESCRIPTION:
URL:https://www.milton.k12.wi.us/event/day-1-36/
CATEGORIES:Northside Intermediate
END:VEVENT
BEGIN:VEVENT
DTSTART;TZID=America/Chicago:20251111T183000
DTEND;TZID=America/Chicago:20251111T193000
DTSTAMP:20260419T071025
CREATED:20240822T012937Z
LAST-MODIFIED:20251111T223738Z
UID:<span 
                data-original-string='FT1hphF7vXw9mmiZbCC+zg==386bn4mSBK7M64nTNDQtXstSC7YL/DZt8cYYuhvjOFrMUMVsLMph1yYN/Iw8gTq2F9Hw4eMnRHLrrACnFGM6xwcMw=='
                class='apbct-email-encoder'
                title='This contact has been encoded by Anti-Spam by CleanTalk. Click to decode. To finish the decoding make sure that JavaScript is enabled in your browser.'>10<span class="apbct-blur">****************************</span>@<span class="apbct-blur">***************</span>wi.us</span>
SUMMARY:CES - PIE Meeting
DESCRIPTION:
URL:https://www.milton.k12.wi.us/event/pie-meeting-15/
CATEGORIES:Consolidated
END:VEVENT
BEGIN:VEVENT
DTSTART;VALUE=DATE:20251112
DTEND;VALUE=DATE:20251113
DTSTAMP:20260419T071025
CREATED:20251023T144211Z
LAST-MODIFIED:20251112T185230Z
UID:<span 
                data-original-string='Sn6LHIk2u8Gb88iUyMWBIQ==3861OYhbBam0ySJejScTysZKUbWbtXION7dPQr5YKhbk/X9Cx5BAwsrFpaD0JZEawaoMo7hmk/11qyMByDh8XIU9w=='
                class='apbct-email-encoder'
                title='This contact has been encoded by Anti-Spam by CleanTalk. Click to decode. To finish the decoding make sure that JavaScript is enabled in your browser.'>10<span class="apbct-blur">****************************</span>@<span class="apbct-blur">***************</span>wi.us</span>
SUMMARY:DAY 2
DESCRIPTION:
URL:https://www.milton.k12.wi.us/event/day-2-34/
CATEGORIES:Northside Intermediate
END:VEVENT
BEGIN:VEVENT
DTSTART;VALUE=DATE:20251113
DTEND;VALUE=DATE:20251114
DTSTAMP:20260419T071025
CREATED:20251023T144225Z
LAST-MODIFIED:20251113T225226Z
UID:<span 
                data-original-string='q0LSL1jfXAVaqUR0VIKDig==386Os3PNv6/Zp7zhoIKnLf8q0rlkQH6JpD5tn3ACNaSjJVyPzwOV7D/Wj+PhC4xtZTxn967L+//76LXKrbU9r7Whw=='
                class='apbct-email-encoder'
                title='This contact has been encoded by Anti-Spam by CleanTalk. Click to decode. To finish the decoding make sure that JavaScript is enabled in your browser.'>10<span class="apbct-blur">****************************</span>@<span class="apbct-blur">***************</span>wi.us</span>
SUMMARY:DAY 3
DESCRIPTION:
URL:https://www.milton.k12.wi.us/event/day-3-35/
CATEGORIES:Northside Intermediate
END:VEVENT
BEGIN:VEVENT
DTSTART;VALUE=DATE:20251114
DTEND;VALUE=DATE:20251115
DTSTAMP:20260419T071025
CREATED:20251023T144225Z
LAST-MODIFIED:20251114T225225Z
UID:<span 
                data-original-string='TR/5goUFIzraZipz1YDCXA==386J+ifbYguWUiG4cckDD6r7yPvnKyhhUN/PdLq/4Y4e0nwmpiPNdk7D6vZtuQXtEW+bhKjxe4RcrIpObckBTD1Bw=='
                class='apbct-email-encoder'
                title='This contact has been encoded by Anti-Spam by CleanTalk. Click to decode. To finish the decoding make sure that JavaScript is enabled in your browser.'>10<span class="apbct-blur">****************************</span>@<span class="apbct-blur">***************</span>wi.us</span>
SUMMARY:DAY 4
DESCRIPTION:
URL:https://www.milton.k12.wi.us/event/day-4-35/
CATEGORIES:Northside Intermediate
END:VEVENT
BEGIN:VEVENT
DTSTART;TZID=America/Chicago:20251114T180000
DTEND;TZID=America/Chicago:20251114T190000
DTSTAMP:20260419T071025
CREATED:20251017T233746Z
LAST-MODIFIED:20251114T205227Z
UID:<span 
                data-original-string='F3o4DxskPyj/HzHNSK/Wug==386sB3OS5ojClPLDIrOQPEm4FDWSkWAxTju3+AF7EsKjQqMb9DF2CDQHXYO0/nwlL0PAA0eyUm+d151V4d+4doD+g=='
                class='apbct-email-encoder'
                title='This contact has been encoded by Anti-Spam by CleanTalk. Click to decode. To finish the decoding make sure that JavaScript is enabled in your browser.'>10<span class="apbct-blur">****************************</span>@<span class="apbct-blur">***************</span>wi.us</span>
SUMMARY:PAWS BIngo Night
DESCRIPTION:
URL:https://www.milton.k12.wi.us/event/paws-bingo-night/
CATEGORIES:Milton West Elementary
END:VEVENT
BEGIN:VEVENT
DTSTART;TZID=America/Chicago:20251114T190000
DTEND;TZID=America/Chicago:20251114T190000
DTSTAMP:20260419T071025
CREATED:20250616T130840Z
LAST-MODIFIED:20251114T232648Z
UID:<span 
                data-original-string='dxdY3WHhhJYuPa9iEHLajQ==3867I/DKUCU9U1zcmOsY1/uHOzI6JT+wg9otbOmqkN2dTo4DvujCOv4KswxhfUZc4bqrhFMjcOdRnXMCTORG6nHtA=='
                class='apbct-email-encoder'
                title='This contact has been encoded by Anti-Spam by CleanTalk. Click to decode. To finish the decoding make sure that JavaScript is enabled in your browser.'>10<span class="apbct-blur">****************************</span>@<span class="apbct-blur">***************</span>wi.us</span>
SUMMARY:MHS Musical: Mamma Mia!
DESCRIPTION:
URL:https://www.milton.k12.wi.us/event/mhs-musical-mamma-mia/
CATEGORIES:Milton High School
END:VEVENT
BEGIN:VEVENT
DTSTART;TZID=America/Chicago:20251115T190000
DTEND;TZID=America/Chicago:20251115T190000
DTSTAMP:20260419T071025
CREATED:20250616T130841Z
LAST-MODIFIED:20251115T232240Z
UID:<span 
                data-original-string='8N/zw3cpZ4LRQuQDjVXERg==386a/7zHigKoS0yqL493ELVccE2Kiucsm+SgUyKMQIKVFhm1iEwUR4ZblU0eN5LuqKrNuj59PTBqIyPf43VPpSnpA=='
                class='apbct-email-encoder'
                title='This contact has been encoded by Anti-Spam by CleanTalk. Click to decode. To finish the decoding make sure that JavaScript is enabled in your browser.'>10<span class="apbct-blur">****************************</span>@<span class="apbct-blur">***************</span>wi.us</span>
SUMMARY:MHS Musical: Mamma Mia!
DESCRIPTION:
URL:https://www.milton.k12.wi.us/event/mhs-musical-mamma-mia-2/
CATEGORIES:Milton High School
END:VEVENT
BEGIN:VEVENT
DTSTART;TZID=America/Chicago:20251116T140000
DTEND;TZID=America/Chicago:20251116T140000
DTSTAMP:20260419T071025
CREATED:20250616T130842Z
LAST-MODIFIED:20251116T181554Z
UID:<span 
                data-original-string='gRsSnN3LHkoQSED7LI6dCQ==386xij6yr0C4h+mVyK6h6bbq8yab5Vgms+GC5T2Sn+2f5finSzMspUAkBdMuFydcyPTtPFWUrpY1n8SrcDjad7F/A=='
                class='apbct-email-encoder'
                title='This contact has been encoded by Anti-Spam by CleanTalk. Click to decode. To finish the decoding make sure that JavaScript is enabled in your browser.'>10<span class="apbct-blur">****************************</span>@<span class="apbct-blur">***************</span>wi.us</span>
SUMMARY:MHS Musical: Mamma Mia!
DESCRIPTION:
URL:https://www.milton.k12.wi.us/event/mhs-musical-mamma-mia-3/
CATEGORIES:Milton High School
END:VEVENT
BEGIN:VEVENT
DTSTART;VALUE=DATE:20251117
DTEND;VALUE=DATE:20251118
DTSTAMP:20260419T071025
CREATED:20250611T144518Z
LAST-MODIFIED:20251117T235225Z
UID:<span 
                data-original-string='YxC8nj+jnZHUrqLsSzTlFQ==386CY1n76rIyC510dJOasMDXbeACrt+Z7zXekY3vp5p+d90mELdKcEED6Mt5gbb18fhigjNKtCBEoVQROVVxczMHg=='
                class='apbct-email-encoder'
                title='This contact has been encoded by Anti-Spam by CleanTalk. Click to decode. To finish the decoding make sure that JavaScript is enabled in your browser.'>10<span class="apbct-blur">****************************</span>@<span class="apbct-blur">***************</span>wi.us</span>
SUMMARY:Virtual Learning Day For Students
DESCRIPTION:
URL:https://www.milton.k12.wi.us/event/virtual-learning-day-for-students-2/
CATEGORIES:Milton East Elementary
END:VEVENT
BEGIN:VEVENT
DTSTART;VALUE=DATE:20251117
DTEND;VALUE=DATE:20251118
DTSTAMP:20260419T071025
CREATED:20250616T130842Z
LAST-MODIFIED:20251117T232227Z
UID:<span 
                data-original-string='yPiMw5/I0wTxHf5Od8SSAg==386sw19xI49OjcX9Gm6VP+n8dnWuQCHn869UC8Lt+JipPXUOz4nGqXcBfdq5qwVY+kbZ4Sr3bQmi1B1yTnX1y1gxA=='
                class='apbct-email-encoder'
                title='This contact has been encoded by Anti-Spam by CleanTalk. Click to decode. To finish the decoding make sure that JavaScript is enabled in your browser.'>10<span class="apbct-blur">****************************</span>@<span class="apbct-blur">***************</span>wi.us</span>
SUMMARY:PD Day - Virtual Learning Day
DESCRIPTION:
URL:https://www.milton.k12.wi.us/event/pd-day-virtual-learning-day/
CATEGORIES:Milton High School
END:VEVENT
BEGIN:VEVENT
DTSTART;VALUE=DATE:20251117
DTEND;VALUE=DATE:20251118
DTSTAMP:20260419T071025
CREATED:20250825T070858Z
LAST-MODIFIED:20251117T233725Z
UID:<span 
                data-original-string='bjAhOp8TS4V8J7Ap1WZQGQ==386PD6y3j79aPWlK/TiLqxznLJtcGdy0UFh4pyu9ysHZ1SPeh6lb85RzzKz/CrvCMUkNDpmm2CRlnfNTkJjukbKNA=='
                class='apbct-email-encoder'
                title='This contact has been encoded by Anti-Spam by CleanTalk. Click to decode. To finish the decoding make sure that JavaScript is enabled in your browser.'>10<span class="apbct-blur">****************************</span>@<span class="apbct-blur">***************</span>wi.us</span>
SUMMARY:HES: Virtual Learning Day
DESCRIPTION:
URL:https://www.milton.k12.wi.us/event/hes-virtual-learning-day-2/
CATEGORIES:Harmony Elementary
END:VEVENT
BEGIN:VEVENT
DTSTART;VALUE=DATE:20251117
DTEND;VALUE=DATE:20251118
DTSTAMP:20260419T071025
CREATED:20250922T160804Z
LAST-MODIFIED:20251117T223727Z
UID:<span 
                data-original-string='fSL0OHmK82hvg1sEBUspLA==386Q3uJp7gT1uYmOofopQx3QzTSjNkIR+v3547AR3S4NBNCCK/tR0Y5470CO9JKeTPVZZTROnsxV+aq0/TrOcqs4g=='
                class='apbct-email-encoder'
                title='This contact has been encoded by Anti-Spam by CleanTalk. Click to decode. To finish the decoding make sure that JavaScript is enabled in your browser.'>10<span class="apbct-blur">****************************</span>@<span class="apbct-blur">***************</span>wi.us</span>
SUMMARY:CES - Virtual Learning Day
DESCRIPTION:
URL:https://www.milton.k12.wi.us/event/ces-virtual-learning-day-2/
CATEGORIES:Consolidated
END:VEVENT
BEGIN:VEVENT
DTSTART;VALUE=DATE:20251117
DTEND;VALUE=DATE:20251118
DTSTAMP:20260419T071025
CREATED:20251020T161001Z
LAST-MODIFIED:20251117T232334Z
UID:<span 
                data-original-string='U9p9OhgrIl7gjz1JynFohw==386twW67P2M5X/zPHBhVszQCawONPrmn5Fu/c0kH+dm6tu3Wxo/VMaC5PUz4Jqj9nAJOT0i9SQAMcublbe/dKDofA=='
                class='apbct-email-encoder'
                title='This contact has been encoded by Anti-Spam by CleanTalk. Click to decode. To finish the decoding make sure that JavaScript is enabled in your browser.'>10<span class="apbct-blur">****************************</span>@<span class="apbct-blur">***************</span>wi.us</span>
SUMMARY:Virtual Learning Day
DESCRIPTION:
URL:https://www.milton.k12.wi.us/event/virtual-learning-day-2/
CATEGORIES:Milton Middle School
END:VEVENT
BEGIN:VEVENT
DTSTART;VALUE=DATE:20251117
DTEND;VALUE=DATE:20251118
DTSTAMP:20260419T071025
CREATED:20251110T174523Z
LAST-MODIFIED:20251110T174542Z
UID:<span 
                data-original-string='R5hoxOdEcomH8PuO0EbQYQ==386L3WQiIpy/VelbaNJc7a4MZQq8HHM8pLzO0+4zSod2gOaVPyQtHfJl2RY+7oQUDZpVDbgPSjbxUtHb9+cwcUYyA=='
                class='apbct-email-encoder'
                title='This contact has been encoded by Anti-Spam by CleanTalk. Click to decode. To finish the decoding make sure that JavaScript is enabled in your browser.'>10<span class="apbct-blur">****************************</span>@<span class="apbct-blur">***************</span>wi.us</span>
SUMMARY:Virtual Learning Day
DESCRIPTION:
URL:https://www.milton.k12.wi.us/event/virtual-learning-day-4/
CATEGORIES:District
END:VEVENT
BEGIN:VEVENT
DTSTART;TZID=America/Chicago:20251117T180000
DTEND;TZID=America/Chicago:20251117T190000
DTSTAMP:20260419T071025
CREATED:20250829T070837Z
LAST-MODIFIED:20251117T233725Z
UID:<span 
                data-original-string='ZyS1Y5APWmIjliVlaebhFg==386rOVxDs6gnlND5SwxngqRsDWydjCzpjYd7ZK+q7giVMsJevoeYau1p+krmuxZ4Yx3aR4kMv7gfGhZL/iqCyIfDg=='
                class='apbct-email-encoder'
                title='This contact has been encoded by Anti-Spam by CleanTalk. Click to decode. To finish the decoding make sure that JavaScript is enabled in your browser.'>10<span class="apbct-blur">****************************</span>@<span class="apbct-blur">***************</span>wi.us</span>
SUMMARY:HES: Team Harmony Meeting
DESCRIPTION:
URL:https://www.milton.k12.wi.us/event/hes-team-harmony-meeting-3/
CATEGORIES:Harmony Elementary
END:VEVENT
BEGIN:VEVENT
DTSTART;TZID=America/Chicago:20251117T180000
DTEND;TZID=America/Chicago:20251117T200000
DTSTAMP:20260419T071025
CREATED:20240917T180351Z
LAST-MODIFIED:20251117T205225Z
UID:<span 
                data-original-string='mDe2wcpgE2+NrDj45JDPXA==386YIJjfKK/M9lsmt/9HtqQ2YWiO9qtKGn7HJ0QUnuDU83sUP0SCDLcNuwSncejZwN4fJIjUODiYdD8yV/W0kqWLw=='
                class='apbct-email-encoder'
                title='This contact has been encoded by Anti-Spam by CleanTalk. Click to decode. To finish the decoding make sure that JavaScript is enabled in your browser.'>10<span class="apbct-blur">****************************</span>@<span class="apbct-blur">***************</span>wi.us</span>
SUMMARY:PAWS mtg
DESCRIPTION:
URL:https://www.milton.k12.wi.us/event/paws-mtg-15/
CATEGORIES:Milton West Elementary
END:VEVENT
END:VCALENDAR