BEGIN:VCALENDAR
VERSION:2.0
PRODID:-//School District of Milton - ECPv6.15.20//NONSGML v1.0//EN
CALSCALE:GREGORIAN
METHOD:PUBLISH
X-WR-CALNAME:School District of Milton
X-ORIGINAL-URL:https://www.milton.k12.wi.us
X-WR-CALDESC:Events for School District of Milton
REFRESH-INTERVAL;VALUE=DURATION:PT1H
X-Robots-Tag:noindex
X-PUBLISHED-TTL:PT1H
BEGIN:VTIMEZONE
TZID:America/Chicago
BEGIN:DAYLIGHT
TZOFFSETFROM:-0600
TZOFFSETTO:-0500
TZNAME:CDT
DTSTART:20240310T080000
END:DAYLIGHT
BEGIN:STANDARD
TZOFFSETFROM:-0500
TZOFFSETTO:-0600
TZNAME:CST
DTSTART:20241103T070000
END:STANDARD
BEGIN:DAYLIGHT
TZOFFSETFROM:-0600
TZOFFSETTO:-0500
TZNAME:CDT
DTSTART:20250309T080000
END:DAYLIGHT
BEGIN:STANDARD
TZOFFSETFROM:-0500
TZOFFSETTO:-0600
TZNAME:CST
DTSTART:20251102T070000
END:STANDARD
BEGIN:DAYLIGHT
TZOFFSETFROM:-0600
TZOFFSETTO:-0500
TZNAME:CDT
DTSTART:20260308T080000
END:DAYLIGHT
BEGIN:STANDARD
TZOFFSETFROM:-0500
TZOFFSETTO:-0600
TZNAME:CST
DTSTART:20261101T070000
END:STANDARD
END:VTIMEZONE
BEGIN:VEVENT
DTSTART;TZID=America/Chicago:20250811T143500
DTEND;TZID=America/Chicago:20250811T153500
DTSTAMP:20260424T193717
CREATED:20240822T012934Z
LAST-MODIFIED:20250604T153757Z
UID:<span 
                data-original-string='os+NOFZHzHoWu4g6z7LyrA==386K7JyzUdH3FvOA/fO1sycDtoMxcxLTQ6qLN0Plc2pmL+aXDJPi6iy2EpJyvkkdSk8x6RuoCxmEts5F4f9kUz50A=='
                class='apbct-email-encoder'
                title='This contact has been encoded by Anti-Spam by CleanTalk. Click to decode. To finish the decoding make sure that JavaScript is enabled in your browser.'>10<span class="apbct-blur">****************************</span>@<span class="apbct-blur">***************</span>wi.us</span>
SUMMARY:Early Release -
DESCRIPTION:
URL:https://www.milton.k12.wi.us/event/early-release-41/
LOCATION:WI
CATEGORIES:Consolidated
END:VEVENT
BEGIN:VEVENT
DTSTART;TZID=America/Chicago:20250811T183000
DTEND;TZID=America/Chicago:20250811T203000
DTSTAMP:20260424T193717
CREATED:20240822T012955Z
LAST-MODIFIED:20250811T230723Z
UID:<span 
                data-original-string='h1TSwBDEYMwfwBrDCxogKQ==386tMIKrQyYIA+Rz0IeGEWXY+3HoUP54Qpg3Woy5U2O06GaPFcP/drKIBhgD1qZRPwFa05XlTRujEfyoWMSAbbr9Q=='
                class='apbct-email-encoder'
                title='This contact has been encoded by Anti-Spam by CleanTalk. Click to decode. To finish the decoding make sure that JavaScript is enabled in your browser.'>10<span class="apbct-blur">****************************</span>@<span class="apbct-blur">***************</span>wi.us</span>
SUMMARY:School Board Meeting
DESCRIPTION:
URL:https://www.milton.k12.wi.us/event/school-board-meeting-28/
LOCATION:WI
CATEGORIES:District
END:VEVENT
BEGIN:VEVENT
DTSTART;TZID=America/Chicago:20250818T143500
DTEND;TZID=America/Chicago:20250818T153500
DTSTAMP:20260424T193717
CREATED:20240822T012934Z
LAST-MODIFIED:20250604T153759Z
UID:<span 
                data-original-string='KKwc9oUncxGBNR1QyDoAtA==386sWG5MPUGZfNi2D5RxT/etlaa1NNtadbmOJIsycF4O9mhOUByGwTcs1kBBgnH/LxLbBsGdOfgeXlzfY7BTUVswQ=='
                class='apbct-email-encoder'
                title='This contact has been encoded by Anti-Spam by CleanTalk. Click to decode. To finish the decoding make sure that JavaScript is enabled in your browser.'>10<span class="apbct-blur">****************************</span>@<span class="apbct-blur">***************</span>wi.us</span>
SUMMARY:Early Release -
DESCRIPTION:
URL:https://www.milton.k12.wi.us/event/early-release-42/
LOCATION:WI
CATEGORIES:Consolidated
END:VEVENT
BEGIN:VEVENT
DTSTART;TZID=America/Chicago:20250818T180000
DTEND;TZID=America/Chicago:20250818T200000
DTSTAMP:20260424T193717
CREATED:20240917T180346Z
LAST-MODIFIED:20250818T215228Z
UID:<span 
                data-original-string='xS5Tgt0SQqltqn6y2J3rEw==386g/KqPj9sKAR06BD5xTa6+MQqOSz7HUaSsbhy+JcWKAjpf1YmOqHIrFWvwTWvWnHdQtsaA4gkW0pNsnhH/ZcVdg=='
                class='apbct-email-encoder'
                title='This contact has been encoded by Anti-Spam by CleanTalk. Click to decode. To finish the decoding make sure that JavaScript is enabled in your browser.'>10<span class="apbct-blur">****************************</span>@<span class="apbct-blur">***************</span>wi.us</span>
SUMMARY:PAWS mtg
DESCRIPTION:
URL:https://www.milton.k12.wi.us/event/paws-mtg-12/
LOCATION:WI
CATEGORIES:Milton West Elementary
END:VEVENT
BEGIN:VEVENT
DTSTART;TZID=America/Chicago:20250819T180000
DTEND;TZID=America/Chicago:20250819T190000
DTSTAMP:20260424T193717
CREATED:20240823T224234Z
LAST-MODIFIED:20250819T235229Z
UID:<span 
                data-original-string='7a+9GGwjYI0DhMUsHKcb3A==386BJBpoQkQjDabg9iLuOw5uDgTPEBFtzJqvtN++24/h1UcXFRRGXb3te/reHzK38kVpT6IQd5HbVAjLIjnjfiQHQ=='
                class='apbct-email-encoder'
                title='This contact has been encoded by Anti-Spam by CleanTalk. Click to decode. To finish the decoding make sure that JavaScript is enabled in your browser.'>10<span class="apbct-blur">****************************</span>@<span class="apbct-blur">***************</span>wi.us</span>
SUMMARY:FON Meeting
DESCRIPTION:
URL:https://www.milton.k12.wi.us/event/fon-meeting-12/
LOCATION:WI
CATEGORIES:Northside Intermediate
END:VEVENT
BEGIN:VEVENT
DTSTART;TZID=America/Chicago:20250821T173000
DTEND;TZID=America/Chicago:20250821T183000
DTSTAMP:20260424T193717
CREATED:20250813T183857Z
LAST-MODIFIED:20250821T210821Z
UID:<span 
                data-original-string='dXR7ruQ9S9mDjWAdIM7n6Q==386eIFJ4Tm+/V0EVHZ8Gk9jrqNCr0Wa9AmaJfsg/yhJUxUBz7By2uJCeEjq8BHBNIY77KDaKG9OL2ADkv/Cl1f9yA=='
                class='apbct-email-encoder'
                title='This contact has been encoded by Anti-Spam by CleanTalk. Click to decode. To finish the decoding make sure that JavaScript is enabled in your browser.'>10<span class="apbct-blur">****************************</span>@<span class="apbct-blur">***************</span>wi.us</span>
SUMMARY:Parent Group Meeting
DESCRIPTION:
URL:https://www.milton.k12.wi.us/event/parent-group-meeting-9/
LOCATION:MMS Cafeteria
CATEGORIES:Milton Middle School
END:VEVENT
BEGIN:VEVENT
DTSTART;TZID=America/Chicago:20250825T143500
DTEND;TZID=America/Chicago:20250825T153500
DTSTAMP:20260424T193717
CREATED:20240822T012934Z
LAST-MODIFIED:20250604T153802Z
UID:<span 
                data-original-string='wiQQPab//KIf8yVbfk+WWA==386qNkGN/dZL9RogVeerl4Cq1XMzE0aRs3ChElTdH1LiLAzGzYNj1HVtYtFFpiXNEOxVxs5mDwZQDtBSRGW7fC1zA=='
                class='apbct-email-encoder'
                title='This contact has been encoded by Anti-Spam by CleanTalk. Click to decode. To finish the decoding make sure that JavaScript is enabled in your browser.'>10<span class="apbct-blur">****************************</span>@<span class="apbct-blur">***************</span>wi.us</span>
SUMMARY:Early Release -
DESCRIPTION:
URL:https://www.milton.k12.wi.us/event/early-release-43/
LOCATION:WI
CATEGORIES:Consolidated
END:VEVENT
BEGIN:VEVENT
DTSTART;TZID=America/Chicago:20250825T183000
DTEND;TZID=America/Chicago:20250825T203000
DTSTAMP:20260424T193717
CREATED:20240822T012955Z
LAST-MODIFIED:20250825T233732Z
UID:<span 
                data-original-string='TAVVvDX48n2FzydITNg5Aw==386dR4gR3LoRwEcBtAahwVWbW9cqlnC4rPbWYhQ+pvla2d3zFqu384Tp54fzTuH8t2QE75WJRg25S4BFJU/QgvNCw=='
                class='apbct-email-encoder'
                title='This contact has been encoded by Anti-Spam by CleanTalk. Click to decode. To finish the decoding make sure that JavaScript is enabled in your browser.'>10<span class="apbct-blur">****************************</span>@<span class="apbct-blur">***************</span>wi.us</span>
SUMMARY:School Board Meeting
DESCRIPTION:
URL:https://www.milton.k12.wi.us/event/school-board-meeting-29/
LOCATION:School District of Milton\, 448 E High St\, Milton\, WI\, United States
CATEGORIES:District
GEO:42.773036;-88.944404
X-APPLE-STRUCTURED-LOCATION;VALUE=URI;X-ADDRESS=School District of Milton 448 E High St Milton WI United States;X-APPLE-RADIUS=500;X-TITLE=448 E High St:geo:-88.944404,42.773036
END:VEVENT
BEGIN:VEVENT
DTSTART;TZID=America/Chicago:20250826T173000
DTEND;TZID=America/Chicago:20250826T183000
DTSTAMP:20260424T193717
CREATED:20250825T183733Z
LAST-MODIFIED:20250826T213729Z
UID:<span 
                data-original-string='O6Qf+8dKHu2rFKskOtRhAA==386flWPYnpDtBL/AqoXKi/gr6TMTH0QMovrST/dC40boOEnOWsyHaHSPjSZPh4UiI6qS0ghe/2dDNZFji209RklOQ=='
                class='apbct-email-encoder'
                title='This contact has been encoded by Anti-Spam by CleanTalk. Click to decode. To finish the decoding make sure that JavaScript is enabled in your browser.'>10<span class="apbct-blur">****************************</span>@<span class="apbct-blur">***************</span>wi.us</span>
SUMMARY:MMS Open House
DESCRIPTION:
URL:https://www.milton.k12.wi.us/event/mms-open-house-2/
LOCATION:WI
CATEGORIES:Milton Middle School
END:VEVENT
BEGIN:VEVENT
DTSTART;TZID=America/Chicago:20250826T180000
DTEND;TZID=America/Chicago:20250826T190000
DTSTAMP:20260424T193717
CREATED:20250616T130743Z
LAST-MODIFIED:20250826T205935Z
UID:<span 
                data-original-string='XhqYQ/BpOGtcmMb8iw6dlg==386Wmf+oud0JXyEZiEZ1UuFtkpGg5Yqa0SZUSEIdNsdrv0v6DTcR2kWgq064LFC51Femqarrd1snyLT+3kLSLXYOA=='
                class='apbct-email-encoder'
                title='This contact has been encoded by Anti-Spam by CleanTalk. Click to decode. To finish the decoding make sure that JavaScript is enabled in your browser.'>10<span class="apbct-blur">****************************</span>@<span class="apbct-blur">***************</span>wi.us</span>
SUMMARY:Open House
DESCRIPTION:
URL:https://www.milton.k12.wi.us/event/open-house-4/
LOCATION:WI
CATEGORIES:Milton High School
END:VEVENT
BEGIN:VEVENT
DTSTART;VALUE=DATE:20250827
DTEND;VALUE=DATE:20250828
DTSTAMP:20260424T193717
CREATED:20250611T144441Z
LAST-MODIFIED:20250827T225246Z
UID:<span 
                data-original-string='kRo6FmHN9GJI7T/g1ZBMQg==386o1tSZuw7fzutgwcyjUwii/7nOPr64GGIhSfZzJS4gW63kYX1WOlYLTTxwYyTNioADBSZxgzY0SNlRRiHgeGT6g=='
                class='apbct-email-encoder'
                title='This contact has been encoded by Anti-Spam by CleanTalk. Click to decode. To finish the decoding make sure that JavaScript is enabled in your browser.'>10<span class="apbct-blur">****************************</span>@<span class="apbct-blur">***************</span>wi.us</span>
SUMMARY:4K-3 & NIS Open House 4PM - 6PM
DESCRIPTION:
URL:https://www.milton.k12.wi.us/event/4k-3-nis-open-house-4pm-6pm/
LOCATION:WI
CATEGORIES:Milton East Elementary
END:VEVENT
BEGIN:VEVENT
DTSTART;TZID=America/Chicago:20250827T073000
DTEND;TZID=America/Chicago:20250827T113000
DTSTAMP:20260424T193717
CREATED:20250616T130744Z
LAST-MODIFIED:20250827T162400Z
UID:<span 
                data-original-string='rSgVXA4wBwWi910Xnkz4Hw==386iyseZavv6gRvFknfeWZfUWtmf3+KOb76mDhKlvglaMxQoZDuGBxCBMtQIplmJhN0js5GBaKGk55y8vHPGBXLwA=='
                class='apbct-email-encoder'
                title='This contact has been encoded by Anti-Spam by CleanTalk. Click to decode. To finish the decoding make sure that JavaScript is enabled in your browser.'>10<span class="apbct-blur">****************************</span>@<span class="apbct-blur">***************</span>wi.us</span>
SUMMARY:Link Crew Orientation
DESCRIPTION:
URL:https://www.milton.k12.wi.us/event/link-crew-orientation-2/
LOCATION:WI
CATEGORIES:Milton High School
END:VEVENT
BEGIN:VEVENT
DTSTART;TZID=America/Chicago:20250827T160000
DTEND;TZID=America/Chicago:20250827T180000
DTSTAMP:20260424T193717
CREATED:20250821T215305Z
LAST-MODIFIED:20250827T215229Z
UID:<span 
                data-original-string='MSfWko61Ob8EhTbvJ3g7jQ==3862n1GSaE2DvPj8j9YAwoYf0Petq1pZeh10ysXqeV0PlXQDkG2jY1ks5SHJHPh0Y2306+SbSRlXt2zsNe8SnrehA=='
                class='apbct-email-encoder'
                title='This contact has been encoded by Anti-Spam by CleanTalk. Click to decode. To finish the decoding make sure that JavaScript is enabled in your browser.'>10<span class="apbct-blur">****************************</span>@<span class="apbct-blur">***************</span>wi.us</span>
SUMMARY:Open House
DESCRIPTION:
URL:https://www.milton.k12.wi.us/event/open-house-5/
LOCATION:WI
CATEGORIES:Milton West Elementary
END:VEVENT
BEGIN:VEVENT
DTSTART;TZID=America/Chicago:20250827T160000
DTEND;TZID=America/Chicago:20250827T190000
DTSTAMP:20260424T193717
CREATED:20250825T070756Z
LAST-MODIFIED:20250827T203811Z
UID:<span 
                data-original-string='C07f3ichDSzfuDU9SuomUA==386IsxCCQVJd4HtcRJb6AjTfUU4tdvimRgZsDnb87QfagW8lsTzvgXuqEu/doruoOd9+XkLnYUL2KjaiY3KmuyRrw=='
                class='apbct-email-encoder'
                title='This contact has been encoded by Anti-Spam by CleanTalk. Click to decode. To finish the decoding make sure that JavaScript is enabled in your browser.'>10<span class="apbct-blur">****************************</span>@<span class="apbct-blur">***************</span>wi.us</span>
SUMMARY:HES: Open House
DESCRIPTION:
URL:https://www.milton.k12.wi.us/event/hes-open-house/
LOCATION:WI
CATEGORIES:Harmony Elementary
END:VEVENT
BEGIN:VEVENT
DTSTART;TZID=America/Chicago:20250827T160000
DTEND;TZID=America/Chicago:20250827T200000
DTSTAMP:20260424T193717
CREATED:20250731T143724Z
LAST-MODIFIED:20250827T210909Z
UID:<span 
                data-original-string='64anvh4o4kKpfjkr4n2j8w==386xGqeSCXc6aalCYVcK46LtS3o4vQtfvgCEffVATNi4qCIVrB00HEOSvanpcQdD6FSdEWhdEmzIOW5jCpHNM1iXQ=='
                class='apbct-email-encoder'
                title='This contact has been encoded by Anti-Spam by CleanTalk. Click to decode. To finish the decoding make sure that JavaScript is enabled in your browser.'>10<span class="apbct-blur">****************************</span>@<span class="apbct-blur">***************</span>wi.us</span>
SUMMARY:CES - Open House
DESCRIPTION:
URL:https://www.milton.k12.wi.us/event/ces-open-house/
LOCATION:WI
CATEGORIES:Consolidated
END:VEVENT
BEGIN:VEVENT
DTSTART;TZID=America/Chicago:20250827T174500
DTEND;TZID=America/Chicago:20250827T190000
DTSTAMP:20260424T193717
CREATED:20250501T222358Z
LAST-MODIFIED:20250827T203858Z
UID:<span 
                data-original-string='NsW3tO5Y2JkJ8ups2bj2Ow==3863OaAyY1nlQlbgq1XAx1pHLc4/pYk2svwMCZUg36KjNTGIPzVVHJsrEchs8W1ReATjaCRtt+IRjm/JfVoVVGAZQ=='
                class='apbct-email-encoder'
                title='This contact has been encoded by Anti-Spam by CleanTalk. Click to decode. To finish the decoding make sure that JavaScript is enabled in your browser.'>10<span class="apbct-blur">****************************</span>@<span class="apbct-blur">***************</span>wi.us</span>
SUMMARY:NIS: Open House
DESCRIPTION:
URL:https://www.milton.k12.wi.us/event/nis-open-house/
LOCATION:WI
CATEGORIES:Northside Intermediate
END:VEVENT
BEGIN:VEVENT
DTSTART;VALUE=DATE:20250901
DTEND;VALUE=DATE:20250902
DTSTAMP:20260424T193717
CREATED:20250825T070757Z
LAST-MODIFIED:20250901T205819Z
UID:<span 
                data-original-string='ZlMfXIqsfhcSbTg1mQYKZA==386MT7TuCR9INj8wtJCkwnd3fppO7Z7yf9j1H1w98calWdeLDpGhDY9o50DsP9PMDtUoK+ymOONXoW8J29OVGJG2A=='
                class='apbct-email-encoder'
                title='This contact has been encoded by Anti-Spam by CleanTalk. Click to decode. To finish the decoding make sure that JavaScript is enabled in your browser.'>10<span class="apbct-blur">****************************</span>@<span class="apbct-blur">***************</span>wi.us</span>
SUMMARY:HES: Labor Day
DESCRIPTION:
URL:https://www.milton.k12.wi.us/event/hes-labor-day/
LOCATION:WI
CATEGORIES:Harmony Elementary
END:VEVENT
BEGIN:VEVENT
DTSTART;TZID=America/Chicago:20250901T143500
DTEND;TZID=America/Chicago:20250901T153500
DTSTAMP:20260424T193717
CREATED:20240822T012935Z
LAST-MODIFIED:20250604T153803Z
UID:<span 
                data-original-string='A/iAWrhO3XQ5md66wpdTQw==386xmEpZLShAJwkixfwaqr4kgPiEqmkk4LHn2LoFqEecTwoaarabAP+J/Paf07FFQR5mekQ7bsDrDraLisJc3Tq6w=='
                class='apbct-email-encoder'
                title='This contact has been encoded by Anti-Spam by CleanTalk. Click to decode. To finish the decoding make sure that JavaScript is enabled in your browser.'>10<span class="apbct-blur">****************************</span>@<span class="apbct-blur">***************</span>wi.us</span>
SUMMARY:Early Release -
DESCRIPTION:
URL:https://www.milton.k12.wi.us/event/early-release-44/
LOCATION:WI
CATEGORIES:Consolidated
END:VEVENT
BEGIN:VEVENT
DTSTART;VALUE=DATE:20250902
DTEND;VALUE=DATE:20250903
DTSTAMP:20260424T193717
CREATED:20250611T144442Z
LAST-MODIFIED:20250902T230740Z
UID:<span 
                data-original-string='u8pSXKd+pnR261ygPVOJqA==3864BeAefI/gHMqm29qx2YU80zgRR6BxqUbnnnRlatzvlQWsb3v0rOdYxE1L4gLjWXAhnS6uXAWmJAdBwLNgjtHWw=='
                class='apbct-email-encoder'
                title='This contact has been encoded by Anti-Spam by CleanTalk. Click to decode. To finish the decoding make sure that JavaScript is enabled in your browser.'>10<span class="apbct-blur">****************************</span>@<span class="apbct-blur">***************</span>wi.us</span>
SUMMARY:First Day of School
DESCRIPTION:
URL:https://www.milton.k12.wi.us/event/first-day-of-school-4/
LOCATION:WI
CATEGORIES:Milton East Elementary
END:VEVENT
BEGIN:VEVENT
DTSTART;VALUE=DATE:20250902
DTEND;VALUE=DATE:20250903
DTSTAMP:20260424T193717
CREATED:20250616T130745Z
LAST-MODIFIED:20250902T212227Z
UID:<span 
                data-original-string='bW2mfq+mRRNqH2jJ2P54WQ==38657JAgeYq7xRqYuye7zVVn9ozeg43CSmdMYPhxQ0wS1QaYIBvVGYWVrn7czgNC5UcuX/oqHHTiAmGFgtKKmlCaA=='
                class='apbct-email-encoder'
                title='This contact has been encoded by Anti-Spam by CleanTalk. Click to decode. To finish the decoding make sure that JavaScript is enabled in your browser.'>10<span class="apbct-blur">****************************</span>@<span class="apbct-blur">***************</span>wi.us</span>
SUMMARY:First Day of School
DESCRIPTION:
URL:https://www.milton.k12.wi.us/event/first-day-of-school-5/
LOCATION:WI
CATEGORIES:Milton High School
END:VEVENT
BEGIN:VEVENT
DTSTART;VALUE=DATE:20250902
DTEND;VALUE=DATE:20250903
DTSTAMP:20260424T193717
CREATED:20250731T143725Z
LAST-MODIFIED:20250902T205353Z
UID:<span 
                data-original-string='kGVlioTMTUjpcdFxMRZhvA==386E81bfX0a4zjQwuRWaPAr2Onx1dAhuoRyjWb3BCe9D19rfI7FszJE52SO5JVX6j1+LUhAs+RqLUKZIh0IE1KAMQ=='
                class='apbct-email-encoder'
                title='This contact has been encoded by Anti-Spam by CleanTalk. Click to decode. To finish the decoding make sure that JavaScript is enabled in your browser.'>10<span class="apbct-blur">****************************</span>@<span class="apbct-blur">***************</span>wi.us</span>
SUMMARY:First Day of School
DESCRIPTION:
URL:https://www.milton.k12.wi.us/event/first-day-of-school-6/
LOCATION:WI
CATEGORIES:Consolidated
END:VEVENT
BEGIN:VEVENT
DTSTART;VALUE=DATE:20250902
DTEND;VALUE=DATE:20250903
DTSTAMP:20260424T193717
CREATED:20250806T090732Z
LAST-MODIFIED:20250902T220812Z
UID:<span 
                data-original-string='dKkyKA7f/gMVQb81HH5BHA==386ngAZTLnxIV2+eUW2qrg3f67909Aay54kjc9Vki2h+JiwRw23YkmX1QM9K/fKqH5uQeb4qHLquWcHgG+xge7sRg=='
                class='apbct-email-encoder'
                title='This contact has been encoded by Anti-Spam by CleanTalk. Click to decode. To finish the decoding make sure that JavaScript is enabled in your browser.'>10<span class="apbct-blur">****************************</span>@<span class="apbct-blur">***************</span>wi.us</span>
SUMMARY:First Day of School
DESCRIPTION:
URL:https://www.milton.k12.wi.us/event/first-day-of-school-7/
LOCATION:WI
CATEGORIES:Milton West Elementary
END:VEVENT
BEGIN:VEVENT
DTSTART;VALUE=DATE:20250902
DTEND;VALUE=DATE:20250903
DTSTAMP:20260424T193717
CREATED:20250825T070757Z
LAST-MODIFIED:20250902T205230Z
UID:<span 
                data-original-string='6WB7baVcpZ1kUge0RpvYwQ==386zmCrEt2QcsFMfrlsjLECLMzzsDtSxCp3GJE9JzmtyYlzJQRU3yLpT/zDd8BYVy//lovEBoiOKirhKzay37BY9w=='
                class='apbct-email-encoder'
                title='This contact has been encoded by Anti-Spam by CleanTalk. Click to decode. To finish the decoding make sure that JavaScript is enabled in your browser.'>10<span class="apbct-blur">****************************</span>@<span class="apbct-blur">***************</span>wi.us</span>
SUMMARY:HES: 1st Day of School
DESCRIPTION:
URL:https://www.milton.k12.wi.us/event/hes-1st-day-of-school/
LOCATION:WI
CATEGORIES:Harmony Elementary
END:VEVENT
BEGIN:VEVENT
DTSTART;VALUE=DATE:20250902
DTEND;VALUE=DATE:20250903
DTSTAMP:20260424T193717
CREATED:20250825T183734Z
LAST-MODIFIED:20250902T220918Z
UID:<span 
                data-original-string='L7ccuB6FBFYrEI/8JeOHAA==386cbMz4XDvKKpUDFxBVAHZ0Nrpi/z898kVN/KHUDd8yazct5Cg2pEI+NgJgsreGpfr1ueYKfTJJa0sLFceIydGrA=='
                class='apbct-email-encoder'
                title='This contact has been encoded by Anti-Spam by CleanTalk. Click to decode. To finish the decoding make sure that JavaScript is enabled in your browser.'>10<span class="apbct-blur">****************************</span>@<span class="apbct-blur">***************</span>wi.us</span>
SUMMARY:First Day of School
DESCRIPTION:
URL:https://www.milton.k12.wi.us/event/first-day-of-school-8/
LOCATION:WI
CATEGORIES:Milton Middle School
END:VEVENT
BEGIN:VEVENT
DTSTART;VALUE=DATE:20250905
DTEND;VALUE=DATE:20250906
DTSTAMP:20260424T193717
CREATED:20250904T162432Z
LAST-MODIFIED:20250905T211228Z
UID:<span 
                data-original-string='kOhzrnuReky1M3ABgmS4+w==386+MxPYZDmV0SSgBn8HQVBFZTsnvARmsxqROvZnj8nM+ceOiL8FJ19GJUyGAS6YQgfdv+v95kHHu+EUfWAbcmogg=='
                class='apbct-email-encoder'
                title='This contact has been encoded by Anti-Spam by CleanTalk. Click to decode. To finish the decoding make sure that JavaScript is enabled in your browser.'>10<span class="apbct-blur">****************************</span>@<span class="apbct-blur">***************</span>wi.us</span>
SUMMARY:NIS: DAY 4
DESCRIPTION:
URL:https://www.milton.k12.wi.us/event/nis-day-4/
LOCATION:WI
CATEGORIES:Northside Intermediate
END:VEVENT
BEGIN:VEVENT
DTSTART;VALUE=DATE:20250908
DTEND;VALUE=DATE:20250909
DTSTAMP:20260424T193717
CREATED:20250616T130746Z
LAST-MODIFIED:20250908T212236Z
UID:<span 
                data-original-string='24rRKHxWSY6wiyNUgpsnAg==386QF4frV47Z2rPpfSSEZtnuscMXZPDsh1CQjYJ3PH8dNGjspVv6w1o/e0JMPp5TIqNzBXdE3oUMyowEr25s9oSGA=='
                class='apbct-email-encoder'
                title='This contact has been encoded by Anti-Spam by CleanTalk. Click to decode. To finish the decoding make sure that JavaScript is enabled in your browser.'>10<span class="apbct-blur">****************************</span>@<span class="apbct-blur">***************</span>wi.us</span>
SUMMARY:MHS Picture Day
DESCRIPTION:
URL:https://www.milton.k12.wi.us/event/mhs-picture-day/
LOCATION:WI
CATEGORIES:Milton High School
END:VEVENT
BEGIN:VEVENT
DTSTART;VALUE=DATE:20250908
DTEND;VALUE=DATE:20250909
DTSTAMP:20260424T193717
CREATED:20250904T162433Z
LAST-MODIFIED:20250908T212508Z
UID:<span 
                data-original-string='At2WeHgR1LcXdNTMpSACdA==386gm10lXzf9ks+KHanEG5P9zc9TK5XTKktQnB+3Va786CNG4+ZmcPcRcs2wKhg7EY2JYOctIyw9/2YO6d3Mz5g0g=='
                class='apbct-email-encoder'
                title='This contact has been encoded by Anti-Spam by CleanTalk. Click to decode. To finish the decoding make sure that JavaScript is enabled in your browser.'>10<span class="apbct-blur">****************************</span>@<span class="apbct-blur">***************</span>wi.us</span>
SUMMARY:NIS: DAY 5
DESCRIPTION:
URL:https://www.milton.k12.wi.us/event/nis-day-5/
LOCATION:WI
CATEGORIES:Northside Intermediate
END:VEVENT
BEGIN:VEVENT
DTSTART;TZID=America/Chicago:20250908T143500
DTEND;TZID=America/Chicago:20250908T153500
DTSTAMP:20260424T193717
CREATED:20240822T012935Z
LAST-MODIFIED:20250908T202245Z
UID:<span 
                data-original-string='D0HN/glL2o8gbSguPmOOog==3867TZSNhlDfWqSCR2DIAhpKBBhVHdNfjxHaQeKEE6wel5GtknhwuaohT0DfGJJyQS4VuggfXV3HLM2THvPrDtJ1g=='
                class='apbct-email-encoder'
                title='This contact has been encoded by Anti-Spam by CleanTalk. Click to decode. To finish the decoding make sure that JavaScript is enabled in your browser.'>10<span class="apbct-blur">****************************</span>@<span class="apbct-blur">***************</span>wi.us</span>
SUMMARY:Early Release -
DESCRIPTION:
URL:https://www.milton.k12.wi.us/event/early-release-45/
LOCATION:WI
CATEGORIES:Consolidated
END:VEVENT
BEGIN:VEVENT
DTSTART;TZID=America/Chicago:20250908T183000
DTEND;TZID=America/Chicago:20250908T203000
DTSTAMP:20260424T193717
CREATED:20240822T012955Z
LAST-MODIFIED:20250908T235223Z
UID:<span 
                data-original-string='UdbcDIM42FMSCJw3fa+xcg==386gKiDQbe8nUxecLJc+njuDLg2nWxD6dd4W9uXF8V1j7juPyqDzyodgB8MB30cSdjHdIzO1SP7eSAW1sk4odm9TA=='
                class='apbct-email-encoder'
                title='This contact has been encoded by Anti-Spam by CleanTalk. Click to decode. To finish the decoding make sure that JavaScript is enabled in your browser.'>10<span class="apbct-blur">****************************</span>@<span class="apbct-blur">***************</span>wi.us</span>
SUMMARY:School Board Meeting
DESCRIPTION:
URL:https://www.milton.k12.wi.us/event/school-board-meeting-30/
LOCATION:WI
CATEGORIES:District
END:VEVENT
BEGIN:VEVENT
DTSTART;VALUE=DATE:20250909
DTEND;VALUE=DATE:20250910
DTSTAMP:20260424T193717
CREATED:20250613T142240Z
LAST-MODIFIED:20250909T212229Z
UID:<span 
                data-original-string='0aXvLDMb3eZyLtYQ9cXrAQ==386FyUkmiacmGKPaemWJa6FLuz4NsPOhHFhfrKq3ljwIOIZMwzU2gAKUj0teGSJ05I7NMBn6cyhNPlGE2kWYzUssw=='
                class='apbct-email-encoder'
                title='This contact has been encoded by Anti-Spam by CleanTalk. Click to decode. To finish the decoding make sure that JavaScript is enabled in your browser.'>10<span class="apbct-blur">****************************</span>@<span class="apbct-blur">***************</span>wi.us</span>
SUMMARY:Consolidated picture day
DESCRIPTION:
URL:https://www.milton.k12.wi.us/event/consolidated-picture-day/
LOCATION:WI
CATEGORIES:Consolidated
END:VEVENT
END:VCALENDAR