BEGIN:VCALENDAR
VERSION:2.0
PRODID:-//School District of Milton - ECPv6.15.20//NONSGML v1.0//EN
CALSCALE:GREGORIAN
METHOD:PUBLISH
X-ORIGINAL-URL:https://www.milton.k12.wi.us
X-WR-CALDESC:Events for School District of Milton
REFRESH-INTERVAL;VALUE=DURATION:PT1H
X-Robots-Tag:noindex
X-PUBLISHED-TTL:PT1H
BEGIN:VTIMEZONE
TZID:America/Chicago
BEGIN:DAYLIGHT
TZOFFSETFROM:-0600
TZOFFSETTO:-0500
TZNAME:CDT
DTSTART:20260308T080000
END:DAYLIGHT
BEGIN:STANDARD
TZOFFSETFROM:-0500
TZOFFSETTO:-0600
TZNAME:CST
DTSTART:20261101T070000
END:STANDARD
BEGIN:DAYLIGHT
TZOFFSETFROM:-0600
TZOFFSETTO:-0500
TZNAME:CDT
DTSTART:20270314T080000
END:DAYLIGHT
BEGIN:STANDARD
TZOFFSETFROM:-0500
TZOFFSETTO:-0600
TZNAME:CST
DTSTART:20271107T070000
END:STANDARD
BEGIN:DAYLIGHT
TZOFFSETFROM:-0600
TZOFFSETTO:-0500
TZNAME:CDT
DTSTART:20280312T080000
END:DAYLIGHT
BEGIN:STANDARD
TZOFFSETFROM:-0500
TZOFFSETTO:-0600
TZNAME:CST
DTSTART:20281105T070000
END:STANDARD
END:VTIMEZONE
BEGIN:VEVENT
DTSTART;TZID=America/Chicago:20270322T143500
DTEND;TZID=America/Chicago:20270322T153500
DTSTAMP:20260425T071221
CREATED:20250322T001056Z
LAST-MODIFIED:20260425T102734Z
UID:<span 
                data-original-string='GQxWWxA6zG5j0Qt+yCJeLg==386eJIOPEIJnoLuN2DaqCPPNP9tlBf6QwX6qDo65ZzNwmZURxwcY2g4bGlwX/yxZR+SgrmFDvlfzIeGF5jHIOEqSg=='
                class='apbct-email-encoder'
                title='This contact has been encoded by Anti-Spam by CleanTalk. Click to decode. To finish the decoding make sure that JavaScript is enabled in your browser.'>10<span class="apbct-blur">****************************</span>@<span class="apbct-blur">***************</span>wi.us</span>
SUMMARY:Early Release -
DESCRIPTION:
URL:https://www.milton.k12.wi.us/event/early-release-125/
CATEGORIES:Consolidated
END:VEVENT
BEGIN:VEVENT
DTSTART;TZID=America/Chicago:20270322T183000
DTEND;TZID=America/Chicago:20270322T203000
DTSTAMP:20260425T071221
CREATED:20250322T124049Z
LAST-MODIFIED:20260425T103814Z
UID:<span 
                data-original-string='qK3az059nj0y4uTGh+EyDQ==386+5r0il7vCNfZwTl4J7AeIe5Ycyu1UhZun/LhjS0WdhtMPU7HbkShPk+SzTFshAbDPVGoa+bxYkCCVL1ZdEwscQ=='
                class='apbct-email-encoder'
                title='This contact has been encoded by Anti-Spam by CleanTalk. Click to decode. To finish the decoding make sure that JavaScript is enabled in your browser.'>10<span class="apbct-blur">****************************</span>@<span class="apbct-blur">***************</span>wi.us</span>
SUMMARY:School Board Meeting
DESCRIPTION:
URL:https://www.milton.k12.wi.us/event/school-board-meeting-67/
LOCATION:School District of Milton\, 448 E High St\, Milton\, WI\, United States
CATEGORIES:District
GEO:42.773036;-88.944404
X-APPLE-STRUCTURED-LOCATION;VALUE=URI;X-ADDRESS=School District of Milton 448 E High St Milton WI United States;X-APPLE-RADIUS=500;X-TITLE=448 E High St:geo:-88.944404,42.773036
END:VEVENT
BEGIN:VEVENT
DTSTART;TZID=America/Chicago:20270329T143500
DTEND;TZID=America/Chicago:20270329T153500
DTSTAMP:20260425T071221
CREATED:20250329T080256Z
LAST-MODIFIED:20260425T102734Z
UID:<span 
                data-original-string='S6bt9faBVGYk7/Tnb8FJpw==386J4p8fRhxmeeEfT8kbDeSg0CkpvhF0q0kA6FLlvKdNjqSArqJXvA9VhHhFpizucPX/sTl1s51g9llN5Dl3BLMxw=='
                class='apbct-email-encoder'
                title='This contact has been encoded by Anti-Spam by CleanTalk. Click to decode. To finish the decoding make sure that JavaScript is enabled in your browser.'>10<span class="apbct-blur">****************************</span>@<span class="apbct-blur">***************</span>wi.us</span>
SUMMARY:Early Release -
DESCRIPTION:
URL:https://www.milton.k12.wi.us/event/early-release-126/
CATEGORIES:Consolidated
END:VEVENT
BEGIN:VEVENT
DTSTART;TZID=America/Chicago:20270405T143500
DTEND;TZID=America/Chicago:20270405T153500
DTSTAMP:20260425T071221
CREATED:20250405T075812Z
LAST-MODIFIED:20260425T102739Z
UID:<span 
                data-original-string='bV+B9jMSbhhNVNBC43RgoA==386RpsUP2zedZhm4rKnuwa7Y+h6ihxbZLU8yvC6ZpJZUvdEtJ+Nelg9mTIVgDufITGvTzfZ5maFW/QqKSHF0Jsk8Q=='
                class='apbct-email-encoder'
                title='This contact has been encoded by Anti-Spam by CleanTalk. Click to decode. To finish the decoding make sure that JavaScript is enabled in your browser.'>10<span class="apbct-blur">****************************</span>@<span class="apbct-blur">***************</span>wi.us</span>
SUMMARY:Early Release -
DESCRIPTION:
URL:https://www.milton.k12.wi.us/event/early-release-127/
CATEGORIES:Consolidated
END:VEVENT
BEGIN:VEVENT
DTSTART;TZID=America/Chicago:20270412T143500
DTEND;TZID=America/Chicago:20270412T153500
DTSTAMP:20260425T071221
CREATED:20250412T075706Z
LAST-MODIFIED:20260425T102739Z
UID:<span 
                data-original-string='d2qgKTi8BUS1xfqBIpD0gA==386jVpR0G3MZ7zH3xjsZ5yB4c8t54hEJwHML89KFLShw7qeymy9J5rinhUQmyKG1kRCoxYNYFk/RUre6Pi+3gD1kw=='
                class='apbct-email-encoder'
                title='This contact has been encoded by Anti-Spam by CleanTalk. Click to decode. To finish the decoding make sure that JavaScript is enabled in your browser.'>10<span class="apbct-blur">****************************</span>@<span class="apbct-blur">***************</span>wi.us</span>
SUMMARY:Early Release -
DESCRIPTION:
URL:https://www.milton.k12.wi.us/event/early-release-128/
CATEGORIES:Consolidated
END:VEVENT
BEGIN:VEVENT
DTSTART;TZID=America/Chicago:20270412T183000
DTEND;TZID=America/Chicago:20270412T203000
DTSTAMP:20260425T071221
CREATED:20250412T202701Z
LAST-MODIFIED:20260425T103815Z
UID:<span 
                data-original-string='5RRBduRDvpqGNva4EoXzyA==386ItbYtdeCfrSzNL2cjH0BGzRNhO4kh6VV05KALnvXcRxBSAGI6e37J5sJDAKZe9EPrjVEKw2uVw45+kaihdZ6bw=='
                class='apbct-email-encoder'
                title='This contact has been encoded by Anti-Spam by CleanTalk. Click to decode. To finish the decoding make sure that JavaScript is enabled in your browser.'>10<span class="apbct-blur">****************************</span>@<span class="apbct-blur">***************</span>wi.us</span>
SUMMARY:School Board Meeting
DESCRIPTION:
URL:https://www.milton.k12.wi.us/event/school-board-meeting-68/
CATEGORIES:District
END:VEVENT
BEGIN:VEVENT
DTSTART;TZID=America/Chicago:20270413T183000
DTEND;TZID=America/Chicago:20270413T193000
DTSTAMP:20260425T071221
CREATED:20250413T080004Z
LAST-MODIFIED:20260425T102740Z
UID:<span 
                data-original-string='/pGuDGgPmkcw9N0UUJy1Tw==3865Xe9YgG5Z/B2lHHqHGoLOeTkvU740rKN7gNJwFiC+wT2EwcDihP1nQAYozONvhhmsWDksu+gs3H2Mb5MirN17w=='
                class='apbct-email-encoder'
                title='This contact has been encoded by Anti-Spam by CleanTalk. Click to decode. To finish the decoding make sure that JavaScript is enabled in your browser.'>10<span class="apbct-blur">****************************</span>@<span class="apbct-blur">***************</span>wi.us</span>
SUMMARY:CES - PIE Meeting
DESCRIPTION:
URL:https://www.milton.k12.wi.us/event/ces-pie-meeting-8/
CATEGORIES:Consolidated
END:VEVENT
BEGIN:VEVENT
DTSTART;TZID=America/Chicago:20270419T143500
DTEND;TZID=America/Chicago:20270419T153500
DTSTAMP:20260425T071221
CREATED:20250419T075839Z
LAST-MODIFIED:20260425T102740Z
UID:<span 
                data-original-string='BVKnHwMMOXV76mbaK5amfw==386uBeNPCrQJZjlVjG0D7Yj6q9TJejVEQqoGyVEpZt502MnevckfPP1v7uoGa+Ec8Jv7qUeU/2EmNmg8akOXC6KXA=='
                class='apbct-email-encoder'
                title='This contact has been encoded by Anti-Spam by CleanTalk. Click to decode. To finish the decoding make sure that JavaScript is enabled in your browser.'>10<span class="apbct-blur">****************************</span>@<span class="apbct-blur">***************</span>wi.us</span>
SUMMARY:Early Release -
DESCRIPTION:
URL:https://www.milton.k12.wi.us/event/early-release-129/
CATEGORIES:Consolidated
END:VEVENT
BEGIN:VEVENT
DTSTART;TZID=America/Chicago:20270419T180000
DTEND;TZID=America/Chicago:20270419T200000
DTSTAMP:20260425T071221
CREATED:20250419T062401Z
LAST-MODIFIED:20260425T102347Z
UID:<span 
                data-original-string='VJ08dWRLTqsjz9kCCssMLg==386/ypckt6hJSSiESU/nPjQkAeriv+hcDa1BfgFxEBVzexGSA4toM1D3B6rJ+upCt1MR1BRALLX75YFbH39vqqUBA=='
                class='apbct-email-encoder'
                title='This contact has been encoded by Anti-Spam by CleanTalk. Click to decode. To finish the decoding make sure that JavaScript is enabled in your browser.'>10<span class="apbct-blur">****************************</span>@<span class="apbct-blur">***************</span>wi.us</span>
SUMMARY:PAWS mtg
DESCRIPTION:
URL:https://www.milton.k12.wi.us/event/paws-mtg-32/
CATEGORIES:Milton West Elementary
END:VEVENT
BEGIN:VEVENT
DTSTART;TZID=America/Chicago:20270420T180000
DTEND;TZID=America/Chicago:20270420T190000
DTSTAMP:20260425T071221
CREATED:20250420T135341Z
LAST-MODIFIED:20260425T103947Z
UID:<span 
                data-original-string='V6V2PGIBbC2gtUZryt/pdw==3867HlXPz53GFH4vd6SEsyOZIDNTs5aCcRxx10zA5zUBo1OiludRXlig/d6HynmBswV6Yl49Quu7wKNJQOfVXGBIg=='
                class='apbct-email-encoder'
                title='This contact has been encoded by Anti-Spam by CleanTalk. Click to decode. To finish the decoding make sure that JavaScript is enabled in your browser.'>10<span class="apbct-blur">****************************</span>@<span class="apbct-blur">***************</span>wi.us</span>
SUMMARY:FON Meeting
DESCRIPTION:
URL:https://www.milton.k12.wi.us/event/fon-meeting-32/
CATEGORIES:Northside Intermediate
END:VEVENT
BEGIN:VEVENT
DTSTART;TZID=America/Chicago:20270426T143500
DTEND;TZID=America/Chicago:20270426T153500
DTSTAMP:20260425T071221
CREATED:20250426T134337Z
LAST-MODIFIED:20260425T102741Z
UID:<span 
                data-original-string='QmPL1Yy+aNVYW3gz5aVpeA==386fer3U44wrMd5Su+kIvRd7MkOCtIhVggeU0jqsOt4TI1413MK90F+UufaiIoYt0LrO8xiJgbtwtw4wjtETZfIzw=='
                class='apbct-email-encoder'
                title='This contact has been encoded by Anti-Spam by CleanTalk. Click to decode. To finish the decoding make sure that JavaScript is enabled in your browser.'>10<span class="apbct-blur">****************************</span>@<span class="apbct-blur">***************</span>wi.us</span>
SUMMARY:Early Release -
DESCRIPTION:
URL:https://www.milton.k12.wi.us/event/early-release-130/
CATEGORIES:Consolidated
END:VEVENT
BEGIN:VEVENT
DTSTART;TZID=America/Chicago:20270426T183000
DTEND;TZID=America/Chicago:20270426T203000
DTSTAMP:20260425T071221
CREATED:20250426T130951Z
LAST-MODIFIED:20260425T103816Z
UID:<span 
                data-original-string='US+5oe4rZ50brqwASbaYkw==386wOk1XjNhEWVFAVvsNQmJiPIQLkbfG5GeINGkLi2HmB+I7wt1iRMoY4JgRxtECV7dD5ESpv0hR75YJe3/FEhXOQ=='
                class='apbct-email-encoder'
                title='This contact has been encoded by Anti-Spam by CleanTalk. Click to decode. To finish the decoding make sure that JavaScript is enabled in your browser.'>10<span class="apbct-blur">****************************</span>@<span class="apbct-blur">***************</span>wi.us</span>
SUMMARY:School Board Meeting
DESCRIPTION:
URL:https://www.milton.k12.wi.us/event/school-board-meeting-69/
LOCATION:School District of Milton\, 448 E High St\, Milton\, WI\, United States
CATEGORIES:District
GEO:42.773036;-88.944404
X-APPLE-STRUCTURED-LOCATION;VALUE=URI;X-ADDRESS=School District of Milton 448 E High St Milton WI United States;X-APPLE-RADIUS=500;X-TITLE=448 E High St:geo:-88.944404,42.773036
END:VEVENT
BEGIN:VEVENT
DTSTART;TZID=America/Chicago:20270503T143500
DTEND;TZID=America/Chicago:20270503T153500
DTSTAMP:20260425T071221
CREATED:20250503T082859Z
LAST-MODIFIED:20260425T102745Z
UID:<span 
                data-original-string='rC7jcI7rsDaBa5THYiIZMg==386caOhEirKIbmr8O3dR0aDQfnYTRpXVy4Km2EONkUphx3Af2nS4tjlwzaFDSZuHL07f+R/i96MwKge5N1NVJ74xQ=='
                class='apbct-email-encoder'
                title='This contact has been encoded by Anti-Spam by CleanTalk. Click to decode. To finish the decoding make sure that JavaScript is enabled in your browser.'>10<span class="apbct-blur">****************************</span>@<span class="apbct-blur">***************</span>wi.us</span>
SUMMARY:Early Release -
DESCRIPTION:
URL:https://www.milton.k12.wi.us/event/early-release-131/
CATEGORIES:Consolidated
END:VEVENT
BEGIN:VEVENT
DTSTART;TZID=America/Chicago:20270510T143500
DTEND;TZID=America/Chicago:20270510T153500
DTSTAMP:20260425T071221
CREATED:20250510T004529Z
LAST-MODIFIED:20260425T102746Z
UID:<span 
                data-original-string='RR/Xc1qN40AZEpxxifCZtg==386sV8lRVa3jROVJxL5RuPm18ME4Lu+14eDdY/1EEiA03cXyY7b8/FURjBWX8eDo7M67SWVcyFLiwTRQVeJ8BV0uA=='
                class='apbct-email-encoder'
                title='This contact has been encoded by Anti-Spam by CleanTalk. Click to decode. To finish the decoding make sure that JavaScript is enabled in your browser.'>10<span class="apbct-blur">****************************</span>@<span class="apbct-blur">***************</span>wi.us</span>
SUMMARY:Early Release -
DESCRIPTION:
URL:https://www.milton.k12.wi.us/event/early-release-132/
CATEGORIES:Consolidated
END:VEVENT
BEGIN:VEVENT
DTSTART;TZID=America/Chicago:20270510T183000
DTEND;TZID=America/Chicago:20270510T203000
DTSTAMP:20260425T071221
CREATED:20250510T004006Z
LAST-MODIFIED:20260425T103819Z
UID:<span 
                data-original-string='paPC6ooXnK+8UnDWzU0X4w==386vT1akIzqX2xsIMPstLcTN1AU555SRhP5Z7zeJXj77IhuX3EMbTs2nebNMp1hasA7r3nGeETVscK5BH5e52JEYw=='
                class='apbct-email-encoder'
                title='This contact has been encoded by Anti-Spam by CleanTalk. Click to decode. To finish the decoding make sure that JavaScript is enabled in your browser.'>10<span class="apbct-blur">****************************</span>@<span class="apbct-blur">***************</span>wi.us</span>
SUMMARY:School Board Meeting
DESCRIPTION:
URL:https://www.milton.k12.wi.us/event/school-board-meeting-70/
CATEGORIES:District
END:VEVENT
BEGIN:VEVENT
DTSTART;TZID=America/Chicago:20270511T183000
DTEND;TZID=America/Chicago:20270511T193000
DTSTAMP:20260425T071221
CREATED:20250511T090159Z
LAST-MODIFIED:20260425T102746Z
UID:<span 
                data-original-string='EzhTocjRRcmMLl/VodNAJg==386yE+f832lnA85eo6ajxoGC4qjC82qKH3SVCRhrZFjrDE7mCmC0NBGHGA2DfUm9MX+RjsCFS5kKWuJHnPFjhcXuA=='
                class='apbct-email-encoder'
                title='This contact has been encoded by Anti-Spam by CleanTalk. Click to decode. To finish the decoding make sure that JavaScript is enabled in your browser.'>10<span class="apbct-blur">****************************</span>@<span class="apbct-blur">***************</span>wi.us</span>
SUMMARY:CES - PIE Meeting
DESCRIPTION:
URL:https://www.milton.k12.wi.us/event/ces-pie-meeting-9/
CATEGORIES:Consolidated
END:VEVENT
BEGIN:VEVENT
DTSTART;TZID=America/Chicago:20270517T143500
DTEND;TZID=America/Chicago:20270517T153500
DTSTAMP:20260425T071221
CREATED:20250517T090305Z
LAST-MODIFIED:20260425T102747Z
UID:<span 
                data-original-string='JjSdm5+glOeil+IQENM+zA==3867VGkFnHtJM1X9XlY+3xemLIUP38FdtIM8tWiFHhRSW40rfUv1pp7fsNdH+DUtQhhTmd3w95ctpGwKqQNVT+d3Q=='
                class='apbct-email-encoder'
                title='This contact has been encoded by Anti-Spam by CleanTalk. Click to decode. To finish the decoding make sure that JavaScript is enabled in your browser.'>10<span class="apbct-blur">****************************</span>@<span class="apbct-blur">***************</span>wi.us</span>
SUMMARY:Early Release -
DESCRIPTION:
URL:https://www.milton.k12.wi.us/event/early-release-133/
CATEGORIES:Consolidated
END:VEVENT
BEGIN:VEVENT
DTSTART;TZID=America/Chicago:20270517T180000
DTEND;TZID=America/Chicago:20270517T200000
DTSTAMP:20260425T071221
CREATED:20250517T002742Z
LAST-MODIFIED:20260425T102348Z
UID:<span 
                data-original-string='yEMUQK9QmKX/jlsbEAJRoQ==386L7ac4hOXLC+wPVgi2fnlqdsKx91pb+GeExYgwZugIso6BdCffqKnJkIIq56n2Y94dC8l3pCA7qOjHgA+bC4+8A=='
                class='apbct-email-encoder'
                title='This contact has been encoded by Anti-Spam by CleanTalk. Click to decode. To finish the decoding make sure that JavaScript is enabled in your browser.'>10<span class="apbct-blur">****************************</span>@<span class="apbct-blur">***************</span>wi.us</span>
SUMMARY:PAWS mtg
DESCRIPTION:
URL:https://www.milton.k12.wi.us/event/paws-mtg-33/
CATEGORIES:Milton West Elementary
END:VEVENT
BEGIN:VEVENT
DTSTART;TZID=America/Chicago:20270518T180000
DTEND;TZID=America/Chicago:20270518T190000
DTSTAMP:20260425T071221
CREATED:20250518T133127Z
LAST-MODIFIED:20260425T103948Z
UID:<span 
                data-original-string='tQikLuObMeoTG9y8z0go5g==3864+ksT87EU8aWsHzFFpwsFp3GJzpPPVrQHx/+ijH/J5573+ngNM3Q96xC7Mb1B5zzK7o2r9sFDTphAb7FMHQFsg=='
                class='apbct-email-encoder'
                title='This contact has been encoded by Anti-Spam by CleanTalk. Click to decode. To finish the decoding make sure that JavaScript is enabled in your browser.'>10<span class="apbct-blur">****************************</span>@<span class="apbct-blur">***************</span>wi.us</span>
SUMMARY:FON Meeting
DESCRIPTION:
URL:https://www.milton.k12.wi.us/event/fon-meeting-33/
CATEGORIES:Northside Intermediate
END:VEVENT
BEGIN:VEVENT
DTSTART;TZID=America/Chicago:20270524T143500
DTEND;TZID=America/Chicago:20270524T153500
DTSTAMP:20260425T071221
CREATED:20250524T001607Z
LAST-MODIFIED:20260425T102748Z
UID:<span 
                data-original-string='BE1EcsivSYZ1ssl9x2+7ng==386idt5/sGKz4g3hGLGc06eSeFPw4DCZaRFTE2JnZy56YJx/sKQ5rVqz4kbjfjXrBQ+a7aUIHUmXATiBLYMTTxszQ=='
                class='apbct-email-encoder'
                title='This contact has been encoded by Anti-Spam by CleanTalk. Click to decode. To finish the decoding make sure that JavaScript is enabled in your browser.'>10<span class="apbct-blur">****************************</span>@<span class="apbct-blur">***************</span>wi.us</span>
SUMMARY:Early Release -
DESCRIPTION:
URL:https://www.milton.k12.wi.us/event/early-release-134/
CATEGORIES:Consolidated
END:VEVENT
BEGIN:VEVENT
DTSTART;TZID=America/Chicago:20270524T183000
DTEND;TZID=America/Chicago:20270524T203000
DTSTAMP:20260425T071221
CREATED:20250524T001857Z
LAST-MODIFIED:20260425T103820Z
UID:<span 
                data-original-string='LvVMzfGutCQzVM6Y20mVnQ==386V5qYSg4+onTwYqySAU9kPYRS37uWExa/Mkjlxgc6ie5aV6/6sZYjdr/DP257AUJv4359XEx25mByqXnN4oLL3A=='
                class='apbct-email-encoder'
                title='This contact has been encoded by Anti-Spam by CleanTalk. Click to decode. To finish the decoding make sure that JavaScript is enabled in your browser.'>10<span class="apbct-blur">****************************</span>@<span class="apbct-blur">***************</span>wi.us</span>
SUMMARY:School Board Meeting
DESCRIPTION:
URL:https://www.milton.k12.wi.us/event/school-board-meeting-71/
LOCATION:School District of Milton\, 448 E High St\, Milton\, WI\, United States
CATEGORIES:District
GEO:42.773036;-88.944404
X-APPLE-STRUCTURED-LOCATION;VALUE=URI;X-ADDRESS=School District of Milton 448 E High St Milton WI United States;X-APPLE-RADIUS=500;X-TITLE=448 E High St:geo:-88.944404,42.773036
END:VEVENT
BEGIN:VEVENT
DTSTART;TZID=America/Chicago:20270531T143500
DTEND;TZID=America/Chicago:20270531T153500
DTSTAMP:20260425T071221
CREATED:20250531T091016Z
LAST-MODIFIED:20260425T102754Z
UID:<span 
                data-original-string='eUbSPoAsfLJQrHxKY/IVXw==386WKBoxJEJiop/rZcLec8GHg5L/6qHMqbSSXhjJjubxYJEOpYTpQ23a/3a80AJbmskkikJYmBAoyODsvglNn0wkw=='
                class='apbct-email-encoder'
                title='This contact has been encoded by Anti-Spam by CleanTalk. Click to decode. To finish the decoding make sure that JavaScript is enabled in your browser.'>10<span class="apbct-blur">****************************</span>@<span class="apbct-blur">***************</span>wi.us</span>
SUMMARY:Early Release -
DESCRIPTION:
URL:https://www.milton.k12.wi.us/event/early-release-135/
CATEGORIES:Consolidated
END:VEVENT
BEGIN:VEVENT
DTSTART;TZID=America/Chicago:20270607T143500
DTEND;TZID=America/Chicago:20270607T153500
DTSTAMP:20260425T071221
CREATED:20250607T121352Z
LAST-MODIFIED:20260425T102755Z
UID:<span 
                data-original-string='C1A6I3bPYLcNjmwlLYyOLQ==386+epeTV4eFfeo7lxU09yij8gIa7HDGAd3B9MshLMiBrsa9jMjCniTBl/hPL5LxgIg41V7wZbvkU19g7XcFZGiOQ=='
                class='apbct-email-encoder'
                title='This contact has been encoded by Anti-Spam by CleanTalk. Click to decode. To finish the decoding make sure that JavaScript is enabled in your browser.'>10<span class="apbct-blur">****************************</span>@<span class="apbct-blur">***************</span>wi.us</span>
SUMMARY:Early Release -
DESCRIPTION:
URL:https://www.milton.k12.wi.us/event/early-release-136/
CATEGORIES:Consolidated
END:VEVENT
BEGIN:VEVENT
DTSTART;TZID=America/Chicago:20270608T183000
DTEND;TZID=America/Chicago:20270608T193000
DTSTAMP:20260425T071221
CREATED:20250608T091632Z
LAST-MODIFIED:20260425T102756Z
UID:<span 
                data-original-string='yeHKm8DF4VVU2i3A6tvmLA==386/4zF00KFdf9t9Z6ZOEZyEaM4jHziywNE2f4IRy/uuVq/JPGWQ95GSnTLKZy5LXmnUlNMIDR+0x9tXIwcJ64d6Q=='
                class='apbct-email-encoder'
                title='This contact has been encoded by Anti-Spam by CleanTalk. Click to decode. To finish the decoding make sure that JavaScript is enabled in your browser.'>10<span class="apbct-blur">****************************</span>@<span class="apbct-blur">***************</span>wi.us</span>
SUMMARY:CES - PIE Meeting
DESCRIPTION:
URL:https://www.milton.k12.wi.us/event/ces-pie-meeting-10/
CATEGORIES:Consolidated
END:VEVENT
BEGIN:VEVENT
DTSTART;TZID=America/Chicago:20270614T143500
DTEND;TZID=America/Chicago:20270614T153500
DTSTAMP:20260425T071221
CREATED:20250614T091707Z
LAST-MODIFIED:20260425T102756Z
UID:<span 
                data-original-string='oTfVpLYMMV6PboHS5It5XA==386SGGYkwsel7L+iojjznqzZcQVRDw8XSwbMiLgHXA3m11YepaMlWjQw8eeyPln886aFrS3/uB3vorQRBZiRh/Erg=='
                class='apbct-email-encoder'
                title='This contact has been encoded by Anti-Spam by CleanTalk. Click to decode. To finish the decoding make sure that JavaScript is enabled in your browser.'>10<span class="apbct-blur">****************************</span>@<span class="apbct-blur">***************</span>wi.us</span>
SUMMARY:Early Release -
DESCRIPTION:
URL:https://www.milton.k12.wi.us/event/early-release-137/
CATEGORIES:Consolidated
END:VEVENT
BEGIN:VEVENT
DTSTART;TZID=America/Chicago:20270614T183000
DTEND;TZID=America/Chicago:20270614T203000
DTSTAMP:20260425T071221
CREATED:20250614T141102Z
LAST-MODIFIED:20260425T103820Z
UID:<span 
                data-original-string='NnhPeUbUI+76QnHfEdaCzg==386jVQO5+6dYZ+F1vzOG/cz2jSYAK8J+DdYykUDU8M52ur6JvgsaubI55NlrTDikhYjfgbV3cZTRjb4b8qtE56m5w=='
                class='apbct-email-encoder'
                title='This contact has been encoded by Anti-Spam by CleanTalk. Click to decode. To finish the decoding make sure that JavaScript is enabled in your browser.'>10<span class="apbct-blur">****************************</span>@<span class="apbct-blur">***************</span>wi.us</span>
SUMMARY:School Board Meeting
DESCRIPTION:
URL:https://www.milton.k12.wi.us/event/school-board-meeting-72/
CATEGORIES:District
END:VEVENT
BEGIN:VEVENT
DTSTART;TZID=America/Chicago:20270615T180000
DTEND;TZID=America/Chicago:20270615T190000
DTSTAMP:20260425T071221
CREATED:20250615T132558Z
LAST-MODIFIED:20260425T103949Z
UID:<span 
                data-original-string='JYkSeL+CczCPto1lqhrNug==386BVKStyiwSu3PdT1cOBe60mFFzLxaAPsB7QrqOmFh6i37+NTwbu9mYtP82LY9ScIdTp/MOHInUMH0J0Wh+NWFeQ=='
                class='apbct-email-encoder'
                title='This contact has been encoded by Anti-Spam by CleanTalk. Click to decode. To finish the decoding make sure that JavaScript is enabled in your browser.'>10<span class="apbct-blur">****************************</span>@<span class="apbct-blur">***************</span>wi.us</span>
SUMMARY:FON Meeting
DESCRIPTION:
URL:https://www.milton.k12.wi.us/event/fon-meeting-34/
CATEGORIES:Northside Intermediate
END:VEVENT
BEGIN:VEVENT
DTSTART;TZID=America/Chicago:20270621T143500
DTEND;TZID=America/Chicago:20270621T153500
DTSTAMP:20260425T071221
CREATED:20250622T010258Z
LAST-MODIFIED:20260425T102757Z
UID:<span 
                data-original-string='OwBix+Rfd7hOknMrGOpkXA==3865NuFI4gtatIUW3DO/FSUVwgh4orL6zpg+99FHZKG8N2dAsR8PwQqjBepptvqq8XIffcZP5T6mcsA8zw9xh5SzQ=='
                class='apbct-email-encoder'
                title='This contact has been encoded by Anti-Spam by CleanTalk. Click to decode. To finish the decoding make sure that JavaScript is enabled in your browser.'>10<span class="apbct-blur">****************************</span>@<span class="apbct-blur">***************</span>wi.us</span>
SUMMARY:Early Release -
DESCRIPTION:
URL:https://www.milton.k12.wi.us/event/early-release-138/
CATEGORIES:Consolidated
END:VEVENT
BEGIN:VEVENT
DTSTART;TZID=America/Chicago:20270621T180000
DTEND;TZID=America/Chicago:20270621T200000
DTSTAMP:20260425T071221
CREATED:20250621T012347Z
LAST-MODIFIED:20260425T102348Z
UID:<span 
                data-original-string='+A5p4UuZBUTMptY+pxmyzw==386ur7hH7Oty7KXWjEh6LGoGNja4/Fp9sUl0mP6rZbreivDAUbMEMOis8l/i2Nfk28Za6Me3lrf0Ai0MT07Hsi+iQ=='
                class='apbct-email-encoder'
                title='This contact has been encoded by Anti-Spam by CleanTalk. Click to decode. To finish the decoding make sure that JavaScript is enabled in your browser.'>10<span class="apbct-blur">****************************</span>@<span class="apbct-blur">***************</span>wi.us</span>
SUMMARY:PAWS mtg
DESCRIPTION:
URL:https://www.milton.k12.wi.us/event/paws-mtg-34/
CATEGORIES:Milton West Elementary
END:VEVENT
BEGIN:VEVENT
DTSTART;TZID=America/Chicago:20270628T143500
DTEND;TZID=America/Chicago:20270628T153500
DTSTAMP:20260425T071221
CREATED:20250628T004538Z
LAST-MODIFIED:20260425T102802Z
UID:<span 
                data-original-string='WezU2zj/qEvFj0kCcd5YWg==386Ij2cOJh3K/Al7PvYRL53QeUm4H7sbXsLJRrC1xaITmD7bZNu6AXn/hhKMOFdcE94huO6l18CZoPY6qeV6pVZ3w=='
                class='apbct-email-encoder'
                title='This contact has been encoded by Anti-Spam by CleanTalk. Click to decode. To finish the decoding make sure that JavaScript is enabled in your browser.'>10<span class="apbct-blur">****************************</span>@<span class="apbct-blur">***************</span>wi.us</span>
SUMMARY:Early Release -
DESCRIPTION:
URL:https://www.milton.k12.wi.us/event/early-release-139/
CATEGORIES:Consolidated
END:VEVENT
END:VCALENDAR