BEGIN:VCALENDAR
VERSION:2.0
PRODID:-//School District of Milton - ECPv6.15.20//NONSGML v1.0//EN
CALSCALE:GREGORIAN
METHOD:PUBLISH
X-ORIGINAL-URL:https://www.milton.k12.wi.us
X-WR-CALDESC:Events for School District of Milton
REFRESH-INTERVAL;VALUE=DURATION:PT1H
X-Robots-Tag:noindex
X-PUBLISHED-TTL:PT1H
BEGIN:VTIMEZONE
TZID:America/Chicago
BEGIN:DAYLIGHT
TZOFFSETFROM:-0600
TZOFFSETTO:-0500
TZNAME:CDT
DTSTART:20240310T080000
END:DAYLIGHT
BEGIN:STANDARD
TZOFFSETFROM:-0500
TZOFFSETTO:-0600
TZNAME:CST
DTSTART:20241103T070000
END:STANDARD
BEGIN:DAYLIGHT
TZOFFSETFROM:-0600
TZOFFSETTO:-0500
TZNAME:CDT
DTSTART:20250309T080000
END:DAYLIGHT
BEGIN:STANDARD
TZOFFSETFROM:-0500
TZOFFSETTO:-0600
TZNAME:CST
DTSTART:20251102T070000
END:STANDARD
BEGIN:DAYLIGHT
TZOFFSETFROM:-0600
TZOFFSETTO:-0500
TZNAME:CDT
DTSTART:20260308T080000
END:DAYLIGHT
BEGIN:STANDARD
TZOFFSETFROM:-0500
TZOFFSETTO:-0600
TZNAME:CST
DTSTART:20261101T070000
END:STANDARD
END:VTIMEZONE
BEGIN:VEVENT
DTSTART;VALUE=DATE:20250318
DTEND;VALUE=DATE:20250319
DTSTAMP:20260424T174604
CREATED:20250304T140741Z
LAST-MODIFIED:20250318T220725Z
UID:<span 
                data-original-string='Oz+PBoJE/9JTYNCvoOdIJQ==3869EGacGPLxYAcaXLbwo4LrrXD+YqqF0NFVE1OyPaBzvWWretyrVu7FLaFGQPcSZOVCBmF/F43NSQwbIibY8IOPQ=='
                class='apbct-email-encoder'
                title='This contact has been encoded by Anti-Spam by CleanTalk. Click to decode. To finish the decoding make sure that JavaScript is enabled in your browser.'>10<span class="apbct-blur">****************************</span>@<span class="apbct-blur">***************</span>wi.us</span>
SUMMARY:Day 6
DESCRIPTION:
URL:https://www.milton.k12.wi.us/event/day-6-22/
CATEGORIES:Northside Intermediate
END:VEVENT
BEGIN:VEVENT
DTSTART;TZID=America/Chicago:20250318T180000
DTEND;TZID=America/Chicago:20250318T190000
DTSTAMP:20260424T174604
CREATED:20240823T224232Z
LAST-MODIFIED:20250318T220726Z
UID:<span 
                data-original-string='zxa9MHuHM/ErBLKknUJRQQ==386H6T0KcbQd1k2DFOFQiXWCC/lKx2mUc1a+TsOdzcbaK4EQpHxIyhTwH1Ms7+Q3+e+yqIUToH2LWMJHOg9UNZsrQ=='
                class='apbct-email-encoder'
                title='This contact has been encoded by Anti-Spam by CleanTalk. Click to decode. To finish the decoding make sure that JavaScript is enabled in your browser.'>10<span class="apbct-blur">****************************</span>@<span class="apbct-blur">***************</span>wi.us</span>
SUMMARY:FON Meeting
DESCRIPTION:
URL:https://www.milton.k12.wi.us/event/fon-meeting-7/
CATEGORIES:Northside Intermediate
END:VEVENT
BEGIN:VEVENT
DTSTART;TZID=America/Chicago:20250318T190000
DTEND;TZID=America/Chicago:20250318T200000
DTSTAMP:20260424T174604
CREATED:20240823T013741Z
LAST-MODIFIED:20250318T225249Z
UID:<span 
                data-original-string='OIZkkl5Yo8ve5FpHwCIRag==386dOEZlN3v8zusvjae/h1oNa9cDXTP84dXl3QbZFdul4lCOb56WyY3vTpylgPPtZjQj9shdgx2T9kG0bDw1YMEgg=='
                class='apbct-email-encoder'
                title='This contact has been encoded by Anti-Spam by CleanTalk. Click to decode. To finish the decoding make sure that JavaScript is enabled in your browser.'>10<span class="apbct-blur">****************************</span>@<span class="apbct-blur">***************</span>wi.us</span>
SUMMARY:MMS 7th-8th POPS band concert @ MHS PAC
DESCRIPTION:
URL:https://www.milton.k12.wi.us/event/7th-8th-pops-band-concert-mhs-pac/
CATEGORIES:Milton Middle School
END:VEVENT
BEGIN:VEVENT
DTSTART;VALUE=DATE:20250319
DTEND;VALUE=DATE:20250320
DTSTAMP:20260424T174604
CREATED:20250304T140746Z
LAST-MODIFIED:20250319T224158Z
UID:<span 
                data-original-string='RkxlPUshZz977ZKyApx+5g==386y2GMehLHSwVZKTd1Wjsh1K2/NLcC3kTc4mV99yCyxIlTbMsY6rd8PZaDxY9++suKNT4a0+l/dGAztMBVUC1m3A=='
                class='apbct-email-encoder'
                title='This contact has been encoded by Anti-Spam by CleanTalk. Click to decode. To finish the decoding make sure that JavaScript is enabled in your browser.'>10<span class="apbct-blur">****************************</span>@<span class="apbct-blur">***************</span>wi.us</span>
SUMMARY:Day 1
DESCRIPTION:
URL:https://www.milton.k12.wi.us/event/day-1-24/
CATEGORIES:Northside Intermediate
END:VEVENT
BEGIN:VEVENT
DTSTART;TZID=America/Chicago:20250319T190000
DTEND;TZID=America/Chicago:20250319T190000
DTSTAMP:20260424T174604
CREATED:20240822T004650Z
LAST-MODIFIED:20250319T235627Z
UID:<span 
                data-original-string='0zmTMHLth6xVB47NrtT0dw==386VYbq1CEk556SgKEDrvo4UFc+BJCLcN5+Tc6suCJ6DprRh2zcyfHRNPs7lHAvEe7P+ZNuCDmDq0Fq08wHe3RTFA=='
                class='apbct-email-encoder'
                title='This contact has been encoded by Anti-Spam by CleanTalk. Click to decode. To finish the decoding make sure that JavaScript is enabled in your browser.'>10<span class="apbct-blur">****************************</span>@<span class="apbct-blur">***************</span>wi.us</span>
SUMMARY:MHS and 6th Grade Band Concert
DESCRIPTION:
URL:https://www.milton.k12.wi.us/event/mhs-and-6th-grade-band-concert/
CATEGORIES:Milton High School
END:VEVENT
BEGIN:VEVENT
DTSTART;TZID=America/Chicago:20250319T190000
DTEND;TZID=America/Chicago:20250319T200000
DTSTAMP:20260424T174604
CREATED:20240910T181523Z
LAST-MODIFIED:20250319T224159Z
UID:<span 
                data-original-string='e9ptVDyx2ykR+l5cAPM02w==386pKMIUWN6C3VUqk8PMOZki+nDVJKzb+c08w3+nWjQzkXrit0XibZMctIVmWhv7vykOKy/F16TMcXcbqt+/oTu6Q=='
                class='apbct-email-encoder'
                title='This contact has been encoded by Anti-Spam by CleanTalk. Click to decode. To finish the decoding make sure that JavaScript is enabled in your browser.'>10<span class="apbct-blur">****************************</span>@<span class="apbct-blur">***************</span>wi.us</span>
SUMMARY:6th Band Concert
DESCRIPTION:
URL:https://www.milton.k12.wi.us/event/6th-band-concert-2/
CATEGORIES:Northside Intermediate
END:VEVENT
BEGIN:VEVENT
DTSTART;VALUE=DATE:20250320
DTEND;VALUE=DATE:20250321
DTSTAMP:20260424T174604
CREATED:20250304T140748Z
LAST-MODIFIED:20250320T223725Z
UID:<span 
                data-original-string='eiPOZ1yxkeq8Ujigtnxq/Q==386f7YzgLqR4HjDfbkc0EySGEOcWLwSaa2K4qUF2onmRM2LSqG9CKTMWziEhHtYbHPKyqBnTi57WXdnn0loz45u0Q=='
                class='apbct-email-encoder'
                title='This contact has been encoded by Anti-Spam by CleanTalk. Click to decode. To finish the decoding make sure that JavaScript is enabled in your browser.'>10<span class="apbct-blur">****************************</span>@<span class="apbct-blur">***************</span>wi.us</span>
SUMMARY:Day 2
DESCRIPTION:
URL:https://www.milton.k12.wi.us/event/day-2-22/
CATEGORIES:Northside Intermediate
END:VEVENT
BEGIN:VEVENT
DTSTART;TZID=America/Chicago:20250320T173000
DTEND;TZID=America/Chicago:20250320T183000
DTSTAMP:20260424T174604
CREATED:20240822T004718Z
LAST-MODIFIED:20250320T225234Z
UID:<span 
                data-original-string='i8058FJA0XUmolSh+8uOPw==386yqD+6J4lKCY9069o0s+2sHCnWrBLaRd4k35D6lwDJyWfNo60L+V2+XNDhRJDqwExdeh4HtklZl/G52LjR/bNMw=='
                class='apbct-email-encoder'
                title='This contact has been encoded by Anti-Spam by CleanTalk. Click to decode. To finish the decoding make sure that JavaScript is enabled in your browser.'>10<span class="apbct-blur">****************************</span>@<span class="apbct-blur">***************</span>wi.us</span>
SUMMARY:MMS Parent Group Meeting
DESCRIPTION:
URL:https://www.milton.k12.wi.us/event/parent-group-meeting-6/
CATEGORIES:Milton Middle School
END:VEVENT
BEGIN:VEVENT
DTSTART;VALUE=DATE:20250321
DTEND;VALUE=DATE:20250322
DTSTAMP:20260424T174604
CREATED:20250304T140747Z
LAST-MODIFIED:20250321T142222Z
UID:<span 
                data-original-string='UN+LQsvHhiGEMvtI4ntL6g==386EG64/gjaFnOcA9qk99jgar/xbqpomKrEcUa4skNKjNZYc/juaEbLE4wHMFKkUPLc1rBZzhvhxnW0sXPvYvktcg=='
                class='apbct-email-encoder'
                title='This contact has been encoded by Anti-Spam by CleanTalk. Click to decode. To finish the decoding make sure that JavaScript is enabled in your browser.'>10<span class="apbct-blur">****************************</span>@<span class="apbct-blur">***************</span>wi.us</span>
SUMMARY:Day 3
DESCRIPTION:
URL:https://www.milton.k12.wi.us/event/day-3-22/
CATEGORIES:Northside Intermediate
END:VEVENT
BEGIN:VEVENT
DTSTART;VALUE=DATE:20250324
DTEND;VALUE=DATE:20250325
DTSTAMP:20260424T174604
CREATED:20240822T004652Z
LAST-MODIFIED:20250324T233341Z
UID:<span 
                data-original-string='JujK6RM4xfmksYj1PzofzA==3865eWEE9g1i8jW7vhjZZxhey8U40aXTLjQf0t7KCxLyu+DmmCbD3Mf2rYBXKPjXu4QL8gBkq8xdpE6Yp2rWryGhw=='
                class='apbct-email-encoder'
                title='This contact has been encoded by Anti-Spam by CleanTalk. Click to decode. To finish the decoding make sure that JavaScript is enabled in your browser.'>10<span class="apbct-blur">****************************</span>@<span class="apbct-blur">***************</span>wi.us</span>
SUMMARY:Spring Break - No School
DESCRIPTION:
URL:https://www.milton.k12.wi.us/event/spring-break-no-school-4/
CATEGORIES:Milton High School
END:VEVENT
BEGIN:VEVENT
DTSTART;VALUE=DATE:20250324
DTEND;VALUE=DATE:20250325
DTSTAMP:20260424T174604
CREATED:20250106T202357Z
LAST-MODIFIED:20250324T231745Z
UID:<span 
                data-original-string='yzwotdmlx5PMDntlznzsTQ==386/AC+LWeXIPW80aCASe5C7GF8+XeW8zXFPq/3VrJ1QVIrjdT3OESRm52/gcFLuLRJSgr37UAgBNXDlstZjadqYg=='
                class='apbct-email-encoder'
                title='This contact has been encoded by Anti-Spam by CleanTalk. Click to decode. To finish the decoding make sure that JavaScript is enabled in your browser.'>10<span class="apbct-blur">****************************</span>@<span class="apbct-blur">***************</span>wi.us</span>
SUMMARY:Northside Early Release @ 2:40pm
DESCRIPTION:
URL:https://www.milton.k12.wi.us/event/early-release-240pm-10/
CATEGORIES:Northside Intermediate
END:VEVENT
BEGIN:VEVENT
DTSTART;VALUE=DATE:20250324
DTEND;VALUE=DATE:20250329
DTSTAMP:20260424T174604
CREATED:20240822T004847Z
LAST-MODIFIED:20250328T235222Z
UID:<span 
                data-original-string='o6TmSW5RUYnYBYukJI320A==386Y21e0WbH4zN7VNbyIxhoZyeeayou0SWKKmCy3vFvDqBUQ2AtpauJNwts4RqMvh8bJr0exhCrbp7hxDK73PmE7A=='
                class='apbct-email-encoder'
                title='This contact has been encoded by Anti-Spam by CleanTalk. Click to decode. To finish the decoding make sure that JavaScript is enabled in your browser.'>10<span class="apbct-blur">****************************</span>@<span class="apbct-blur">***************</span>wi.us</span>
SUMMARY:Spring Break/No School
DESCRIPTION:
URL:https://www.milton.k12.wi.us/event/spring-break-no-school-7/
CATEGORIES:Milton West Elementary
END:VEVENT
BEGIN:VEVENT
DTSTART;VALUE=DATE:20250324
DTEND;VALUE=DATE:20250329
DTSTAMP:20260424T174604
CREATED:20240822T012930Z
LAST-MODIFIED:20250328T233007Z
UID:<span 
                data-original-string='0G+TfFxGXc3YQ9dqiMLr7Q==386o0RCGkEw4K2ZCPSArmduMUIEOTIXn6AJHnlAhoQrMuXq9kG2y5kVny7+fSqJZ5KgyAcH8SgvTozJZOO0UsqaGQ=='
                class='apbct-email-encoder'
                title='This contact has been encoded by Anti-Spam by CleanTalk. Click to decode. To finish the decoding make sure that JavaScript is enabled in your browser.'>10<span class="apbct-blur">****************************</span>@<span class="apbct-blur">***************</span>wi.us</span>
SUMMARY:Spring Break/No School
DESCRIPTION:
URL:https://www.milton.k12.wi.us/event/spring-break-no-school-3/
CATEGORIES:Consolidated
END:VEVENT
BEGIN:VEVENT
DTSTART;VALUE=DATE:20250324
DTEND;VALUE=DATE:20250329
DTSTAMP:20260424T174604
CREATED:20240823T013741Z
LAST-MODIFIED:20250328T230756Z
UID:<span 
                data-original-string='FnYMZjHM9opuAkN6d0Wf+Q==3861wccSHzIBSoRWyDJ6cMrjlsrsTS4aRfYNIXJUnVkQMeFxqgXH3JCuQN3/RfprqhyC2eqpGBfNqRCit4R62yvHw=='
                class='apbct-email-encoder'
                title='This contact has been encoded by Anti-Spam by CleanTalk. Click to decode. To finish the decoding make sure that JavaScript is enabled in your browser.'>10<span class="apbct-blur">****************************</span>@<span class="apbct-blur">***************</span>wi.us</span>
SUMMARY:Spring Break/No School
DESCRIPTION:
URL:https://www.milton.k12.wi.us/event/spring-break-no-school-8/
CATEGORIES:Milton Middle School
END:VEVENT
BEGIN:VEVENT
DTSTART;VALUE=DATE:20250324
DTEND;VALUE=DATE:20250329
DTSTAMP:20260424T174604
CREATED:20240829T170151Z
LAST-MODIFIED:20250328T225010Z
UID:<span 
                data-original-string='9tjsgOPY2LdjGW+jj/2d6g==386/KZuJIs0cXz6ggPiNx6L+3nBwAlY6sbp5h+dd58v/efYkOKHNCGwOAiXx7t7QhImwbnWlQuw3T20f/pyhs0qiQ=='
                class='apbct-email-encoder'
                title='This contact has been encoded by Anti-Spam by CleanTalk. Click to decode. To finish the decoding make sure that JavaScript is enabled in your browser.'>10<span class="apbct-blur">****************************</span>@<span class="apbct-blur">***************</span>wi.us</span>
SUMMARY:HES: Spring Break/No School
DESCRIPTION:
URL:https://www.milton.k12.wi.us/event/hes-spring-break-no-school/
CATEGORIES:Harmony Elementary
END:VEVENT
BEGIN:VEVENT
DTSTART;VALUE=DATE:20250324
DTEND;VALUE=DATE:20250329
DTSTAMP:20260424T174604
CREATED:20241108T202327Z
LAST-MODIFIED:20250328T234420Z
UID:<span 
                data-original-string='QjyYXSLKs4B80ZNX8rwfQQ==386NRfwGYIknqfrLJvMwP0o3biUyX69GBt9jOeli52RYFsV0Pj1NYQGpbDJegUxJMaMxRYERgzQatxVZYT2GPu5Rg=='
                class='apbct-email-encoder'
                title='This contact has been encoded by Anti-Spam by CleanTalk. Click to decode. To finish the decoding make sure that JavaScript is enabled in your browser.'>10<span class="apbct-blur">****************************</span>@<span class="apbct-blur">***************</span>wi.us</span>
SUMMARY:No School: Spring Break
DESCRIPTION:
URL:https://www.milton.k12.wi.us/event/no-school-spring-break/
CATEGORIES:Northside Intermediate
END:VEVENT
BEGIN:VEVENT
DTSTART;VALUE=DATE:20250324
DTEND;VALUE=DATE:20250329
DTSTAMP:20260424T174604
CREATED:20241113T193854Z
LAST-MODIFIED:20250328T233822Z
UID:<span 
                data-original-string='WzBb6lDL9/j0SRgkxATQow==386PLUas8AGBvIezZankubDqbwYCHOQfQ4LNg6xZ6rJObwPHgwlUH3tQHDPuXqqjdaVJVxe8VUSrmT42ACzgTONfQ=='
                class='apbct-email-encoder'
                title='This contact has been encoded by Anti-Spam by CleanTalk. Click to decode. To finish the decoding make sure that JavaScript is enabled in your browser.'>10<span class="apbct-blur">****************************</span>@<span class="apbct-blur">***************</span>wi.us</span>
SUMMARY:SPRING BREAK - NO SCHOOL
DESCRIPTION:
URL:https://www.milton.k12.wi.us/event/spring-break-no-school-19/
CATEGORIES:District
END:VEVENT
BEGIN:VEVENT
DTSTART;TZID=America/Chicago:20250324T143500
DTEND;TZID=America/Chicago:20250324T153500
DTSTAMP:20260424T174604
CREATED:20240822T012930Z
LAST-MODIFIED:20250324T182241Z
UID:<span 
                data-original-string='GuZDqt5f/YamiwF4yPJT4w==386naSHA/4dslOVKh/Bn1YByg6aTJ7d0UVPcGY3pjeMuvLnTieMTLbbGiwNDZR9nYvUFuyGWTPgtg1l3gdcjwHyJg=='
                class='apbct-email-encoder'
                title='This contact has been encoded by Anti-Spam by CleanTalk. Click to decode. To finish the decoding make sure that JavaScript is enabled in your browser.'>10<span class="apbct-blur">****************************</span>@<span class="apbct-blur">***************</span>wi.us</span>
SUMMARY:Early Release -
DESCRIPTION:
URL:https://www.milton.k12.wi.us/event/early-release-22/
CATEGORIES:Consolidated
END:VEVENT
BEGIN:VEVENT
DTSTART;VALUE=DATE:20250325
DTEND;VALUE=DATE:20250326
DTSTAMP:20260424T174604
CREATED:20240822T004651Z
LAST-MODIFIED:20250325T232638Z
UID:<span 
                data-original-string='Y8CLxXBl1K42bqyhf+RX1A==386wu81ZXSl8aVfQyTuQ995vZKq0pvu883WE8jG8hSgvsKs492UH5StmzAy+Vix+0pcFGPy2v2l04SSsNxvDEsefQ=='
                class='apbct-email-encoder'
                title='This contact has been encoded by Anti-Spam by CleanTalk. Click to decode. To finish the decoding make sure that JavaScript is enabled in your browser.'>10<span class="apbct-blur">****************************</span>@<span class="apbct-blur">***************</span>wi.us</span>
SUMMARY:Spring Break - No School
DESCRIPTION:
URL:https://www.milton.k12.wi.us/event/spring-break-no-school-2/
CATEGORIES:Milton High School
END:VEVENT
BEGIN:VEVENT
DTSTART;VALUE=DATE:20250326
DTEND;VALUE=DATE:20250327
DTSTAMP:20260424T174604
CREATED:20240822T004651Z
LAST-MODIFIED:20250326T232226Z
UID:<span 
                data-original-string='xvO5rjANLjLr9gsgwA/EVQ==386ZU8ITTM56cCEnKt58M438ej78oor1+9B8mx3odzA4k32eBQ8lNhd+zILz6iLOZHI9R1p1lEL9rt1bJz56tWBqQ=='
                class='apbct-email-encoder'
                title='This contact has been encoded by Anti-Spam by CleanTalk. Click to decode. To finish the decoding make sure that JavaScript is enabled in your browser.'>10<span class="apbct-blur">****************************</span>@<span class="apbct-blur">***************</span>wi.us</span>
SUMMARY:Spring Break - No School
DESCRIPTION:
URL:https://www.milton.k12.wi.us/event/spring-break-no-school/
CATEGORIES:Milton High School
END:VEVENT
BEGIN:VEVENT
DTSTART;VALUE=DATE:20250327
DTEND;VALUE=DATE:20250328
DTSTAMP:20260424T174604
CREATED:20240822T004653Z
LAST-MODIFIED:20250327T232259Z
UID:<span 
                data-original-string='0RI6wKqvnpCrJpUlm5v4cw==386eJglGjavJMVCR/rcMmbOWhVAa5oHOjxs9Gl3EHaT3Tuje6txnEhB0uOnzI9G9fdJwMRFzbKeBv0qvLbJBMkg1A=='
                class='apbct-email-encoder'
                title='This contact has been encoded by Anti-Spam by CleanTalk. Click to decode. To finish the decoding make sure that JavaScript is enabled in your browser.'>10<span class="apbct-blur">****************************</span>@<span class="apbct-blur">***************</span>wi.us</span>
SUMMARY:Spring Break - No School
DESCRIPTION:
URL:https://www.milton.k12.wi.us/event/spring-break-no-school-5/
CATEGORIES:Milton High School
END:VEVENT
BEGIN:VEVENT
DTSTART;VALUE=DATE:20250328
DTEND;VALUE=DATE:20250329
DTSTAMP:20260424T174604
CREATED:20240822T004653Z
LAST-MODIFIED:20250328T233731Z
UID:<span 
                data-original-string='kav/W+ZyWyAzwINWzeaNLg==386GG4f+Ps6+Yn2zGNjUiAiGy9SafhPwCPhb5gYZhVwDA3HQUU/M+8+8+XW70P+ANdJ1PUQjrQNxYKZOoD6ikBVPA=='
                class='apbct-email-encoder'
                title='This contact has been encoded by Anti-Spam by CleanTalk. Click to decode. To finish the decoding make sure that JavaScript is enabled in your browser.'>10<span class="apbct-blur">****************************</span>@<span class="apbct-blur">***************</span>wi.us</span>
SUMMARY:Spring Break - No School
DESCRIPTION:
URL:https://www.milton.k12.wi.us/event/spring-break-no-school-6/
CATEGORIES:Milton High School
END:VEVENT
BEGIN:VEVENT
DTSTART;VALUE=DATE:20250331
DTEND;VALUE=DATE:20250401
DTSTAMP:20260424T174604
CREATED:20241113T193854Z
LAST-MODIFIED:20250331T235915Z
UID:<span 
                data-original-string='d9q1EeefWQine4dQf9Zgtg==386Q5ZszfJrOzUxbTUHAluLAt6Byq9xofdg65oibx9UPwPl8tAgy90kRm4q8leAAfjSn7K2LDMAkqS6j4KmI32qQQ=='
                class='apbct-email-encoder'
                title='This contact has been encoded by Anti-Spam by CleanTalk. Click to decode. To finish the decoding make sure that JavaScript is enabled in your browser.'>10<span class="apbct-blur">****************************</span>@<span class="apbct-blur">***************</span>wi.us</span>
SUMMARY:Classes Resume
DESCRIPTION:
URL:https://www.milton.k12.wi.us/event/classes-resume-3/
CATEGORIES:District
END:VEVENT
BEGIN:VEVENT
DTSTART;VALUE=DATE:20250331
DTEND;VALUE=DATE:20250401
DTSTAMP:20260424T174604
CREATED:20250106T202358Z
LAST-MODIFIED:20250331T235336Z
UID:<span 
                data-original-string='8J3RRH8fjJRz2i/H2Ms9Jw==38665agTFKaG0W1ltWc+polFRkSNRmPdxluPXOFovAWVMItCPLOSURhygm9XsfqtQN9E5kwhWP5Szk1wZ9mP/uhkg=='
                class='apbct-email-encoder'
                title='This contact has been encoded by Anti-Spam by CleanTalk. Click to decode. To finish the decoding make sure that JavaScript is enabled in your browser.'>10<span class="apbct-blur">****************************</span>@<span class="apbct-blur">***************</span>wi.us</span>
SUMMARY:Northside Early Release @ 2:40pm
DESCRIPTION:
URL:https://www.milton.k12.wi.us/event/early-release-240pm-11/
CATEGORIES:Northside Intermediate
END:VEVENT
BEGIN:VEVENT
DTSTART;VALUE=DATE:20250331
DTEND;VALUE=DATE:20250401
DTSTAMP:20260424T174604
CREATED:20250304T140756Z
LAST-MODIFIED:20250331T235337Z
UID:<span 
                data-original-string='PiA/SfnbYY0S+usSHMwcBw==38674zSyTS0VHf8nwoFZ7bt3IaxNybGWC6EkZdI5K60eur1Ji9P/Q2Z/lGocmR/MXz0caUqjPxtu9PJs6wPPK6cNw=='
                class='apbct-email-encoder'
                title='This contact has been encoded by Anti-Spam by CleanTalk. Click to decode. To finish the decoding make sure that JavaScript is enabled in your browser.'>10<span class="apbct-blur">****************************</span>@<span class="apbct-blur">***************</span>wi.us</span>
SUMMARY:Day 4
DESCRIPTION:
URL:https://www.milton.k12.wi.us/event/day-4-23/
CATEGORIES:Northside Intermediate
END:VEVENT
BEGIN:VEVENT
DTSTART;TZID=America/Chicago:20250331T143500
DTEND;TZID=America/Chicago:20250331T153500
DTSTAMP:20260424T174604
CREATED:20240822T012930Z
LAST-MODIFIED:20250331T190729Z
UID:<span 
                data-original-string='pAmrGmt+xvLUhO3Hy8iU0A==3866JooqMTVSLzuCwHXozLnb4xTtpBhE9yc5CLSocwIPkQVmOBsP0KboUPLy9QFw01J0QSqcH6UoGVlp2SiCvXkvw=='
                class='apbct-email-encoder'
                title='This contact has been encoded by Anti-Spam by CleanTalk. Click to decode. To finish the decoding make sure that JavaScript is enabled in your browser.'>10<span class="apbct-blur">****************************</span>@<span class="apbct-blur">***************</span>wi.us</span>
SUMMARY:Early Release -
DESCRIPTION:
URL:https://www.milton.k12.wi.us/event/early-release-23/
CATEGORIES:Consolidated
END:VEVENT
BEGIN:VEVENT
DTSTART;TZID=America/Chicago:20250331T143500
DTEND;TZID=America/Chicago:20250331T153500
DTSTAMP:20260424T174604
CREATED:20240909T204111Z
LAST-MODIFIED:20250331T100745Z
UID:<span 
                data-original-string='8jfEJUQVgi1AUWjZ2Z4MWQ==386ft4z8pu5DK+gVran67qOQAWGa3vgToOpuwdrDWP8GtLUJt7Qaq7oadsOEjGgaoE8UViFy4r+/9HByr6a+W67RA=='
                class='apbct-email-encoder'
                title='This contact has been encoded by Anti-Spam by CleanTalk. Click to decode. To finish the decoding make sure that JavaScript is enabled in your browser.'>10<span class="apbct-blur">****************************</span>@<span class="apbct-blur">***************</span>wi.us</span>
SUMMARY:HES: Early Release
DESCRIPTION:
URL:https://www.milton.k12.wi.us/event/hes-early-release-21/
CATEGORIES:Harmony Elementary
END:VEVENT
BEGIN:VEVENT
DTSTART;TZID=America/Chicago:20250331T180000
DTEND;TZID=America/Chicago:20250331T200000
DTSTAMP:20260424T174604
CREATED:20240917T180328Z
LAST-MODIFIED:20250331T235225Z
UID:<span 
                data-original-string='pD2JtNqlASxD0/ytVoW5gg==386ESdySGQtRRlwhcX6RQ2tjlRkHPadjZ+759fR/66vDLGhYpjlG+FMYdU3o0Z0PvbhauJqrB+NeaJIwD5dz4vZ4g=='
                class='apbct-email-encoder'
                title='This contact has been encoded by Anti-Spam by CleanTalk. Click to decode. To finish the decoding make sure that JavaScript is enabled in your browser.'>10<span class="apbct-blur">****************************</span>@<span class="apbct-blur">***************</span>wi.us</span>
SUMMARY:PAWS mtg
DESCRIPTION:
URL:https://www.milton.k12.wi.us/event/paws-mtg-7/
CATEGORIES:Milton West Elementary
END:VEVENT
BEGIN:VEVENT
DTSTART;VALUE=DATE:20250401
DTEND;VALUE=DATE:20250402
DTSTAMP:20260424T174604
CREATED:20250304T140756Z
LAST-MODIFIED:20250401T234138Z
UID:<span 
                data-original-string='/df3tWpQPHYNCb40hifFxQ==386eedsfzNc/3Fcd+Kouu5k6+cu65bDHGZi9BDgPZiyzC3wlVB5G5Su06MR5rAYk5tk57JM/NVYxVmi6IUrr7b+5Q=='
                class='apbct-email-encoder'
                title='This contact has been encoded by Anti-Spam by CleanTalk. Click to decode. To finish the decoding make sure that JavaScript is enabled in your browser.'>10<span class="apbct-blur">****************************</span>@<span class="apbct-blur">***************</span>wi.us</span>
SUMMARY:Day 5
DESCRIPTION:
URL:https://www.milton.k12.wi.us/event/day-5-22/
CATEGORIES:Northside Intermediate
END:VEVENT
BEGIN:VEVENT
DTSTART;VALUE=DATE:20250402
DTEND;VALUE=DATE:20250403
DTSTAMP:20260424T174604
CREATED:20250304T140757Z
LAST-MODIFIED:20250402T235527Z
UID:<span 
                data-original-string='EN33TkXti1rBc9tO78RlyA==386lHkAy7rrAsoVYfbYzUhw5g4JEZ5/Hr3n58NDAVT30VLvqmjwpj5laF7PgYxbGL+oSYvY2LC964dJgbc7kBSDiw=='
                class='apbct-email-encoder'
                title='This contact has been encoded by Anti-Spam by CleanTalk. Click to decode. To finish the decoding make sure that JavaScript is enabled in your browser.'>10<span class="apbct-blur">****************************</span>@<span class="apbct-blur">***************</span>wi.us</span>
SUMMARY:Day 6
DESCRIPTION:
URL:https://www.milton.k12.wi.us/event/day-6-23/
CATEGORIES:Northside Intermediate
END:VEVENT
END:VCALENDAR