BEGIN:VCALENDAR
VERSION:2.0
PRODID:-//School District of Milton - ECPv6.15.20//NONSGML v1.0//EN
CALSCALE:GREGORIAN
METHOD:PUBLISH
X-ORIGINAL-URL:https://www.milton.k12.wi.us
X-WR-CALDESC:Events for School District of Milton
REFRESH-INTERVAL;VALUE=DURATION:PT1H
X-Robots-Tag:noindex
X-PUBLISHED-TTL:PT1H
BEGIN:VTIMEZONE
TZID:America/Chicago
BEGIN:DAYLIGHT
TZOFFSETFROM:-0600
TZOFFSETTO:-0500
TZNAME:CDT
DTSTART:20230312T080000
END:DAYLIGHT
BEGIN:STANDARD
TZOFFSETFROM:-0500
TZOFFSETTO:-0600
TZNAME:CST
DTSTART:20231105T070000
END:STANDARD
BEGIN:DAYLIGHT
TZOFFSETFROM:-0600
TZOFFSETTO:-0500
TZNAME:CDT
DTSTART:20240310T080000
END:DAYLIGHT
BEGIN:STANDARD
TZOFFSETFROM:-0500
TZOFFSETTO:-0600
TZNAME:CST
DTSTART:20241103T070000
END:STANDARD
BEGIN:DAYLIGHT
TZOFFSETFROM:-0600
TZOFFSETTO:-0500
TZNAME:CDT
DTSTART:20250309T080000
END:DAYLIGHT
BEGIN:STANDARD
TZOFFSETFROM:-0500
TZOFFSETTO:-0600
TZNAME:CST
DTSTART:20251102T070000
END:STANDARD
END:VTIMEZONE
BEGIN:VEVENT
DTSTART;VALUE=DATE:20241022
DTEND;VALUE=DATE:20241023
DTSTAMP:20260421T063657
CREATED:20240824T110756Z
LAST-MODIFIED:20241022T223730Z
UID:<span 
                data-original-string='5TO2GcijrHBc3IOf8RNOxw==3866X7iiH6myk8P9HRUS/8uSMUugTIDGIvmqwL/fdSM6xDuPxo8gAhi2NA2dkHd4j4N0t+qnAUzKD3d7Gn+014UEg=='
                class='apbct-email-encoder'
                title='This contact has been encoded by Anti-Spam by CleanTalk. Click to decode. To finish the decoding make sure that JavaScript is enabled in your browser.'>10<span class="apbct-blur">****************************</span>@<span class="apbct-blur">***************</span>wi.us</span>
SUMMARY:Day 5
DESCRIPTION:
URL:https://www.milton.k12.wi.us/event/day-5-6/
CATEGORIES:Northside Intermediate
END:VEVENT
BEGIN:VEVENT
DTSTART;TZID=America/Chicago:20241022T080000
DTEND;TZID=America/Chicago:20241022T143000
DTSTAMP:20260421T063657
CREATED:20240911T181319Z
LAST-MODIFIED:20241022T192326Z
UID:<span 
                data-original-string='Ee5rE8kmmzwVmtrlKu2oaA==386z5KUgSVTzCJgirMCuiVaVGCe9fvNCHUBBDzeEm4Wl0ggAhV+/fKBdYcGDwcznrlbFqdiA6cVgMuq6E4r8HbgVA=='
                class='apbct-email-encoder'
                title='This contact has been encoded by Anti-Spam by CleanTalk. Click to decode. To finish the decoding make sure that JavaScript is enabled in your browser.'>10<span class="apbct-blur">****************************</span>@<span class="apbct-blur">***************</span>wi.us</span>
SUMMARY:Picture retake day
DESCRIPTION:
URL:https://www.milton.k12.wi.us/event/picture-retake-day-3/
CATEGORIES:Milton West Elementary
END:VEVENT
BEGIN:VEVENT
DTSTART;TZID=America/Chicago:20241022T160000
DTEND;TZID=America/Chicago:20241022T160000
DTSTAMP:20260421T063657
CREATED:20240822T004631Z
LAST-MODIFIED:20241022T203729Z
UID:<span 
                data-original-string='p8BIAMnCIpHPbIRAWxmGNw==386FV1E4oLqDry3LVnBM1CMvWfzviumuS16/ZD7uPPFL9+6h3Tv/DxE3ZSnhu5CJwGDOShiuQbTy1iBXjcBF7rbog=='
                class='apbct-email-encoder'
                title='This contact has been encoded by Anti-Spam by CleanTalk. Click to decode. To finish the decoding make sure that JavaScript is enabled in your browser.'>10<span class="apbct-blur">****************************</span>@<span class="apbct-blur">***************</span>wi.us</span>
SUMMARY:History Club Trip - Boston\, MA - Leave
DESCRIPTION:
URL:https://www.milton.k12.wi.us/event/history-club-trip-boston-ma-leave/
CATEGORIES:Milton High School
END:VEVENT
BEGIN:VEVENT
DTSTART;VALUE=DATE:20241023
DTEND;VALUE=DATE:20241024
DTSTAMP:20260421T063657
CREATED:20240822T004631Z
LAST-MODIFIED:20241023T230738Z
UID:<span 
                data-original-string='Z7usgP7+sMpWN25OCZBF6A==386ZM8QnRRiCJLTiTSM0CRH4EPvpPMzi7mePFTQYlqewbroC+PP7TbRLaa3wK2Db+uaWaXHbcV325ntPF2LwcSIsA=='
                class='apbct-email-encoder'
                title='This contact has been encoded by Anti-Spam by CleanTalk. Click to decode. To finish the decoding make sure that JavaScript is enabled in your browser.'>10<span class="apbct-blur">****************************</span>@<span class="apbct-blur">***************</span>wi.us</span>
SUMMARY:History Club Trip - Boston\, MA
DESCRIPTION:
URL:https://www.milton.k12.wi.us/event/history-club-trip-boston-ma/
CATEGORIES:Milton High School
END:VEVENT
BEGIN:VEVENT
DTSTART;VALUE=DATE:20241023
DTEND;VALUE=DATE:20241024
DTSTAMP:20260421T063657
CREATED:20240824T110756Z
LAST-MODIFIED:20241023T225231Z
UID:<span 
                data-original-string='gsnMI4anW3J+AzRqVwPAUA==386IiW1OWyJWHGe+EAiIeaNms85R0/VWB53YxPGSk6iQHWPFo6zNCIxYOo8MoRVfzKO6vMU5P4GvL0mGZ07Rp6kmg=='
                class='apbct-email-encoder'
                title='This contact has been encoded by Anti-Spam by CleanTalk. Click to decode. To finish the decoding make sure that JavaScript is enabled in your browser.'>10<span class="apbct-blur">****************************</span>@<span class="apbct-blur">***************</span>wi.us</span>
SUMMARY:Day 6
DESCRIPTION:
URL:https://www.milton.k12.wi.us/event/day-6-6/
CATEGORIES:Northside Intermediate
END:VEVENT
BEGIN:VEVENT
DTSTART;VALUE=DATE:20241023
DTEND;VALUE=DATE:20241024
DTSTAMP:20260421T063657
CREATED:20240829T165945Z
LAST-MODIFIED:20241023T225342Z
UID:<span 
                data-original-string='gKB+s6R1M97vtSyNq9GG3g==386kzp9HCIIrEDF/oxgdI/VhFtZgL1XJEaiPff3Zc8cYRUzV37SqngOiramD+jmwVRjMndrOggBftiuuU+jIsaBEw=='
                class='apbct-email-encoder'
                title='This contact has been encoded by Anti-Spam by CleanTalk. Click to decode. To finish the decoding make sure that JavaScript is enabled in your browser.'>10<span class="apbct-blur">****************************</span>@<span class="apbct-blur">***************</span>wi.us</span>
SUMMARY:HES: Book Fair
DESCRIPTION:
URL:https://www.milton.k12.wi.us/event/hes-book-fair/
CATEGORIES:Harmony Elementary
END:VEVENT
BEGIN:VEVENT
DTSTART;TZID=America/Chicago:20241023T160000
DTEND;TZID=America/Chicago:20241023T200000
DTSTAMP:20260421T063657
CREATED:20240822T004837Z
LAST-MODIFIED:20241023T210936Z
UID:<span 
                data-original-string='ejoql3alV79lk7RxE4feAA==386zO4uw0lxLNh9B9n6OFJ5DHEfyTotDIreYNGIdpHBFKdJMfyyPPU75MDEQ+uMCkYJ9/Jq3Ap51UgEbAlMbQ9Z6g=='
                class='apbct-email-encoder'
                title='This contact has been encoded by Anti-Spam by CleanTalk. Click to decode. To finish the decoding make sure that JavaScript is enabled in your browser.'>10<span class="apbct-blur">****************************</span>@<span class="apbct-blur">***************</span>wi.us</span>
SUMMARY:Parent Teacher conferences
DESCRIPTION:
URL:https://www.milton.k12.wi.us/event/parent-teacher-conferences-10/
CATEGORIES:Milton West Elementary
END:VEVENT
BEGIN:VEVENT
DTSTART;TZID=America/Chicago:20241023T160000
DTEND;TZID=America/Chicago:20241023T200000
DTSTAMP:20260421T063657
CREATED:20240822T012924Z
LAST-MODIFIED:20241023T222226Z
UID:<span 
                data-original-string='pncj1Q7XNFrh1Slt4iA2pQ==386eG7e/bK/76pYfv3ksisGXHobn6bBN6t273/LQ3yGQlfjeg4UJ36Laup7Wna82Di4D56NKP+WlgkQEdZS1SX4Nw=='
                class='apbct-email-encoder'
                title='This contact has been encoded by Anti-Spam by CleanTalk. Click to decode. To finish the decoding make sure that JavaScript is enabled in your browser.'>10<span class="apbct-blur">****************************</span>@<span class="apbct-blur">***************</span>wi.us</span>
SUMMARY:Parent/Teacher Conferences
DESCRIPTION:
URL:https://www.milton.k12.wi.us/event/parent-teacher-conferences-5/
CATEGORIES:Consolidated
END:VEVENT
BEGIN:VEVENT
DTSTART;TZID=America/Chicago:20241023T160000
DTEND;TZID=America/Chicago:20241023T200000
DTSTAMP:20260421T063657
CREATED:20240829T165946Z
LAST-MODIFIED:20241023T225345Z
UID:<span 
                data-original-string='pj/kESxfQsFwOEBdihkBbA==386wMyqek8+uMffgOM6J1lTyTKKzu6Aezis51KMTUAvrIqvQUDFKmIc2b8eAYQXusM4YqMch1Qa8zkPwJ5sic42Rw=='
                class='apbct-email-encoder'
                title='This contact has been encoded by Anti-Spam by CleanTalk. Click to decode. To finish the decoding make sure that JavaScript is enabled in your browser.'>10<span class="apbct-blur">****************************</span>@<span class="apbct-blur">***************</span>wi.us</span>
SUMMARY:HES: Parent/Teacher Conferences
DESCRIPTION:
URL:https://www.milton.k12.wi.us/event/hes-parent-teacher-conferences/
CATEGORIES:Harmony Elementary
END:VEVENT
BEGIN:VEVENT
DTSTART;TZID=America/Chicago:20241023T160000
DTEND;TZID=America/Chicago:20241023T200000
DTSTAMP:20260421T063657
CREATED:20240923T212236Z
LAST-MODIFIED:20241023T230855Z
UID:<span 
                data-original-string='c6yKr1zC48OO4F4HUkhbqw==386u+BBemT95d3/h8so/JYL+or+aBRr3uENfvMC1JUrtOKAlmVo0CmNy6ET3xoyvhGJ2TXGPE/2OipejUdvPHDqgw=='
                class='apbct-email-encoder'
                title='This contact has been encoded by Anti-Spam by CleanTalk. Click to decode. To finish the decoding make sure that JavaScript is enabled in your browser.'>10<span class="apbct-blur">****************************</span>@<span class="apbct-blur">***************</span>wi.us</span>
SUMMARY:EES:  Parent Teacher Conferences
DESCRIPTION:
URL:https://www.milton.k12.wi.us/event/ees-parent-teacher-conferences/
CATEGORIES:Milton East Elementary
END:VEVENT
BEGIN:VEVENT
DTSTART;VALUE=DATE:20241024
DTEND;VALUE=DATE:20241025
DTSTAMP:20260421T063657
CREATED:20240822T004633Z
LAST-MODIFIED:20241024T230945Z
UID:<span 
                data-original-string='z1NFufPTGcVfXpqQ2KRucQ==386fn7uec2i7R3DA/meI7QeTpKqNSzPrRcwgRbfvrjiKaPxw3MZJ7sMw51fSed1x+vwurVEUtOZ0/eujmzdWLovzw=='
                class='apbct-email-encoder'
                title='This contact has been encoded by Anti-Spam by CleanTalk. Click to decode. To finish the decoding make sure that JavaScript is enabled in your browser.'>10<span class="apbct-blur">****************************</span>@<span class="apbct-blur">***************</span>wi.us</span>
SUMMARY:History Club Trip - Boston\, MA
DESCRIPTION:
URL:https://www.milton.k12.wi.us/event/history-club-trip-boston-ma-4/
CATEGORIES:Milton High School
END:VEVENT
BEGIN:VEVENT
DTSTART;VALUE=DATE:20241024
DTEND;VALUE=DATE:20241025
DTSTAMP:20260421T063657
CREATED:20240822T004838Z
LAST-MODIFIED:20241024T210726Z
UID:<span 
                data-original-string='kYHzE0dXH6jV85Aydua5/g==386DyaPUuqeRZiupcMrpR0xChec0KOZmKMzTDUaLNcSci9/V0rw1N6lFnEOcZZ4P9hUgC0jMchLhOdbv8Hx06Af5g=='
                class='apbct-email-encoder'
                title='This contact has been encoded by Anti-Spam by CleanTalk. Click to decode. To finish the decoding make sure that JavaScript is enabled in your browser.'>10<span class="apbct-blur">****************************</span>@<span class="apbct-blur">***************</span>wi.us</span>
SUMMARY:4K No School
DESCRIPTION:
URL:https://www.milton.k12.wi.us/event/4k-no-school/
CATEGORIES:Milton West Elementary
END:VEVENT
BEGIN:VEVENT
DTSTART;VALUE=DATE:20241024
DTEND;VALUE=DATE:20241025
DTSTAMP:20260421T063657
CREATED:20240824T110756Z
LAST-MODIFIED:20241024T225622Z
UID:<span 
                data-original-string='/hW1Xl9v5o/Lq+HqTWphqg==386ek7l+S05FWzQOmWv8X8HoHeyUmNZlkBA5vmU0Rqip3zGbKkldhwAKnmWLKkomLm5T/7jWo2QQC/T83MDFw6qdQ=='
                class='apbct-email-encoder'
                title='This contact has been encoded by Anti-Spam by CleanTalk. Click to decode. To finish the decoding make sure that JavaScript is enabled in your browser.'>10<span class="apbct-blur">****************************</span>@<span class="apbct-blur">***************</span>wi.us</span>
SUMMARY:Day 1
DESCRIPTION:
URL:https://www.milton.k12.wi.us/event/day-1-7/
CATEGORIES:Northside Intermediate
END:VEVENT
BEGIN:VEVENT
DTSTART;VALUE=DATE:20241024
DTEND;VALUE=DATE:20241025
DTSTAMP:20260421T063657
CREATED:20240829T165956Z
LAST-MODIFIED:20241024T225429Z
UID:<span 
                data-original-string='oP11HJGCrjtxV3/a7Ai3lQ==386g5NyrSAs55ghDH+RAsfsP/GENU6LdbbL5vASdNS7wAobwDxQPpIUu1UNwueWvbQW2n2m5A1Gv2JATvJES7xU7w=='
                class='apbct-email-encoder'
                title='This contact has been encoded by Anti-Spam by CleanTalk. Click to decode. To finish the decoding make sure that JavaScript is enabled in your browser.'>10<span class="apbct-blur">****************************</span>@<span class="apbct-blur">***************</span>wi.us</span>
SUMMARY:HES: No School 4K Only
DESCRIPTION:
URL:https://www.milton.k12.wi.us/event/hes-no-school-4k-only/
CATEGORIES:Harmony Elementary
END:VEVENT
BEGIN:VEVENT
DTSTART;VALUE=DATE:20241024
DTEND;VALUE=DATE:20241025
DTSTAMP:20260421T063657
CREATED:20240829T165957Z
LAST-MODIFIED:20241024T225429Z
UID:<span 
                data-original-string='Vmrym4GtUZaqIXpMnYDMQw==386iBTZ0jAp4Obc7eJ44sH14Y5EmmyQhXtqish3NRiWUOJyH+vTQVpUeoD29yPGXhx02G45gLah/STRgEKBhPl44w=='
                class='apbct-email-encoder'
                title='This contact has been encoded by Anti-Spam by CleanTalk. Click to decode. To finish the decoding make sure that JavaScript is enabled in your browser.'>10<span class="apbct-blur">****************************</span>@<span class="apbct-blur">***************</span>wi.us</span>
SUMMARY:HES: Book Fair
DESCRIPTION:
URL:https://www.milton.k12.wi.us/event/hes-book-fair-2/
CATEGORIES:Harmony Elementary
END:VEVENT
BEGIN:VEVENT
DTSTART;VALUE=DATE:20241024
DTEND;VALUE=DATE:20241025
DTSTAMP:20260421T063657
CREATED:20240829T165957Z
LAST-MODIFIED:20241024T225430Z
UID:<span 
                data-original-string='Y2mJqlgScXaJ7rePZyQx4w==386CGpm1TyzSSw3Cqn5qgYRpFP9D4IdC1g7K0+fvQCK9AtZBgZO+RKseJKpcJlC99CNG6PODITQKLZdG7RKBgUF/A=='
                class='apbct-email-encoder'
                title='This contact has been encoded by Anti-Spam by CleanTalk. Click to decode. To finish the decoding make sure that JavaScript is enabled in your browser.'>10<span class="apbct-blur">****************************</span>@<span class="apbct-blur">***************</span>wi.us</span>
SUMMARY:HES: Picture Re-Take Day AM
DESCRIPTION:
URL:https://www.milton.k12.wi.us/event/hes-picture-re-take-day-am/
CATEGORIES:Harmony Elementary
END:VEVENT
BEGIN:VEVENT
DTSTART;TZID=America/Chicago:20241024T083000
DTEND;TZID=America/Chicago:20241024T093000
DTSTAMP:20260421T063657
CREATED:20240926T170733Z
LAST-MODIFIED:20241023T222227Z
UID:<span 
                data-original-string='olM1yUR59bLyrZINmNfTpg==386KuFp7HiQ8+10avt5VhOTCAf9BUH8KXp7icUI/aMDcF6AClnglzjI52epRKdaqZ9/WUlshIoq3ZHMTKE4CDoepA=='
                class='apbct-email-encoder'
                title='This contact has been encoded by Anti-Spam by CleanTalk. Click to decode. To finish the decoding make sure that JavaScript is enabled in your browser.'>10<span class="apbct-blur">****************************</span>@<span class="apbct-blur">***************</span>wi.us</span>
SUMMARY:CES - Picture Retake Day
DESCRIPTION:
URL:https://www.milton.k12.wi.us/event/ces-picture-retake-day/
CATEGORIES:Consolidated
END:VEVENT
BEGIN:VEVENT
DTSTART;TZID=America/Chicago:20241024T090000
DTEND;TZID=America/Chicago:20241024T200000
DTSTAMP:20260421T063657
CREATED:20240923T212314Z
LAST-MODIFIED:20241024T230902Z
UID:<span 
                data-original-string='fnj9pIvihkQAVSVNG4bIwQ==386Y3C9K+eXMtHG6QOY3sBkN16gl9jZonACdOQFViZhqRGveC/7qisFhuDjBKAMeRrj9YASAUCH6AieGPOGlIE5KQ=='
                class='apbct-email-encoder'
                title='This contact has been encoded by Anti-Spam by CleanTalk. Click to decode. To finish the decoding make sure that JavaScript is enabled in your browser.'>10<span class="apbct-blur">****************************</span>@<span class="apbct-blur">***************</span>wi.us</span>
SUMMARY:EES:  4K Parent Teacher Conferences
DESCRIPTION:
URL:https://www.milton.k12.wi.us/event/ees-4k-parent-teacher-conferences/
CATEGORIES:Milton East Elementary
END:VEVENT
BEGIN:VEVENT
DTSTART;TZID=America/Chicago:20241024T160000
DTEND;TZID=America/Chicago:20241024T200000
DTSTAMP:20260421T063657
CREATED:20240822T004837Z
LAST-MODIFIED:20241024T210725Z
UID:<span 
                data-original-string='OCbZyQaz0SGuhQTiXZa0Dw==386YM74o9aiMSDfO2SNpWB9cBKyXbbLJkjrk271Qe+mnu6XvKhLLNQU7xxYrXkX7YUhdwWW0mqlu6kQnfXJE+2zvw=='
                class='apbct-email-encoder'
                title='This contact has been encoded by Anti-Spam by CleanTalk. Click to decode. To finish the decoding make sure that JavaScript is enabled in your browser.'>10<span class="apbct-blur">****************************</span>@<span class="apbct-blur">***************</span>wi.us</span>
SUMMARY:Parent Teacher conferences
DESCRIPTION:
URL:https://www.milton.k12.wi.us/event/parent-teacher-conferences-11/
CATEGORIES:Milton West Elementary
END:VEVENT
BEGIN:VEVENT
DTSTART;TZID=America/Chicago:20241024T160000
DTEND;TZID=America/Chicago:20241024T200000
DTSTAMP:20260421T063657
CREATED:20240822T012925Z
LAST-MODIFIED:20241024T222523Z
UID:<span 
                data-original-string='EvhDjMxuOd9F3V0KxHXoSA==386HvB88bwbtB5TS9/GYKAXV8E1OHDd6YZi1G8PIj2fRSZDBunxPYPpTSqoysjG6yyd3qOzohurB04N8SJE8aWfPg=='
                class='apbct-email-encoder'
                title='This contact has been encoded by Anti-Spam by CleanTalk. Click to decode. To finish the decoding make sure that JavaScript is enabled in your browser.'>10<span class="apbct-blur">****************************</span>@<span class="apbct-blur">***************</span>wi.us</span>
SUMMARY:Parent/Teacher Conferences
DESCRIPTION:
URL:https://www.milton.k12.wi.us/event/parent-teacher-conferences-6/
CATEGORIES:Consolidated
END:VEVENT
BEGIN:VEVENT
DTSTART;TZID=America/Chicago:20241024T160000
DTEND;TZID=America/Chicago:20241024T200000
DTSTAMP:20260421T063657
CREATED:20240829T165955Z
LAST-MODIFIED:20241024T225430Z
UID:<span 
                data-original-string='xT3TeUqCY2jnzXaxWRHX+w==386pY0IUjr3aKi60h8Go843Peu11tW9a9tZ9kiaS4x087HlcAJrVda0/aTtOW+lKFsVrioH1czNifwlUhoGSHaIhg=='
                class='apbct-email-encoder'
                title='This contact has been encoded by Anti-Spam by CleanTalk. Click to decode. To finish the decoding make sure that JavaScript is enabled in your browser.'>10<span class="apbct-blur">****************************</span>@<span class="apbct-blur">***************</span>wi.us</span>
SUMMARY:HES: Parent/Teacher Conferences
DESCRIPTION:
URL:https://www.milton.k12.wi.us/event/hes-parent-teacher-conferences-2/
CATEGORIES:Harmony Elementary
END:VEVENT
BEGIN:VEVENT
DTSTART;TZID=America/Chicago:20241024T160000
DTEND;TZID=America/Chicago:20241024T200000
DTSTAMP:20260421T063657
CREATED:20240923T212314Z
LAST-MODIFIED:20241024T230901Z
UID:<span 
                data-original-string='h1AF1EZVQSjmvSM4z/x3BA==386gxcRE0waW8sWdUzcn6mbPBM2x+dnvFsr5t59I5vtdt7bOCcWG/m1A2XkoExiRudQPEEpHLOF1B5AX56oPDDEtA=='
                class='apbct-email-encoder'
                title='This contact has been encoded by Anti-Spam by CleanTalk. Click to decode. To finish the decoding make sure that JavaScript is enabled in your browser.'>10<span class="apbct-blur">****************************</span>@<span class="apbct-blur">***************</span>wi.us</span>
SUMMARY:EES:  Parent Teacher Conferences (K-3)
DESCRIPTION:
URL:https://www.milton.k12.wi.us/event/ees-parent-teacher-conferences-k-3/
CATEGORIES:Milton East Elementary
END:VEVENT
BEGIN:VEVENT
DTSTART;TZID=America/Chicago:20241024T170000
DTEND;TZID=America/Chicago:20241024T190000
DTSTAMP:20260421T063657
CREATED:20240822T004708Z
LAST-MODIFIED:20241024T225242Z
UID:<span 
                data-original-string='1lcmKzaifiSqT9JJyGeygg==386W0OgUpVBbRu7+OnGuDfnHznoZ5s+6pg6og+J/ThhGEGIlShtlCnSKSd6PL0ULxv6ETso7IM0NK3YxWvWM+AMwA=='
                class='apbct-email-encoder'
                title='This contact has been encoded by Anti-Spam by CleanTalk. Click to decode. To finish the decoding make sure that JavaScript is enabled in your browser.'>10<span class="apbct-blur">****************************</span>@<span class="apbct-blur">***************</span>wi.us</span>
SUMMARY:MMS Halloween Costume Dance\, hosted by WEB
DESCRIPTION:
URL:https://www.milton.k12.wi.us/event/halloween-costume-dance-hosted-by-web/
LOCATION:MMS Gym
CATEGORIES:Milton Middle School
END:VEVENT
BEGIN:VEVENT
DTSTART;TZID=America/Chicago:20241024T173000
DTEND;TZID=America/Chicago:20241024T183000
DTSTAMP:20260421T063657
CREATED:20240822T004711Z
LAST-MODIFIED:20241024T225243Z
UID:<span 
                data-original-string='avOamq4LcLC9L9QRDPSJDQ==386gilx+x3b7YgZ7eQ+XL0CMApim8+BIGugyEHOQF/X63bBbFnyrc3Y47+F05AZtPgpwT0clzmV/qz5PFR+mm05UA=='
                class='apbct-email-encoder'
                title='This contact has been encoded by Anti-Spam by CleanTalk. Click to decode. To finish the decoding make sure that JavaScript is enabled in your browser.'>10<span class="apbct-blur">****************************</span>@<span class="apbct-blur">***************</span>wi.us</span>
SUMMARY:MMS Parent Group Meeting
DESCRIPTION:
URL:https://www.milton.k12.wi.us/event/parent-group-meeting/
CATEGORIES:Milton Middle School
END:VEVENT
BEGIN:VEVENT
DTSTART;VALUE=DATE:20241025
DTEND;VALUE=DATE:20241026
DTSTAMP:20260421T063657
CREATED:20240822T004632Z
LAST-MODIFIED:20241025T230855Z
UID:<span 
                data-original-string='YbMwSOmLkXPk7ogye1K6lQ==386wi90Bj7n8TNXCJO7m3M5+RLBd2VLtcTkeeTSBM3L46VBjzjihpf6UrP46vRWHFlgZuuR7ByWtBP6lJFrx4gHrw=='
                class='apbct-email-encoder'
                title='This contact has been encoded by Anti-Spam by CleanTalk. Click to decode. To finish the decoding make sure that JavaScript is enabled in your browser.'>10<span class="apbct-blur">****************************</span>@<span class="apbct-blur">***************</span>wi.us</span>
SUMMARY:History Club Trip - Boston\, MA
DESCRIPTION:
URL:https://www.milton.k12.wi.us/event/history-club-trip-boston-ma-3/
CATEGORIES:Milton High School
END:VEVENT
BEGIN:VEVENT
DTSTART;VALUE=DATE:20241025
DTEND;VALUE=DATE:20241026
DTSTAMP:20260421T063657
CREATED:20240822T004633Z
LAST-MODIFIED:20241025T230854Z
UID:<span 
                data-original-string='u7Tezx8jumraLNj8AtsUdw==386gnKdx7jd2D9Fxz/1QjrfT/J1mvfTyUZVlB6Bfo8y+oa93yil6HxGZlMX6xP32JNfDUKr7KALwIP94Hm/bjNm2g=='
                class='apbct-email-encoder'
                title='This contact has been encoded by Anti-Spam by CleanTalk. Click to decode. To finish the decoding make sure that JavaScript is enabled in your browser.'>10<span class="apbct-blur">****************************</span>@<span class="apbct-blur">***************</span>wi.us</span>
SUMMARY:No School
DESCRIPTION:
URL:https://www.milton.k12.wi.us/event/no-school/
CATEGORIES:Milton High School
END:VEVENT
BEGIN:VEVENT
DTSTART;VALUE=DATE:20241025
DTEND;VALUE=DATE:20241026
DTSTAMP:20260421T063657
CREATED:20240822T004712Z
LAST-MODIFIED:20241025T225609Z
UID:<span 
                data-original-string='7uyHv5Zn8ucDlKPnezoV7A==386RbZ8W3bp1lpcLfMkHUBj7LDTF2rsBr96x2XAc5YVN+MBaz8ZeWU1v81oSfY5A2PbrfPMa/gPc4ZqOQT+Vp7yTQ=='
                class='apbct-email-encoder'
                title='This contact has been encoded by Anti-Spam by CleanTalk. Click to decode. To finish the decoding make sure that JavaScript is enabled in your browser.'>10<span class="apbct-blur">****************************</span>@<span class="apbct-blur">***************</span>wi.us</span>
SUMMARY:No School
DESCRIPTION:
URL:https://www.milton.k12.wi.us/event/no-school-5/
CATEGORIES:Milton Middle School
END:VEVENT
BEGIN:VEVENT
DTSTART;VALUE=DATE:20241025
DTEND;VALUE=DATE:20241026
DTSTAMP:20260421T063657
CREATED:20240822T004838Z
LAST-MODIFIED:20241025T211057Z
UID:<span 
                data-original-string='xJJ4VdcExsGZ54C3T9+K5Q==386Hg3X/K/EaPO0OvyYO3S1juyNjQjAdJLuvAfl1dEyf4OrrdWMLrKmtAaU7jIRdY+csHhJMsVlI747adLHELfxiA=='
                class='apbct-email-encoder'
                title='This contact has been encoded by Anti-Spam by CleanTalk. Click to decode. To finish the decoding make sure that JavaScript is enabled in your browser.'>10<span class="apbct-blur">****************************</span>@<span class="apbct-blur">***************</span>wi.us</span>
SUMMARY:No School
DESCRIPTION:
URL:https://www.milton.k12.wi.us/event/no-school-6/
CATEGORIES:Milton West Elementary
END:VEVENT
BEGIN:VEVENT
DTSTART;VALUE=DATE:20241025
DTEND;VALUE=DATE:20241026
DTSTAMP:20260421T063657
CREATED:20240822T012924Z
LAST-MODIFIED:20241025T222237Z
UID:<span 
                data-original-string='1zdbLvyC+SCVER5k44CRGg==386inz5UhOasedLAdX7/JVmjouycgKB8P9Am+sOc/e5iSTPSeQ9phHijOUlLa+reFoHM40VCevYozmUqTEzS2zmyw=='
                class='apbct-email-encoder'
                title='This contact has been encoded by Anti-Spam by CleanTalk. Click to decode. To finish the decoding make sure that JavaScript is enabled in your browser.'>10<span class="apbct-blur">****************************</span>@<span class="apbct-blur">***************</span>wi.us</span>
SUMMARY:No School
DESCRIPTION:
URL:https://www.milton.k12.wi.us/event/no-school-3/
CATEGORIES:Consolidated
END:VEVENT
BEGIN:VEVENT
DTSTART;VALUE=DATE:20241025
DTEND;VALUE=DATE:20241026
DTSTAMP:20260421T063657
CREATED:20240824T110756Z
LAST-MODIFIED:20241025T225231Z
UID:<span 
                data-original-string='M3K1wjsWbUyPGBf72VPwXw==3866fv3iHJELs0Y2ArbwTqDLfSDtBgdbiN6OsCCSVluOulsxotTnAlIWZ/b0u+g7jsoMddQ3NDVwLnbtlMnwHH1lQ=='
                class='apbct-email-encoder'
                title='This contact has been encoded by Anti-Spam by CleanTalk. Click to decode. To finish the decoding make sure that JavaScript is enabled in your browser.'>10<span class="apbct-blur">****************************</span>@<span class="apbct-blur">***************</span>wi.us</span>
SUMMARY:No School
DESCRIPTION:
URL:https://www.milton.k12.wi.us/event/no-school-13/
CATEGORIES:Northside Intermediate
END:VEVENT
END:VCALENDAR