BEGIN:VCALENDAR
VERSION:2.0
PRODID:-//School District of Milton - ECPv6.15.20//NONSGML v1.0//EN
CALSCALE:GREGORIAN
METHOD:PUBLISH
X-WR-CALNAME:School District of Milton
X-ORIGINAL-URL:https://www.milton.k12.wi.us
X-WR-CALDESC:Events for School District of Milton
REFRESH-INTERVAL;VALUE=DURATION:PT1H
X-Robots-Tag:noindex
X-PUBLISHED-TTL:PT1H
BEGIN:VTIMEZONE
TZID:America/Chicago
BEGIN:DAYLIGHT
TZOFFSETFROM:-0600
TZOFFSETTO:-0500
TZNAME:CDT
DTSTART:20250309T080000
END:DAYLIGHT
BEGIN:STANDARD
TZOFFSETFROM:-0500
TZOFFSETTO:-0600
TZNAME:CST
DTSTART:20251102T070000
END:STANDARD
BEGIN:DAYLIGHT
TZOFFSETFROM:-0600
TZOFFSETTO:-0500
TZNAME:CDT
DTSTART:20260308T080000
END:DAYLIGHT
BEGIN:STANDARD
TZOFFSETFROM:-0500
TZOFFSETTO:-0600
TZNAME:CST
DTSTART:20261101T070000
END:STANDARD
BEGIN:DAYLIGHT
TZOFFSETFROM:-0600
TZOFFSETTO:-0500
TZNAME:CDT
DTSTART:20270314T080000
END:DAYLIGHT
BEGIN:STANDARD
TZOFFSETFROM:-0500
TZOFFSETTO:-0600
TZNAME:CST
DTSTART:20271107T070000
END:STANDARD
END:VTIMEZONE
BEGIN:VEVENT
DTSTART;TZID=America/Chicago:20260310T160000
DTEND;TZID=America/Chicago:20260310T200000
DTSTAMP:20260423T205216
CREATED:20250611T203848Z
LAST-MODIFIED:20260310T233827Z
UID:<span 
                data-original-string='VJtuxKDe5t4BDBrz38OseQ==3864maQtk3BpU5scHLIRyYmaIj4Kk+WMGbhfp4S2SPxYSQgA0Q3SRO+Y2FzcDcwF7LiqirE45Fo8GYZrM1XShtoZQ=='
                class='apbct-email-encoder'
                title='This contact has been encoded by Anti-Spam by CleanTalk. Click to decode. To finish the decoding make sure that JavaScript is enabled in your browser.'>10<span class="apbct-blur">****************************</span>@<span class="apbct-blur">***************</span>wi.us</span>
SUMMARY:EES Scoopie Night -
DESCRIPTION:
URL:https://www.milton.k12.wi.us/event/ees-scoopie-night-6/
CATEGORIES:Milton East Elementary
END:VEVENT
BEGIN:VEVENT
DTSTART;TZID=America/Chicago:20260310T183000
DTEND;TZID=America/Chicago:20260310T193000
DTSTAMP:20260423T205216
CREATED:20240822T012941Z
LAST-MODIFIED:20260310T220734Z
UID:<span 
                data-original-string='uddonAeuW8Y7Wgc+YL4P/w==386QAlfO5iUQ2pZvJyrhhGALfp7+90BmdYAVopWgBpk+yElzEDCoRHlt2n3YQQEHxaasoqNKlwbXPjWdN2efjypwQ=='
                class='apbct-email-encoder'
                title='This contact has been encoded by Anti-Spam by CleanTalk. Click to decode. To finish the decoding make sure that JavaScript is enabled in your browser.'>10<span class="apbct-blur">****************************</span>@<span class="apbct-blur">***************</span>wi.us</span>
SUMMARY:CES - PIE Meeting
DESCRIPTION:
URL:https://www.milton.k12.wi.us/event/pie-meeting-19/
CATEGORIES:Consolidated
END:VEVENT
BEGIN:VEVENT
DTSTART;VALUE=DATE:20260311
DTEND;VALUE=DATE:20260312
DTSTAMP:20260423T205216
CREATED:20260224T210818Z
LAST-MODIFIED:20260311T220741Z
UID:<span 
                data-original-string='RpPPHYaosecCRXXA/SlynQ==386GA2uZb9GPKepA1DujVA3tOQIay/qxw60Nc+deLF6IUsk701ZHhQozXo5Ho54lhfLrzfBtyvPMA6rHzFd3JBJZg=='
                class='apbct-email-encoder'
                title='This contact has been encoded by Anti-Spam by CleanTalk. Click to decode. To finish the decoding make sure that JavaScript is enabled in your browser.'>10<span class="apbct-blur">****************************</span>@<span class="apbct-blur">***************</span>wi.us</span>
SUMMARY:DAY 3
DESCRIPTION:
URL:https://www.milton.k12.wi.us/event/day-3-45/
CATEGORIES:Northside Intermediate
END:VEVENT
BEGIN:VEVENT
DTSTART;TZID=America/Chicago:20260311T174500
DTEND;TZID=America/Chicago:20260311T184500
DTSTAMP:20260423T205216
CREATED:20250908T190816Z
LAST-MODIFIED:20260311T230730Z
UID:<span 
                data-original-string='R/wphK+9F3m4LDjs0G1Eng==386zab4GPiYI6n8PcI5xeN6oJUGK6wmRnnNGsRX41i9M8bk/4JdmFWeq5HeTc3z5lm0JgSSPY9C6XmUvVeakuwpLA=='
                class='apbct-email-encoder'
                title='This contact has been encoded by Anti-Spam by CleanTalk. Click to decode. To finish the decoding make sure that JavaScript is enabled in your browser.'>10<span class="apbct-blur">****************************</span>@<span class="apbct-blur">***************</span>wi.us</span>
SUMMARY:West K & 1st Spring Sing @ MHS
DESCRIPTION:Join with Google Meet: https://meet.google.com/bir-knoi-oof\nOr dial: (US) +1 574-316-0152 PIN: 966857315#\nLearn more about Meet at: https://support.google.com/a/users/answer/9282720
URL:https://www.milton.k12.wi.us/event/west-k-1st-spring-sing-mhs/
CATEGORIES:Milton West Elementary
END:VEVENT
BEGIN:VEVENT
DTSTART;VALUE=DATE:20260312
DTEND;VALUE=DATE:20260313
DTSTAMP:20260423T205216
CREATED:20260224T210818Z
LAST-MODIFIED:20260312T221435Z
UID:<span 
                data-original-string='CyBY0b4bU1IATh/sQ7zjPQ==386/BbxeUjwcLsfzSxc6az9l8QW3E5Zd2u7OejfURri4SoeA/U58ackC/ZCPgUqDRsJF13/irOlD+k0C3BofKapBw=='
                class='apbct-email-encoder'
                title='This contact has been encoded by Anti-Spam by CleanTalk. Click to decode. To finish the decoding make sure that JavaScript is enabled in your browser.'>10<span class="apbct-blur">****************************</span>@<span class="apbct-blur">***************</span>wi.us</span>
SUMMARY:DAY 4
DESCRIPTION:
URL:https://www.milton.k12.wi.us/event/day-4-48/
CATEGORIES:Northside Intermediate
END:VEVENT
BEGIN:VEVENT
DTSTART;TZID=America/Chicago:20260312T180000
DTEND;TZID=America/Chicago:20260312T190000
DTSTAMP:20260423T205216
CREATED:20250813T184019Z
LAST-MODIFIED:20260312T213817Z
UID:<span 
                data-original-string='kYT6nCXVpZJ/Rvt9rH8tzw==386dgUNguFk7Ke4NH3KU09AzwKho73FQdPpSGhf2EdaUG5N7k6JXzG0cGGXiS8GjHqBQQt53pECkChcYUQ4aYlKYg=='
                class='apbct-email-encoder'
                title='This contact has been encoded by Anti-Spam by CleanTalk. Click to decode. To finish the decoding make sure that JavaScript is enabled in your browser.'>10<span class="apbct-blur">****************************</span>@<span class="apbct-blur">***************</span>wi.us</span>
SUMMARY:6-8 Choir Concert
DESCRIPTION:
URL:https://www.milton.k12.wi.us/event/6-8-choir-concert/
LOCATION:MHS PAC
CATEGORIES:Milton Middle School
END:VEVENT
BEGIN:VEVENT
DTSTART;TZID=America/Chicago:20260312T190000
DTEND;TZID=America/Chicago:20260312T200000
DTSTAMP:20260423T205216
CREATED:20260304T215343Z
LAST-MODIFIED:20260312T230839Z
UID:<span 
                data-original-string='t+1ifDlQx1+zAmurEFF9Mg==386taWGQubBv+r6qgdVQjJwFJvMUgbxLgsmW2wVprAv7xvTgpD/ECMD/LGOLtZGkjl/ViJocVDVsk2raDUuvHjtIA=='
                class='apbct-email-encoder'
                title='This contact has been encoded by Anti-Spam by CleanTalk. Click to decode. To finish the decoding make sure that JavaScript is enabled in your browser.'>10<span class="apbct-blur">****************************</span>@<span class="apbct-blur">***************</span>wi.us</span>
SUMMARY:cozy up and read
DESCRIPTION:
URL:https://www.milton.k12.wi.us/event/cozy-up-and-read/
CATEGORIES:Milton West Elementary
END:VEVENT
BEGIN:VEVENT
DTSTART;VALUE=DATE:20260313
DTEND;VALUE=DATE:20260314
DTSTAMP:20260423T205216
CREATED:20260224T210817Z
LAST-MODIFIED:20260313T212227Z
UID:<span 
                data-original-string='fiLqErhfqzkISby3YIBQHQ==386BFSqF+IfaWMzvuvK5umDxfIuj1nU0bIsApTP+7T6wFtO05gKJHlcx53i09txohUAdmPo5O3+uX5oB+amZ6z/ZQ=='
                class='apbct-email-encoder'
                title='This contact has been encoded by Anti-Spam by CleanTalk. Click to decode. To finish the decoding make sure that JavaScript is enabled in your browser.'>10<span class="apbct-blur">****************************</span>@<span class="apbct-blur">***************</span>wi.us</span>
SUMMARY:DAY 5
DESCRIPTION:
URL:https://www.milton.k12.wi.us/event/day-5-43/
CATEGORIES:Northside Intermediate
END:VEVENT
BEGIN:VEVENT
DTSTART;TZID=America/Chicago:20260313T140000
DTEND;TZID=America/Chicago:20260313T150000
DTSTAMP:20260423T205216
CREATED:20250825T203852Z
LAST-MODIFIED:20260313T162424Z
UID:<span 
                data-original-string='HfZbC4A8MhRdujBSnXQjSA==386HaELRdAD4/Yx4EDHm7wN12zkQ3lt+yy0ifRACJuHqzVpr2J6XCbolYURCG4iAP3XIPn5BlMf16++TfrH5HrO0w=='
                class='apbct-email-encoder'
                title='This contact has been encoded by Anti-Spam by CleanTalk. Click to decode. To finish the decoding make sure that JavaScript is enabled in your browser.'>10<span class="apbct-blur">****************************</span>@<span class="apbct-blur">***************</span>wi.us</span>
SUMMARY:HES: Spring Concert 1st & 2nd Grades
DESCRIPTION:
URL:https://www.milton.k12.wi.us/event/hes-spring-concert-1st-2nd-grades/
CATEGORIES:Harmony Elementary
END:VEVENT
BEGIN:VEVENT
DTSTART;TZID=America/Chicago:20260313T170000
DTEND;TZID=America/Chicago:20260313T190000
DTSTAMP:20260423T205216
CREATED:20250813T184048Z
LAST-MODIFIED:20260313T213836Z
UID:<span 
                data-original-string='CiJg/+NRRXTgap1qwbPJHw==386riDnVrWDoTEh8Nv1jF/YJnTK52/uxeoETlYZUHFWNr0c5L1EK1xBBuF6TTHN0i3y+jyi8yGA1EOcPkXEUeRDpQ=='
                class='apbct-email-encoder'
                title='This contact has been encoded by Anti-Spam by CleanTalk. Click to decode. To finish the decoding make sure that JavaScript is enabled in your browser.'>10<span class="apbct-blur">****************************</span>@<span class="apbct-blur">***************</span>wi.us</span>
SUMMARY:Rec Night
DESCRIPTION:
URL:https://www.milton.k12.wi.us/event/rec-night-4/
CATEGORIES:Milton Middle School
END:VEVENT
BEGIN:VEVENT
DTSTART;VALUE=DATE:20260316
DTEND;VALUE=DATE:20260317
DTSTAMP:20260423T205216
CREATED:20260224T210824Z
LAST-MODIFIED:20260316T222551Z
UID:<span 
                data-original-string='y5nKasy0l+Ei9TxrUpNxGg==3862YFJbju+sKfYMcvstLDoi7UsEXR12EBNnN5C/IZ0jXofkFP0LTCduonO2B5oh90Ksul83ZzzO/V+fyHx24FSrg=='
                class='apbct-email-encoder'
                title='This contact has been encoded by Anti-Spam by CleanTalk. Click to decode. To finish the decoding make sure that JavaScript is enabled in your browser.'>10<span class="apbct-blur">****************************</span>@<span class="apbct-blur">***************</span>wi.us</span>
SUMMARY:No School/ Snow Day
DESCRIPTION:
URL:https://www.milton.k12.wi.us/event/day-6-45/
CATEGORIES:Northside Intermediate
END:VEVENT
BEGIN:VEVENT
DTSTART;TZID=America/Chicago:20260316T143500
DTEND;TZID=America/Chicago:20260316T153500
DTSTAMP:20260423T205216
CREATED:20240822T012941Z
LAST-MODIFIED:20260316T185240Z
UID:<span 
                data-original-string='TtLJq4vezPORBI//KNojlA==3866t99XjKZvtXENkYPMtRzaWWCfiKv9hW4/PBjZjr3Bz+FPFqrM9LwANNsgCN4RyVKGYjQiYxPC2dozrP9jjzELA=='
                class='apbct-email-encoder'
                title='This contact has been encoded by Anti-Spam by CleanTalk. Click to decode. To finish the decoding make sure that JavaScript is enabled in your browser.'>10<span class="apbct-blur">****************************</span>@<span class="apbct-blur">***************</span>wi.us</span>
SUMMARY:Early Release -
DESCRIPTION:
URL:https://www.milton.k12.wi.us/event/early-release-72/
CATEGORIES:Consolidated
END:VEVENT
BEGIN:VEVENT
DTSTART;TZID=America/Chicago:20260316T180000
DTEND;TZID=America/Chicago:20260316T190000
DTSTAMP:20260423T205216
CREATED:20250829T070924Z
LAST-MODIFIED:20260316T233723Z
UID:<span 
                data-original-string='V6rN2o0Ai9ICYPzhdXW0wQ==386GjgLv7LfyMmOxRrjjBpTFIu/aRamIeDwNiQAqHMY11w+TXf7g4N450rcwQ5vXr/fbm6TyhoOSo+jgBNMNNk8Hg=='
                class='apbct-email-encoder'
                title='This contact has been encoded by Anti-Spam by CleanTalk. Click to decode. To finish the decoding make sure that JavaScript is enabled in your browser.'>10<span class="apbct-blur">****************************</span>@<span class="apbct-blur">***************</span>wi.us</span>
SUMMARY:HES: Team Harmony Meeting
DESCRIPTION:
URL:https://www.milton.k12.wi.us/event/hes-team-harmony-meeting-5/
CATEGORIES:Harmony Elementary
END:VEVENT
BEGIN:VEVENT
DTSTART;TZID=America/Chicago:20260316T180000
DTEND;TZID=America/Chicago:20260316T200000
DTSTAMP:20260423T205216
CREATED:20240917T180401Z
LAST-MODIFIED:20260316T230725Z
UID:<span 
                data-original-string='xoNHdWltJTCvLvhNixQwbg==386p8zTx+Tno0LF6mjjgJZyHjO1c42BrAU6E2/rqadx9Blq2zI1mL1La8mtBIkCcwWXrUlrJEQLUOV5CBR44XdLnA=='
                class='apbct-email-encoder'
                title='This contact has been encoded by Anti-Spam by CleanTalk. Click to decode. To finish the decoding make sure that JavaScript is enabled in your browser.'>10<span class="apbct-blur">****************************</span>@<span class="apbct-blur">***************</span>wi.us</span>
SUMMARY:PAWS mtg
DESCRIPTION:
URL:https://www.milton.k12.wi.us/event/paws-mtg-19/
CATEGORIES:Milton West Elementary
END:VEVENT
BEGIN:VEVENT
DTSTART;VALUE=DATE:20260317
DTEND;VALUE=DATE:20260318
DTSTAMP:20260423T205216
CREATED:20260224T210823Z
LAST-MODIFIED:20260317T212226Z
UID:<span 
                data-original-string='iWBwk+xb8cqIk1AaQ6q8yA==386XvrtIGreBzRJNr7sAdZ+Ob7lN5nngCqT3t1XFos5zEdIRpAlSXjol5vvNIC8wdZMwBLtdPdh++1ojGJZS/OBCQ=='
                class='apbct-email-encoder'
                title='This contact has been encoded by Anti-Spam by CleanTalk. Click to decode. To finish the decoding make sure that JavaScript is enabled in your browser.'>10<span class="apbct-blur">****************************</span>@<span class="apbct-blur">***************</span>wi.us</span>
SUMMARY:DAY 6
DESCRIPTION:
URL:https://www.milton.k12.wi.us/event/day-3-46/
CATEGORIES:Northside Intermediate
END:VEVENT
BEGIN:VEVENT
DTSTART;TZID=America/Chicago:20260317T180000
DTEND;TZID=America/Chicago:20260317T190000
DTSTAMP:20260423T205216
CREATED:20240823T224238Z
LAST-MODIFIED:20260317T212227Z
UID:<span 
                data-original-string='4EUQhyCRjaa27Qu6XKdkag==386DNtZ9e1Rgd+HO9uenxpniTftth+t2XRtu2S50fCJtGUAlRms5RNilZDNGjw/lxnZ3/v1T9lrBGRqaJr0j8zA/A=='
                class='apbct-email-encoder'
                title='This contact has been encoded by Anti-Spam by CleanTalk. Click to decode. To finish the decoding make sure that JavaScript is enabled in your browser.'>10<span class="apbct-blur">****************************</span>@<span class="apbct-blur">***************</span>wi.us</span>
SUMMARY:FON Meeting
DESCRIPTION:
URL:https://www.milton.k12.wi.us/event/fon-meeting-19/
CATEGORIES:Northside Intermediate
END:VEVENT
BEGIN:VEVENT
DTSTART;TZID=America/Chicago:20260317T190000
DTEND;TZID=America/Chicago:20260317T190000
DTSTAMP:20260423T205216
CREATED:20250616T160821Z
LAST-MODIFIED:20260317T223825Z
UID:<span 
                data-original-string='3NXI0q/yxJV2B0z9aYOXYw==386kYRBMbNXutqYb1gNObuGRtPOjPxIJVmzBBvIw04KeReYzoa+1hso1mW/+T3DQ5hETsl06C36xmvwe8OKsH+wGw=='
                class='apbct-email-encoder'
                title='This contact has been encoded by Anti-Spam by CleanTalk. Click to decode. To finish the decoding make sure that JavaScript is enabled in your browser.'>10<span class="apbct-blur">****************************</span>@<span class="apbct-blur">***************</span>wi.us</span>
SUMMARY:MHS Band Concert
DESCRIPTION:
URL:https://www.milton.k12.wi.us/event/mhs-band-concert-4/
CATEGORIES:Milton High School
END:VEVENT
BEGIN:VEVENT
DTSTART;VALUE=DATE:20260318
DTEND;VALUE=DATE:20260319
DTSTAMP:20260423T205216
CREATED:20260224T210819Z
LAST-MODIFIED:20260318T224203Z
UID:<span 
                data-original-string='81PqHCAT4xRzguD8NGVt1g==38675PzFTRHeAYWltyrVx2J4HjLO+xAmFVwKyGfp2i/eo7P4Afq0DAwYQVc96I+3RaEksWhgZcDYrFqbmECY8pOkA=='
                class='apbct-email-encoder'
                title='This contact has been encoded by Anti-Spam by CleanTalk. Click to decode. To finish the decoding make sure that JavaScript is enabled in your browser.'>10<span class="apbct-blur">****************************</span>@<span class="apbct-blur">***************</span>wi.us</span>
SUMMARY:DAY 1
DESCRIPTION:
URL:https://www.milton.k12.wi.us/event/day-4-49/
CATEGORIES:Northside Intermediate
END:VEVENT
BEGIN:VEVENT
DTSTART;TZID=America/Chicago:20260318T173000
DTEND;TZID=America/Chicago:20260318T183000
DTSTAMP:20260423T205216
CREATED:20250813T184051Z
LAST-MODIFIED:20260318T215235Z
UID:<span 
                data-original-string='OI+KZXriQjYCCjWuhIzltw==386A2lKLJANWGLPrYPzRc62YlCBt55jeyYj6MvgD8avnCu/9ouQfEm7Oxabma31H9XO5R+dGT8b1jMDw03WbwNOqw=='
                class='apbct-email-encoder'
                title='This contact has been encoded by Anti-Spam by CleanTalk. Click to decode. To finish the decoding make sure that JavaScript is enabled in your browser.'>10<span class="apbct-blur">****************************</span>@<span class="apbct-blur">***************</span>wi.us</span>
SUMMARY:Parent Group Meeting - virtual
DESCRIPTION:
URL:https://www.milton.k12.wi.us/event/parent-group-meeting-16/
LOCATION:MMS Cafeteria
CATEGORIES:Milton Middle School
END:VEVENT
BEGIN:VEVENT
DTSTART;VALUE=DATE:20260319
DTEND;VALUE=DATE:20260320
DTSTAMP:20260423T205216
CREATED:20260224T210825Z
LAST-MODIFIED:20260319T211025Z
UID:<span 
                data-original-string='/cvimxChj6/ODS7EoceYsQ==386TfZZrHkF04PIfcy5/prbTJguN484krPCJdVpMbunTJlpnE8uvMb3lpwWTVbRt2MrGMkvTib3sJBywJU2xe64dg=='
                class='apbct-email-encoder'
                title='This contact has been encoded by Anti-Spam by CleanTalk. Click to decode. To finish the decoding make sure that JavaScript is enabled in your browser.'>10<span class="apbct-blur">****************************</span>@<span class="apbct-blur">***************</span>wi.us</span>
SUMMARY:DAY 2
DESCRIPTION:
URL:https://www.milton.k12.wi.us/event/day-5-44/
CATEGORIES:Northside Intermediate
END:VEVENT
BEGIN:VEVENT
DTSTART;TZID=America/Chicago:20260319T190000
DTEND;TZID=America/Chicago:20260319T200000
DTSTAMP:20260423T205216
CREATED:20250813T184049Z
LAST-MODIFIED:20260319T215234Z
UID:<span 
                data-original-string='ywTdDVXle/h1CWMBqaFeGw==386FSz2Gs7qQ+gLDLi9JQCAWuoZ2K8gr5bBUMMDhoLiOcQ9mxqBZ0f4LiLhVegBRCl/0d8MVM2z5LkOGQPvsmgRlQ=='
                class='apbct-email-encoder'
                title='This contact has been encoded by Anti-Spam by CleanTalk. Click to decode. To finish the decoding make sure that JavaScript is enabled in your browser.'>10<span class="apbct-blur">****************************</span>@<span class="apbct-blur">***************</span>wi.us</span>
SUMMARY:6-8 Band Concert
DESCRIPTION:
URL:https://www.milton.k12.wi.us/event/7-8-band-concert/
LOCATION:MHS PAC
CATEGORIES:Milton Middle School
END:VEVENT
BEGIN:VEVENT
DTSTART;VALUE=DATE:20260320
DTEND;VALUE=DATE:20260321
DTSTAMP:20260423T205216
CREATED:20260224T210826Z
LAST-MODIFIED:20260320T212714Z
UID:<span 
                data-original-string='hy5YGpBCNMObcyEmkHozMQ==386+opPLw8sJwt1oZO9EZTFlnWMrdNVfqQe+HaNLpPxfKZekqUrpvnosU5eIKM5zCqhs7e7MOz0zuxODYVqu59D8A=='
                class='apbct-email-encoder'
                title='This contact has been encoded by Anti-Spam by CleanTalk. Click to decode. To finish the decoding make sure that JavaScript is enabled in your browser.'>10<span class="apbct-blur">****************************</span>@<span class="apbct-blur">***************</span>wi.us</span>
SUMMARY:DAY 3
DESCRIPTION:
URL:https://www.milton.k12.wi.us/event/day-6-46/
CATEGORIES:Northside Intermediate
END:VEVENT
BEGIN:VEVENT
DTSTART;VALUE=DATE:20260321
DTEND;VALUE=DATE:20260330
DTSTAMP:20260423T205216
CREATED:20260209T145308Z
LAST-MODIFIED:20260329T212332Z
UID:<span 
                data-original-string='RpvDnAGf0t2hwbNJp/skJg==386aG68s7lb2HZDihjQLeR5Fu9IoeEZEPIDf5Z/eD3YBhhxxqypCJn6MHOkm6gScIUmmXZhsGcaCNQowIUjPgupbg=='
                class='apbct-email-encoder'
                title='This contact has been encoded by Anti-Spam by CleanTalk. Click to decode. To finish the decoding make sure that JavaScript is enabled in your browser.'>10<span class="apbct-blur">****************************</span>@<span class="apbct-blur">***************</span>wi.us</span>
SUMMARY:Spring Break
DESCRIPTION:
URL:https://www.milton.k12.wi.us/event/spring-break-7/
CATEGORIES:District
END:VEVENT
BEGIN:VEVENT
DTSTART;TZID=America/Chicago:20260322T080000
DTEND;TZID=America/Chicago:20260322T090000
DTSTAMP:20260423T205216
CREATED:20260322T135232Z
LAST-MODIFIED:20260322T135232Z
UID:<span 
                data-original-string='0fXP18dH3HghaPtjV+bzbQ==386jZyreoC4/5OCxJc3JnpGNl1KACPDoZuCLGeDCAFKzPTJq8P+Ms/0ZFqpjpzG3D1SZUAS7xI4Y0wpOiDOk+C7sw=='
                class='apbct-email-encoder'
                title='This contact has been encoded by Anti-Spam by CleanTalk. Click to decode. To finish the decoding make sure that JavaScript is enabled in your browser.'>10<span class="apbct-blur">****************************</span>@<span class="apbct-blur">***************</span>wi.us</span>
SUMMARY:Spring Break
DESCRIPTION:
URL:https://www.milton.k12.wi.us/event/spring-break-8/
CATEGORIES:District
END:VEVENT
BEGIN:VEVENT
DTSTART;VALUE=DATE:20260323
DTEND;VALUE=DATE:20260324
DTSTAMP:20260423T205216
CREATED:20250616T130954Z
LAST-MODIFIED:20260323T220814Z
UID:<span 
                data-original-string='5IT7u7MHDrcdZzIol2xy2A==386H0VGSW5VPaW5N7CZs9OSZDXWMUs0P2i7SLooN/xh0BWBAtzDADhRBHRFyB9Kw6RmFSW+gSn3x7RIzG6XR24Yxw=='
                class='apbct-email-encoder'
                title='This contact has been encoded by Anti-Spam by CleanTalk. Click to decode. To finish the decoding make sure that JavaScript is enabled in your browser.'>10<span class="apbct-blur">****************************</span>@<span class="apbct-blur">***************</span>wi.us</span>
SUMMARY:Spring Break
DESCRIPTION:
URL:https://www.milton.k12.wi.us/event/spring-break/
CATEGORIES:Milton High School
END:VEVENT
BEGIN:VEVENT
DTSTART;VALUE=DATE:20260323
DTEND;VALUE=DATE:20260328
DTSTAMP:20260423T205216
CREATED:20250611T144545Z
LAST-MODIFIED:20260327T212432Z
UID:<span 
                data-original-string='txqU/qgXT9gpZsdLry8sow==386EuceBawcUUb5leNEojFVqM77i5LRtVtFvBYYyfA5ixVuZxN2m8XdaH3JSmiGk5+PTXt/eiEbipkndCAF10JlJw=='
                class='apbct-email-encoder'
                title='This contact has been encoded by Anti-Spam by CleanTalk. Click to decode. To finish the decoding make sure that JavaScript is enabled in your browser.'>10<span class="apbct-blur">****************************</span>@<span class="apbct-blur">***************</span>wi.us</span>
SUMMARY:Spring Break - No School
DESCRIPTION:
URL:https://www.milton.k12.wi.us/event/spring-break-no-school-20/
CATEGORIES:Milton East Elementary
END:VEVENT
BEGIN:VEVENT
DTSTART;VALUE=DATE:20260323
DTEND;VALUE=DATE:20260328
DTSTAMP:20260423T205216
CREATED:20250825T071100Z
LAST-MODIFIED:20260327T215231Z
UID:<span 
                data-original-string='SpEoG7bcHUIKut1UiDbvPw==3869G/eAPGP8qSo3lOvDKOsFB7Dh4akNxWmiMTdDesPAi/LfmTOREsEUsLbuxYl3v6L/g1dCjb6KFQcKoQF33DHzw=='
                class='apbct-email-encoder'
                title='This contact has been encoded by Anti-Spam by CleanTalk. Click to decode. To finish the decoding make sure that JavaScript is enabled in your browser.'>10<span class="apbct-blur">****************************</span>@<span class="apbct-blur">***************</span>wi.us</span>
SUMMARY:HES: Spring Break- No School
DESCRIPTION:
URL:https://www.milton.k12.wi.us/event/hes-spring-break-no-school-2/
CATEGORIES:Harmony Elementary
END:VEVENT
BEGIN:VEVENT
DTSTART;VALUE=DATE:20260323
DTEND;VALUE=DATE:20260328
DTSTAMP:20260423T205216
CREATED:20250922T165403Z
LAST-MODIFIED:20260327T213735Z
UID:<span 
                data-original-string='hweAMNbibgVkC3dOrN7EvQ==386wGgBEQCZu/bJZNiu3jbLHb/K5I8aib6NDuGRE3LTEHVs4XREaTCKmFTitaipK3IyDkIFNqlcJ6xg/zKq460X9Q=='
                class='apbct-email-encoder'
                title='This contact has been encoded by Anti-Spam by CleanTalk. Click to decode. To finish the decoding make sure that JavaScript is enabled in your browser.'>10<span class="apbct-blur">****************************</span>@<span class="apbct-blur">***************</span>wi.us</span>
SUMMARY:CES - Spring Break
DESCRIPTION:
URL:https://www.milton.k12.wi.us/event/ces-spring-break/
CATEGORIES:Consolidated
END:VEVENT
BEGIN:VEVENT
DTSTART;VALUE=DATE:20260323
DTEND;VALUE=DATE:20260328
DTSTAMP:20260423T205216
CREATED:20251020T161134Z
LAST-MODIFIED:20260327T222236Z
UID:<span 
                data-original-string='qhvrMKNGkEUKhHbo5k2UIg==386FMxnhkhMokh37OJPOsQyJaslX6KDa8WBWJnyOi3Oyw/SnthpWx+TNJFSKP87DeiWZ8fVt0OeBE203WIO9jnz0w=='
                class='apbct-email-encoder'
                title='This contact has been encoded by Anti-Spam by CleanTalk. Click to decode. To finish the decoding make sure that JavaScript is enabled in your browser.'>10<span class="apbct-blur">****************************</span>@<span class="apbct-blur">***************</span>wi.us</span>
SUMMARY:Spring Break
DESCRIPTION:
URL:https://www.milton.k12.wi.us/event/spring-break-6/
CATEGORIES:Milton Middle School
END:VEVENT
BEGIN:VEVENT
DTSTART;TZID=America/Chicago:20260323T080000
DTEND;TZID=America/Chicago:20260323T090000
DTSTAMP:20260423T205216
CREATED:20260322T135233Z
LAST-MODIFIED:20260323T135314Z
UID:<span 
                data-original-string='yPGZWkzx5o6sGgUmSL7HXA==386KsI88c9Dem8fg7ruqBizhMKXo2IiD1rqDftNSjOQ7DjI7N/HmH0k1aZWh0MKd9cfxTyKwWP8jV6FZS1pXxxaTQ=='
                class='apbct-email-encoder'
                title='This contact has been encoded by Anti-Spam by CleanTalk. Click to decode. To finish the decoding make sure that JavaScript is enabled in your browser.'>10<span class="apbct-blur">****************************</span>@<span class="apbct-blur">***************</span>wi.us</span>
SUMMARY:Spring Break
DESCRIPTION:
URL:https://www.milton.k12.wi.us/event/spring-break-9/
CATEGORIES:District
END:VEVENT
END:VCALENDAR