BEGIN:VCALENDAR
VERSION:2.0
PRODID:-//School District of Milton - ECPv6.15.20//NONSGML v1.0//EN
CALSCALE:GREGORIAN
METHOD:PUBLISH
X-ORIGINAL-URL:https://www.milton.k12.wi.us
X-WR-CALDESC:Events for School District of Milton
REFRESH-INTERVAL;VALUE=DURATION:PT1H
X-Robots-Tag:noindex
X-PUBLISHED-TTL:PT1H
BEGIN:VTIMEZONE
TZID:America/Chicago
BEGIN:DAYLIGHT
TZOFFSETFROM:-0600
TZOFFSETTO:-0500
TZNAME:CDT
DTSTART:20240310T080000
END:DAYLIGHT
BEGIN:STANDARD
TZOFFSETFROM:-0500
TZOFFSETTO:-0600
TZNAME:CST
DTSTART:20241103T070000
END:STANDARD
BEGIN:DAYLIGHT
TZOFFSETFROM:-0600
TZOFFSETTO:-0500
TZNAME:CDT
DTSTART:20250309T080000
END:DAYLIGHT
BEGIN:STANDARD
TZOFFSETFROM:-0500
TZOFFSETTO:-0600
TZNAME:CST
DTSTART:20251102T070000
END:STANDARD
BEGIN:DAYLIGHT
TZOFFSETFROM:-0600
TZOFFSETTO:-0500
TZNAME:CDT
DTSTART:20260308T080000
END:DAYLIGHT
BEGIN:STANDARD
TZOFFSETFROM:-0500
TZOFFSETTO:-0600
TZNAME:CST
DTSTART:20261101T070000
END:STANDARD
END:VTIMEZONE
BEGIN:VEVENT
DTSTART;TZID=America/Chicago:20250616T143500
DTEND;TZID=America/Chicago:20250616T153500
DTSTAMP:20260419T071411
CREATED:20240822T012932Z
LAST-MODIFIED:20250604T153742Z
UID:<span 
                data-original-string='qx2bbpY22EjCtdxizVNk5Q==386HeQ1lZXZNLgSixDQpfBdMbzPfMe5PQ7xhfIfia0uSYeOT9bahlFIXCT46+ttTbl61ZLUwfT2VnbTlfx+Dk9T6g=='
                class='apbct-email-encoder'
                title='This contact has been encoded by Anti-Spam by CleanTalk. Click to decode. To finish the decoding make sure that JavaScript is enabled in your browser.'>10<span class="apbct-blur">****************************</span>@<span class="apbct-blur">***************</span>wi.us</span>
SUMMARY:Early Release -
DESCRIPTION:
URL:https://www.milton.k12.wi.us/event/early-release-33/
CATEGORIES:Consolidated
END:VEVENT
BEGIN:VEVENT
DTSTART;TZID=America/Chicago:20250617T180000
DTEND;TZID=America/Chicago:20250617T190000
DTSTAMP:20260419T071411
CREATED:20240823T224233Z
LAST-MODIFIED:20250616T163724Z
UID:<span 
                data-original-string='EkJF3TW+WOljpl6CaRFcpw==386Lww/NSZhxqxnNoe1Jc7BbAOHcrAln/8jZmqoYjAB2H1iywHdE7FCt4KP9Y/gRQhbRDjPChsmSz+JtXJVsOa9ww=='
                class='apbct-email-encoder'
                title='This contact has been encoded by Anti-Spam by CleanTalk. Click to decode. To finish the decoding make sure that JavaScript is enabled in your browser.'>10<span class="apbct-blur">****************************</span>@<span class="apbct-blur">***************</span>wi.us</span>
SUMMARY:FON Meeting
DESCRIPTION:
URL:https://www.milton.k12.wi.us/event/fon-meeting-10/
CATEGORIES:Northside Intermediate
END:VEVENT
BEGIN:VEVENT
DTSTART;TZID=America/Chicago:20250617T180000
DTEND;TZID=America/Chicago:20250617T200000
DTSTAMP:20260419T071411
CREATED:20240917T180345Z
LAST-MODIFIED:20250616T151646Z
UID:<span 
                data-original-string='VIVgLIASpLnuWWEJfOXNNw==386pZfFgEYrN4I/3IdlCWn02S6HJi005B4FglPgtReST+lPP9EcxkWduKwCXv5er6rVvzt7FsAQoDHlfp7J5WN8EQ=='
                class='apbct-email-encoder'
                title='This contact has been encoded by Anti-Spam by CleanTalk. Click to decode. To finish the decoding make sure that JavaScript is enabled in your browser.'>10<span class="apbct-blur">****************************</span>@<span class="apbct-blur">***************</span>wi.us</span>
SUMMARY:PAWS mtg
DESCRIPTION:
URL:https://www.milton.k12.wi.us/event/paws-mtg-10/
CATEGORIES:Milton West Elementary
END:VEVENT
BEGIN:VEVENT
DTSTART;TZID=America/Chicago:20250623T143500
DTEND;TZID=America/Chicago:20250623T153500
DTSTAMP:20260419T071411
CREATED:20240822T012933Z
LAST-MODIFIED:20250604T153742Z
UID:<span 
                data-original-string='aYRZV+SuQmc2lR62RmnKfw==3862+nonQryc14xJNc74m7hHtrHdiR5K0OsbtlS87jl90blPgPETCmDlM9XeypsVeKMOzMSjOBoFX2JpCzQjmGqPg=='
                class='apbct-email-encoder'
                title='This contact has been encoded by Anti-Spam by CleanTalk. Click to decode. To finish the decoding make sure that JavaScript is enabled in your browser.'>10<span class="apbct-blur">****************************</span>@<span class="apbct-blur">***************</span>wi.us</span>
SUMMARY:Early Release -
DESCRIPTION:
URL:https://www.milton.k12.wi.us/event/early-release-34/
CATEGORIES:Consolidated
END:VEVENT
BEGIN:VEVENT
DTSTART;TZID=America/Chicago:20250623T183000
DTEND;TZID=America/Chicago:20250623T203000
DTSTAMP:20260419T071411
CREATED:20240822T012954Z
LAST-MODIFIED:20250623T052232Z
UID:<span 
                data-original-string='HJPScvy9I/OLDZGTFjZL4Q==386PaIYpCQKt8Gxe9CkfcFhE35SKHYImfiVRIG3roLLTjkIWvm23sMlQCrSkq6t4MGzX9vwNiZNIyp16p2IkKchLw=='
                class='apbct-email-encoder'
                title='This contact has been encoded by Anti-Spam by CleanTalk. Click to decode. To finish the decoding make sure that JavaScript is enabled in your browser.'>10<span class="apbct-blur">****************************</span>@<span class="apbct-blur">***************</span>wi.us</span>
SUMMARY:School Board Meeting
DESCRIPTION:
URL:https://www.milton.k12.wi.us/event/school-board-meeting-25/
LOCATION:School District of Milton\, 448 E High St\, Milton\, WI\, United States
CATEGORIES:District
GEO:42.773036;-88.944404
X-APPLE-STRUCTURED-LOCATION;VALUE=URI;X-ADDRESS=School District of Milton 448 E High St Milton WI United States;X-APPLE-RADIUS=500;X-TITLE=448 E High St:geo:-88.944404,42.773036
END:VEVENT
BEGIN:VEVENT
DTSTART;TZID=America/Chicago:20250630T143500
DTEND;TZID=America/Chicago:20250630T153500
DTSTAMP:20260419T071411
CREATED:20240822T012933Z
LAST-MODIFIED:20250604T153746Z
UID:<span 
                data-original-string='HNVwtmCLJZiqZeNgYoCe+g==386trYfL1JorlVn+y0Yt2M7p4rViuRZ6aOEEA5QbrxuCoFWhsyOSG/wFKeswzlvY3NxvzFW57C5gv5krbgPR61h3A=='
                class='apbct-email-encoder'
                title='This contact has been encoded by Anti-Spam by CleanTalk. Click to decode. To finish the decoding make sure that JavaScript is enabled in your browser.'>10<span class="apbct-blur">****************************</span>@<span class="apbct-blur">***************</span>wi.us</span>
SUMMARY:Early Release -
DESCRIPTION:
URL:https://www.milton.k12.wi.us/event/early-release-35/
CATEGORIES:Consolidated
END:VEVENT
BEGIN:VEVENT
DTSTART;TZID=America/Chicago:20250707T143500
DTEND;TZID=America/Chicago:20250707T153500
DTSTAMP:20260419T071411
CREATED:20240822T012933Z
LAST-MODIFIED:20250604T153746Z
UID:<span 
                data-original-string='j95mcUJ4TvABE7JC8NSoUQ==386ztWLI08oCo2YAcYhArQLnG2ktTdaVHI3BPaAH02MiEWwmt2rrto45DLmWoVDjfI+V3YvMTSk6JrE2zyThhaqbw=='
                class='apbct-email-encoder'
                title='This contact has been encoded by Anti-Spam by CleanTalk. Click to decode. To finish the decoding make sure that JavaScript is enabled in your browser.'>10<span class="apbct-blur">****************************</span>@<span class="apbct-blur">***************</span>wi.us</span>
SUMMARY:Early Release -
DESCRIPTION:
URL:https://www.milton.k12.wi.us/event/early-release-36/
CATEGORIES:Consolidated
END:VEVENT
BEGIN:VEVENT
DTSTART;TZID=America/Chicago:20250708T183000
DTEND;TZID=America/Chicago:20250708T193000
DTSTAMP:20260419T071411
CREATED:20240822T012933Z
LAST-MODIFIED:20250604T153747Z
UID:<span 
                data-original-string='9nxn8N3kl2PQnZr8botQGg==38682XuIWdCW1JoehTCAfuVZ1jvIuWD/YFy15oW1Gln9mvA7Va3aCzWZ2v+IDpYPXii5gSzICyi+INTdL7lHJ5A3Q=='
                class='apbct-email-encoder'
                title='This contact has been encoded by Anti-Spam by CleanTalk. Click to decode. To finish the decoding make sure that JavaScript is enabled in your browser.'>10<span class="apbct-blur">****************************</span>@<span class="apbct-blur">***************</span>wi.us</span>
SUMMARY:CES - PIE Meeting
DESCRIPTION:
URL:https://www.milton.k12.wi.us/event/pie-meeting-11/
CATEGORIES:Consolidated
END:VEVENT
BEGIN:VEVENT
DTSTART;TZID=America/Chicago:20250714T143500
DTEND;TZID=America/Chicago:20250714T153500
DTSTAMP:20260419T071411
CREATED:20240822T012933Z
LAST-MODIFIED:20250604T153747Z
UID:<span 
                data-original-string='VQpdHA2T1j6FYMzLYeE6MQ==386cIjQ/GocYaIiJ4epH17xu6u4Z6UNgXC7jPz/gyfkfnuFMAcNWSGbv7X7dI9sZ7QaCj5Ju5dXziMvKH7U4eAMhw=='
                class='apbct-email-encoder'
                title='This contact has been encoded by Anti-Spam by CleanTalk. Click to decode. To finish the decoding make sure that JavaScript is enabled in your browser.'>10<span class="apbct-blur">****************************</span>@<span class="apbct-blur">***************</span>wi.us</span>
SUMMARY:Early Release -
DESCRIPTION:
URL:https://www.milton.k12.wi.us/event/early-release-37/
CATEGORIES:Consolidated
END:VEVENT
BEGIN:VEVENT
DTSTART;TZID=America/Chicago:20250714T183000
DTEND;TZID=America/Chicago:20250714T203000
DTSTAMP:20260419T071411
CREATED:20240822T012954Z
LAST-MODIFIED:20250714T225433Z
UID:<span 
                data-original-string='SMZbifA4IIX5akFShrhrrQ==38603qC3pq/dtiDkm9SHFOuHYF28TOlpu5J+ybgPIO/0l9CoccRlT1bjYktHIqiUW77Cu1gkKudSv1YyFrDAan88w=='
                class='apbct-email-encoder'
                title='This contact has been encoded by Anti-Spam by CleanTalk. Click to decode. To finish the decoding make sure that JavaScript is enabled in your browser.'>10<span class="apbct-blur">****************************</span>@<span class="apbct-blur">***************</span>wi.us</span>
SUMMARY:School Board Meeting
DESCRIPTION:
URL:https://www.milton.k12.wi.us/event/school-board-meeting-26/
CATEGORIES:District
END:VEVENT
BEGIN:VEVENT
DTSTART;TZID=America/Chicago:20250715T180000
DTEND;TZID=America/Chicago:20250715T190000
DTSTAMP:20260419T071411
CREATED:20240823T224234Z
LAST-MODIFIED:20250715T225721Z
UID:<span 
                data-original-string='1wL2rsasaBrkmSTxcvWGog==38601ntylHo0BV6+XCc7WVey4swgLPig8PpzKB5s2Gmh9tJytRM1UyhtTiB4r7griquPe4qCBZnu6TYkwSO2gUG4Q=='
                class='apbct-email-encoder'
                title='This contact has been encoded by Anti-Spam by CleanTalk. Click to decode. To finish the decoding make sure that JavaScript is enabled in your browser.'>10<span class="apbct-blur">****************************</span>@<span class="apbct-blur">***************</span>wi.us</span>
SUMMARY:FON Meeting
DESCRIPTION:
URL:https://www.milton.k12.wi.us/event/fon-meeting-11/
CATEGORIES:Northside Intermediate
END:VEVENT
BEGIN:VEVENT
DTSTART;TZID=America/Chicago:20250715T180000
DTEND;TZID=America/Chicago:20250715T200000
DTSTAMP:20260419T071411
CREATED:20250528T105248Z
LAST-MODIFIED:20250715T225302Z
UID:<span 
                data-original-string='yf84aCcmgdq1+nus8weFEQ==3863ig9raJTklJcPuvnOGksiN+YaD63QEjJ5FYwIQu18w7WzGE/Fh8ZftzNqsRO6O0U9CuUJmtK4tn5utHEP+ejJg=='
                class='apbct-email-encoder'
                title='This contact has been encoded by Anti-Spam by CleanTalk. Click to decode. To finish the decoding make sure that JavaScript is enabled in your browser.'>10<span class="apbct-blur">****************************</span>@<span class="apbct-blur">***************</span>wi.us</span>
SUMMARY:Budget and Finance Meeting
DESCRIPTION:
URL:https://www.milton.k12.wi.us/event/budget-and-finance-meeting/
CATEGORIES:District
END:VEVENT
BEGIN:VEVENT
DTSTART;TZID=America/Chicago:20250721T143500
DTEND;TZID=America/Chicago:20250721T153500
DTSTAMP:20260419T071411
CREATED:20240822T012933Z
LAST-MODIFIED:20250604T153748Z
UID:<span 
                data-original-string='JECtdXmna4R9FjWvqbZ9lw==3864FJ4FD6IsPQTVpz2QCAHPMdMlaKljbHXdu4dUTlQFpSIV5mbG1Emv9kHR+Ebx3T+q/1CTvw0z38F/on14RBtow=='
                class='apbct-email-encoder'
                title='This contact has been encoded by Anti-Spam by CleanTalk. Click to decode. To finish the decoding make sure that JavaScript is enabled in your browser.'>10<span class="apbct-blur">****************************</span>@<span class="apbct-blur">***************</span>wi.us</span>
SUMMARY:Early Release -
DESCRIPTION:
URL:https://www.milton.k12.wi.us/event/early-release-38/
CATEGORIES:Consolidated
END:VEVENT
BEGIN:VEVENT
DTSTART;TZID=America/Chicago:20250721T180000
DTEND;TZID=America/Chicago:20250721T200000
DTSTAMP:20260419T071411
CREATED:20240917T180346Z
LAST-MODIFIED:20250718T130819Z
UID:<span 
                data-original-string='4KZQI1rhRIWh9GUGhYPQMQ==386oYfA7+mPS0vA8KN34BVzZ8UjhqfDIORijNg4lXDmsuoz203zClv37PPAeC3wJPfzcVIfnDx5JiRerl2s/6zOxg=='
                class='apbct-email-encoder'
                title='This contact has been encoded by Anti-Spam by CleanTalk. Click to decode. To finish the decoding make sure that JavaScript is enabled in your browser.'>10<span class="apbct-blur">****************************</span>@<span class="apbct-blur">***************</span>wi.us</span>
SUMMARY:PAWS mtg
DESCRIPTION:
URL:https://www.milton.k12.wi.us/event/paws-mtg-11/
CATEGORIES:Milton West Elementary
END:VEVENT
BEGIN:VEVENT
DTSTART;VALUE=DATE:20250728
DTEND;VALUE=DATE:20250729
DTSTAMP:20260419T071411
CREATED:20250611T144440Z
LAST-MODIFIED:20250728T210802Z
UID:<span 
                data-original-string='aPko8lZuRMpLSLNq31ufow==386WyQgOLjIhb10H018lM83o3B297esnj2lXR+iBoGJAEEdxqq+a54cmqFhaLFo/wYgcqbA7cdwzTziZ16E09Y2lA=='
                class='apbct-email-encoder'
                title='This contact has been encoded by Anti-Spam by CleanTalk. Click to decode. To finish the decoding make sure that JavaScript is enabled in your browser.'>10<span class="apbct-blur">****************************</span>@<span class="apbct-blur">***************</span>wi.us</span>
SUMMARY:Online Registration Opens
DESCRIPTION:
URL:https://www.milton.k12.wi.us/event/online-registration-opens/
CATEGORIES:Milton East Elementary
END:VEVENT
BEGIN:VEVENT
DTSTART;TZID=America/Chicago:20250728T143500
DTEND;TZID=America/Chicago:20250728T153500
DTSTAMP:20260419T071411
CREATED:20240822T012934Z
LAST-MODIFIED:20250604T153756Z
UID:<span 
                data-original-string='6JXYubyWoSovsa+Kb7lspQ==386VaS2+fBNl7WUt/PvNG5yq2jvBKEEgazDS8ZJF5UNoaT56CsOL+v4+WFob9sfsZDfMucfsyb4D/sFFwTKcjiNpw=='
                class='apbct-email-encoder'
                title='This contact has been encoded by Anti-Spam by CleanTalk. Click to decode. To finish the decoding make sure that JavaScript is enabled in your browser.'>10<span class="apbct-blur">****************************</span>@<span class="apbct-blur">***************</span>wi.us</span>
SUMMARY:Early Release -
DESCRIPTION:
URL:https://www.milton.k12.wi.us/event/early-release-39/
CATEGORIES:Consolidated
END:VEVENT
BEGIN:VEVENT
DTSTART;TZID=America/Chicago:20250728T183000
DTEND;TZID=America/Chicago:20250728T203000
DTSTAMP:20260419T071411
CREATED:20240822T012955Z
LAST-MODIFIED:20250728T225241Z
UID:<span 
                data-original-string='V2jXl1LIKHPJR5ja1bQLLg==386lt/Mlb2I228v/yasLk7Za2R6MBZ9GAN+rQz3MrrV0RoxVwkY+efEV1zXvVMwcooxoIrxaPprKpI2tF4t+0EUsg=='
                class='apbct-email-encoder'
                title='This contact has been encoded by Anti-Spam by CleanTalk. Click to decode. To finish the decoding make sure that JavaScript is enabled in your browser.'>10<span class="apbct-blur">****************************</span>@<span class="apbct-blur">***************</span>wi.us</span>
SUMMARY:School Board Meeting
DESCRIPTION:
URL:https://www.milton.k12.wi.us/event/school-board-meeting-27/
LOCATION:School District of Milton\, 448 E High St\, Milton\, WI\, United States
CATEGORIES:District
GEO:42.773036;-88.944404
X-APPLE-STRUCTURED-LOCATION;VALUE=URI;X-ADDRESS=School District of Milton 448 E High St Milton WI United States;X-APPLE-RADIUS=500;X-TITLE=448 E High St:geo:-88.944404,42.773036
END:VEVENT
BEGIN:VEVENT
DTSTART;TZID=America/Chicago:20250804T143500
DTEND;TZID=America/Chicago:20250804T153500
DTSTAMP:20260419T071411
CREATED:20240822T012934Z
LAST-MODIFIED:20250604T153756Z
UID:<span 
                data-original-string='XyN1swR/wQluoCAjaSYmnw==386EzAr9o3fbLRk3r5hM7BROliNiZVlCUS6t16GUukWBWrJ19QgsnW1PGtTSbDenRl4HQPLsO+ZL2q5tRFnzEMbAg=='
                class='apbct-email-encoder'
                title='This contact has been encoded by Anti-Spam by CleanTalk. Click to decode. To finish the decoding make sure that JavaScript is enabled in your browser.'>10<span class="apbct-blur">****************************</span>@<span class="apbct-blur">***************</span>wi.us</span>
SUMMARY:Early Release -
DESCRIPTION:
URL:https://www.milton.k12.wi.us/event/early-release-40/
CATEGORIES:Consolidated
END:VEVENT
BEGIN:VEVENT
DTSTART;VALUE=DATE:20250810
DTEND;VALUE=DATE:20250811
DTSTAMP:20260419T071411
CREATED:20250611T144440Z
LAST-MODIFIED:20250810T213733Z
UID:<span 
                data-original-string='y8/6RS3vFrXzTNQgOtPciA==3864VqQDikEaU/tK7Y2B+lJvyVl/oZ/doEqfBb4r8amof4quTILna9KS+Q+Yc78ZtnP1B2SQxp+r7Wolq34rHr1UQ=='
                class='apbct-email-encoder'
                title='This contact has been encoded by Anti-Spam by CleanTalk. Click to decode. To finish the decoding make sure that JavaScript is enabled in your browser.'>10<span class="apbct-blur">****************************</span>@<span class="apbct-blur">***************</span>wi.us</span>
SUMMARY:Online Registration Closes
DESCRIPTION:
URL:https://www.milton.k12.wi.us/event/online-registration-closes/
CATEGORIES:Milton East Elementary
END:VEVENT
BEGIN:VEVENT
DTSTART;TZID=America/Chicago:20250811T143500
DTEND;TZID=America/Chicago:20250811T153500
DTSTAMP:20260419T071411
CREATED:20240822T012934Z
LAST-MODIFIED:20250604T153757Z
UID:<span 
                data-original-string='W2oH3Izr/ZFUaqCYgT444g==386EhcQjf5KJJsemmd8LyYRZD7RSCDchLS5Nd3puAqkNFUUxbFOvwNaMI/DS/p2lbfh+q1gZcQGTIhnfjN7btOoLg=='
                class='apbct-email-encoder'
                title='This contact has been encoded by Anti-Spam by CleanTalk. Click to decode. To finish the decoding make sure that JavaScript is enabled in your browser.'>10<span class="apbct-blur">****************************</span>@<span class="apbct-blur">***************</span>wi.us</span>
SUMMARY:Early Release -
DESCRIPTION:
URL:https://www.milton.k12.wi.us/event/early-release-41/
CATEGORIES:Consolidated
END:VEVENT
BEGIN:VEVENT
DTSTART;TZID=America/Chicago:20250811T183000
DTEND;TZID=America/Chicago:20250811T203000
DTSTAMP:20260419T071411
CREATED:20240822T012955Z
LAST-MODIFIED:20250811T230723Z
UID:<span 
                data-original-string='betRpDVYuPL4RXs3qb19nw==386Lwg7qJf0emjEGxe7KA+Dlw1mpbeIJM3E9ymutMPfPkQMcS0juSsRONlLkf0idvrPbnOEmFc6N2u4wHZrEuEZHQ=='
                class='apbct-email-encoder'
                title='This contact has been encoded by Anti-Spam by CleanTalk. Click to decode. To finish the decoding make sure that JavaScript is enabled in your browser.'>10<span class="apbct-blur">****************************</span>@<span class="apbct-blur">***************</span>wi.us</span>
SUMMARY:School Board Meeting
DESCRIPTION:
URL:https://www.milton.k12.wi.us/event/school-board-meeting-28/
CATEGORIES:District
END:VEVENT
BEGIN:VEVENT
DTSTART;TZID=America/Chicago:20250818T143500
DTEND;TZID=America/Chicago:20250818T153500
DTSTAMP:20260419T071411
CREATED:20240822T012934Z
LAST-MODIFIED:20250604T153759Z
UID:<span 
                data-original-string='1ObTNACC3Py1owuObfbyPg==3861un/37/2dTBIS7MCEb6BtobL4XCpw59tQffiMZKsNFOcIPCu/siNi0CKiI0KD7ZAjuJoGLdZw2dPdYcKg8Fdkg=='
                class='apbct-email-encoder'
                title='This contact has been encoded by Anti-Spam by CleanTalk. Click to decode. To finish the decoding make sure that JavaScript is enabled in your browser.'>10<span class="apbct-blur">****************************</span>@<span class="apbct-blur">***************</span>wi.us</span>
SUMMARY:Early Release -
DESCRIPTION:
URL:https://www.milton.k12.wi.us/event/early-release-42/
CATEGORIES:Consolidated
END:VEVENT
BEGIN:VEVENT
DTSTART;TZID=America/Chicago:20250818T180000
DTEND;TZID=America/Chicago:20250818T200000
DTSTAMP:20260419T071411
CREATED:20240917T180346Z
LAST-MODIFIED:20250818T215228Z
UID:<span 
                data-original-string='uLDjhXfqlsw81oTYZ4JaRA==386BtqGBtXt0EZ9A1kEc0EbG0Rvmzq2lYdsgkgtQRwWcbPsL8XGJ0AxQhNgurucyqbX4fdZ4zp4CovH8jtzzJjPvA=='
                class='apbct-email-encoder'
                title='This contact has been encoded by Anti-Spam by CleanTalk. Click to decode. To finish the decoding make sure that JavaScript is enabled in your browser.'>10<span class="apbct-blur">****************************</span>@<span class="apbct-blur">***************</span>wi.us</span>
SUMMARY:PAWS mtg
DESCRIPTION:
URL:https://www.milton.k12.wi.us/event/paws-mtg-12/
CATEGORIES:Milton West Elementary
END:VEVENT
BEGIN:VEVENT
DTSTART;TZID=America/Chicago:20250819T180000
DTEND;TZID=America/Chicago:20250819T190000
DTSTAMP:20260419T071411
CREATED:20240823T224234Z
LAST-MODIFIED:20250819T235229Z
UID:<span 
                data-original-string='zT+UCGZzxUOUmx0M2GH0FA==386fsr7QUJ2AalM23WgyI8RmNqOZ8cQIjgVJzGktHPXCDCUbrEVwmpRyatB/FisFqUDGAHAXFm2HR+tvofqQdA3aw=='
                class='apbct-email-encoder'
                title='This contact has been encoded by Anti-Spam by CleanTalk. Click to decode. To finish the decoding make sure that JavaScript is enabled in your browser.'>10<span class="apbct-blur">****************************</span>@<span class="apbct-blur">***************</span>wi.us</span>
SUMMARY:FON Meeting
DESCRIPTION:
URL:https://www.milton.k12.wi.us/event/fon-meeting-12/
CATEGORIES:Northside Intermediate
END:VEVENT
BEGIN:VEVENT
DTSTART;TZID=America/Chicago:20250821T173000
DTEND;TZID=America/Chicago:20250821T183000
DTSTAMP:20260419T071411
CREATED:20250813T183857Z
LAST-MODIFIED:20250821T210821Z
UID:<span 
                data-original-string='5nVj7CGp0E767KWArOFmPw==386/LNgi/pEzqXD7EbzWmpK3tfJqhy0WCDSjV8z6Rdqyyp6b8XA910yyNiU/tUhyF8cAetNDbRg1fYxveWoiqAxIA=='
                class='apbct-email-encoder'
                title='This contact has been encoded by Anti-Spam by CleanTalk. Click to decode. To finish the decoding make sure that JavaScript is enabled in your browser.'>10<span class="apbct-blur">****************************</span>@<span class="apbct-blur">***************</span>wi.us</span>
SUMMARY:Parent Group Meeting
DESCRIPTION:
URL:https://www.milton.k12.wi.us/event/parent-group-meeting-9/
LOCATION:MMS Cafeteria
CATEGORIES:Milton Middle School
END:VEVENT
BEGIN:VEVENT
DTSTART;TZID=America/Chicago:20250825T143500
DTEND;TZID=America/Chicago:20250825T153500
DTSTAMP:20260419T071411
CREATED:20240822T012934Z
LAST-MODIFIED:20250604T153802Z
UID:<span 
                data-original-string='e2daTZgZJovBOnwBcgU6vA==386ukzIr7wRN+qTehsVUuo7LWiBe47/2JXEsQngyK9lksPSyKE8NdBMPrgMenQJH51FDE95EcJLeczxkUnLpFVGnQ=='
                class='apbct-email-encoder'
                title='This contact has been encoded by Anti-Spam by CleanTalk. Click to decode. To finish the decoding make sure that JavaScript is enabled in your browser.'>10<span class="apbct-blur">****************************</span>@<span class="apbct-blur">***************</span>wi.us</span>
SUMMARY:Early Release -
DESCRIPTION:
URL:https://www.milton.k12.wi.us/event/early-release-43/
CATEGORIES:Consolidated
END:VEVENT
BEGIN:VEVENT
DTSTART;TZID=America/Chicago:20250825T183000
DTEND;TZID=America/Chicago:20250825T203000
DTSTAMP:20260419T071411
CREATED:20240822T012955Z
LAST-MODIFIED:20250825T233732Z
UID:<span 
                data-original-string='wsTfyKdjWA7srkQ/A5LIxw==386VRZfozyt7PGhWqbPY42scgIv+d7qF5vU/H2E+eA+79rj4iu4Ktx6AkWFSTDvA/UjT6b9m65UCOcbqct0DBSeKg=='
                class='apbct-email-encoder'
                title='This contact has been encoded by Anti-Spam by CleanTalk. Click to decode. To finish the decoding make sure that JavaScript is enabled in your browser.'>10<span class="apbct-blur">****************************</span>@<span class="apbct-blur">***************</span>wi.us</span>
SUMMARY:School Board Meeting
DESCRIPTION:
URL:https://www.milton.k12.wi.us/event/school-board-meeting-29/
LOCATION:School District of Milton\, 448 E High St\, Milton\, WI\, United States
CATEGORIES:District
GEO:42.773036;-88.944404
X-APPLE-STRUCTURED-LOCATION;VALUE=URI;X-ADDRESS=School District of Milton 448 E High St Milton WI United States;X-APPLE-RADIUS=500;X-TITLE=448 E High St:geo:-88.944404,42.773036
END:VEVENT
BEGIN:VEVENT
DTSTART;TZID=America/Chicago:20250826T173000
DTEND;TZID=America/Chicago:20250826T183000
DTSTAMP:20260419T071412
CREATED:20250825T183733Z
LAST-MODIFIED:20250826T213729Z
UID:<span 
                data-original-string='j1GSeIXhukOLLdA5GQwicQ==386+Knn59T4dwL3pISAyrwyV9CSihAuPlZ7wl07Tigje8KIgQathUZsGIpXb5/cLK04fHkjEDDfZ4weffR99jK2CQ=='
                class='apbct-email-encoder'
                title='This contact has been encoded by Anti-Spam by CleanTalk. Click to decode. To finish the decoding make sure that JavaScript is enabled in your browser.'>10<span class="apbct-blur">****************************</span>@<span class="apbct-blur">***************</span>wi.us</span>
SUMMARY:MMS Open House
DESCRIPTION:
URL:https://www.milton.k12.wi.us/event/mms-open-house-2/
CATEGORIES:Milton Middle School
END:VEVENT
BEGIN:VEVENT
DTSTART;TZID=America/Chicago:20250826T180000
DTEND;TZID=America/Chicago:20250826T190000
DTSTAMP:20260419T071412
CREATED:20250616T130743Z
LAST-MODIFIED:20250826T205935Z
UID:<span 
                data-original-string='wmNucv8eVIkr1wQmpNsShw==3868H3joLsR0PfHq0DBlXyl1LaYl0wvp4fQoP1+EC6CM3XEyV66+PBSNL6+iHHbwwzdb3YloJtmt+zHOjEEB4tyvA=='
                class='apbct-email-encoder'
                title='This contact has been encoded by Anti-Spam by CleanTalk. Click to decode. To finish the decoding make sure that JavaScript is enabled in your browser.'>10<span class="apbct-blur">****************************</span>@<span class="apbct-blur">***************</span>wi.us</span>
SUMMARY:Open House
DESCRIPTION:
URL:https://www.milton.k12.wi.us/event/open-house-4/
CATEGORIES:Milton High School
END:VEVENT
BEGIN:VEVENT
DTSTART;VALUE=DATE:20250827
DTEND;VALUE=DATE:20250828
DTSTAMP:20260419T071412
CREATED:20250611T144441Z
LAST-MODIFIED:20250827T225246Z
UID:<span 
                data-original-string='TgeIWNrKr2hkePLTQkt6Qw==38669miYii+h9d9Z+ino4WzRQHZp3Do5d+QKDCYOwmbj+3FLB8rcsybSbloczhMZL5hCVD4SPceu3K/DXgPoRKmbw=='
                class='apbct-email-encoder'
                title='This contact has been encoded by Anti-Spam by CleanTalk. Click to decode. To finish the decoding make sure that JavaScript is enabled in your browser.'>10<span class="apbct-blur">****************************</span>@<span class="apbct-blur">***************</span>wi.us</span>
SUMMARY:4K-3 & NIS Open House 4PM - 6PM
DESCRIPTION:
URL:https://www.milton.k12.wi.us/event/4k-3-nis-open-house-4pm-6pm/
CATEGORIES:Milton East Elementary
END:VEVENT
END:VCALENDAR