BEGIN:VCALENDAR
VERSION:2.0
PRODID:-//School District of Milton - ECPv6.15.20//NONSGML v1.0//EN
CALSCALE:GREGORIAN
METHOD:PUBLISH
X-ORIGINAL-URL:https://www.milton.k12.wi.us
X-WR-CALDESC:Events for School District of Milton
REFRESH-INTERVAL;VALUE=DURATION:PT1H
X-Robots-Tag:noindex
X-PUBLISHED-TTL:PT1H
BEGIN:VTIMEZONE
TZID:America/Chicago
BEGIN:DAYLIGHT
TZOFFSETFROM:-0600
TZOFFSETTO:-0500
TZNAME:CDT
DTSTART:20230312T080000
END:DAYLIGHT
BEGIN:STANDARD
TZOFFSETFROM:-0500
TZOFFSETTO:-0600
TZNAME:CST
DTSTART:20231105T070000
END:STANDARD
BEGIN:DAYLIGHT
TZOFFSETFROM:-0600
TZOFFSETTO:-0500
TZNAME:CDT
DTSTART:20240310T080000
END:DAYLIGHT
BEGIN:STANDARD
TZOFFSETFROM:-0500
TZOFFSETTO:-0600
TZNAME:CST
DTSTART:20241103T070000
END:STANDARD
BEGIN:DAYLIGHT
TZOFFSETFROM:-0600
TZOFFSETTO:-0500
TZNAME:CDT
DTSTART:20250309T080000
END:DAYLIGHT
BEGIN:STANDARD
TZOFFSETFROM:-0500
TZOFFSETTO:-0600
TZNAME:CST
DTSTART:20251102T070000
END:STANDARD
END:VTIMEZONE
BEGIN:VEVENT
DTSTART;VALUE=DATE:20241119
DTEND;VALUE=DATE:20241120
DTSTAMP:20260424T022553
CREATED:20241016T193816Z
LAST-MODIFIED:20241119T225237Z
UID:<span 
                data-original-string='5V15lohHR//cmFBC+FQAtQ==386wrly44p75lRsT54apTN+FSpHHMgYj/QFyYxNd566Fp/sskdquD9aPZTAF1bWzL0MmCAXxdmERukSlJNRckbP4w=='
                class='apbct-email-encoder'
                title='This contact has been encoded by Anti-Spam by CleanTalk. Click to decode. To finish the decoding make sure that JavaScript is enabled in your browser.'>10<span class="apbct-blur">****************************</span>@<span class="apbct-blur">***************</span>wi.us</span>
SUMMARY:Day 5
DESCRIPTION:
URL:https://www.milton.k12.wi.us/event/day-5-9/
CATEGORIES:Northside Intermediate
END:VEVENT
BEGIN:VEVENT
DTSTART;TZID=America/Chicago:20241119T160000
DTEND;TZID=America/Chicago:20241119T163000
DTSTAMP:20260424T022553
CREATED:20241119T180758Z
LAST-MODIFIED:20241119T202552Z
UID:<span 
                data-original-string='bmzSzT7FGLT93BSLZF/dMA==386D550nR+a1UoFGAx+CJxJw/gUZFfLh2VvzFFX7WKe7FUwZbZksBE5ISr4ahx00ls2siZLRN/pZt4WWADZf1UjvA=='
                class='apbct-email-encoder'
                title='This contact has been encoded by Anti-Spam by CleanTalk. Click to decode. To finish the decoding make sure that JavaScript is enabled in your browser.'>10<span class="apbct-blur">****************************</span>@<span class="apbct-blur">***************</span>wi.us</span>
SUMMARY:Test 1
DESCRIPTION:
URL:https://www.milton.k12.wi.us/event/test-1/
CATEGORIES:Milton East Elementary
END:VEVENT
BEGIN:VEVENT
DTSTART;TZID=America/Chicago:20241119T160000
DTEND;TZID=America/Chicago:20241119T200000
DTSTAMP:20260424T022553
CREATED:20241107T162322Z
LAST-MODIFIED:20241119T233740Z
UID:<span 
                data-original-string='vl1qO5JjJSAu/GfLv8NHlw==386AVQOyycSlip2+GTZ69dABSxTtqLosxxOXOmyOBnYBZsUv61d7eqto15cjdYLFoZz6sHeAvWNX5RYfGpO83Iicw=='
                class='apbct-email-encoder'
                title='This contact has been encoded by Anti-Spam by CleanTalk. Click to decode. To finish the decoding make sure that JavaScript is enabled in your browser.'>10<span class="apbct-blur">****************************</span>@<span class="apbct-blur">***************</span>wi.us</span>
SUMMARY:MMS Scoopie Night @ Milton Ave
DESCRIPTION:
URL:https://www.milton.k12.wi.us/event/mms-scoopie-night-milton-ave/
CATEGORIES:Milton Middle School
END:VEVENT
BEGIN:VEVENT
DTSTART;TZID=America/Chicago:20241119T180000
DTEND;TZID=America/Chicago:20241119T190000
DTSTAMP:20260424T022553
CREATED:20240823T224230Z
LAST-MODIFIED:20241119T225237Z
UID:<span 
                data-original-string='tGo999fbb2Ym9r+2ucEffw==3864t94PJXvB8sh/aI20fyuYYE4y6r9NbiebMkk5HxuCDYHEwvca7J4qaiP8pZJyCzaT0Ur85qORLUMOYqdNeH4ug=='
                class='apbct-email-encoder'
                title='This contact has been encoded by Anti-Spam by CleanTalk. Click to decode. To finish the decoding make sure that JavaScript is enabled in your browser.'>10<span class="apbct-blur">****************************</span>@<span class="apbct-blur">***************</span>wi.us</span>
SUMMARY:FON Meeting
DESCRIPTION:
URL:https://www.milton.k12.wi.us/event/fon-meeting-3/
CATEGORIES:Northside Intermediate
END:VEVENT
BEGIN:VEVENT
DTSTART;VALUE=DATE:20241120
DTEND;VALUE=DATE:20241121
DTSTAMP:20260424T022553
CREATED:20241016T193815Z
LAST-MODIFIED:20241120T230729Z
UID:<span 
                data-original-string='bmhIWAGKbeDW8jlA8+Cb8A==386SEefOioPKhtZmrDCYFnCgjZ3kfzHQFKybblsUyCw9sRrU61arrK/j77N472W29aKzU90VU9nyRtvRayF9sZYsQ=='
                class='apbct-email-encoder'
                title='This contact has been encoded by Anti-Spam by CleanTalk. Click to decode. To finish the decoding make sure that JavaScript is enabled in your browser.'>10<span class="apbct-blur">****************************</span>@<span class="apbct-blur">***************</span>wi.us</span>
SUMMARY:Day 6
DESCRIPTION:
URL:https://www.milton.k12.wi.us/event/day-6-9/
CATEGORIES:Northside Intermediate
END:VEVENT
BEGIN:VEVENT
DTSTART;TZID=America/Chicago:20241120T180000
DTEND;TZID=America/Chicago:20241120T190000
DTSTAMP:20260424T022553
CREATED:20241105T195416Z
LAST-MODIFIED:20241120T233806Z
UID:<span 
                data-original-string='3Y37E94z+Tzee49e0z3R4g==386WxLGo8/0My2a8YpPyQ6XVgF/OnDOQGlYqFy99YlWGDsmpzoRxhJXSU+W0MjkCdvRh6OoUnfd6ZGaCex/NSRLvw=='
                class='apbct-email-encoder'
                title='This contact has been encoded by Anti-Spam by CleanTalk. Click to decode. To finish the decoding make sure that JavaScript is enabled in your browser.'>10<span class="apbct-blur">****************************</span>@<span class="apbct-blur">***************</span>wi.us</span>
SUMMARY:EES:  MEPG meeting
DESCRIPTION:
URL:https://www.milton.k12.wi.us/event/ees-mepg-meeting-10/
CATEGORIES:Milton East Elementary
END:VEVENT
BEGIN:VEVENT
DTSTART;VALUE=DATE:20241121
DTEND;VALUE=DATE:20241122
DTSTAMP:20260424T022553
CREATED:20241016T193817Z
LAST-MODIFIED:20241121T230727Z
UID:<span 
                data-original-string='jhtEK+7eGnXxsMimvQMADw==386SBH1yqr7yDnoGMrfqc2hs7aPYzyewUlOSyldRqE0D2hQZ9ALl/w81Q01/VqXMVP+yxs/I+OEFUYZACO+olQjZA=='
                class='apbct-email-encoder'
                title='This contact has been encoded by Anti-Spam by CleanTalk. Click to decode. To finish the decoding make sure that JavaScript is enabled in your browser.'>10<span class="apbct-blur">****************************</span>@<span class="apbct-blur">***************</span>wi.us</span>
SUMMARY:Day 1
DESCRIPTION:
URL:https://www.milton.k12.wi.us/event/day-1-10/
CATEGORIES:Northside Intermediate
END:VEVENT
BEGIN:VEVENT
DTSTART;TZID=America/Chicago:20241121T173000
DTEND;TZID=America/Chicago:20241121T183000
DTSTAMP:20260424T022553
CREATED:20240822T004713Z
LAST-MODIFIED:20241121T233834Z
UID:<span 
                data-original-string='RB4mUG24u815+aVEizTG2A==386BPwTPXsy4qpztE2bvlv1pFIsAe+v1dW1+uFiGNC1B+vF87h4faZUMWxmEwQDD800LtdEIYOQfJshenT0WCtbCQ=='
                class='apbct-email-encoder'
                title='This contact has been encoded by Anti-Spam by CleanTalk. Click to decode. To finish the decoding make sure that JavaScript is enabled in your browser.'>10<span class="apbct-blur">****************************</span>@<span class="apbct-blur">***************</span>wi.us</span>
SUMMARY:MMS Parent Group Meeting
DESCRIPTION:
URL:https://www.milton.k12.wi.us/event/parent-group-meeting-2/
CATEGORIES:Milton Middle School
END:VEVENT
BEGIN:VEVENT
DTSTART;VALUE=DATE:20241122
DTEND;VALUE=DATE:20241123
DTSTAMP:20260424T022553
CREATED:20240822T004636Z
LAST-MODIFIED:20241122T215608Z
UID:<span 
                data-original-string='2/DBUj8eqq5TEmwz0nlvMg==386XUEtL7bxovx17j8IxxG66qZcOwuTYKdhrZsusZ5op5ZA4J97WGCBDsMSBanpuNRwxvXh6jiqt03SjyMm0ZZWFA=='
                class='apbct-email-encoder'
                title='This contact has been encoded by Anti-Spam by CleanTalk. Click to decode. To finish the decoding make sure that JavaScript is enabled in your browser.'>10<span class="apbct-blur">****************************</span>@<span class="apbct-blur">***************</span>wi.us</span>
SUMMARY:Trimester 1 Ends
DESCRIPTION:
URL:https://www.milton.k12.wi.us/event/trimester-1-ends/
CATEGORIES:Milton High School
END:VEVENT
BEGIN:VEVENT
DTSTART;VALUE=DATE:20241122
DTEND;VALUE=DATE:20241123
DTSTAMP:20260424T022553
CREATED:20241016T193821Z
LAST-MODIFIED:20241122T231900Z
UID:<span 
                data-original-string='Tfw4BuWkdBUYjwi/LPP+EQ==386vUQ5VpKzshEYiePLRWi/fLrIYG6Rvn+9rwfQb/8aQsSmMpjHA28PSP08eY0Hs5Dzjmbx9xuSaBq9r2qPNwkoew=='
                class='apbct-email-encoder'
                title='This contact has been encoded by Anti-Spam by CleanTalk. Click to decode. To finish the decoding make sure that JavaScript is enabled in your browser.'>10<span class="apbct-blur">****************************</span>@<span class="apbct-blur">***************</span>wi.us</span>
SUMMARY:Day 2
DESCRIPTION:
URL:https://www.milton.k12.wi.us/event/day-2-10/
CATEGORIES:Northside Intermediate
END:VEVENT
BEGIN:VEVENT
DTSTART;TZID=America/Chicago:20241122T100000
DTEND;TZID=America/Chicago:20241122T113000
DTSTAMP:20260424T022553
CREATED:20240923T212344Z
LAST-MODIFIED:20241122T172316Z
UID:<span 
                data-original-string='rLRkU2Re4pFv6fbL28Ca8w==386zw9wMuSjcTFQ1YzKGkLZ9c+YHT0LhIkPQcez079Vz8FGEp3R+Pd6qhaKkDUIAN2nalmpYdMxuzsAoVwGFL1NaA=='
                class='apbct-email-encoder'
                title='This contact has been encoded by Anti-Spam by CleanTalk. Click to decode. To finish the decoding make sure that JavaScript is enabled in your browser.'>10<span class="apbct-blur">****************************</span>@<span class="apbct-blur">***************</span>wi.us</span>
SUMMARY:EES:  4K Friendsgiving (AM)
DESCRIPTION:
URL:https://www.milton.k12.wi.us/event/ees-4k-friendsgiving-am/
CATEGORIES:Milton East Elementary
END:VEVENT
BEGIN:VEVENT
DTSTART;TZID=America/Chicago:20241122T140000
DTEND;TZID=America/Chicago:20241122T153000
DTSTAMP:20260424T022553
CREATED:20240923T212345Z
LAST-MODIFIED:20241122T202501Z
UID:<span 
                data-original-string='DskjBRxS7K3A2HQ4JVG8zQ==386zYMTv1EZBH3wn/yCpS7o8kEXj8pyXEYuhGLgenekgatFqDp+r2hosCgvMAzVw/r3f5OjtuCEkDd2PY4zd1nJmA=='
                class='apbct-email-encoder'
                title='This contact has been encoded by Anti-Spam by CleanTalk. Click to decode. To finish the decoding make sure that JavaScript is enabled in your browser.'>10<span class="apbct-blur">****************************</span>@<span class="apbct-blur">***************</span>wi.us</span>
SUMMARY:EES:  4K Friendsgiving (PM)
DESCRIPTION:
URL:https://www.milton.k12.wi.us/event/ees-4k-friendsgiving-pm/
CATEGORIES:Milton East Elementary
END:VEVENT
BEGIN:VEVENT
DTSTART;VALUE=DATE:20241125
DTEND;VALUE=DATE:20241126
DTSTAMP:20260424T022554
CREATED:20240822T004637Z
LAST-MODIFIED:20241125T215625Z
UID:<span 
                data-original-string='MpfXz0b+lzgfg12PhxOhCQ==386gnB+HupvuPUJztQvYnw2GCRpi/jc+nnufpcc+xjyqfEajVOEAxHXtQPhPRFcObPZRVbRKjINzcU7/JgN5KTIag=='
                class='apbct-email-encoder'
                title='This contact has been encoded by Anti-Spam by CleanTalk. Click to decode. To finish the decoding make sure that JavaScript is enabled in your browser.'>10<span class="apbct-blur">****************************</span>@<span class="apbct-blur">***************</span>wi.us</span>
SUMMARY:Professional Development Day - No School
DESCRIPTION:
URL:https://www.milton.k12.wi.us/event/professional-development-day-no-school/
CATEGORIES:Milton High School
END:VEVENT
BEGIN:VEVENT
DTSTART;VALUE=DATE:20241125
DTEND;VALUE=DATE:20241126
DTSTAMP:20260424T022554
CREATED:20240822T004714Z
LAST-MODIFIED:20241125T233758Z
UID:<span 
                data-original-string='iaVJcckjH14D2KhPAXilfA==386dN410qbHq3dYB+cCS5EKav7Zy7P8PU0WjQAoheLldczcGB0iK6Mu+CecyFkM8/tcwAvqi61gjDJlcramWRy02w=='
                class='apbct-email-encoder'
                title='This contact has been encoded by Anti-Spam by CleanTalk. Click to decode. To finish the decoding make sure that JavaScript is enabled in your browser.'>10<span class="apbct-blur">****************************</span>@<span class="apbct-blur">***************</span>wi.us</span>
SUMMARY:Professional Development Day/No School
DESCRIPTION:
URL:https://www.milton.k12.wi.us/event/professional-development-day-no-school-3/
CATEGORIES:Milton Middle School
END:VEVENT
BEGIN:VEVENT
DTSTART;VALUE=DATE:20241125
DTEND;VALUE=DATE:20241126
DTSTAMP:20260424T022554
CREATED:20240822T012926Z
LAST-MODIFIED:20241125T230909Z
UID:<span 
                data-original-string='a8d9rPuzBei1gBkqilkEuQ==3860OijuFILaRRvyrvtZihaDIk3jtDUeL2M2NEORRqgXEGOmx2Be4esVUWVILREzl51qma/5m7gm1z7ZCQ6vl5aDw=='
                class='apbct-email-encoder'
                title='This contact has been encoded by Anti-Spam by CleanTalk. Click to decode. To finish the decoding make sure that JavaScript is enabled in your browser.'>10<span class="apbct-blur">****************************</span>@<span class="apbct-blur">***************</span>wi.us</span>
SUMMARY:Professional Development/No School
DESCRIPTION:
URL:https://www.milton.k12.wi.us/event/professional-development-no-school-2/
CATEGORIES:Consolidated
END:VEVENT
BEGIN:VEVENT
DTSTART;VALUE=DATE:20241125
DTEND;VALUE=DATE:20241126
DTSTAMP:20260424T022554
CREATED:20240829T170007Z
LAST-MODIFIED:20241125T222229Z
UID:<span 
                data-original-string='t55j0VBJ2a6G2oiYA0ADKw==386dHvclVWojNCGhHTSie9XkG192+L2qUkRoPRxPYfud3pK8G3UMAq10apVyunJ3IlOz0hQwAGZiJaqANKsPrNE/g=='
                class='apbct-email-encoder'
                title='This contact has been encoded by Anti-Spam by CleanTalk. Click to decode. To finish the decoding make sure that JavaScript is enabled in your browser.'>10<span class="apbct-blur">****************************</span>@<span class="apbct-blur">***************</span>wi.us</span>
SUMMARY:HES: PD Day- No School
DESCRIPTION:
URL:https://www.milton.k12.wi.us/event/hes-pd-day-no-school/
CATEGORIES:Harmony Elementary
END:VEVENT
BEGIN:VEVENT
DTSTART;VALUE=DATE:20241125
DTEND;VALUE=DATE:20241126
DTSTAMP:20260424T022554
CREATED:20240909T153931Z
LAST-MODIFIED:20240909T153931Z
UID:<span 
                data-original-string='D3zZRu+cO8bdygdkg5xEXQ==386J5RGUG2GbIdjJ7qwssjwQ2+20a4z11hSO6GFMNrZLjKQuJZaZLAx8GrcZGdsH2uatfhnEG+oeZAyinsDf6x4xg=='
                class='apbct-email-encoder'
                title='This contact has been encoded by Anti-Spam by CleanTalk. Click to decode. To finish the decoding make sure that JavaScript is enabled in your browser.'>10<span class="apbct-blur">****************************</span>@<span class="apbct-blur">***************</span>wi.us</span>
SUMMARY:NO SCHOOL - Staff Professional Development
DESCRIPTION:
URL:https://www.milton.k12.wi.us/event/no-school-staff-professional-development/2024-11-25/
CATEGORIES:District
END:VEVENT
BEGIN:VEVENT
DTSTART;VALUE=DATE:20241125
DTEND;VALUE=DATE:20241126
DTSTAMP:20260424T022554
CREATED:20241113T193819Z
LAST-MODIFIED:20241125T202245Z
UID:<span 
                data-original-string='kNIYhalvB0e6saEgk35dhA==386wi3Xu9yYEoDC3AsHzYIukspAQict7ZR/Ven931yh6tKahshAvNAb2uu3J8h4WKQ8KKCSmsJ2iAmwcRHhSKrM7g=='
                class='apbct-email-encoder'
                title='This contact has been encoded by Anti-Spam by CleanTalk. Click to decode. To finish the decoding make sure that JavaScript is enabled in your browser.'>10<span class="apbct-blur">****************************</span>@<span class="apbct-blur">***************</span>wi.us</span>
SUMMARY:NO SCHOOL - Staff PD Day
DESCRIPTION:
URL:https://www.milton.k12.wi.us/event/no-school-staff-pd-day/
CATEGORIES:District
END:VEVENT
BEGIN:VEVENT
DTSTART;VALUE=DATE:20241125
DTEND;VALUE=DATE:20241130
DTSTAMP:20260424T022554
CREATED:20240822T004840Z
LAST-MODIFIED:20241129T221543Z
UID:<span 
                data-original-string='Cw1NuU3GpUwRPpWqMgtbsA==386RPDKnLI+rJ9VezpWuuhXrfQH4lrG2MbWXjEwynsiHfeEc1y4IBK1haky+DDTnMxWSJ6STl+WsF1ruPJ9uehRzQ=='
                class='apbct-email-encoder'
                title='This contact has been encoded by Anti-Spam by CleanTalk. Click to decode. To finish the decoding make sure that JavaScript is enabled in your browser.'>10<span class="apbct-blur">****************************</span>@<span class="apbct-blur">***************</span>wi.us</span>
SUMMARY:Thanksgiving Break/ No school
DESCRIPTION:
URL:https://www.milton.k12.wi.us/event/thanksgiving-break-no-school-7/
CATEGORIES:Milton West Elementary
END:VEVENT
BEGIN:VEVENT
DTSTART;VALUE=DATE:20241125
DTEND;VALUE=DATE:20241130
DTSTAMP:20260424T022554
CREATED:20241016T195500Z
LAST-MODIFIED:20241129T232653Z
UID:<span 
                data-original-string='u3srIfBs/Vsv3jpJVzautg==3868fT4aCexiazhu+eERdKgg7B8l+Ieb8oa9OtFP9hsY22NMR26gouwsfTwhU2ydHqv0Kz0RU9d2jTbQa6X4tuW6A=='
                class='apbct-email-encoder'
                title='This contact has been encoded by Anti-Spam by CleanTalk. Click to decode. To finish the decoding make sure that JavaScript is enabled in your browser.'>10<span class="apbct-blur">****************************</span>@<span class="apbct-blur">***************</span>wi.us</span>
SUMMARY:Thanksgiving Break: NO School
DESCRIPTION:
URL:https://www.milton.k12.wi.us/event/thanksgiving-break-no-school-17/
CATEGORIES:Northside Intermediate
END:VEVENT
BEGIN:VEVENT
DTSTART;TZID=America/Chicago:20241125T183000
DTEND;TZID=America/Chicago:20241125T203000
DTSTAMP:20260424T022554
CREATED:20240822T012951Z
LAST-MODIFIED:20241125T202246Z
UID:<span 
                data-original-string='oWDFdhd4SC6he5uYPOCR/A==386yEluPyBjswWu7hqrk5OAxMCloUlSAJdeZRngPttGEFUJEQCwGbZ2Aa6rFSdLKnbdpFqqlnyyC9YqVLnx44cCpg=='
                class='apbct-email-encoder'
                title='This contact has been encoded by Anti-Spam by CleanTalk. Click to decode. To finish the decoding make sure that JavaScript is enabled in your browser.'>10<span class="apbct-blur">****************************</span>@<span class="apbct-blur">***************</span>wi.us</span>
SUMMARY:School Board Meeting
DESCRIPTION:
URL:https://www.milton.k12.wi.us/event/school-board-meeting-7/
LOCATION:School District of Milton\, 448 E High St\, Milton\, WI\, United States
CATEGORIES:District
GEO:42.773036;-88.944404
X-APPLE-STRUCTURED-LOCATION;VALUE=URI;X-ADDRESS=School District of Milton 448 E High St Milton WI United States;X-APPLE-RADIUS=500;X-TITLE=448 E High St:geo:-88.944404,42.773036
END:VEVENT
BEGIN:VEVENT
DTSTART;VALUE=DATE:20241126
DTEND;VALUE=DATE:20241127
DTSTAMP:20260424T022554
CREATED:20240822T004638Z
LAST-MODIFIED:20241126T220032Z
UID:<span 
                data-original-string='WeGIefjImZZIlQ9TzBowfg==3867gOXjjClWMUYmKQttYCQ6zHiCkcEg4JRqmiOwcvJ+pazYw/KwBHO0KhcuSqvrkejor22uGczAOpPyxwN9YwIwg=='
                class='apbct-email-encoder'
                title='This contact has been encoded by Anti-Spam by CleanTalk. Click to decode. To finish the decoding make sure that JavaScript is enabled in your browser.'>10<span class="apbct-blur">****************************</span>@<span class="apbct-blur">***************</span>wi.us</span>
SUMMARY:Thanksgiving Break - No School
DESCRIPTION:
URL:https://www.milton.k12.wi.us/event/thanksgiving-break-no-school-3/
CATEGORIES:Milton High School
END:VEVENT
BEGIN:VEVENT
DTSTART;VALUE=DATE:20241126
DTEND;VALUE=DATE:20241130
DTSTAMP:20260424T022554
CREATED:20240822T004714Z
LAST-MODIFIED:20241129T233911Z
UID:<span 
                data-original-string='cj6900BxEA2fjjp4J0ITjg==386X1VcdNNFwCJ/or5thZDACRdjR5H4uFXfbbZqRwdH+M08sXvApbxVbqwL9FT6a2WOLhMCwp3xZMpINd+wK5nGlw=='
                class='apbct-email-encoder'
                title='This contact has been encoded by Anti-Spam by CleanTalk. Click to decode. To finish the decoding make sure that JavaScript is enabled in your browser.'>10<span class="apbct-blur">****************************</span>@<span class="apbct-blur">***************</span>wi.us</span>
SUMMARY:Thanksgiving Break/No School
DESCRIPTION:
URL:https://www.milton.k12.wi.us/event/thanksgiving-break-no-school-6/
CATEGORIES:Milton Middle School
END:VEVENT
BEGIN:VEVENT
DTSTART;VALUE=DATE:20241126
DTEND;VALUE=DATE:20241130
DTSTAMP:20260424T022554
CREATED:20240822T012926Z
LAST-MODIFIED:20241129T230852Z
UID:<span 
                data-original-string='AxQT5MVbZe43jwLroCSU7w==386CBruTxsGQY/mmrtzQmXyBTyc041pG+Yunlo/1t/M70QIIOnjsKSszmx36Ay2wle0wGMDR8/fb3n3U1Rq7WWdUA=='
                class='apbct-email-encoder'
                title='This contact has been encoded by Anti-Spam by CleanTalk. Click to decode. To finish the decoding make sure that JavaScript is enabled in your browser.'>10<span class="apbct-blur">****************************</span>@<span class="apbct-blur">***************</span>wi.us</span>
SUMMARY:Thanksgiving Break/No School
DESCRIPTION:
URL:https://www.milton.k12.wi.us/event/thanksgiving-break-no-school-2/
CATEGORIES:Consolidated
END:VEVENT
BEGIN:VEVENT
DTSTART;VALUE=DATE:20241126
DTEND;VALUE=DATE:20241130
DTSTAMP:20260424T022554
CREATED:20240829T170008Z
LAST-MODIFIED:20241129T222256Z
UID:<span 
                data-original-string='gxh71F3WdasW8xNbduDHJA==386Tg1Ph9U2fCQbj8nLcsnPZomVYuM3zRCj6gDalehoi/GcDNx1RZRGg70MaFFrwFPXTipSfHxSC/NNVGf2ky+laA=='
                class='apbct-email-encoder'
                title='This contact has been encoded by Anti-Spam by CleanTalk. Click to decode. To finish the decoding make sure that JavaScript is enabled in your browser.'>10<span class="apbct-blur">****************************</span>@<span class="apbct-blur">***************</span>wi.us</span>
SUMMARY:HES: Thanksgiving Break/ No School
DESCRIPTION:
URL:https://www.milton.k12.wi.us/event/hes-thanksgiving-break-no-school/
CATEGORIES:Harmony Elementary
END:VEVENT
BEGIN:VEVENT
DTSTART;VALUE=DATE:20241126
DTEND;VALUE=DATE:20241130
DTSTAMP:20260424T022554
CREATED:20241113T193820Z
LAST-MODIFIED:20241129T202237Z
UID:<span 
                data-original-string='IGgDtHZ8vQ55Yvs0WSagBg==386cfVsqrCeQO3JoRePTMq/yrx3XG5zhYdpSvCHDQPxJ1rwjk59YKFLumSXhUCZqMSnOazo15M8W+9voykl1iLUeg=='
                class='apbct-email-encoder'
                title='This contact has been encoded by Anti-Spam by CleanTalk. Click to decode. To finish the decoding make sure that JavaScript is enabled in your browser.'>10<span class="apbct-blur">****************************</span>@<span class="apbct-blur">***************</span>wi.us</span>
SUMMARY:Thanksgiving Break
DESCRIPTION:
URL:https://www.milton.k12.wi.us/event/thanksgiving-break/
CATEGORIES:District
END:VEVENT
BEGIN:VEVENT
DTSTART;VALUE=DATE:20241127
DTEND;VALUE=DATE:20241128
DTSTAMP:20260424T022554
CREATED:20240822T004637Z
LAST-MODIFIED:20241127T212609Z
UID:<span 
                data-original-string='SwAsdqpr9oombMEkqF8hJg==386TWz3/c7YnBUSkNL0M/1JvT6wII1GfrepT8biSx1GzQ6YmkcK9rRoTYLRgQoibmyQTITRu8bZs1+dIWXEIZA1mA=='
                class='apbct-email-encoder'
                title='This contact has been encoded by Anti-Spam by CleanTalk. Click to decode. To finish the decoding make sure that JavaScript is enabled in your browser.'>10<span class="apbct-blur">****************************</span>@<span class="apbct-blur">***************</span>wi.us</span>
SUMMARY:Thanksgiving Break - No School
DESCRIPTION:
URL:https://www.milton.k12.wi.us/event/thanksgiving-break-no-school/
CATEGORIES:Milton High School
END:VEVENT
BEGIN:VEVENT
DTSTART;VALUE=DATE:20241128
DTEND;VALUE=DATE:20241129
DTSTAMP:20260424T022554
CREATED:20240822T004638Z
LAST-MODIFIED:20241128T215703Z
UID:<span 
                data-original-string='E2UK5yWC4cX0udaeARtD3g==386pVMtvTChA9q7NTvmkQpMQR1bYnrc9pU5Nv1OfRj2UStG363cg8ededuDczeBBM7dcizBcmL3iptBMdduF3jn9Q=='
                class='apbct-email-encoder'
                title='This contact has been encoded by Anti-Spam by CleanTalk. Click to decode. To finish the decoding make sure that JavaScript is enabled in your browser.'>10<span class="apbct-blur">****************************</span>@<span class="apbct-blur">***************</span>wi.us</span>
SUMMARY:Thanksgiving Break - No School
DESCRIPTION:
URL:https://www.milton.k12.wi.us/event/thanksgiving-break-no-school-4/
CATEGORIES:Milton High School
END:VEVENT
BEGIN:VEVENT
DTSTART;VALUE=DATE:20241129
DTEND;VALUE=DATE:20241130
DTSTAMP:20260424T022554
CREATED:20240822T004639Z
LAST-MODIFIED:20241129T215250Z
UID:<span 
                data-original-string='fwMHGft/ryonWcvFg7+S5w==386g2tjlrcA3AB2lnlpfjbtRAkm4R1QN6AhFtOR59z66003EcRBUJv4OUywz6SNZfKw7p25L321dIF6aFkHzAENmg=='
                class='apbct-email-encoder'
                title='This contact has been encoded by Anti-Spam by CleanTalk. Click to decode. To finish the decoding make sure that JavaScript is enabled in your browser.'>10<span class="apbct-blur">****************************</span>@<span class="apbct-blur">***************</span>wi.us</span>
SUMMARY:Thanksgiving Break - No School
DESCRIPTION:
URL:https://www.milton.k12.wi.us/event/thanksgiving-break-no-school-5/
CATEGORIES:Milton High School
END:VEVENT
BEGIN:VEVENT
DTSTART;VALUE=DATE:20241202
DTEND;VALUE=DATE:20241203
DTSTAMP:20260424T022554
CREATED:20241016T193822Z
LAST-MODIFIED:20241202T235238Z
UID:<span 
                data-original-string='D4XY+LHMQukfHGCoVtbNqg==386dwZm2aXFskwB+bx+t+bcpe9KcgGdf0jxOwNhmdd1luNx4wtO1JEGqU+/JBXQv9ssfMNZWAdvcP88+q/06m7diA=='
                class='apbct-email-encoder'
                title='This contact has been encoded by Anti-Spam by CleanTalk. Click to decode. To finish the decoding make sure that JavaScript is enabled in your browser.'>10<span class="apbct-blur">****************************</span>@<span class="apbct-blur">***************</span>wi.us</span>
SUMMARY:Day 3
DESCRIPTION:
URL:https://www.milton.k12.wi.us/event/day-3-10/
CATEGORIES:Northside Intermediate
END:VEVENT
END:VCALENDAR