BEGIN:VCALENDAR
VERSION:2.0
PRODID:-//School District of Milton - ECPv6.15.20//NONSGML v1.0//EN
CALSCALE:GREGORIAN
METHOD:PUBLISH
X-WR-CALNAME:School District of Milton
X-ORIGINAL-URL:https://www.milton.k12.wi.us
X-WR-CALDESC:Events for School District of Milton
REFRESH-INTERVAL;VALUE=DURATION:PT1H
X-Robots-Tag:noindex
X-PUBLISHED-TTL:PT1H
BEGIN:VTIMEZONE
TZID:America/Chicago
BEGIN:DAYLIGHT
TZOFFSETFROM:-0600
TZOFFSETTO:-0500
TZNAME:CDT
DTSTART:20240310T080000
END:DAYLIGHT
BEGIN:STANDARD
TZOFFSETFROM:-0500
TZOFFSETTO:-0600
TZNAME:CST
DTSTART:20241103T070000
END:STANDARD
BEGIN:DAYLIGHT
TZOFFSETFROM:-0600
TZOFFSETTO:-0500
TZNAME:CDT
DTSTART:20250309T080000
END:DAYLIGHT
BEGIN:STANDARD
TZOFFSETFROM:-0500
TZOFFSETTO:-0600
TZNAME:CST
DTSTART:20251102T070000
END:STANDARD
BEGIN:DAYLIGHT
TZOFFSETFROM:-0600
TZOFFSETTO:-0500
TZNAME:CDT
DTSTART:20260308T080000
END:DAYLIGHT
BEGIN:STANDARD
TZOFFSETFROM:-0500
TZOFFSETTO:-0600
TZNAME:CST
DTSTART:20261101T070000
END:STANDARD
END:VTIMEZONE
BEGIN:VEVENT
DTSTART;VALUE=DATE:20251008
DTEND;VALUE=DATE:20251009
DTSTAMP:20260424T135050
CREATED:20250812T203752Z
LAST-MODIFIED:20251008T215255Z
UID:<span 
                data-original-string='aYoUn3Pq4jvSJhEFqUNTnA==386yBgUoL+2Nfxb+vYXtLfzLowZiI/MdMflf/8TsH5GwRBzyBIuxj8R+8tWTmBPW6rmlyoohnqljd3DBqVb/I5row=='
                class='apbct-email-encoder'
                title='This contact has been encoded by Anti-Spam by CleanTalk. Click to decode. To finish the decoding make sure that JavaScript is enabled in your browser.'>10<span class="apbct-blur">****************************</span>@<span class="apbct-blur">***************</span>wi.us</span>
SUMMARY:Picture Retakes
DESCRIPTION:
URL:https://www.milton.k12.wi.us/event/picture-retakes/
CATEGORIES:Milton High School
END:VEVENT
BEGIN:VEVENT
DTSTART;VALUE=DATE:20251008
DTEND;VALUE=DATE:20251009
DTSTAMP:20260424T135050
CREATED:20250925T133846Z
LAST-MODIFIED:20251008T213746Z
UID:<span 
                data-original-string='Zxqouz2YGglT9XIxBsG5vA==386+SZki8Lekyc3Qb/4MaDTAriVc7MOIvMfYeVURQfyWYyT5XNvn6M2HpJgopbHyViBaMG+UfghzqDyE2nIyc+arQ=='
                class='apbct-email-encoder'
                title='This contact has been encoded by Anti-Spam by CleanTalk. Click to decode. To finish the decoding make sure that JavaScript is enabled in your browser.'>10<span class="apbct-blur">****************************</span>@<span class="apbct-blur">***************</span>wi.us</span>
SUMMARY:DAY 2
DESCRIPTION:
URL:https://www.milton.k12.wi.us/event/day-2-30/
CATEGORIES:Northside Intermediate
END:VEVENT
BEGIN:VEVENT
DTSTART;VALUE=DATE:20251009
DTEND;VALUE=DATE:20251010
DTSTAMP:20260424T135050
CREATED:20250925T133846Z
LAST-MODIFIED:20251009T213743Z
UID:<span 
                data-original-string='am/xnUvpIW3If9+ijrgRMA==3861VVHAwvr4WmxaHl3F1imWI5Zaq4m/n+mYirLhjZfsarHccz9GqxN+GSt1jdRfvM1wueDkawIYCm2VFatFKuvDg=='
                class='apbct-email-encoder'
                title='This contact has been encoded by Anti-Spam by CleanTalk. Click to decode. To finish the decoding make sure that JavaScript is enabled in your browser.'>10<span class="apbct-blur">****************************</span>@<span class="apbct-blur">***************</span>wi.us</span>
SUMMARY:DAY 3
DESCRIPTION:
URL:https://www.milton.k12.wi.us/event/day-3-31/
CATEGORIES:Northside Intermediate
END:VEVENT
BEGIN:VEVENT
DTSTART;TZID=America/Chicago:20251009T105000
DTEND;TZID=America/Chicago:20251009T123000
DTSTAMP:20260424T135050
CREATED:20250812T203753Z
LAST-MODIFIED:20251008T164145Z
UID:<span 
                data-original-string='rZ9XReAKzplPbzRNcO596A==386lLFw+81A1GkNUJz/VTnwuVdT8LCaVzFHnxWfomVhNbx5CNGpGpMrGFsYMEXdGc23Nnh3MgqddEM0G0TMfhesZA=='
                class='apbct-email-encoder'
                title='This contact has been encoded by Anti-Spam by CleanTalk. Click to decode. To finish the decoding make sure that JavaScript is enabled in your browser.'>10<span class="apbct-blur">****************************</span>@<span class="apbct-blur">***************</span>wi.us</span>
SUMMARY:Jostens: Sophomore Class Ring orders due
DESCRIPTION:
URL:https://www.milton.k12.wi.us/event/jostens-sophomore-class-ring-orders-due/
CATEGORIES:Milton High School
END:VEVENT
BEGIN:VEVENT
DTSTART;TZID=America/Chicago:20251009T105000
DTEND;TZID=America/Chicago:20251009T123000
DTSTAMP:20260424T135050
CREATED:20250812T203754Z
LAST-MODIFIED:20251008T164146Z
UID:<span 
                data-original-string='cwlTb5EaE19jKLAfDrth9g==386bnEWxLxXGOAbrMX9L0BrKc7ovHlJffaqxmSFoNffqlQNGRYXC76aVKYlG7W+Q+AP4gz2+Q0tZPSD/YC38kdBig=='
                class='apbct-email-encoder'
                title='This contact has been encoded by Anti-Spam by CleanTalk. Click to decode. To finish the decoding make sure that JavaScript is enabled in your browser.'>10<span class="apbct-blur">****************************</span>@<span class="apbct-blur">***************</span>wi.us</span>
SUMMARY:Jostens: Senior Cap & Gown orders due
DESCRIPTION:
URL:https://www.milton.k12.wi.us/event/jostens-senior-cap-gown-orders-due/
CATEGORIES:Milton High School
END:VEVENT
BEGIN:VEVENT
DTSTART;VALUE=DATE:20251010
DTEND;VALUE=DATE:20251011
DTSTAMP:20260424T135050
CREATED:20250925T133911Z
LAST-MODIFIED:20251010T213749Z
UID:<span 
                data-original-string='+/XQCeV765mMeN0V2pUrNw==386xED4kYK7LZPab3598hUAmcH7yGLh5UpiDiGdoQYqQ4bsAbsLBjjWhhGpibP4Doyurvct9P6hxVD9JQxZxsti2A=='
                class='apbct-email-encoder'
                title='This contact has been encoded by Anti-Spam by CleanTalk. Click to decode. To finish the decoding make sure that JavaScript is enabled in your browser.'>10<span class="apbct-blur">****************************</span>@<span class="apbct-blur">***************</span>wi.us</span>
SUMMARY:DAY 4
DESCRIPTION:
URL:https://www.milton.k12.wi.us/event/day-4-31/
CATEGORIES:Northside Intermediate
END:VEVENT
BEGIN:VEVENT
DTSTART;TZID=America/Chicago:20251010T170000
DTEND;TZID=America/Chicago:20251010T190000
DTSTAMP:20260424T135050
CREATED:20250813T183901Z
LAST-MODIFIED:20251010T225226Z
UID:<span 
                data-original-string='1pnOdjHl0fl4bvS0ZAJ7rA==386WgNbX0u3nkGaJhzWcAenQ0MHSr9IzzyTHIj5gHJqjNcu0HrX5fmx7+7NLokZDzvxHP8GVx1xgWhLYAfK4BO2dg=='
                class='apbct-email-encoder'
                title='This contact has been encoded by Anti-Spam by CleanTalk. Click to decode. To finish the decoding make sure that JavaScript is enabled in your browser.'>10<span class="apbct-blur">****************************</span>@<span class="apbct-blur">***************</span>wi.us</span>
SUMMARY:Dance/Activity Night
DESCRIPTION:
URL:https://www.milton.k12.wi.us/event/dance-activity-night/
CATEGORIES:Milton Middle School
END:VEVENT
BEGIN:VEVENT
DTSTART;VALUE=DATE:20251013
DTEND;VALUE=DATE:20251014
DTSTAMP:20260424T135050
CREATED:20250925T133912Z
LAST-MODIFIED:20251013T213738Z
UID:<span 
                data-original-string='D36IQpSaYDSVZrbpJeHDXQ==386lMX656zcPQhNy1itayKifvmQgZfT8DNKcrWw0pkrYrqJEfV1bn9a4diRaSUkpx+vXaIIpXeQf6xvaz/RM+hdzA=='
                class='apbct-email-encoder'
                title='This contact has been encoded by Anti-Spam by CleanTalk. Click to decode. To finish the decoding make sure that JavaScript is enabled in your browser.'>10<span class="apbct-blur">****************************</span>@<span class="apbct-blur">***************</span>wi.us</span>
SUMMARY:DAY 5
DESCRIPTION:
URL:https://www.milton.k12.wi.us/event/day-5-30/
CATEGORIES:Northside Intermediate
END:VEVENT
BEGIN:VEVENT
DTSTART;TZID=America/Chicago:20251013T143500
DTEND;TZID=America/Chicago:20251013T153500
DTSTAMP:20260424T135050
CREATED:20240822T012936Z
LAST-MODIFIED:20251013T202302Z
UID:<span 
                data-original-string='QBX5lFAZJEhInK99/i1gvg==386MIV1wsmFpdBh2V9SabyNnTCse79E3GKrnPOZ34/FzF/HQkgf6Psq/ApLovMINFZwEGR7jmF3Zh2vTTeDO74sbg=='
                class='apbct-email-encoder'
                title='This contact has been encoded by Anti-Spam by CleanTalk. Click to decode. To finish the decoding make sure that JavaScript is enabled in your browser.'>10<span class="apbct-blur">****************************</span>@<span class="apbct-blur">***************</span>wi.us</span>
SUMMARY:Early Release -
DESCRIPTION:
URL:https://www.milton.k12.wi.us/event/early-release-50/
CATEGORIES:Consolidated
END:VEVENT
BEGIN:VEVENT
DTSTART;TZID=America/Chicago:20251013T183000
DTEND;TZID=America/Chicago:20251013T203000
DTSTAMP:20260424T135050
CREATED:20240822T012956Z
LAST-MODIFIED:20251013T235228Z
UID:<span 
                data-original-string='fyEFSHv3avuo5AFZb4JMTg==386m/nG6tIEX1D93qRsnfX1fxcp7Z0OzwDOSUmN1/msdhgEJmns/sGG/5Agg7yOcGkAQUnLqdePreBZeO+844SOcA=='
                class='apbct-email-encoder'
                title='This contact has been encoded by Anti-Spam by CleanTalk. Click to decode. To finish the decoding make sure that JavaScript is enabled in your browser.'>10<span class="apbct-blur">****************************</span>@<span class="apbct-blur">***************</span>wi.us</span>
SUMMARY:School Board Meeting
DESCRIPTION:
URL:https://www.milton.k12.wi.us/event/school-board-meeting-32/
CATEGORIES:District
END:VEVENT
BEGIN:VEVENT
DTSTART;VALUE=DATE:20251014
DTEND;VALUE=DATE:20251015
DTSTAMP:20260424T135050
CREATED:20250925T133912Z
LAST-MODIFIED:20251014T213757Z
UID:<span 
                data-original-string='Gby+rxb3yAp8JAAKs0g9Nw==386vVpETesSe3XvHQHXF3m9D41CiSC8EqII2DsCcg24N4q/As0i7dEwTlD9ZGDxPOQxqJIJgu3/xPWBxut3UY2kXg=='
                class='apbct-email-encoder'
                title='This contact has been encoded by Anti-Spam by CleanTalk. Click to decode. To finish the decoding make sure that JavaScript is enabled in your browser.'>10<span class="apbct-blur">****************************</span>@<span class="apbct-blur">***************</span>wi.us</span>
SUMMARY:DAY 6
DESCRIPTION:
URL:https://www.milton.k12.wi.us/event/day-6-31/
CATEGORIES:Northside Intermediate
END:VEVENT
BEGIN:VEVENT
DTSTART;TZID=America/Chicago:20251014T073000
DTEND;TZID=America/Chicago:20251014T123000
DTSTAMP:20260424T135050
CREATED:20250904T212259Z
LAST-MODIFIED:20251014T163845Z
UID:<span 
                data-original-string='vUYGqzDDbMpvN/cEK8qm0Q==386On70oxMUGJFFtBwxqHRjOJrFvj99q6nhRDZBW/fLX5A8g4NBEaiVa/t79utYdyyHpkE+yU4ekcac8aZ/HSLeWw=='
                class='apbct-email-encoder'
                title='This contact has been encoded by Anti-Spam by CleanTalk. Click to decode. To finish the decoding make sure that JavaScript is enabled in your browser.'>10<span class="apbct-blur">****************************</span>@<span class="apbct-blur">***************</span>wi.us</span>
SUMMARY:PreACT Fall Assessments for 9\,10 & 11th graders
DESCRIPTION:
URL:https://www.milton.k12.wi.us/event/preact-fall-assessments-for-910-11th-graders/
CATEGORIES:Milton High School
END:VEVENT
BEGIN:VEVENT
DTSTART;TZID=America/Chicago:20251014T090000
DTEND;TZID=America/Chicago:20251014T130000
DTSTAMP:20260424T135050
CREATED:20250825T070843Z
LAST-MODIFIED:20251014T174012Z
UID:<span 
                data-original-string='Zw4XI00PUtyxVe1mPxHO3A==386ESR9/Wq2XY4wp3b9VcaXvoDSKG1qqqzwAG9x6/ksEl3ohoQpVURzYyFEx2hEvvUiP9S0sar7S2oK8fBvJ2Kjxw=='
                class='apbct-email-encoder'
                title='This contact has been encoded by Anti-Spam by CleanTalk. Click to decode. To finish the decoding make sure that JavaScript is enabled in your browser.'>10<span class="apbct-blur">****************************</span>@<span class="apbct-blur">***************</span>wi.us</span>
SUMMARY:HES: Picture Re-Take Day
DESCRIPTION:
URL:https://www.milton.k12.wi.us/event/hes-picture-re-take-day/
CATEGORIES:Harmony Elementary
END:VEVENT
BEGIN:VEVENT
DTSTART;TZID=America/Chicago:20251014T183000
DTEND;TZID=America/Chicago:20251014T193000
DTSTAMP:20260424T135050
CREATED:20240822T012936Z
LAST-MODIFIED:20251014T222309Z
UID:<span 
                data-original-string='HtEbernzDSPhydPlXm8cpA==386GAoX1sXzZp8pNvaoT8R73yFgmJnUD1rKtT8hJ6O9y2tg3OlYPN5RZ5f4wEgPL1R5ZKoFWBoSXj/WIbwuHof/iQ=='
                class='apbct-email-encoder'
                title='This contact has been encoded by Anti-Spam by CleanTalk. Click to decode. To finish the decoding make sure that JavaScript is enabled in your browser.'>10<span class="apbct-blur">****************************</span>@<span class="apbct-blur">***************</span>wi.us</span>
SUMMARY:CES - PIE Meeting
DESCRIPTION:
URL:https://www.milton.k12.wi.us/event/pie-meeting-14/
CATEGORIES:Consolidated
END:VEVENT
BEGIN:VEVENT
DTSTART;VALUE=DATE:20251015
DTEND;VALUE=DATE:20251016
DTSTAMP:20260424T135050
CREATED:20250925T133913Z
LAST-MODIFIED:20251015T213749Z
UID:<span 
                data-original-string='YXAE/2aoaUsQNy+7XDF2Bw==3864sqNCcEZKiF/951gWVhEVswRDJGDv6RZfFc0j7I/7iHKIMAz3wHOpDKGfBtfh9wcsmzNGJzlOxfA8Cdmtt/Yrg=='
                class='apbct-email-encoder'
                title='This contact has been encoded by Anti-Spam by CleanTalk. Click to decode. To finish the decoding make sure that JavaScript is enabled in your browser.'>10<span class="apbct-blur">****************************</span>@<span class="apbct-blur">***************</span>wi.us</span>
SUMMARY:DAY 1
DESCRIPTION:
URL:https://www.milton.k12.wi.us/event/day-1-33/
CATEGORIES:Northside Intermediate
END:VEVENT
BEGIN:VEVENT
DTSTART;TZID=America/Chicago:20251015T153000
DTEND;TZID=America/Chicago:20251015T193000
DTSTAMP:20260424T135050
CREATED:20250616T130757Z
LAST-MODIFIED:20251015T215229Z
UID:<span 
                data-original-string='Qf8bTz1xLTf0gjT8uMGGEA==386uabYIiaM+SDM4m69RJRleQhjnURO5Sf3iemiYf8w18u1fQbbH2cTE/ftgx2nQ1K695PUtl64b3btfSvvm+XhwA=='
                class='apbct-email-encoder'
                title='This contact has been encoded by Anti-Spam by CleanTalk. Click to decode. To finish the decoding make sure that JavaScript is enabled in your browser.'>10<span class="apbct-blur">****************************</span>@<span class="apbct-blur">***************</span>wi.us</span>
SUMMARY:Parent Teacher Conferences
DESCRIPTION:
URL:https://www.milton.k12.wi.us/event/parent-teacher-conferences-34/
CATEGORIES:Milton High School
END:VEVENT
BEGIN:VEVENT
DTSTART;TZID=America/Chicago:20251015T180000
DTEND;TZID=America/Chicago:20251015T190000
DTSTAMP:20260424T135050
CREATED:20250616T130758Z
LAST-MODIFIED:20251015T215229Z
UID:<span 
                data-original-string='dbbBBBmhvRDekLG2rAnCnw==386m8C9kKicBodQRnPJnBFbDwn2JhENkaAMScVaumfSb2EYj3a2Kie7BQNP7zZiz5XLmVUF2DUL+WuqyRcYCp2iNA=='
                class='apbct-email-encoder'
                title='This contact has been encoded by Anti-Spam by CleanTalk. Click to decode. To finish the decoding make sure that JavaScript is enabled in your browser.'>10<span class="apbct-blur">****************************</span>@<span class="apbct-blur">***************</span>wi.us</span>
SUMMARY:Scholarship and Financial Aid Meeting
DESCRIPTION:
URL:https://www.milton.k12.wi.us/event/scholarship-and-financial-aid-meeting/
CATEGORIES:Milton High School
END:VEVENT
BEGIN:VEVENT
DTSTART;VALUE=DATE:20251016
DTEND;VALUE=DATE:20251017
DTSTAMP:20260424T135050
CREATED:20250925T133914Z
LAST-MODIFIED:20251016T213740Z
UID:<span 
                data-original-string='02SXvCkQ87dKYMntI6PCMA==386O50pbtEhasepARnc1cRwwmwNv0kQWT0jFGBNObN28nfBX9vFxFaHnCN0k3ZU4jRFqvrmlsOwvFjDXwBeCtNvig=='
                class='apbct-email-encoder'
                title='This contact has been encoded by Anti-Spam by CleanTalk. Click to decode. To finish the decoding make sure that JavaScript is enabled in your browser.'>10<span class="apbct-blur">****************************</span>@<span class="apbct-blur">***************</span>wi.us</span>
SUMMARY:DAY 2
DESCRIPTION:
URL:https://www.milton.k12.wi.us/event/day-2-31/
CATEGORIES:Northside Intermediate
END:VEVENT
BEGIN:VEVENT
DTSTART;TZID=America/Chicago:20251016T173000
DTEND;TZID=America/Chicago:20251016T183000
DTSTAMP:20260424T135050
CREATED:20250813T183906Z
LAST-MODIFIED:20251016T225225Z
UID:<span 
                data-original-string='syjkESky7H1M4zbFQ05esg==386cgj6AOxEF495XGEeqiuK772Luu9RGKLzqQBQ1XnUUz1YHfK7cQM1FPNkg+uwylqyR3n90+3L04dwjKg7ETzzvQ=='
                class='apbct-email-encoder'
                title='This contact has been encoded by Anti-Spam by CleanTalk. Click to decode. To finish the decoding make sure that JavaScript is enabled in your browser.'>10<span class="apbct-blur">****************************</span>@<span class="apbct-blur">***************</span>wi.us</span>
SUMMARY:Parent Group Meeting
DESCRIPTION:
URL:https://www.milton.k12.wi.us/event/parent-group-meeting-11/
LOCATION:MMS Cafeteria
CATEGORIES:Milton Middle School
END:VEVENT
BEGIN:VEVENT
DTSTART;VALUE=DATE:20251017
DTEND;VALUE=DATE:20251018
DTSTAMP:20260424T135050
CREATED:20250925T133915Z
LAST-MODIFIED:20251017T213742Z
UID:<span 
                data-original-string='/+vLY4meYepZYE63iE/pjg==386MD6apttKuMO8SwKugVKA9TIWgZ9ylyP0+Zkt812X6yTLGqbjWdnH8FBPkdTNXZFshD8JaacJx8iJZ3oZUM3G2g=='
                class='apbct-email-encoder'
                title='This contact has been encoded by Anti-Spam by CleanTalk. Click to decode. To finish the decoding make sure that JavaScript is enabled in your browser.'>10<span class="apbct-blur">****************************</span>@<span class="apbct-blur">***************</span>wi.us</span>
SUMMARY:DAY 3
DESCRIPTION:
URL:https://www.milton.k12.wi.us/event/day-3-32/
CATEGORIES:Northside Intermediate
END:VEVENT
BEGIN:VEVENT
DTSTART;TZID=America/Chicago:20251017T173000
DTEND;TZID=America/Chicago:20251017T190000
DTSTAMP:20260424T135050
CREATED:20250908T222229Z
LAST-MODIFIED:20251017T233742Z
UID:<span 
                data-original-string='XPneo1bd8gDzgMhW1skUfw==386HpY4BW7Q+yTpV2/453iuMc12aruDwfeA06lKQHd8Du+KWvIlak21lz3QV2dM1fAAnv6gvhJcMsOvdo5cjWiwzQ=='
                class='apbct-email-encoder'
                title='This contact has been encoded by Anti-Spam by CleanTalk. Click to decode. To finish the decoding make sure that JavaScript is enabled in your browser.'>10<span class="apbct-blur">****************************</span>@<span class="apbct-blur">***************</span>wi.us</span>
SUMMARY:PAWS Halloween Dance
DESCRIPTION:
URL:https://www.milton.k12.wi.us/event/paws-halloween-dance/
CATEGORIES:Milton West Elementary
END:VEVENT
BEGIN:VEVENT
DTSTART;TZID=America/Chicago:20251019T130000
DTEND;TZID=America/Chicago:20251019T150000
DTSTAMP:20260424T135050
CREATED:20250910T155237Z
LAST-MODIFIED:20251019T170728Z
UID:<span 
                data-original-string='SJ3yeF8IqiW0ReWsZVw2QQ==386Qwru02A3UVNdXPvpF9zQPJtodPbv9c145DmhW5R92erTs2vtux9i7/oVgrXm4RQq20gdT/LJvZtgKGPjmB+hSw=='
                class='apbct-email-encoder'
                title='This contact has been encoded by Anti-Spam by CleanTalk. Click to decode. To finish the decoding make sure that JavaScript is enabled in your browser.'>10<span class="apbct-blur">****************************</span>@<span class="apbct-blur">***************</span>wi.us</span>
SUMMARY:CES - PIE Halloween Party
DESCRIPTION:
URL:https://www.milton.k12.wi.us/event/ces-pie-halloween-party/
CATEGORIES:Consolidated
END:VEVENT
BEGIN:VEVENT
DTSTART;VALUE=DATE:20251020
DTEND;VALUE=DATE:20251021
DTSTAMP:20260424T135050
CREATED:20250925T133916Z
LAST-MODIFIED:20251020T205247Z
UID:<span 
                data-original-string='2flwStiKqSWWRgrtnm1flg==386x9UPuLTBIV2UNTB1trzglX9/P0mXIGh3RvAT2wOiQe8FumVqN++6SqylGmSjjFSnhbgIES+0vLmn4I1A9+20yA=='
                class='apbct-email-encoder'
                title='This contact has been encoded by Anti-Spam by CleanTalk. Click to decode. To finish the decoding make sure that JavaScript is enabled in your browser.'>10<span class="apbct-blur">****************************</span>@<span class="apbct-blur">***************</span>wi.us</span>
SUMMARY:DAY 4
DESCRIPTION:
URL:https://www.milton.k12.wi.us/event/day-4-32/
CATEGORIES:Northside Intermediate
END:VEVENT
BEGIN:VEVENT
DTSTART;TZID=America/Chicago:20251020T143500
DTEND;TZID=America/Chicago:20251020T153500
DTSTAMP:20260424T135050
CREATED:20240822T012936Z
LAST-MODIFIED:20251020T171139Z
UID:<span 
                data-original-string='VHGgfrrGX3eDHMXaO4E/Yw==386lO7q8QwDrwNv3M/0G9Y+mtD0noB6+OdCUNk+gFpoN9Tamm0Qws0P6bybSMRDv0d+SG9Kw0EQ2nzMlSPDkuqo7A=='
                class='apbct-email-encoder'
                title='This contact has been encoded by Anti-Spam by CleanTalk. Click to decode. To finish the decoding make sure that JavaScript is enabled in your browser.'>10<span class="apbct-blur">****************************</span>@<span class="apbct-blur">***************</span>wi.us</span>
SUMMARY:Early Release -
DESCRIPTION:
URL:https://www.milton.k12.wi.us/event/early-release-51/
CATEGORIES:Consolidated
END:VEVENT
BEGIN:VEVENT
DTSTART;TZID=America/Chicago:20251020T180000
DTEND;TZID=America/Chicago:20251020T180000
DTSTAMP:20260424T135050
CREATED:20250812T203812Z
LAST-MODIFIED:20251020T215231Z
UID:<span 
                data-original-string='IvXUyDeOEwUZicRrMQX8Mw==3868Xah2WoMR4zp6TDqYwpxxj/uOw6X1m5xtTBYO08sx+1n6LHlZciLLVDIoMwuWUljnDdVnJLRP1mSExdg501W+w=='
                class='apbct-email-encoder'
                title='This contact has been encoded by Anti-Spam by CleanTalk. Click to decode. To finish the decoding make sure that JavaScript is enabled in your browser.'>10<span class="apbct-blur">****************************</span>@<span class="apbct-blur">***************</span>wi.us</span>
SUMMARY:Fall Choir Concert - gr. 6-12
DESCRIPTION:
URL:https://www.milton.k12.wi.us/event/fall-choir-concert-gr-6-12/
CATEGORIES:Milton High School
END:VEVENT
BEGIN:VEVENT
DTSTART;TZID=America/Chicago:20251020T180000
DTEND;TZID=America/Chicago:20251020T190000
DTSTAMP:20260424T135050
CREATED:20250813T183908Z
LAST-MODIFIED:20251020T230731Z
UID:<span 
                data-original-string='vgkdNnQghNrrZvuoVD3FhQ==3869Ml6Le26ot517voaQy+t/NM79LhRRtTo5W5MNS3maJXVvW/4U4X0QfvPOnMV8Dc5VgDpY1qsYIy8Jea7XPjl8g=='
                class='apbct-email-encoder'
                title='This contact has been encoded by Anti-Spam by CleanTalk. Click to decode. To finish the decoding make sure that JavaScript is enabled in your browser.'>10<span class="apbct-blur">****************************</span>@<span class="apbct-blur">***************</span>wi.us</span>
SUMMARY:6-12 Fall Choir Concert
DESCRIPTION:
URL:https://www.milton.k12.wi.us/event/6-12-fall-choir-concert/
LOCATION:MHS PAC
CATEGORIES:Milton Middle School
END:VEVENT
BEGIN:VEVENT
DTSTART;TZID=America/Chicago:20251020T180000
DTEND;TZID=America/Chicago:20251020T190000
DTSTAMP:20260424T135050
CREATED:20250829T070800Z
LAST-MODIFIED:20251020T223730Z
UID:<span 
                data-original-string='ATjj8jwvm9B7ESWpJqwWSA==386XdsrQcibK+lHsHCT9ujcLo1NCO+EkMM4IaSKtuCf97o2FnbWg+8Hs34wwwtKB3Z/8TJ4myEhna+gy568zLt2Uw=='
                class='apbct-email-encoder'
                title='This contact has been encoded by Anti-Spam by CleanTalk. Click to decode. To finish the decoding make sure that JavaScript is enabled in your browser.'>10<span class="apbct-blur">****************************</span>@<span class="apbct-blur">***************</span>wi.us</span>
SUMMARY:HES: Team Harmony Meeting
DESCRIPTION:
URL:https://www.milton.k12.wi.us/event/hes-team-harmony-meeting-2/
CATEGORIES:Harmony Elementary
END:VEVENT
BEGIN:VEVENT
DTSTART;TZID=America/Chicago:20251020T180000
DTEND;TZID=America/Chicago:20251020T200000
DTSTAMP:20260424T135050
CREATED:20240917T180351Z
LAST-MODIFIED:20251020T235458Z
UID:<span 
                data-original-string='3nbaNIM2A/XGwvMVWEEOkg==386Z0AaUDLmkBrSExE+HltQQE/icVpwQx89pSZFUplkoMUfzD0pHCkP/n2qtKBQsgn0anDd5CyPBxk+SuQQA7VHWQ=='
                class='apbct-email-encoder'
                title='This contact has been encoded by Anti-Spam by CleanTalk. Click to decode. To finish the decoding make sure that JavaScript is enabled in your browser.'>10<span class="apbct-blur">****************************</span>@<span class="apbct-blur">***************</span>wi.us</span>
SUMMARY:PAWS mtg
DESCRIPTION:
URL:https://www.milton.k12.wi.us/event/paws-mtg-14/
CATEGORIES:Milton West Elementary
END:VEVENT
BEGIN:VEVENT
DTSTART;VALUE=DATE:20251021
DTEND;VALUE=DATE:20251022
DTSTAMP:20260424T135050
CREATED:20250925T133917Z
LAST-MODIFIED:20251021T213726Z
UID:<span 
                data-original-string='8L4rpJBYM+DKBqhg8Hs/CQ==386Yh7ioPSZ8w9uyftvQ/OY3fVss6amPPQ6Vu7MEqdsUr6cStDZ9bqRLgaNiNelvPTED8khRrmMCO8RtUyQ6QCvQA=='
                class='apbct-email-encoder'
                title='This contact has been encoded by Anti-Spam by CleanTalk. Click to decode. To finish the decoding make sure that JavaScript is enabled in your browser.'>10<span class="apbct-blur">****************************</span>@<span class="apbct-blur">***************</span>wi.us</span>
SUMMARY:DAY 5
DESCRIPTION:
URL:https://www.milton.k12.wi.us/event/day-5-31/
CATEGORIES:Northside Intermediate
END:VEVENT
BEGIN:VEVENT
DTSTART;TZID=America/Chicago:20251021T153000
DTEND;TZID=America/Chicago:20251021T193000
DTSTAMP:20260424T135050
CREATED:20250813T183911Z
LAST-MODIFIED:20251021T230833Z
UID:<span 
                data-original-string='VetBytKm8MzHWNhCyD+afQ==386bQFZLTqEcNBw917S4AEeO9lsJWBCrUoz1CCt8olAdR5maUkfipkKIb80QP1xeqPzf1sMZ49dctUgVmEYcAmhnA=='
                class='apbct-email-encoder'
                title='This contact has been encoded by Anti-Spam by CleanTalk. Click to decode. To finish the decoding make sure that JavaScript is enabled in your browser.'>10<span class="apbct-blur">****************************</span>@<span class="apbct-blur">***************</span>wi.us</span>
SUMMARY:Parent Teacher Conferences
DESCRIPTION:
URL:https://www.milton.k12.wi.us/event/parent-teacher-conferences-37/
LOCATION:Milton Middle School
CATEGORIES:Milton Middle School
END:VEVENT
END:VCALENDAR