BEGIN:VCALENDAR
VERSION:2.0
PRODID:-//School District of Milton - ECPv6.15.20//NONSGML v1.0//EN
CALSCALE:GREGORIAN
METHOD:PUBLISH
X-WR-CALNAME:School District of Milton
X-ORIGINAL-URL:https://www.milton.k12.wi.us
X-WR-CALDESC:Events for School District of Milton
REFRESH-INTERVAL;VALUE=DURATION:PT1H
X-Robots-Tag:noindex
X-PUBLISHED-TTL:PT1H
BEGIN:VTIMEZONE
TZID:America/Chicago
BEGIN:DAYLIGHT
TZOFFSETFROM:-0600
TZOFFSETTO:-0500
TZNAME:CDT
DTSTART:20230312T080000
END:DAYLIGHT
BEGIN:STANDARD
TZOFFSETFROM:-0500
TZOFFSETTO:-0600
TZNAME:CST
DTSTART:20231105T070000
END:STANDARD
BEGIN:DAYLIGHT
TZOFFSETFROM:-0600
TZOFFSETTO:-0500
TZNAME:CDT
DTSTART:20240310T080000
END:DAYLIGHT
BEGIN:STANDARD
TZOFFSETFROM:-0500
TZOFFSETTO:-0600
TZNAME:CST
DTSTART:20241103T070000
END:STANDARD
BEGIN:DAYLIGHT
TZOFFSETFROM:-0600
TZOFFSETTO:-0500
TZNAME:CDT
DTSTART:20250309T080000
END:DAYLIGHT
BEGIN:STANDARD
TZOFFSETFROM:-0500
TZOFFSETTO:-0600
TZNAME:CST
DTSTART:20251102T070000
END:STANDARD
END:VTIMEZONE
BEGIN:VEVENT
DTSTART;VALUE=DATE:20240920
DTEND;VALUE=DATE:20240921
DTSTAMP:20260424T175557
CREATED:20240824T110751Z
LAST-MODIFIED:20240920T212352Z
UID:<span 
                data-original-string='Uh9/TzQiqJ7cGYZoNVxAAg==386GcNnGqmorpZqy+NXeGjSFHDUN/iOUG28qzHM0TYoI//nLWasYlc3rM4cY+LCRG7wIvuy9DjgitOhzWSinkVewA=='
                class='apbct-email-encoder'
                title='This contact has been encoded by Anti-Spam by CleanTalk. Click to decode. To finish the decoding make sure that JavaScript is enabled in your browser.'>10<span class="apbct-blur">****************************</span>@<span class="apbct-blur">***************</span>wi.us</span>
SUMMARY:Day 2
DESCRIPTION:
URL:https://www.milton.k12.wi.us/event/day-2-3/
CATEGORIES:Northside Intermediate
END:VEVENT
BEGIN:VEVENT
DTSTART;TZID=America/Chicago:20240920T170000
DTEND;TZID=America/Chicago:20240920T190000
DTSTAMP:20260424T175557
CREATED:20240822T004707Z
LAST-MODIFIED:20240920T222411Z
UID:<span 
                data-original-string='FqA+jCyXzBxwB1HKpbPmIg==386y4lXmMCWPFeMRfAig3Jn4aoRrzSNgVvsMpAdYyUroBug/8oW3p0IFpVSBe15tSj9+uk2A+BCiZjVK90+m01NIw=='
                class='apbct-email-encoder'
                title='This contact has been encoded by Anti-Spam by CleanTalk. Click to decode. To finish the decoding make sure that JavaScript is enabled in your browser.'>10<span class="apbct-blur">****************************</span>@<span class="apbct-blur">***************</span>wi.us</span>
SUMMARY:MMS Rec Night
DESCRIPTION:
URL:https://www.milton.k12.wi.us/event/mms-rec-night/
LOCATION:MMS Gym
CATEGORIES:Milton Middle School
END:VEVENT
BEGIN:VEVENT
DTSTART;TZID=America/Chicago:20240920T173000
DTEND;TZID=America/Chicago:20240920T190000
DTSTAMP:20260424T175557
CREATED:20240829T165936Z
LAST-MODIFIED:20240920T212550Z
UID:<span 
                data-original-string='MIICi49AFCbenNcGBL9Xhw==386Z6SEijuiIoPY7InAGeF4Mnt7O8tCVjc2e3yILQyLtlna61adAuJjbXn0x+EqCOPeaJPu8EH+ZPocG0izKRvAIg=='
                class='apbct-email-encoder'
                title='This contact has been encoded by Anti-Spam by CleanTalk. Click to decode. To finish the decoding make sure that JavaScript is enabled in your browser.'>10<span class="apbct-blur">****************************</span>@<span class="apbct-blur">***************</span>wi.us</span>
SUMMARY:HES: Welcome Back Party
DESCRIPTION:
URL:https://www.milton.k12.wi.us/event/hes-welcome-back-party/
CATEGORIES:Harmony Elementary
END:VEVENT
BEGIN:VEVENT
DTSTART;TZID=America/Chicago:20240920T180000
DTEND;TZID=America/Chicago:20240920T190000
DTSTAMP:20260424T175557
CREATED:20240822T004835Z
LAST-MODIFIED:20240920T210728Z
UID:<span 
                data-original-string='D2Il3hrxHbmVn8Zh8VzsHA==386qUvdJT4BvmtUXDkb30E4+5kxainTpSnOURdnM4SWpKVT5d0o5iHLKmRIIHf3LxkTQyyHp1PPCODcW6GKq3IxwA=='
                class='apbct-email-encoder'
                title='This contact has been encoded by Anti-Spam by CleanTalk. Click to decode. To finish the decoding make sure that JavaScript is enabled in your browser.'>10<span class="apbct-blur">****************************</span>@<span class="apbct-blur">***************</span>wi.us</span>
SUMMARY:PAWS Family Fun Night: Color Run
DESCRIPTION:
URL:https://www.milton.k12.wi.us/event/paws-family-fun-night-color-run/
CATEGORIES:Milton West Elementary
END:VEVENT
BEGIN:VEVENT
DTSTART;VALUE=DATE:20240923
DTEND;VALUE=DATE:20240924
DTSTAMP:20260424T175557
CREATED:20240824T110751Z
LAST-MODIFIED:20240923T213751Z
UID:<span 
                data-original-string='L/YLOHRyoPRCeQWvvVyy5g==386acq93ACpG/vC0UlN2+PDt6qEsFjXGkwAzs+3Ryt0gRGGfXgGDznkBAiZU1zIdhCKvwPDru+Xqm49RZ0ehMqadA=='
                class='apbct-email-encoder'
                title='This contact has been encoded by Anti-Spam by CleanTalk. Click to decode. To finish the decoding make sure that JavaScript is enabled in your browser.'>10<span class="apbct-blur">****************************</span>@<span class="apbct-blur">***************</span>wi.us</span>
SUMMARY:Day 3
DESCRIPTION:
URL:https://www.milton.k12.wi.us/event/day-3-3/
CATEGORIES:Northside Intermediate
END:VEVENT
BEGIN:VEVENT
DTSTART;VALUE=DATE:20240923
DTEND;VALUE=DATE:20240924
DTSTAMP:20260424T175557
CREATED:20240917T180238Z
LAST-MODIFIED:20240923T205426Z
UID:<span 
                data-original-string='Eg66BdReIvRdRtZ6yF16QA==386gAP8hJ20aLyliSIDnr0zguDlKaQMUV9dZOMdfaekDJohOgiIga0+QBVe4h2/h/Fw6DKgK9xt/JkZBPkFnBsBug=='
                class='apbct-email-encoder'
                title='This contact has been encoded by Anti-Spam by CleanTalk. Click to decode. To finish the decoding make sure that JavaScript is enabled in your browser.'>10<span class="apbct-blur">****************************</span>@<span class="apbct-blur">***************</span>wi.us</span>
SUMMARY:Wisconsin Day: Wear Badger\,Packer Brewers\, Bucks Gear or Dress like a Wisconsin Farmer!
DESCRIPTION:
URL:https://www.milton.k12.wi.us/event/wisconsin-day-wear-badgerpacker-brewers-bucks-gear-or-dress-like-a-wisconsin-farmer/
CATEGORIES:Milton West Elementary
END:VEVENT
BEGIN:VEVENT
DTSTART;TZID=America/Chicago:20240923T143500
DTEND;TZID=America/Chicago:20240923T153500
DTSTAMP:20260424T175557
CREATED:20240822T012923Z
LAST-MODIFIED:20240923T195236Z
UID:<span 
                data-original-string='c603vGgA4y0iWnDe4OZytQ==386kjDMvbuCqpyMs9JJFDlIZwfeHeNb5CtFFctzqNKmvTOGbrlrtvcjhmvZoFGtt5JbEMKiZK6StdefC8mzTGQOww=='
                class='apbct-email-encoder'
                title='This contact has been encoded by Anti-Spam by CleanTalk. Click to decode. To finish the decoding make sure that JavaScript is enabled in your browser.'>10<span class="apbct-blur">****************************</span>@<span class="apbct-blur">***************</span>wi.us</span>
SUMMARY:Early Release -
DESCRIPTION:
URL:https://www.milton.k12.wi.us/event/early-release-3/
CATEGORIES:Consolidated
END:VEVENT
BEGIN:VEVENT
DTSTART;TZID=America/Chicago:20240923T143500
DTEND;TZID=America/Chicago:20240923T153500
DTSTAMP:20260424T175557
CREATED:20240909T203739Z
LAST-MODIFIED:20240923T201053Z
UID:<span 
                data-original-string='MNs56v/OHBpuGIzOhT/yDQ==386mD5FwNKlaAAbzPSEQB4JGCXIig6xyMKFeyHWlrV9NopKe+EK/PRPG7ID+q+4F4t/AMaQumRQ6AJ6laIfIakt8A=='
                class='apbct-email-encoder'
                title='This contact has been encoded by Anti-Spam by CleanTalk. Click to decode. To finish the decoding make sure that JavaScript is enabled in your browser.'>10<span class="apbct-blur">****************************</span>@<span class="apbct-blur">***************</span>wi.us</span>
SUMMARY:HES: Early Release
DESCRIPTION:
URL:https://www.milton.k12.wi.us/event/hes-early-release-2/
CATEGORIES:Harmony Elementary
END:VEVENT
BEGIN:VEVENT
DTSTART;TZID=America/Chicago:20240923T183000
DTEND;TZID=America/Chicago:20240923T203000
DTSTAMP:20260424T175557
CREATED:20240822T012951Z
LAST-MODIFIED:20240923T210054Z
UID:<span 
                data-original-string='cxkpQKgpC37X+6v+//09wA==386j7Gpct6N3aVm6vfPxojzX5mh8w8BESUB78d3GzvOoQ8tmzZEakLxjzRPAw5MqSA0ZG+pW+g8RFyyysnot6AL8g=='
                class='apbct-email-encoder'
                title='This contact has been encoded by Anti-Spam by CleanTalk. Click to decode. To finish the decoding make sure that JavaScript is enabled in your browser.'>10<span class="apbct-blur">****************************</span>@<span class="apbct-blur">***************</span>wi.us</span>
SUMMARY:School Board Meeting
DESCRIPTION:
URL:https://www.milton.k12.wi.us/event/school-board-meeting-3/
LOCATION:School District of Milton\, 448 E High St\, Milton\, WI\, United States
CATEGORIES:District
GEO:42.773036;-88.944404
X-APPLE-STRUCTURED-LOCATION;VALUE=URI;X-ADDRESS=School District of Milton 448 E High St Milton WI United States;X-APPLE-RADIUS=500;X-TITLE=448 E High St:geo:-88.944404,42.773036
END:VEVENT
BEGIN:VEVENT
DTSTART;VALUE=DATE:20240924
DTEND;VALUE=DATE:20240925
DTSTAMP:20260424T175557
CREATED:20240824T110751Z
LAST-MODIFIED:20240924T214900Z
UID:<span 
                data-original-string='8CwJpkxFVl8cHPW+LSFU1Q==386YsnubDv4V9QLjcDhiLN+FtwogKTJhNCIbukhHWZB3D3A71uPRqZEqCtYpiQ9F6NR0W8J8QlM5e5Emp1g87lHFA=='
                class='apbct-email-encoder'
                title='This contact has been encoded by Anti-Spam by CleanTalk. Click to decode. To finish the decoding make sure that JavaScript is enabled in your browser.'>10<span class="apbct-blur">****************************</span>@<span class="apbct-blur">***************</span>wi.us</span>
SUMMARY:Day 4
DESCRIPTION:
URL:https://www.milton.k12.wi.us/event/day-4-3/
CATEGORIES:Northside Intermediate
END:VEVENT
BEGIN:VEVENT
DTSTART;VALUE=DATE:20240924
DTEND;VALUE=DATE:20240925
DTSTAMP:20260424T175557
CREATED:20240829T165943Z
LAST-MODIFIED:20240924T212229Z
UID:<span 
                data-original-string='RrVdKVEYLF/z8zHu+M1Vog==386fYQUN0Ez5AE0EWeO+AdKuF8LSq1A0+yQYRgoIhyOUliRJ5wafMzdHIARR8qxOLvZn0uHOZ+Th34Il0NLyiJN4g=='
                class='apbct-email-encoder'
                title='This contact has been encoded by Anti-Spam by CleanTalk. Click to decode. To finish the decoding make sure that JavaScript is enabled in your browser.'>10<span class="apbct-blur">****************************</span>@<span class="apbct-blur">***************</span>wi.us</span>
SUMMARY:HES: Picture Day
DESCRIPTION:
URL:https://www.milton.k12.wi.us/event/hes-picture-day/
CATEGORIES:Harmony Elementary
END:VEVENT
BEGIN:VEVENT
DTSTART;VALUE=DATE:20240924
DTEND;VALUE=DATE:20240925
DTSTAMP:20260424T175557
CREATED:20240909T212341Z
LAST-MODIFIED:20240924T214248Z
UID:<span 
                data-original-string='/1k7kkbBvrZxrhTpytD6Bw==386akvevzENSfecllu2fmwO48AhZeQlp1okRmMFKgtlyEUAbACbBVB3kDjv2lZwYKD6SWTqWbmMOJhIaOkMHX0wTA=='
                class='apbct-email-encoder'
                title='This contact has been encoded by Anti-Spam by CleanTalk. Click to decode. To finish the decoding make sure that JavaScript is enabled in your browser.'>10<span class="apbct-blur">****************************</span>@<span class="apbct-blur">***************</span>wi.us</span>
SUMMARY:CES - Picture Day
DESCRIPTION:
URL:https://www.milton.k12.wi.us/event/ces-picture-day/
CATEGORIES:Consolidated
END:VEVENT
BEGIN:VEVENT
DTSTART;VALUE=DATE:20240924
DTEND;VALUE=DATE:20240925
DTSTAMP:20260424T175557
CREATED:20240917T180238Z
LAST-MODIFIED:20240924T205230Z
UID:<span 
                data-original-string='gaG+m5O0wwvNdvvj2t1oNQ==386SWogvvrNeCFhfT9q8ZUKj3Xv6R8TL7RNQIBBSBnCg0WGBDhnxnWeBnbt8jWX8QIWJeTl132F89LgmeQG/OtYgQ=='
                class='apbct-email-encoder'
                title='This contact has been encoded by Anti-Spam by CleanTalk. Click to decode. To finish the decoding make sure that JavaScript is enabled in your browser.'>10<span class="apbct-blur">****************************</span>@<span class="apbct-blur">***************</span>wi.us</span>
SUMMARY:Hawaiian Day: Wear your Hawaiian Gear!
DESCRIPTION:
URL:https://www.milton.k12.wi.us/event/hawaiian-day-wear-your-hawaiian-gear/
CATEGORIES:Milton West Elementary
END:VEVENT
BEGIN:VEVENT
DTSTART;TZID=America/Chicago:20240924T163000
DTEND;TZID=America/Chicago:20240924T193000
DTSTAMP:20260424T175557
CREATED:20240822T004445Z
LAST-MODIFIED:20240924T223828Z
UID:<span 
                data-original-string='r80pz+uR2yDUqypGiJMcDQ==386Az8+gD3H0o00WpCGrXYA+TWIbXE25s8sVRUWDLaA96Zz1BwL9OhU0DR2vsCRSdKahsfaculs5cWCvo/JgduVgg=='
                class='apbct-email-encoder'
                title='This contact has been encoded by Anti-Spam by CleanTalk. Click to decode. To finish the decoding make sure that JavaScript is enabled in your browser.'>10<span class="apbct-blur">****************************</span>@<span class="apbct-blur">***************</span>wi.us</span>
SUMMARY:EES:  Scoopie Night
DESCRIPTION:
URL:https://www.milton.k12.wi.us/event/ees-scoopie-night/
CATEGORIES:Milton East Elementary
END:VEVENT
BEGIN:VEVENT
DTSTART;VALUE=DATE:20240925
DTEND;VALUE=DATE:20240926
DTSTAMP:20260424T175557
CREATED:20240824T110751Z
LAST-MODIFIED:20240925T215226Z
UID:<span 
                data-original-string='A3vL092pPxvfxqCPAqCPPw==386LKPvd0V4HFOTlSzOPGMMeVfyeGgJY+UgiOwmfTw6Q4iGKQ8LGmqcDvVlHIWpa9o69k0FVPofrsin/mYzKlbCsA=='
                class='apbct-email-encoder'
                title='This contact has been encoded by Anti-Spam by CleanTalk. Click to decode. To finish the decoding make sure that JavaScript is enabled in your browser.'>10<span class="apbct-blur">****************************</span>@<span class="apbct-blur">***************</span>wi.us</span>
SUMMARY:Day 5
DESCRIPTION:
URL:https://www.milton.k12.wi.us/event/day-5-3/
CATEGORIES:Northside Intermediate
END:VEVENT
BEGIN:VEVENT
DTSTART;VALUE=DATE:20240925
DTEND;VALUE=DATE:20240926
DTSTAMP:20260424T175557
CREATED:20240917T180237Z
LAST-MODIFIED:20240925T205602Z
UID:<span 
                data-original-string='TqI7mgfbgpaGWsXiZgIsgw==386LoDtitxdQjtPpXJt2irKjzgYKggvahvmGBT2ClrtZUEeWffMSI0Suxz7D+4i6/9SH5xdu1VhQ6yA23IfZ1+VWg=='
                class='apbct-email-encoder'
                title='This contact has been encoded by Anti-Spam by CleanTalk. Click to decode. To finish the decoding make sure that JavaScript is enabled in your browser.'>10<span class="apbct-blur">****************************</span>@<span class="apbct-blur">***************</span>wi.us</span>
SUMMARY:Class Color Day: 4K wears purple\, Kindergarten wears orange\, First grade wears red\, Second grade wears green\, Third grade wears blue\, Staff wears Tie Dye!
DESCRIPTION:
URL:https://www.milton.k12.wi.us/event/class-color-day-4k-wears-purple-kindergarten-wears-orange-first-grade-wears-red-second-grade-wears-green-third-grade-wears-blue-staff-wears-tie-dye/
CATEGORIES:Milton West Elementary
END:VEVENT
BEGIN:VEVENT
DTSTART;TZID=America/Chicago:20240925T104500
DTEND;TZID=America/Chicago:20240925T123000
DTSTAMP:20260424T175557
CREATED:20240822T004626Z
LAST-MODIFIED:20240925T070725Z
UID:<span 
                data-original-string='ssVU0OoirX6KnvrmQ2BIwg==386n4/x+5b8iv46zUjUHO4yiw9MldfGF0K9Gxv3oYOuqtpQQGEkszVC7o871+CeKWKGDzIA1oYu9S0NCf6wA0RPDw=='
                class='apbct-email-encoder'
                title='This contact has been encoded by Anti-Spam by CleanTalk. Click to decode. To finish the decoding make sure that JavaScript is enabled in your browser.'>10<span class="apbct-blur">****************************</span>@<span class="apbct-blur">***************</span>wi.us</span>
SUMMARY:Sophomore Class Ring Orders Due During Both Lunches
DESCRIPTION:
URL:https://www.milton.k12.wi.us/event/sophomore-class-ring-orders-due-during-both-lunches/
CATEGORIES:Milton High School
END:VEVENT
BEGIN:VEVENT
DTSTART;VALUE=DATE:20240926
DTEND;VALUE=DATE:20240927
DTSTAMP:20260424T175557
CREATED:20240824T110752Z
LAST-MODIFIED:20240926T220036Z
UID:<span 
                data-original-string='5C3L2kE1XysyanyjCxtzDQ==386y/8/PcipFZSlHLIaTYhXnZp9BQba5ZjCxwpswzwIt8VuSKYHNLVXg9KxdJRbs3UrS1O4Igs2+JqRN4mKv5o6RA=='
                class='apbct-email-encoder'
                title='This contact has been encoded by Anti-Spam by CleanTalk. Click to decode. To finish the decoding make sure that JavaScript is enabled in your browser.'>10<span class="apbct-blur">****************************</span>@<span class="apbct-blur">***************</span>wi.us</span>
SUMMARY:Day 6
DESCRIPTION:
URL:https://www.milton.k12.wi.us/event/day-6-3/
CATEGORIES:Northside Intermediate
END:VEVENT
BEGIN:VEVENT
DTSTART;VALUE=DATE:20240926
DTEND;VALUE=DATE:20240927
DTSTAMP:20260424T175557
CREATED:20240917T180246Z
LAST-MODIFIED:20240926T205238Z
UID:<span 
                data-original-string='As12pem6UsZLo10Cq3hBHQ==386NB9EmaxAK6oIeceZUKhEmrki7I38f83JZ8CatjKheZdOXk8/eNCvycP20Q4zDdCC3/DWdW4wpF7rtzSex2Pi0Q=='
                class='apbct-email-encoder'
                title='This contact has been encoded by Anti-Spam by CleanTalk. Click to decode. To finish the decoding make sure that JavaScript is enabled in your browser.'>10<span class="apbct-blur">****************************</span>@<span class="apbct-blur">***************</span>wi.us</span>
SUMMARY:MisMatch Day: Polka dots and stripes\, socks and sandals; be creative
DESCRIPTION:
URL:https://www.milton.k12.wi.us/event/mismatch-day-polka-dots-and-stripes-socks-and-sandals-be-creative/
CATEGORIES:Milton West Elementary
END:VEVENT
BEGIN:VEVENT
DTSTART;TZID=America/Chicago:20240926T173000
DTEND;TZID=America/Chicago:20240926T183000
DTSTAMP:20260424T175557
CREATED:20240822T004708Z
LAST-MODIFIED:20240926T224034Z
UID:<span 
                data-original-string='WdfBInqFpxf//C6ZW0A3Fw==386yHgB4i6dc8Pt1zHI4ON/f47JkafM5NHAQ3OZHxMUPLwfZlPsck2F7YZdZZGkbWb/8BzwlHBzZvRVOoog3oMq9Q=='
                class='apbct-email-encoder'
                title='This contact has been encoded by Anti-Spam by CleanTalk. Click to decode. To finish the decoding make sure that JavaScript is enabled in your browser.'>10<span class="apbct-blur">****************************</span>@<span class="apbct-blur">***************</span>wi.us</span>
SUMMARY:MMS Parent Group Meeting
DESCRIPTION:
URL:https://www.milton.k12.wi.us/event/mms-parent-group-meeting-2/
CATEGORIES:Milton Middle School
END:VEVENT
BEGIN:VEVENT
DTSTART;TZID=America/Chicago:20240926T190000
DTEND;TZID=America/Chicago:20240926T210000
DTSTAMP:20260424T175557
CREATED:20240822T004627Z
LAST-MODIFIED:20240926T215233Z
UID:<span 
                data-original-string='cNR/Di9rOqDd1YVw/79o9w==386ZHwR1t4tm2EJ+Ugv28Fr4LBK1XrZTO88HVrys88P6A4xgYlh9HLTBqIQ8CZ2NiTjvOzlLC8GBGpxljrW5kpVXA=='
                class='apbct-email-encoder'
                title='This contact has been encoded by Anti-Spam by CleanTalk. Click to decode. To finish the decoding make sure that JavaScript is enabled in your browser.'>10<span class="apbct-blur">****************************</span>@<span class="apbct-blur">***************</span>wi.us</span>
SUMMARY:Wall of Honor Ceremony
DESCRIPTION:
URL:https://www.milton.k12.wi.us/event/wall-of-honor-ceremony/
CATEGORIES:Milton High School
END:VEVENT
BEGIN:VEVENT
DTSTART;VALUE=DATE:20240927
DTEND;VALUE=DATE:20240928
DTSTAMP:20260424T175557
CREATED:20240824T110752Z
LAST-MODIFIED:20240927T215248Z
UID:<span 
                data-original-string='TvIsW4AsW8opQVL4KzW0xg==3860zuIEnaVcEBWpALJa4yeBr8+qNtb1plB7prOSMdgoDTbs/2oU4DY7sbdRLjXlGzvb51c34Lzz1s9uv5I5RLdJA=='
                class='apbct-email-encoder'
                title='This contact has been encoded by Anti-Spam by CleanTalk. Click to decode. To finish the decoding make sure that JavaScript is enabled in your browser.'>10<span class="apbct-blur">****************************</span>@<span class="apbct-blur">***************</span>wi.us</span>
SUMMARY:Day 1
DESCRIPTION:
URL:https://www.milton.k12.wi.us/event/day-1-4/
CATEGORIES:Northside Intermediate
END:VEVENT
BEGIN:VEVENT
DTSTART;VALUE=DATE:20240927
DTEND;VALUE=DATE:20240928
DTSTAMP:20260424T175557
CREATED:20240917T180245Z
LAST-MODIFIED:20240927T205445Z
UID:<span 
                data-original-string='ta43KFiMEg+WCXiUnW9ObA==386or+D8Mrhh32SxzJX5KMpaicLssS+clL6unNPW+cEVWGY5Xv//XbdmHh6s9fmjK4q7WX8NAz7zbQFKQgb5Asdig=='
                class='apbct-email-encoder'
                title='This contact has been encoded by Anti-Spam by CleanTalk. Click to decode. To finish the decoding make sure that JavaScript is enabled in your browser.'>10<span class="apbct-blur">****************************</span>@<span class="apbct-blur">***************</span>wi.us</span>
SUMMARY:Red Hawk Day- Wear Milton clothes or Red\, White\, and Black for the Homecoming Parade!
DESCRIPTION:
URL:https://www.milton.k12.wi.us/event/red-hawk-day-wear-milton-clothes-or-red-white-and-black-for-the-homecoming-parade/
CATEGORIES:Milton West Elementary
END:VEVENT
BEGIN:VEVENT
DTSTART;TZID=America/Chicago:20240927T140000
DTEND;TZID=America/Chicago:20240927T140000
DTSTAMP:20260424T175557
CREATED:20240822T004627Z
LAST-MODIFIED:20240927T070751Z
UID:<span 
                data-original-string='h68J2j6FmhiBBzTOdQT4lQ==386v+UNSCrwfwNE4iTQTzrMkQzbDSnFYVWcXHGToH7JBge4FsUXr0YyFmNQMRRQW1nKmYH2Cyn6UMZyPRkDlm8qKQ=='
                class='apbct-email-encoder'
                title='This contact has been encoded by Anti-Spam by CleanTalk. Click to decode. To finish the decoding make sure that JavaScript is enabled in your browser.'>10<span class="apbct-blur">****************************</span>@<span class="apbct-blur">***************</span>wi.us</span>
SUMMARY:Homecoming Parade
DESCRIPTION:
URL:https://www.milton.k12.wi.us/event/homecoming-parade/
CATEGORIES:Milton High School
END:VEVENT
BEGIN:VEVENT
DTSTART;TZID=America/Chicago:20240927T140000
DTEND;TZID=America/Chicago:20240927T150000
DTSTAMP:20260424T175557
CREATED:20240920T180729Z
LAST-MODIFIED:20240927T194033Z
UID:<span 
                data-original-string='kDDZknLVpOrXkQPbRbJafA==386wtTXrJM4MqrAS8KCZlWWU7AHuqOqcXkTjj0npl1hY7Q/fRGKXbosySA0jr3vtGOHpE9g6uNGyUtM2Jk59JEeFQ=='
                class='apbct-email-encoder'
                title='This contact has been encoded by Anti-Spam by CleanTalk. Click to decode. To finish the decoding make sure that JavaScript is enabled in your browser.'>10<span class="apbct-blur">****************************</span>@<span class="apbct-blur">***************</span>wi.us</span>
SUMMARY:Homecoming parade
DESCRIPTION:
URL:https://www.milton.k12.wi.us/event/homecoming-parade-2/
CATEGORIES:Milton West Elementary
END:VEVENT
BEGIN:VEVENT
DTSTART;TZID=America/Chicago:20240928T193000
DTEND;TZID=America/Chicago:20240928T223000
DTSTAMP:20260424T175557
CREATED:20240822T004628Z
LAST-MODIFIED:20240928T220830Z
UID:<span 
                data-original-string='F9hIDJSO9jqkCR2C2HLjFw==386IIHT1VAg7r+69K7tFrqxGQ8YXq66ng5bJWA30q57Yr+pb7wVkqdgP8EvgoiowOAd1+rB67Hi9VZT6mKpVF9QzA=='
                class='apbct-email-encoder'
                title='This contact has been encoded by Anti-Spam by CleanTalk. Click to decode. To finish the decoding make sure that JavaScript is enabled in your browser.'>10<span class="apbct-blur">****************************</span>@<span class="apbct-blur">***************</span>wi.us</span>
SUMMARY:Homecoming Dance
DESCRIPTION:
URL:https://www.milton.k12.wi.us/event/homecoming-dance/
CATEGORIES:Milton High School
END:VEVENT
BEGIN:VEVENT
DTSTART;VALUE=DATE:20240930
DTEND;VALUE=DATE:20241001
DTSTAMP:20260424T175557
CREATED:20240824T110752Z
LAST-MODIFIED:20240930T222243Z
UID:<span 
                data-original-string='ZUPShLz2NUNgwnb83nS+kQ==386783ojs4bXdn2hJ7kmxLhg8aknnzUXxOKca/wmYJ3HRMwlBjQlfBzBg7DlcaaeiCEgUwK4hIpQfH28ca8n47XdA=='
                class='apbct-email-encoder'
                title='This contact has been encoded by Anti-Spam by CleanTalk. Click to decode. To finish the decoding make sure that JavaScript is enabled in your browser.'>10<span class="apbct-blur">****************************</span>@<span class="apbct-blur">***************</span>wi.us</span>
SUMMARY:Day 2
DESCRIPTION:
URL:https://www.milton.k12.wi.us/event/day-2-4/
CATEGORIES:Northside Intermediate
END:VEVENT
BEGIN:VEVENT
DTSTART;TZID=America/Chicago:20240930T143500
DTEND;TZID=America/Chicago:20240930T153500
DTSTAMP:20260424T175557
CREATED:20240822T012924Z
LAST-MODIFIED:20240930T195730Z
UID:<span 
                data-original-string='9johzjZ1TEzUAzVRmsdUOw==386ksuZfdaMihqrioZyQUZakkLt0ZE8hfxmEi7O3EQ9JK6YrMoYCrMItZRBJxGxL7P4YSH+OVrdzU36EN8isU2Yng=='
                class='apbct-email-encoder'
                title='This contact has been encoded by Anti-Spam by CleanTalk. Click to decode. To finish the decoding make sure that JavaScript is enabled in your browser.'>10<span class="apbct-blur">****************************</span>@<span class="apbct-blur">***************</span>wi.us</span>
SUMMARY:Early Release -
DESCRIPTION:
URL:https://www.milton.k12.wi.us/event/early-release-4/
CATEGORIES:Consolidated
END:VEVENT
BEGIN:VEVENT
DTSTART;TZID=America/Chicago:20240930T143500
DTEND;TZID=America/Chicago:20240930T153500
DTSTAMP:20260424T175557
CREATED:20240909T203739Z
LAST-MODIFIED:20240930T200746Z
UID:<span 
                data-original-string='yHstHlrSupNVop9tt+e8sA==386CT8LDC5O7hoQEuLNmvMWB984tKXHdJQ+xByoTucDBzRhHethTnreMLXTQkWdYpF9nQyAs3cKV2m1F1yoh+c6dA=='
                class='apbct-email-encoder'
                title='This contact has been encoded by Anti-Spam by CleanTalk. Click to decode. To finish the decoding make sure that JavaScript is enabled in your browser.'>10<span class="apbct-blur">****************************</span>@<span class="apbct-blur">***************</span>wi.us</span>
SUMMARY:HES: Early Release
DESCRIPTION:
URL:https://www.milton.k12.wi.us/event/hes-early-release-3/
CATEGORIES:Harmony Elementary
END:VEVENT
BEGIN:VEVENT
DTSTART;VALUE=DATE:20241001
DTEND;VALUE=DATE:20241002
DTSTAMP:20260424T175557
CREATED:20240824T110752Z
LAST-MODIFIED:20241001T222617Z
UID:<span 
                data-original-string='rRQvwx1BRRN1TelSyJ9Crg==386VP+JanuSIzorEW863xA6fzQg2WrJIbL/qijC+109S/QiEJSdUDh7juliZW8dQOWOMujvlESGGJ67VT65XrsZeA=='
                class='apbct-email-encoder'
                title='This contact has been encoded by Anti-Spam by CleanTalk. Click to decode. To finish the decoding make sure that JavaScript is enabled in your browser.'>10<span class="apbct-blur">****************************</span>@<span class="apbct-blur">***************</span>wi.us</span>
SUMMARY:Day 3
DESCRIPTION:
URL:https://www.milton.k12.wi.us/event/day-3-4/
CATEGORIES:Northside Intermediate
END:VEVENT
END:VCALENDAR