BEGIN:VCALENDAR
VERSION:2.0
PRODID:-//School District of Milton - ECPv6.15.20//NONSGML v1.0//EN
CALSCALE:GREGORIAN
METHOD:PUBLISH
X-WR-CALNAME:School District of Milton
X-ORIGINAL-URL:https://www.milton.k12.wi.us
X-WR-CALDESC:Events for School District of Milton
REFRESH-INTERVAL;VALUE=DURATION:PT1H
X-Robots-Tag:noindex
X-PUBLISHED-TTL:PT1H
BEGIN:VTIMEZONE
TZID:America/Chicago
BEGIN:DAYLIGHT
TZOFFSETFROM:-0600
TZOFFSETTO:-0500
TZNAME:CDT
DTSTART:20240310T080000
END:DAYLIGHT
BEGIN:STANDARD
TZOFFSETFROM:-0500
TZOFFSETTO:-0600
TZNAME:CST
DTSTART:20241103T070000
END:STANDARD
BEGIN:DAYLIGHT
TZOFFSETFROM:-0600
TZOFFSETTO:-0500
TZNAME:CDT
DTSTART:20250309T080000
END:DAYLIGHT
BEGIN:STANDARD
TZOFFSETFROM:-0500
TZOFFSETTO:-0600
TZNAME:CST
DTSTART:20251102T070000
END:STANDARD
BEGIN:DAYLIGHT
TZOFFSETFROM:-0600
TZOFFSETTO:-0500
TZNAME:CDT
DTSTART:20260308T080000
END:DAYLIGHT
BEGIN:STANDARD
TZOFFSETFROM:-0500
TZOFFSETTO:-0600
TZNAME:CST
DTSTART:20261101T070000
END:STANDARD
END:VTIMEZONE
BEGIN:VEVENT
DTSTART;VALUE=DATE:20251128
DTEND;VALUE=DATE:20251129
DTSTAMP:20260419T122435
CREATED:20250616T130903Z
LAST-MODIFIED:20251128T232346Z
UID:<span 
                data-original-string='/IOiuw2znDvbX1ojjsssSg==386Qr9r4AEEwCmRgHwz88sgY0FcUonzkdW1nuNnNXWWD6cqt1hTYYDl6nsIyRqgC3H5XpGeth046Wp8WL/Ksc4VJw=='
                class='apbct-email-encoder'
                title='This contact has been encoded by Anti-Spam by CleanTalk. Click to decode. To finish the decoding make sure that JavaScript is enabled in your browser.'>10<span class="apbct-blur">****************************</span>@<span class="apbct-blur">***************</span>wi.us</span>
SUMMARY:Thanksgiving Break
DESCRIPTION:
URL:https://www.milton.k12.wi.us/event/thanksgiving-break-4/
CATEGORIES:Milton High School
END:VEVENT
BEGIN:VEVENT
DTSTART;VALUE=DATE:20251127
DTEND;VALUE=DATE:20251128
DTSTAMP:20260419T122435
CREATED:20250616T130902Z
LAST-MODIFIED:20251127T153732Z
UID:<span 
                data-original-string='fJuSWhNm2CSaYCzGVDG4Pg==386Fb5OY5gr0PGH1SzeXvzzOiZl7qHXCMTKYoVKlhcm7lXV8nVHNySfelzJalEU+ucJia/I5jiQSHZSwcAyMejovQ=='
                class='apbct-email-encoder'
                title='This contact has been encoded by Anti-Spam by CleanTalk. Click to decode. To finish the decoding make sure that JavaScript is enabled in your browser.'>10<span class="apbct-blur">****************************</span>@<span class="apbct-blur">***************</span>wi.us</span>
SUMMARY:Thanksgiving Break
DESCRIPTION:
URL:https://www.milton.k12.wi.us/event/thanksgiving-break-3/
CATEGORIES:Milton High School
END:VEVENT
BEGIN:VEVENT
DTSTART;VALUE=DATE:20251126
DTEND;VALUE=DATE:20251129
DTSTAMP:20260419T122435
CREATED:20251117T195224Z
LAST-MODIFIED:20251128T215609Z
UID:<span 
                data-original-string='iV2sM6I7wthpUwURACuW+w==386AbLlgrMf2sE9yKGq0DyzI5ULvInRZVGLm5CFWr9RD9rlPjIDb4YgMFSeY73i8aL/t93MQhzMWrqQnjDkdHop/A=='
                class='apbct-email-encoder'
                title='This contact has been encoded by Anti-Spam by CleanTalk. Click to decode. To finish the decoding make sure that JavaScript is enabled in your browser.'>10<span class="apbct-blur">****************************</span>@<span class="apbct-blur">***************</span>wi.us</span>
SUMMARY:No School
DESCRIPTION:
URL:https://www.milton.k12.wi.us/event/no-school-47/
CATEGORIES:Milton West Elementary
END:VEVENT
BEGIN:VEVENT
DTSTART;VALUE=DATE:20251126
DTEND;VALUE=DATE:20251129
DTSTAMP:20260419T122435
CREATED:20251020T161009Z
LAST-MODIFIED:20251128T232231Z
UID:<span 
                data-original-string='YVHMXI+WvYxc3yghNMlV9A==386Sb98NBsRVdnRjUqRmONFeGWSbo3yK+FRqVPhXDHyS2c7KmshRJn2MH0SxUmWKpDoWItcNLegjOPyCY4EA0ySpQ=='
                class='apbct-email-encoder'
                title='This contact has been encoded by Anti-Spam by CleanTalk. Click to decode. To finish the decoding make sure that JavaScript is enabled in your browser.'>10<span class="apbct-blur">****************************</span>@<span class="apbct-blur">***************</span>wi.us</span>
SUMMARY:Thanksgiving Break
DESCRIPTION:
URL:https://www.milton.k12.wi.us/event/thanksgiving-break-5/
CATEGORIES:Milton Middle School
END:VEVENT
BEGIN:VEVENT
DTSTART;VALUE=DATE:20251126
DTEND;VALUE=DATE:20251129
DTSTAMP:20260419T122435
CREATED:20250922T160809Z
LAST-MODIFIED:20251128T225236Z
UID:<span 
                data-original-string='gbC50B+NMPIgK/Mxt9Uzpw==386pi8hPg+elXyBj62VJQ7O6iuA4MA9ZSfOr/hQvayxZzbsEUV8d/ds3qbZ6r9+3yOvF8yBlt2Hxk9jKFKhSWp0qQ=='
                class='apbct-email-encoder'
                title='This contact has been encoded by Anti-Spam by CleanTalk. Click to decode. To finish the decoding make sure that JavaScript is enabled in your browser.'>10<span class="apbct-blur">****************************</span>@<span class="apbct-blur">***************</span>wi.us</span>
SUMMARY:CES - Thanksgiving Break
DESCRIPTION:
URL:https://www.milton.k12.wi.us/event/ces-thanksgiving-break/
CATEGORIES:Consolidated
END:VEVENT
BEGIN:VEVENT
DTSTART;VALUE=DATE:20251126
DTEND;VALUE=DATE:20251129
DTSTAMP:20260419T122435
CREATED:20250825T070859Z
LAST-MODIFIED:20251128T233901Z
UID:<span 
                data-original-string='NpG/OBs2QSaAUmXfm1DBwg==386e8gJWw+sa+SpzP6dxzj3eHOSoKjJg7CJOQGIugX4pJMmpGqkSS5hRbPBuxO8+SoMtMOQYdrv8PBLaVdrN25YhQ=='
                class='apbct-email-encoder'
                title='This contact has been encoded by Anti-Spam by CleanTalk. Click to decode. To finish the decoding make sure that JavaScript is enabled in your browser.'>10<span class="apbct-blur">****************************</span>@<span class="apbct-blur">***************</span>wi.us</span>
SUMMARY:HES: Thanksgiving Break- No School
DESCRIPTION:
URL:https://www.milton.k12.wi.us/event/hes-thanksgiving-break-no-school-2/
CATEGORIES:Harmony Elementary
END:VEVENT
BEGIN:VEVENT
DTSTART;VALUE=DATE:20251126
DTEND;VALUE=DATE:20251129
DTSTAMP:20260419T122435
CREATED:20250611T144519Z
LAST-MODIFIED:20251128T215824Z
UID:<span 
                data-original-string='EKcanv3mfmI1yO8hB+JSzw==386fGeGOqpvqXpPmY6NqmfpvRPvFFojvYELrqetI3eufOoOYK3s17f3BCc0sx7Yv1up9m6uRuj1zC0/9x16lPd/Hg=='
                class='apbct-email-encoder'
                title='This contact has been encoded by Anti-Spam by CleanTalk. Click to decode. To finish the decoding make sure that JavaScript is enabled in your browser.'>10<span class="apbct-blur">****************************</span>@<span class="apbct-blur">***************</span>wi.us</span>
SUMMARY:Thanksgiving Break - No School
DESCRIPTION:
URL:https://www.milton.k12.wi.us/event/thanksgiving-break-no-school-18/
CATEGORIES:Milton East Elementary
END:VEVENT
BEGIN:VEVENT
DTSTART;VALUE=DATE:20251126
DTEND;VALUE=DATE:20251127
DTSTAMP:20260419T122435
CREATED:20250616T130843Z
LAST-MODIFIED:20251126T175225Z
UID:<span 
                data-original-string='eITvbLc5xtedgvdJx/gLSg==386TcQfYLArlE/P3e2AEGL7uHfRCiXe18yxVtRqGAaeu2AHktQcEn0EYm742ayhwBlAKbDuZj48nO4jOPIck2qPyw=='
                class='apbct-email-encoder'
                title='This contact has been encoded by Anti-Spam by CleanTalk. Click to decode. To finish the decoding make sure that JavaScript is enabled in your browser.'>10<span class="apbct-blur">****************************</span>@<span class="apbct-blur">***************</span>wi.us</span>
SUMMARY:Thanksgiving Break
DESCRIPTION:
URL:https://www.milton.k12.wi.us/event/thanksgiving-break-2/
CATEGORIES:Milton High School
END:VEVENT
BEGIN:VEVENT
DTSTART;TZID=America/Chicago:20251125T140000
DTEND;TZID=America/Chicago:20251125T150000
DTSTAMP:20260419T122435
CREATED:20251118T195234Z
LAST-MODIFIED:20251125T205255Z
UID:<span 
                data-original-string='VRorpBlDvruWU8re8Vs0vQ==3865VgZ9U875oh7aWHcpWwmNKmICti/UW5yU7yAo2R9MV5Surg2LkfYmx9GyCpiVlDPvxIvYY11BBKNU9jRDvGpOQ=='
                class='apbct-email-encoder'
                title='This contact has been encoded by Anti-Spam by CleanTalk. Click to decode. To finish the decoding make sure that JavaScript is enabled in your browser.'>10<span class="apbct-blur">****************************</span>@<span class="apbct-blur">***************</span>wi.us</span>
SUMMARY:MAYC Day Parade
DESCRIPTION:
URL:https://www.milton.k12.wi.us/event/mayc-day-parade/
CATEGORIES:Milton West Elementary
END:VEVENT
BEGIN:VEVENT
DTSTART;VALUE=DATE:20251125
DTEND;VALUE=DATE:20251126
DTSTAMP:20260419T122435
CREATED:20251120T213744Z
LAST-MODIFIED:20251125T232247Z
UID:<span 
                data-original-string='dvi43230v69DAKvzvr5lVA==386icaTrZIwV1B4HAc9TN5Ur8yskUES6jSYu9cKYNwYMJviatgx0OYZr8YqQ7N+CCiYrh6qQDQDPWTnH8mJmmahAg=='
                class='apbct-email-encoder'
                title='This contact has been encoded by Anti-Spam by CleanTalk. Click to decode. To finish the decoding make sure that JavaScript is enabled in your browser.'>10<span class="apbct-blur">****************************</span>@<span class="apbct-blur">***************</span>wi.us</span>
SUMMARY:DAY 4
DESCRIPTION:
URL:https://www.milton.k12.wi.us/event/day-4-37/
CATEGORIES:Northside Intermediate
END:VEVENT
BEGIN:VEVENT
DTSTART;VALUE=DATE:20251125
DTEND;VALUE=DATE:20251126
DTSTAMP:20260419T122435
CREATED:20251023T172529Z
LAST-MODIFIED:20251120T185245Z
UID:<span 
                data-original-string='S6+o/1athXEXZaI+0mVPtw==386KoxQuWl0tCFSwhENfnSiq7vTTXBq79Xk5li05W3wIvfKiktnXJWynCklQtgVDf3Yzzs6YoNVxofERY8MUBM1+g=='
                class='apbct-email-encoder'
                title='This contact has been encoded by Anti-Spam by CleanTalk. Click to decode. To finish the decoding make sure that JavaScript is enabled in your browser.'>10<span class="apbct-blur">****************************</span>@<span class="apbct-blur">***************</span>wi.us</span>
SUMMARY:DAY 4
DESCRIPTION:
URL:https://www.milton.k12.wi.us/event/day-4-36/
CATEGORIES:Northside Intermediate
END:VEVENT
BEGIN:VEVENT
DTSTART;VALUE=DATE:20251125
DTEND;VALUE=DATE:20251126
DTSTAMP:20260419T122435
CREATED:20251020T161008Z
LAST-MODIFIED:20251125T232507Z
UID:<span 
                data-original-string='MKjOPQgT7UfG8fqXFjHVWQ==386zKsP4R3l14Ksp+nBXvR+zBjmHBz6PlCPi5AiG7Cg5iVxCG1++Get8rI8518QZZz10kQVXOz4WbRd14o5nMPUlQ=='
                class='apbct-email-encoder'
                title='This contact has been encoded by Anti-Spam by CleanTalk. Click to decode. To finish the decoding make sure that JavaScript is enabled in your browser.'>10<span class="apbct-blur">****************************</span>@<span class="apbct-blur">***************</span>wi.us</span>
SUMMARY:End of 1st Trimester
DESCRIPTION:
URL:https://www.milton.k12.wi.us/event/end-of-1st-trimester/
CATEGORIES:Milton Middle School
END:VEVENT
BEGIN:VEVENT
DTSTART;TZID=America/Chicago:20251124T183000
DTEND;TZID=America/Chicago:20251124T203000
DTSTAMP:20260419T122435
CREATED:20240822T012956Z
LAST-MODIFIED:20251124T233734Z
UID:<span 
                data-original-string='Qf/lDeyc0cSbhZN8p66nLA==386zE4GEaJqczX/Wy9XGR3XKF3bwsseuus2OB4KTBzC7jhsNLuuWonvh1OLHWN+UIxjeVxhKOV8w8oIzheDB9cN/w=='
                class='apbct-email-encoder'
                title='This contact has been encoded by Anti-Spam by CleanTalk. Click to decode. To finish the decoding make sure that JavaScript is enabled in your browser.'>10<span class="apbct-blur">****************************</span>@<span class="apbct-blur">***************</span>wi.us</span>
SUMMARY:School Board Meeting
DESCRIPTION:
URL:https://www.milton.k12.wi.us/event/school-board-meeting-35/
LOCATION:School District of Milton\, 448 E High St\, Milton\, WI\, United States
CATEGORIES:District
GEO:42.773036;-88.944404
X-APPLE-STRUCTURED-LOCATION;VALUE=URI;X-ADDRESS=School District of Milton 448 E High St Milton WI United States;X-APPLE-RADIUS=500;X-TITLE=448 E High St:geo:-88.944404,42.773036
END:VEVENT
BEGIN:VEVENT
DTSTART;TZID=America/Chicago:20251124T143500
DTEND;TZID=America/Chicago:20251124T153500
DTSTAMP:20260419T122435
CREATED:20240822T012937Z
LAST-MODIFIED:20251124T180806Z
UID:<span 
                data-original-string='b2EQ6JwyskOLALv7F92lbA==386ae8yzvpHM5D6apWSQ0oqGqNIXU+B5TUnlLM240qxJYSSIJUqBlIPwUryNPvXY97MgAmuQoRl+RcI5rWbPH0Qjw=='
                class='apbct-email-encoder'
                title='This contact has been encoded by Anti-Spam by CleanTalk. Click to decode. To finish the decoding make sure that JavaScript is enabled in your browser.'>10<span class="apbct-blur">****************************</span>@<span class="apbct-blur">***************</span>wi.us</span>
SUMMARY:Early Release -
DESCRIPTION:
URL:https://www.milton.k12.wi.us/event/early-release-56/
CATEGORIES:Consolidated
END:VEVENT
BEGIN:VEVENT
DTSTART;VALUE=DATE:20251124
DTEND;VALUE=DATE:20251125
DTSTAMP:20260419T122435
CREATED:20251023T172528Z
LAST-MODIFIED:20251124T232528Z
UID:<span 
                data-original-string='IHlcUQjwvXSeUsuXAk76JA==386jrmrumbuzy39PGCjiG6hOQrs8DZ9ZC+SUsdIHHfkLA7gJ00O37gyhq+pgeQm1wvz3mZFzLNWQxG9tzsafz7eTw=='
                class='apbct-email-encoder'
                title='This contact has been encoded by Anti-Spam by CleanTalk. Click to decode. To finish the decoding make sure that JavaScript is enabled in your browser.'>10<span class="apbct-blur">****************************</span>@<span class="apbct-blur">***************</span>wi.us</span>
SUMMARY:DAY 3
DESCRIPTION:
URL:https://www.milton.k12.wi.us/event/day-3-36/
CATEGORIES:Northside Intermediate
END:VEVENT
BEGIN:VEVENT
DTSTART;TZID=America/Chicago:20251121T170000
DTEND;TZID=America/Chicago:20251121T190000
DTSTAMP:20260419T122435
CREATED:20250813T183924Z
LAST-MODIFIED:20251121T232412Z
UID:<span 
                data-original-string='udwEGOn1Z1T2pA0VNnPGjg==386Rlyeeey92R7ClX4+85jFazFreopDAe9OEgZOH93lUNVfbHZCAK2Cfq9OyIhrkayRiqKrbDGSg2r+HXhMFAo2bg=='
                class='apbct-email-encoder'
                title='This contact has been encoded by Anti-Spam by CleanTalk. Click to decode. To finish the decoding make sure that JavaScript is enabled in your browser.'>10<span class="apbct-blur">****************************</span>@<span class="apbct-blur">***************</span>wi.us</span>
SUMMARY:Rec Night
DESCRIPTION:
URL:https://www.milton.k12.wi.us/event/rec-night-2/
CATEGORIES:Milton Middle School
END:VEVENT
BEGIN:VEVENT
DTSTART;VALUE=DATE:20251121
DTEND;VALUE=DATE:20251122
DTSTAMP:20260419T122435
CREATED:20251023T172527Z
LAST-MODIFIED:20251121T232229Z
UID:<span 
                data-original-string='yq916tg0mTw/rm7hMc2nzg==386yw9IvjHBbTLUweS2r/nHw3tdXeMlrndeafhecyCyYn3yvIWnu/jBdCkrCc1gXRVSF+7SPkxyTQmWT2zYvELEsw=='
                class='apbct-email-encoder'
                title='This contact has been encoded by Anti-Spam by CleanTalk. Click to decode. To finish the decoding make sure that JavaScript is enabled in your browser.'>10<span class="apbct-blur">****************************</span>@<span class="apbct-blur">***************</span>wi.us</span>
SUMMARY:DAY 2
DESCRIPTION:
URL:https://www.milton.k12.wi.us/event/day-2-35/
CATEGORIES:Northside Intermediate
END:VEVENT
BEGIN:VEVENT
DTSTART;TZID=America/Chicago:20251120T173000
DTEND;TZID=America/Chicago:20251120T183000
DTSTAMP:20260419T122435
CREATED:20250813T183923Z
LAST-MODIFIED:20251112T125427Z
UID:<span 
                data-original-string='SDU9yZBbcaKt1HEkSmlDrg==386LmEOLO1PuJYVxCZNUhp6d0Qvkm3avsAHlz3vDBiFSS4PB8SIaBY1EhI0ADFWtYgpgoBeRCuJHZ79zlupkKC0Kw=='
                class='apbct-email-encoder'
                title='This contact has been encoded by Anti-Spam by CleanTalk. Click to decode. To finish the decoding make sure that JavaScript is enabled in your browser.'>10<span class="apbct-blur">****************************</span>@<span class="apbct-blur">***************</span>wi.us</span>
SUMMARY:Parent Group Meeting
DESCRIPTION:
URL:https://www.milton.k12.wi.us/event/parent-group-meeting-12/
LOCATION:MMS Cafeteria
CATEGORIES:Milton Middle School
END:VEVENT
BEGIN:VEVENT
DTSTART;VALUE=DATE:20251120
DTEND;VALUE=DATE:20251121
DTSTAMP:20260419T122435
CREATED:20251023T172526Z
LAST-MODIFIED:20251120T230726Z
UID:<span 
                data-original-string='KRJ3zWhZp4UajE+KuUNPrw==386oWCJyc3t/NoVLLvdKMNv2XbhOibHZtQdejvoNdYBD1Gv8GZzoaCT8kNGQYWUXaWUvuOxujaJDzwyKvIAAzkivw=='
                class='apbct-email-encoder'
                title='This contact has been encoded by Anti-Spam by CleanTalk. Click to decode. To finish the decoding make sure that JavaScript is enabled in your browser.'>10<span class="apbct-blur">****************************</span>@<span class="apbct-blur">***************</span>wi.us</span>
SUMMARY:DAY 1
DESCRIPTION:
URL:https://www.milton.k12.wi.us/event/day-1-37/
CATEGORIES:Northside Intermediate
END:VEVENT
BEGIN:VEVENT
DTSTART;VALUE=DATE:20251119
DTEND;VALUE=DATE:20251120
DTSTAMP:20260419T122435
CREATED:20251023T172515Z
LAST-MODIFIED:20251119T230730Z
UID:<span 
                data-original-string='wUbWFZADIiRvaX0qx4YyvQ==386RIQkhkHnL2PqH/s1tDYoeG4f3kJUzqYhCnEbAaCK9UgdNEozgjy35wKQJLIfdWautoFOQkNGN2MvPbq7OUFRqg=='
                class='apbct-email-encoder'
                title='This contact has been encoded by Anti-Spam by CleanTalk. Click to decode. To finish the decoding make sure that JavaScript is enabled in your browser.'>10<span class="apbct-blur">****************************</span>@<span class="apbct-blur">***************</span>wi.us</span>
SUMMARY:DAY 6
DESCRIPTION:
URL:https://www.milton.k12.wi.us/event/day-6-35/
CATEGORIES:Northside Intermediate
END:VEVENT
BEGIN:VEVENT
DTSTART;TZID=America/Chicago:20251118T180000
DTEND;TZID=America/Chicago:20251118T190000
DTSTAMP:20260419T122435
CREATED:20240823T224236Z
LAST-MODIFIED:20251118T230731Z
UID:<span 
                data-original-string='7oICqAYv0n1hCdaFkRa4iw==386uhG4tL/qy+AkF7d1yx5uOVLSZ0DNbMil6v8Zd0tr9Hp/ZVDDgVnxP7IyVWSiHyDsHG4Z2adi/DezpBLk1D+lzQ=='
                class='apbct-email-encoder'
                title='This contact has been encoded by Anti-Spam by CleanTalk. Click to decode. To finish the decoding make sure that JavaScript is enabled in your browser.'>10<span class="apbct-blur">****************************</span>@<span class="apbct-blur">***************</span>wi.us</span>
SUMMARY:FON Meeting
DESCRIPTION:
URL:https://www.milton.k12.wi.us/event/fon-meeting-15/
CATEGORIES:Northside Intermediate
END:VEVENT
BEGIN:VEVENT
DTSTART;TZID=America/Chicago:20251118T163000
DTEND;TZID=America/Chicago:20251118T193000
DTSTAMP:20260419T122435
CREATED:20251113T173944Z
LAST-MODIFIED:20251118T232353Z
UID:<span 
                data-original-string='ubrb7l4EiEChCDuIADNjyQ==386phYezQ+gReug4N9IB/BSR8jtpycT8t1tH0mlI6pBw1Kz37PwJKrOurBII/m9rWxS8uqi/oqUz45AoDBH1nvhOw=='
                class='apbct-email-encoder'
                title='This contact has been encoded by Anti-Spam by CleanTalk. Click to decode. To finish the decoding make sure that JavaScript is enabled in your browser.'>10<span class="apbct-blur">****************************</span>@<span class="apbct-blur">***************</span>wi.us</span>
SUMMARY:MMS Parent Group Scoopie Night
DESCRIPTION:
URL:https://www.milton.k12.wi.us/event/mms-parent-group-scoopie-night/
LOCATION:Milton Ave
CATEGORIES:Milton Middle School
END:VEVENT
BEGIN:VEVENT
DTSTART;VALUE=DATE:20251118
DTEND;VALUE=DATE:20251119
DTSTAMP:20260419T122435
CREATED:20251023T172516Z
LAST-MODIFIED:20251118T230730Z
UID:<span 
                data-original-string='00gBGN+co71aCJPa88CAwQ==386b626NxEqcDG9o3Gt5bcRbV4WPbtPmJytPQvBjGtSqsOWf+UC1aK1oP/pFBnbnCMKFWjRNNlZYggb7jWdXOPnug=='
                class='apbct-email-encoder'
                title='This contact has been encoded by Anti-Spam by CleanTalk. Click to decode. To finish the decoding make sure that JavaScript is enabled in your browser.'>10<span class="apbct-blur">****************************</span>@<span class="apbct-blur">***************</span>wi.us</span>
SUMMARY:DAY 5
DESCRIPTION:
URL:https://www.milton.k12.wi.us/event/day-5-34/
CATEGORIES:Northside Intermediate
END:VEVENT
BEGIN:VEVENT
DTSTART;TZID=America/Chicago:20251117T180000
DTEND;TZID=America/Chicago:20251117T200000
DTSTAMP:20260419T122435
CREATED:20240917T180351Z
LAST-MODIFIED:20251117T205225Z
UID:<span 
                data-original-string='dYklrx8XZe0Yr4C+vJDr2g==3862rcSA+6VTCr7lT6/hL0e7MaxSVTflJRSAhIL9mlGRmWi++zpmL2UDTFc5qe+mYAu19aGao7XMwCoorw0+rv+GA=='
                class='apbct-email-encoder'
                title='This contact has been encoded by Anti-Spam by CleanTalk. Click to decode. To finish the decoding make sure that JavaScript is enabled in your browser.'>10<span class="apbct-blur">****************************</span>@<span class="apbct-blur">***************</span>wi.us</span>
SUMMARY:PAWS mtg
DESCRIPTION:
URL:https://www.milton.k12.wi.us/event/paws-mtg-15/
CATEGORIES:Milton West Elementary
END:VEVENT
BEGIN:VEVENT
DTSTART;TZID=America/Chicago:20251117T180000
DTEND;TZID=America/Chicago:20251117T190000
DTSTAMP:20260419T122435
CREATED:20250829T070837Z
LAST-MODIFIED:20251117T233725Z
UID:<span 
                data-original-string='mlL2cHsaytOCZ3j9wxW12Q==3863gfNfbHujBKQlBvamVzsV0tbFAcGEeuoZ7IhHDARIQNGkYyjcziU+G6y2nsm6hHIqzcBsmPH2FBeWUGS5r1Eiw=='
                class='apbct-email-encoder'
                title='This contact has been encoded by Anti-Spam by CleanTalk. Click to decode. To finish the decoding make sure that JavaScript is enabled in your browser.'>10<span class="apbct-blur">****************************</span>@<span class="apbct-blur">***************</span>wi.us</span>
SUMMARY:HES: Team Harmony Meeting
DESCRIPTION:
URL:https://www.milton.k12.wi.us/event/hes-team-harmony-meeting-3/
CATEGORIES:Harmony Elementary
END:VEVENT
BEGIN:VEVENT
DTSTART;VALUE=DATE:20251117
DTEND;VALUE=DATE:20251118
DTSTAMP:20260419T122435
CREATED:20251110T174523Z
LAST-MODIFIED:20251110T174542Z
UID:<span 
                data-original-string='xLYbGBetSMl6EXkAKJN2OQ==386vvl2LaaqQgaaSc9afoqZG20FwiXyh3VIyLSYr4L7hf390yXCBOqAoU0XdiX5r5pOdDf5ObX4LLaf9Has1znwTA=='
                class='apbct-email-encoder'
                title='This contact has been encoded by Anti-Spam by CleanTalk. Click to decode. To finish the decoding make sure that JavaScript is enabled in your browser.'>10<span class="apbct-blur">****************************</span>@<span class="apbct-blur">***************</span>wi.us</span>
SUMMARY:Virtual Learning Day
DESCRIPTION:
URL:https://www.milton.k12.wi.us/event/virtual-learning-day-4/
CATEGORIES:District
END:VEVENT
BEGIN:VEVENT
DTSTART;VALUE=DATE:20251117
DTEND;VALUE=DATE:20251118
DTSTAMP:20260419T122435
CREATED:20251020T161001Z
LAST-MODIFIED:20251117T232334Z
UID:<span 
                data-original-string='nL7BV2aFc+ldDc9HF/+fkQ==386xpsisExRTKm6eX1Q+uyaZJEWfVIrtkWGpbLxZXbASl7m2T7Ny3gfrpoChOLM8hFNyeWylKNmjNIoBqhAmcU6uQ=='
                class='apbct-email-encoder'
                title='This contact has been encoded by Anti-Spam by CleanTalk. Click to decode. To finish the decoding make sure that JavaScript is enabled in your browser.'>10<span class="apbct-blur">****************************</span>@<span class="apbct-blur">***************</span>wi.us</span>
SUMMARY:Virtual Learning Day
DESCRIPTION:
URL:https://www.milton.k12.wi.us/event/virtual-learning-day-2/
CATEGORIES:Milton Middle School
END:VEVENT
BEGIN:VEVENT
DTSTART;VALUE=DATE:20251117
DTEND;VALUE=DATE:20251118
DTSTAMP:20260419T122435
CREATED:20250922T160804Z
LAST-MODIFIED:20251117T223727Z
UID:<span 
                data-original-string='G39syfgGCN2+oeYuYAr6UQ==386WEqJvOWX0phoJQWBkJRFPhxY3bDQcNdaxFDYdHNir0gK6U88qnU6jmAUDkiwW7RWhhqs05ggM+S651kvRxi4cg=='
                class='apbct-email-encoder'
                title='This contact has been encoded by Anti-Spam by CleanTalk. Click to decode. To finish the decoding make sure that JavaScript is enabled in your browser.'>10<span class="apbct-blur">****************************</span>@<span class="apbct-blur">***************</span>wi.us</span>
SUMMARY:CES - Virtual Learning Day
DESCRIPTION:
URL:https://www.milton.k12.wi.us/event/ces-virtual-learning-day-2/
CATEGORIES:Consolidated
END:VEVENT
BEGIN:VEVENT
DTSTART;VALUE=DATE:20251117
DTEND;VALUE=DATE:20251118
DTSTAMP:20260419T122435
CREATED:20250825T070858Z
LAST-MODIFIED:20251117T233725Z
UID:<span 
                data-original-string='/4nVF/FNmWD/Ph1UeJJ/OA==386DmfTQmCT715MLTebq4GcUT5CJ9X3CJg1KAJ/3OTePU4chNVRKpYBgCxpLKqNPmYoDl34cdChGFgvTcencdCt4g=='
                class='apbct-email-encoder'
                title='This contact has been encoded by Anti-Spam by CleanTalk. Click to decode. To finish the decoding make sure that JavaScript is enabled in your browser.'>10<span class="apbct-blur">****************************</span>@<span class="apbct-blur">***************</span>wi.us</span>
SUMMARY:HES: Virtual Learning Day
DESCRIPTION:
URL:https://www.milton.k12.wi.us/event/hes-virtual-learning-day-2/
CATEGORIES:Harmony Elementary
END:VEVENT
BEGIN:VEVENT
DTSTART;VALUE=DATE:20251117
DTEND;VALUE=DATE:20251118
DTSTAMP:20260419T122435
CREATED:20250616T130842Z
LAST-MODIFIED:20251117T232227Z
UID:<span 
                data-original-string='rLFPag43KKbKh2pUw4BuAg==386kkoxY9dvMKfDTjuB0sl95dLkL74RMTE2/xkfqXD1QZcoTizNR525TR+ZGLseZrmWkVHFh1UNnuBgTdeCsFkejA=='
                class='apbct-email-encoder'
                title='This contact has been encoded by Anti-Spam by CleanTalk. Click to decode. To finish the decoding make sure that JavaScript is enabled in your browser.'>10<span class="apbct-blur">****************************</span>@<span class="apbct-blur">***************</span>wi.us</span>
SUMMARY:PD Day - Virtual Learning Day
DESCRIPTION:
URL:https://www.milton.k12.wi.us/event/pd-day-virtual-learning-day/
CATEGORIES:Milton High School
END:VEVENT
END:VCALENDAR