BEGIN:VCALENDAR
VERSION:2.0
PRODID:-//School District of Milton - ECPv6.15.20//NONSGML v1.0//EN
CALSCALE:GREGORIAN
METHOD:PUBLISH
X-WR-CALNAME:School District of Milton
X-ORIGINAL-URL:https://www.milton.k12.wi.us
X-WR-CALDESC:Events for School District of Milton
REFRESH-INTERVAL;VALUE=DURATION:PT1H
X-Robots-Tag:noindex
X-PUBLISHED-TTL:PT1H
BEGIN:VTIMEZONE
TZID:America/Chicago
BEGIN:DAYLIGHT
TZOFFSETFROM:-0600
TZOFFSETTO:-0500
TZNAME:CDT
DTSTART:20240310T080000
END:DAYLIGHT
BEGIN:STANDARD
TZOFFSETFROM:-0500
TZOFFSETTO:-0600
TZNAME:CST
DTSTART:20241103T070000
END:STANDARD
BEGIN:DAYLIGHT
TZOFFSETFROM:-0600
TZOFFSETTO:-0500
TZNAME:CDT
DTSTART:20250309T080000
END:DAYLIGHT
BEGIN:STANDARD
TZOFFSETFROM:-0500
TZOFFSETTO:-0600
TZNAME:CST
DTSTART:20251102T070000
END:STANDARD
BEGIN:DAYLIGHT
TZOFFSETFROM:-0600
TZOFFSETTO:-0500
TZNAME:CDT
DTSTART:20260308T080000
END:DAYLIGHT
BEGIN:STANDARD
TZOFFSETFROM:-0500
TZOFFSETTO:-0600
TZNAME:CST
DTSTART:20261101T070000
END:STANDARD
END:VTIMEZONE
BEGIN:VEVENT
DTSTART;TZID=America/Chicago:20251007T160000
DTEND;TZID=America/Chicago:20251007T200000
DTSTAMP:20260424T135311
CREATED:20250611T144509Z
LAST-MODIFIED:20251007T223733Z
UID:<span 
                data-original-string='M3bqNVxovUoH0BjzKakbHg==386kjV7+arpVIv+Sh9NqgvI7ykK7TYsj71T0qNTBBx64S74ANEMjOdwe3em75M+6vEk55o6zQiBNmezNL+ONhOnyA=='
                class='apbct-email-encoder'
                title='This contact has been encoded by Anti-Spam by CleanTalk. Click to decode. To finish the decoding make sure that JavaScript is enabled in your browser.'>10<span class="apbct-blur">****************************</span>@<span class="apbct-blur">***************</span>wi.us</span>
SUMMARY:EES Scoopie Night
DESCRIPTION:
URL:https://www.milton.k12.wi.us/event/ees-scoopie-night-4/
CATEGORIES:Milton East Elementary
END:VEVENT
BEGIN:VEVENT
DTSTART;VALUE=DATE:20251007
DTEND;VALUE=DATE:20251008
DTSTAMP:20260424T135311
CREATED:20250925T133845Z
LAST-MODIFIED:20251007T213725Z
UID:<span 
                data-original-string='Dun8FgiZLl7kMSkBtAW+Bw==386v+mWyagVH6qthKQ93LVGNdLOLF/MBKDKdR832zjuTYC9oCpodz4DZkbfqtzex4b10j/tmJOJcohr5E6c57lhAQ=='
                class='apbct-email-encoder'
                title='This contact has been encoded by Anti-Spam by CleanTalk. Click to decode. To finish the decoding make sure that JavaScript is enabled in your browser.'>10<span class="apbct-blur">****************************</span>@<span class="apbct-blur">***************</span>wi.us</span>
SUMMARY:DAY 1
DESCRIPTION:
URL:https://www.milton.k12.wi.us/event/day-1-32/
CATEGORIES:Northside Intermediate
END:VEVENT
BEGIN:VEVENT
DTSTART;TZID=America/Chicago:20251006T183000
DTEND;TZID=America/Chicago:20251006T203000
DTSTAMP:20260424T135311
CREATED:20250909T080736Z
LAST-MODIFIED:20251006T235245Z
UID:<span 
                data-original-string='y6oYKIiCUIrY9vvp2DRRFw==3861vwr4H0EJTe/vzu0c+CiS3TydLtBXTH0GzGF1+472y8NS9f7elUju+oSAz65IKlox4YnZAOqaIU8XOHJNSBZZw=='
                class='apbct-email-encoder'
                title='This contact has been encoded by Anti-Spam by CleanTalk. Click to decode. To finish the decoding make sure that JavaScript is enabled in your browser.'>10<span class="apbct-blur">****************************</span>@<span class="apbct-blur">***************</span>wi.us</span>
SUMMARY:Governance Committee
DESCRIPTION:
URL:https://www.milton.k12.wi.us/event/governance-committee/
CATEGORIES:District
END:VEVENT
BEGIN:VEVENT
DTSTART;TZID=America/Chicago:20251006T180000
DTEND;TZID=America/Chicago:20251006T183000
DTSTAMP:20260424T135311
CREATED:20250923T080812Z
LAST-MODIFIED:20251006T220724Z
UID:<span 
                data-original-string='VT0DrBd79/T5j8DNoo+kMQ==386h+5zzLbah5lau5nlYlx6OuEkY0gFrzlPwk3E9Wpl71ds8TnnDr1rqcIWnBIuqCwg9WBv3cUBOFdydq8QfbCoxg=='
                class='apbct-email-encoder'
                title='This contact has been encoded by Anti-Spam by CleanTalk. Click to decode. To finish the decoding make sure that JavaScript is enabled in your browser.'>10<span class="apbct-blur">****************************</span>@<span class="apbct-blur">***************</span>wi.us</span>
SUMMARY:Finance Committee
DESCRIPTION:
URL:https://www.milton.k12.wi.us/event/finance-committee-6/
CATEGORIES:District
END:VEVENT
BEGIN:VEVENT
DTSTART;TZID=America/Chicago:20251006T143500
DTEND;TZID=America/Chicago:20251006T153500
DTSTAMP:20260424T135311
CREATED:20240822T012936Z
LAST-MODIFIED:20250922T143740Z
UID:<span 
                data-original-string='iZp3hyyQbBztGaOrFj8ETw==386JEhI4W7eYUxzGqZTPtw3t2lfsUU0hlA1r/eR2/BuwxtR/4zy75+9vbNGlTf1UVh9YUA5OFhFvgmsRZmk7tB73Q=='
                class='apbct-email-encoder'
                title='This contact has been encoded by Anti-Spam by CleanTalk. Click to decode. To finish the decoding make sure that JavaScript is enabled in your browser.'>10<span class="apbct-blur">****************************</span>@<span class="apbct-blur">***************</span>wi.us</span>
SUMMARY:Early Release -
DESCRIPTION:
URL:https://www.milton.k12.wi.us/event/early-release-49/
CATEGORIES:Consolidated
END:VEVENT
BEGIN:VEVENT
DTSTART;VALUE=DATE:20251006
DTEND;VALUE=DATE:20251007
DTSTAMP:20260424T135311
CREATED:20250922T160733Z
LAST-MODIFIED:20251006T222335Z
UID:<span 
                data-original-string='nHgqzk2FX1JdioiQW+e3IA==386LdcJJziRoUzy4nExK8ZBG3sKtuvdPRIURSo3davZ16/P+Q+ThOo79f9SX8o8XTgXtKO0K1JhCc68MT1kvy5Pfw=='
                class='apbct-email-encoder'
                title='This contact has been encoded by Anti-Spam by CleanTalk. Click to decode. To finish the decoding make sure that JavaScript is enabled in your browser.'>10<span class="apbct-blur">****************************</span>@<span class="apbct-blur">***************</span>wi.us</span>
SUMMARY:CES - Virtual Learning Day
DESCRIPTION:
URL:https://www.milton.k12.wi.us/event/ces-virtual-learning-day/
CATEGORIES:Consolidated
END:VEVENT
BEGIN:VEVENT
DTSTART;VALUE=DATE:20251006
DTEND;VALUE=DATE:20251007
DTSTAMP:20260424T135311
CREATED:20250825T070758Z
LAST-MODIFIED:20251006T222229Z
UID:<span 
                data-original-string='LF0UvLrMd4bLvySvjc4bdQ==386lfNN7DUPr6atP99IvZJZm0qzXYo4mJjTtZaHfm+z8mcbt+PvJiNxaIr/QW0Uuw/gVfGsYkqpJp0fkB6hQf6hag=='
                class='apbct-email-encoder'
                title='This contact has been encoded by Anti-Spam by CleanTalk. Click to decode. To finish the decoding make sure that JavaScript is enabled in your browser.'>10<span class="apbct-blur">****************************</span>@<span class="apbct-blur">***************</span>wi.us</span>
SUMMARY:HES: Virtual Learning Day
DESCRIPTION:
URL:https://www.milton.k12.wi.us/event/hes-virtual-learning-day/
CATEGORIES:Harmony Elementary
END:VEVENT
BEGIN:VEVENT
DTSTART;VALUE=DATE:20251006
DTEND;VALUE=DATE:20251007
DTSTAMP:20260424T135311
CREATED:20250821T215317Z
LAST-MODIFIED:20251006T232316Z
UID:<span 
                data-original-string='8cZ/RKgfy95zI5/w52q8iQ==386bwc6OT48Y1M1MZ6HzHkDHFfr10kmo0UWZ0b2VGo231zt6RDfA2fiCOqIqROGuzfeKzTMKZvFN+oPVxI61ur6/w=='
                class='apbct-email-encoder'
                title='This contact has been encoded by Anti-Spam by CleanTalk. Click to decode. To finish the decoding make sure that JavaScript is enabled in your browser.'>10<span class="apbct-blur">****************************</span>@<span class="apbct-blur">***************</span>wi.us</span>
SUMMARY:PD Day/Virtual Learning
DESCRIPTION:
URL:https://www.milton.k12.wi.us/event/pd-day-virtual-learning-4/
CATEGORIES:Milton West Elementary
END:VEVENT
BEGIN:VEVENT
DTSTART;VALUE=DATE:20251006
DTEND;VALUE=DATE:20251007
DTSTAMP:20260424T135311
CREATED:20250616T130756Z
LAST-MODIFIED:20251006T213741Z
UID:<span 
                data-original-string='5JVPdI4wJa2qlxfx0amPpw==386wOXPK3IBbkvAKzTRlc66PUynWn7xYjzyk9g3je5gZ3weTK8iGNmefubwuTOwWkuMX4b2yMKsbGigoxlONElUkw=='
                class='apbct-email-encoder'
                title='This contact has been encoded by Anti-Spam by CleanTalk. Click to decode. To finish the decoding make sure that JavaScript is enabled in your browser.'>10<span class="apbct-blur">****************************</span>@<span class="apbct-blur">***************</span>wi.us</span>
SUMMARY:PD Day-Virtual Learning
DESCRIPTION:
URL:https://www.milton.k12.wi.us/event/pd-day-virtual-learning-3/
CATEGORIES:Milton High School
END:VEVENT
BEGIN:VEVENT
DTSTART;VALUE=DATE:20251006
DTEND;VALUE=DATE:20251007
DTSTAMP:20260424T135311
CREATED:20250611T144508Z
LAST-MODIFIED:20251006T223729Z
UID:<span 
                data-original-string='qQBD188D1cdGGpNpZskRXw==386iZKrj1MEPfRc4C4dQ3IjGT71PTcucerbj+BA0Ief4z8A98k/9IafuINoeVcLmB/rFc/TF8KWsIoAmDg4A2UYHw=='
                class='apbct-email-encoder'
                title='This contact has been encoded by Anti-Spam by CleanTalk. Click to decode. To finish the decoding make sure that JavaScript is enabled in your browser.'>10<span class="apbct-blur">****************************</span>@<span class="apbct-blur">***************</span>wi.us</span>
SUMMARY:Virtual Learning Day For Students
DESCRIPTION:
URL:https://www.milton.k12.wi.us/event/virtual-learning-day-for-students/
CATEGORIES:Milton East Elementary
END:VEVENT
BEGIN:VEVENT
DTSTART;TZID=America/Chicago:20251004T193000
DTEND;TZID=America/Chicago:20251004T223000
DTSTAMP:20260424T135311
CREATED:20250923T140942Z
LAST-MODIFIED:20251004T213737Z
UID:<span 
                data-original-string='JyJ9KnmZ2Ry0Hg9fwRh+vA==386Jy3+EcxjKevAkyBbiosMA1Y/bkCpUjGuc/BnfiVNSrNGxuxHNi136q2aHa8KlRLKVaFhBRaBciZv1gZZp2HFHA=='
                class='apbct-email-encoder'
                title='This contact has been encoded by Anti-Spam by CleanTalk. Click to decode. To finish the decoding make sure that JavaScript is enabled in your browser.'>10<span class="apbct-blur">****************************</span>@<span class="apbct-blur">***************</span>wi.us</span>
SUMMARY:Homecoming Dance
DESCRIPTION:
URL:https://www.milton.k12.wi.us/event/homecoming-dance-2/
CATEGORIES:Milton High School
END:VEVENT
BEGIN:VEVENT
DTSTART;TZID=America/Chicago:20251003T131500
DTEND;TZID=America/Chicago:20251003T151500
DTSTAMP:20260424T135311
CREATED:20250922T160732Z
LAST-MODIFIED:20251003T170730Z
UID:<span 
                data-original-string='+R+xkS1ixna/yx2mCIVrrQ==386/fbAf5pY+d5FrOURAjlNUPQnoKDCSrgfka52pR6FnOecN3eackN49rEk0bS0GS6MtKBTGXpeIRxotZWiHotG4Q=='
                class='apbct-email-encoder'
                title='This contact has been encoded by Anti-Spam by CleanTalk. Click to decode. To finish the decoding make sure that JavaScript is enabled in your browser.'>10<span class="apbct-blur">****************************</span>@<span class="apbct-blur">***************</span>wi.us</span>
SUMMARY:CES - Homecoming parade
DESCRIPTION:
URL:https://www.milton.k12.wi.us/event/ces-homecoming-parade/
CATEGORIES:Consolidated
END:VEVENT
BEGIN:VEVENT
DTSTART;VALUE=DATE:20251003
DTEND;VALUE=DATE:20251004
DTSTAMP:20260424T135311
CREATED:20250922T195318Z
LAST-MODIFIED:20251003T202231Z
UID:<span 
                data-original-string='Epz9ixDxE5Zuiigjj4dpxA==386LkMyYAfCHU6h6sFVz1GZwXWUkBPzBD7GkEg8rokxSGt5vzLZcs8iFKyoc9VbFzHBpZAjqCcL9EVuLUBpWtwjCw=='
                class='apbct-email-encoder'
                title='This contact has been encoded by Anti-Spam by CleanTalk. Click to decode. To finish the decoding make sure that JavaScript is enabled in your browser.'>10<span class="apbct-blur">****************************</span>@<span class="apbct-blur">***************</span>wi.us</span>
SUMMARY:DAY 6
DESCRIPTION:
URL:https://www.milton.k12.wi.us/event/day-6-30/
CATEGORIES:Northside Intermediate
END:VEVENT
BEGIN:VEVENT
DTSTART;VALUE=DATE:20251003
DTEND;VALUE=DATE:20251004
DTSTAMP:20260424T135311
CREATED:20250829T070747Z
LAST-MODIFIED:20251003T222943Z
UID:<span 
                data-original-string='Sc7BUEMB317zBb2mo+d2DQ==386j2ogQShMz5Essr2G6tOYQ+y9dSfN/swqCUEDXONeY45+t4PZe4QWYR15j1bW1qu5BTDXw3O039+7TxB1lHIG1Q=='
                class='apbct-email-encoder'
                title='This contact has been encoded by Anti-Spam by CleanTalk. Click to decode. To finish the decoding make sure that JavaScript is enabled in your browser.'>10<span class="apbct-blur">****************************</span>@<span class="apbct-blur">***************</span>wi.us</span>
SUMMARY:HES: Homecoming
DESCRIPTION:
URL:https://www.milton.k12.wi.us/event/hes-homecoming/
CATEGORIES:Harmony Elementary
END:VEVENT
BEGIN:VEVENT
DTSTART;TZID=America/Chicago:20251002T190000
DTEND;TZID=America/Chicago:20251002T210000
DTSTAMP:20260424T135311
CREATED:20250616T130755Z
LAST-MODIFIED:20251002T213739Z
UID:<span 
                data-original-string='y9SE84xDeIj/SzZ0uqStzg==386e3tzmrqmka1AOZupKVlpi0eD+xLjIBHPkhaM5d9ql0hau4SsvsLTaNR5YqzKY7Nr/taSrPmZPT3M43ws6N6sYA=='
                class='apbct-email-encoder'
                title='This contact has been encoded by Anti-Spam by CleanTalk. Click to decode. To finish the decoding make sure that JavaScript is enabled in your browser.'>10<span class="apbct-blur">****************************</span>@<span class="apbct-blur">***************</span>wi.us</span>
SUMMARY:Wall of Honor Induction Ceremony
DESCRIPTION:
URL:https://www.milton.k12.wi.us/event/wall-of-honor-induction-ceremony/
CATEGORIES:Milton High School
END:VEVENT
BEGIN:VEVENT
DTSTART;VALUE=DATE:20251002
DTEND;VALUE=DATE:20251003
DTSTAMP:20260424T135311
CREATED:20250922T195318Z
LAST-MODIFIED:20251002T214017Z
UID:<span 
                data-original-string='dhSVgIR2E9RipBJxFY6yow==386OBToPiWKKxltaoLv/INmfxZZVsiU8wqhFX6KiclZBYdvEIKHSgeJB7wMZTaADlasfYLGpSu61Ytowkmzf558oA=='
                class='apbct-email-encoder'
                title='This contact has been encoded by Anti-Spam by CleanTalk. Click to decode. To finish the decoding make sure that JavaScript is enabled in your browser.'>10<span class="apbct-blur">****************************</span>@<span class="apbct-blur">***************</span>wi.us</span>
SUMMARY:DAY 5
DESCRIPTION:
URL:https://www.milton.k12.wi.us/event/day-5-29/
CATEGORIES:Northside Intermediate
END:VEVENT
BEGIN:VEVENT
DTSTART;TZID=America/Chicago:20251001T160000
DTEND;TZID=America/Chicago:20251001T200000
DTSTAMP:20260424T135311
CREATED:20250821T215307Z
LAST-MODIFIED:20251001T232228Z
UID:<span 
                data-original-string='Dw9ZsXs2k4THs8lkAimwfA==386IG8WcPwd2OUW5jxnPFqq97t1ARCXVITwCaxqqqLV/Qu5vDw5BRTllI0h2St7ruTSMwr//Jpcz2ejQdwZ5RU4Gg=='
                class='apbct-email-encoder'
                title='This contact has been encoded by Anti-Spam by CleanTalk. Click to decode. To finish the decoding make sure that JavaScript is enabled in your browser.'>10<span class="apbct-blur">****************************</span>@<span class="apbct-blur">***************</span>wi.us</span>
SUMMARY:Scoopie Night
DESCRIPTION:
URL:https://www.milton.k12.wi.us/event/scoopie-night-17/
CATEGORIES:Milton West Elementary
END:VEVENT
BEGIN:VEVENT
DTSTART;VALUE=DATE:20251001
DTEND;VALUE=DATE:20251002
DTSTAMP:20260424T135311
CREATED:20250922T195317Z
LAST-MODIFIED:20251001T202338Z
UID:<span 
                data-original-string='W8kIO8Gbmt5VQE5tSXrcng==3868ceYJJ/vF8NxvkUsVMKT3MscJaA1uTQ1gTtRA7ayul1Ipt9MyTNi14Ek9dhOGq/y4ryFeflq173QMuDV2m7NhA=='
                class='apbct-email-encoder'
                title='This contact has been encoded by Anti-Spam by CleanTalk. Click to decode. To finish the decoding make sure that JavaScript is enabled in your browser.'>10<span class="apbct-blur">****************************</span>@<span class="apbct-blur">***************</span>wi.us</span>
SUMMARY:DAY 4
DESCRIPTION:
URL:https://www.milton.k12.wi.us/event/day-4-30/
CATEGORIES:Northside Intermediate
END:VEVENT
BEGIN:VEVENT
DTSTART;VALUE=DATE:20250930
DTEND;VALUE=DATE:20251001
DTSTAMP:20260424T135311
CREATED:20250922T195317Z
LAST-MODIFIED:20250930T214128Z
UID:<span 
                data-original-string='CpeuklGFApysKMmiASGa7Q==386kXQ9DvL7LCVzlKhaw1cBuRZ+1KDshid6PdXW3I+E2PU6IYP+MFzllfyGOAJH6gReA+kwHchGqX2B138VpCYBLQ=='
                class='apbct-email-encoder'
                title='This contact has been encoded by Anti-Spam by CleanTalk. Click to decode. To finish the decoding make sure that JavaScript is enabled in your browser.'>10<span class="apbct-blur">****************************</span>@<span class="apbct-blur">***************</span>wi.us</span>
SUMMARY:DAY 3
DESCRIPTION:
URL:https://www.milton.k12.wi.us/event/day-3-30/
CATEGORIES:Northside Intermediate
END:VEVENT
BEGIN:VEVENT
DTSTART;VALUE=DATE:20250930
DTEND;VALUE=DATE:20251001
DTSTAMP:20260424T135311
CREATED:20250829T070746Z
LAST-MODIFIED:20250930T222503Z
UID:<span 
                data-original-string='IpGh50M7LIIpY5mLm0ko7A==386J75IdjT5ivX2QX3jNm7OYI4jXT7podi209b5Rqpz0KMnLum3SLWlIoGC2aGoqqdEv07V7F5CKAS3cwkgIoqWQw=='
                class='apbct-email-encoder'
                title='This contact has been encoded by Anti-Spam by CleanTalk. Click to decode. To finish the decoding make sure that JavaScript is enabled in your browser.'>10<span class="apbct-blur">****************************</span>@<span class="apbct-blur">***************</span>wi.us</span>
SUMMARY:HES: Culver's Scoopie Night
DESCRIPTION:
URL:https://www.milton.k12.wi.us/event/hes-culvers-scoopie-night-4/
CATEGORIES:Harmony Elementary
END:VEVENT
BEGIN:VEVENT
DTSTART;TZID=America/Chicago:20250929T143500
DTEND;TZID=America/Chicago:20250929T153500
DTSTAMP:20260424T135311
CREATED:20240822T012936Z
LAST-MODIFIED:20250929T202434Z
UID:<span 
                data-original-string='W7TAf4SdcReBVmHM/nHwlQ==386hiRO+oeqgpazfX6HcEvyyCqOleIciuLCV+u14Awz/mdLOAjuDDXcN6YFRIMJKusfjk7HTnBAlXjHvl2p6tEHTA=='
                class='apbct-email-encoder'
                title='This contact has been encoded by Anti-Spam by CleanTalk. Click to decode. To finish the decoding make sure that JavaScript is enabled in your browser.'>10<span class="apbct-blur">****************************</span>@<span class="apbct-blur">***************</span>wi.us</span>
SUMMARY:Early Release -
DESCRIPTION:
URL:https://www.milton.k12.wi.us/event/early-release-48/
CATEGORIES:Consolidated
END:VEVENT
BEGIN:VEVENT
DTSTART;VALUE=DATE:20250929
DTEND;VALUE=DATE:20250930
DTSTAMP:20260424T135311
CREATED:20250922T195316Z
LAST-MODIFIED:20250929T213742Z
UID:<span 
                data-original-string='3mKRnSCggu7QmboTiA6Wng==386/8hoPT+YFm97LMq1WJ/hrOFBGVWB4Cv2W6zWM+UYrxf8oqK05zpTCX0A8GvDEttf7HgP2rxDDjCH1of8x7Tbxw=='
                class='apbct-email-encoder'
                title='This contact has been encoded by Anti-Spam by CleanTalk. Click to decode. To finish the decoding make sure that JavaScript is enabled in your browser.'>10<span class="apbct-blur">****************************</span>@<span class="apbct-blur">***************</span>wi.us</span>
SUMMARY:DAY 2
DESCRIPTION:
URL:https://www.milton.k12.wi.us/event/day-2-29/
CATEGORIES:Northside Intermediate
END:VEVENT
BEGIN:VEVENT
DTSTART;VALUE=DATE:20250928
DTEND;VALUE=DATE:20251005
DTSTAMP:20260424T135311
CREATED:20250923T080810Z
LAST-MODIFIED:20251004T235443Z
UID:<span 
                data-original-string='0NGGoQBYQSu2qCKXuACBvg==386T2wTmu9n3Kxv+lUSDSD12CcE+bvl+GmnMvLZ6zOx/2VmN2fkMQw+SOFOYflnUM9TQoNj2NdPXc7+Hp8uv0od/g=='
                class='apbct-email-encoder'
                title='This contact has been encoded by Anti-Spam by CleanTalk. Click to decode. To finish the decoding make sure that JavaScript is enabled in your browser.'>10<span class="apbct-blur">****************************</span>@<span class="apbct-blur">***************</span>wi.us</span>
SUMMARY:Homecoming Week
DESCRIPTION:
URL:https://www.milton.k12.wi.us/event/homecoming-week/
CATEGORIES:District
END:VEVENT
BEGIN:VEVENT
DTSTART;TZID=America/Chicago:20250926T170000
DTEND;TZID=America/Chicago:20250926T190000
DTSTAMP:20260424T135311
CREATED:20250813T183900Z
LAST-MODIFIED:20250926T223735Z
UID:<span 
                data-original-string='w4sBI4f6mVkjwmTKniDZ/w==3861YlixW/zzamfp2pIeUC+VhQ+FDdcvoaygMsWLz/p5ybP7c2ruNYC8FlUpTll9upy4dljA9QpNwHQhdf4zRvzJA=='
                class='apbct-email-encoder'
                title='This contact has been encoded by Anti-Spam by CleanTalk. Click to decode. To finish the decoding make sure that JavaScript is enabled in your browser.'>10<span class="apbct-blur">****************************</span>@<span class="apbct-blur">***************</span>wi.us</span>
SUMMARY:Rec Night
DESCRIPTION:
URL:https://www.milton.k12.wi.us/event/rec-night/
CATEGORIES:Milton Middle School
END:VEVENT
BEGIN:VEVENT
DTSTART;VALUE=DATE:20250926
DTEND;VALUE=DATE:20250927
DTSTAMP:20260424T135311
CREATED:20250912T130745Z
LAST-MODIFIED:20250926T212353Z
UID:<span 
                data-original-string='9owxuQPsZNMgktkbFc8moA==386qixQGLDbuA0jSs/zXxERv1YbICo2QYnMSRTO28pnp2uc8z7qDoKxmDGHMli3t+f+SCcvQahm/jCRKTU7qD/SAQ=='
                class='apbct-email-encoder'
                title='This contact has been encoded by Anti-Spam by CleanTalk. Click to decode. To finish the decoding make sure that JavaScript is enabled in your browser.'>10<span class="apbct-blur">****************************</span>@<span class="apbct-blur">***************</span>wi.us</span>
SUMMARY:DAY 1
DESCRIPTION:
URL:https://www.milton.k12.wi.us/event/day-1-31/
CATEGORIES:Northside Intermediate
END:VEVENT
BEGIN:VEVENT
DTSTART;VALUE=DATE:20250925
DTEND;VALUE=DATE:20250926
DTSTAMP:20260424T135311
CREATED:20250912T130745Z
LAST-MODIFIED:20250925T212239Z
UID:<span 
                data-original-string='VMMPxMIjibvFVz/sDT5nLw==386walNPaMkJn1sNuMSyDdCFgaL/tw33VTrX0VnAWFZhWDzjbItGbzjuCdJfbxtlFNFYSLmXXntg3ro5Zt/OpVDIw=='
                class='apbct-email-encoder'
                title='This contact has been encoded by Anti-Spam by CleanTalk. Click to decode. To finish the decoding make sure that JavaScript is enabled in your browser.'>10<span class="apbct-blur">****************************</span>@<span class="apbct-blur">***************</span>wi.us</span>
SUMMARY:DAY 6
DESCRIPTION:
URL:https://www.milton.k12.wi.us/event/day-6-29/
CATEGORIES:Northside Intermediate
END:VEVENT
BEGIN:VEVENT
DTSTART;TZID=America/Chicago:20250924T183000
DTEND;TZID=America/Chicago:20250924T193000
DTSTAMP:20260424T135311
CREATED:20250909T080735Z
LAST-MODIFIED:20250924T235221Z
UID:<span 
                data-original-string='Ow7gDnOUSSaMpDLotZ+ExA==3863MY6eVGs+RXk2RGqfPr1lpTHNtn4AtZC20YoM5xKKgVLz7lsOdI747T5g1z5MvVVLqSRg1MdKeiDusq3bzLXFw=='
                class='apbct-email-encoder'
                title='This contact has been encoded by Anti-Spam by CleanTalk. Click to decode. To finish the decoding make sure that JavaScript is enabled in your browser.'>10<span class="apbct-blur">****************************</span>@<span class="apbct-blur">***************</span>wi.us</span>
SUMMARY:Finance Committee
DESCRIPTION:
URL:https://www.milton.k12.wi.us/event/finance-committee-5/
CATEGORIES:District
END:VEVENT
BEGIN:VEVENT
DTSTART;TZID=America/Chicago:20250924T154500
DTEND;TZID=America/Chicago:20250924T164500
DTSTAMP:20260424T135311
CREATED:20250909T080734Z
LAST-MODIFIED:20250924T195248Z
UID:<span 
                data-original-string='zV8rG394vdhJBsSw0hNvhg==386c4mX0fpjj9NMOv48/K278qRp9+WxLnbnEixMLLSeSbVYz7Ann/apvytOqfMQulq2qnYyDjSUU1sDLJhJBhtZDg=='
                class='apbct-email-encoder'
                title='This contact has been encoded by Anti-Spam by CleanTalk. Click to decode. To finish the decoding make sure that JavaScript is enabled in your browser.'>10<span class="apbct-blur">****************************</span>@<span class="apbct-blur">***************</span>wi.us</span>
SUMMARY:HR Committee
DESCRIPTION:
URL:https://www.milton.k12.wi.us/event/hr-committee-5/
CATEGORIES:District
END:VEVENT
BEGIN:VEVENT
DTSTART;VALUE=DATE:20250924
DTEND;VALUE=DATE:20250925
DTSTAMP:20260424T135311
CREATED:20250912T130741Z
LAST-MODIFIED:20250924T212527Z
UID:<span 
                data-original-string='EYgXoRXRxr+6fqgENHVZFg==386vyuVPZ+oHWKNUFrv9Q8vgXrBEVvYzNMVisrGtIG+0nu3kUErXx55U/ZNMBnLzUk4/kcloGsTSFBHHS0vs+wFKQ=='
                class='apbct-email-encoder'
                title='This contact has been encoded by Anti-Spam by CleanTalk. Click to decode. To finish the decoding make sure that JavaScript is enabled in your browser.'>10<span class="apbct-blur">****************************</span>@<span class="apbct-blur">***************</span>wi.us</span>
SUMMARY:DAY 5
DESCRIPTION:
URL:https://www.milton.k12.wi.us/event/day-5-28/
CATEGORIES:Northside Intermediate
END:VEVENT
BEGIN:VEVENT
DTSTART;VALUE=DATE:20250923
DTEND;VALUE=DATE:20250924
DTSTAMP:20260424T135311
CREATED:20250912T130740Z
LAST-MODIFIED:20250923T212245Z
UID:<span 
                data-original-string='2rksbgJ1Ax21rjL6I40amQ==386/rjSK3CnfMJZvZhNkqFMYf/Epzt6eW063fPm6U8iq47hVxxXjOsbrfCa0fEUA3SwZm7twJgLNj8nsyTB5at92A=='
                class='apbct-email-encoder'
                title='This contact has been encoded by Anti-Spam by CleanTalk. Click to decode. To finish the decoding make sure that JavaScript is enabled in your browser.'>10<span class="apbct-blur">****************************</span>@<span class="apbct-blur">***************</span>wi.us</span>
SUMMARY:DAY 4
DESCRIPTION:
URL:https://www.milton.k12.wi.us/event/day-4-29/
CATEGORIES:Northside Intermediate
END:VEVENT
END:VCALENDAR