BEGIN:VCALENDAR
VERSION:2.0
PRODID:-//School District of Milton - ECPv6.15.20//NONSGML v1.0//EN
CALSCALE:GREGORIAN
METHOD:PUBLISH
X-ORIGINAL-URL:https://www.milton.k12.wi.us
X-WR-CALDESC:Events for School District of Milton
REFRESH-INTERVAL;VALUE=DURATION:PT1H
X-Robots-Tag:noindex
X-PUBLISHED-TTL:PT1H
BEGIN:VTIMEZONE
TZID:America/Chicago
BEGIN:DAYLIGHT
TZOFFSETFROM:-0600
TZOFFSETTO:-0500
TZNAME:CDT
DTSTART:20240310T080000
END:DAYLIGHT
BEGIN:STANDARD
TZOFFSETFROM:-0500
TZOFFSETTO:-0600
TZNAME:CST
DTSTART:20241103T070000
END:STANDARD
BEGIN:DAYLIGHT
TZOFFSETFROM:-0600
TZOFFSETTO:-0500
TZNAME:CDT
DTSTART:20250309T080000
END:DAYLIGHT
BEGIN:STANDARD
TZOFFSETFROM:-0500
TZOFFSETTO:-0600
TZNAME:CST
DTSTART:20251102T070000
END:STANDARD
BEGIN:DAYLIGHT
TZOFFSETFROM:-0600
TZOFFSETTO:-0500
TZNAME:CDT
DTSTART:20260308T080000
END:DAYLIGHT
BEGIN:STANDARD
TZOFFSETFROM:-0500
TZOFFSETTO:-0600
TZNAME:CST
DTSTART:20261101T070000
END:STANDARD
END:VTIMEZONE
BEGIN:VEVENT
DTSTART;VALUE=DATE:20250905
DTEND;VALUE=DATE:20250906
DTSTAMP:20260420T071046
CREATED:20250904T162432Z
LAST-MODIFIED:20250905T211228Z
UID:<span 
                data-original-string='skSebAdEnmqAvaFirlRAmg==386x2PX6gTRNgdXHIr8git33W8AOus4aoZhaG6arnf0JAuz4/vraTm/9lyqBSL39wWWgRyXBN8Y4nGWFzxR1zxsyQ=='
                class='apbct-email-encoder'
                title='This contact has been encoded by Anti-Spam by CleanTalk. Click to decode. To finish the decoding make sure that JavaScript is enabled in your browser.'>10<span class="apbct-blur">****************************</span>@<span class="apbct-blur">***************</span>wi.us</span>
SUMMARY:NIS: DAY 4
DESCRIPTION:
URL:https://www.milton.k12.wi.us/event/nis-day-4/
CATEGORIES:Northside Intermediate
END:VEVENT
BEGIN:VEVENT
DTSTART;VALUE=DATE:20250908
DTEND;VALUE=DATE:20250909
DTSTAMP:20260420T071046
CREATED:20250904T162433Z
LAST-MODIFIED:20250908T212508Z
UID:<span 
                data-original-string='BcXGI9NHw11t5MiIR1KZLQ==386ElpjzxnY8jIv9jURmzED/g3SbgYy0CoQOq2N9riG5F95XhL3F5bDEgCm0LqtvU0YCMgPzqsAcM/V1SSX5oh8uw=='
                class='apbct-email-encoder'
                title='This contact has been encoded by Anti-Spam by CleanTalk. Click to decode. To finish the decoding make sure that JavaScript is enabled in your browser.'>10<span class="apbct-blur">****************************</span>@<span class="apbct-blur">***************</span>wi.us</span>
SUMMARY:NIS: DAY 5
DESCRIPTION:
URL:https://www.milton.k12.wi.us/event/nis-day-5/
CATEGORIES:Northside Intermediate
END:VEVENT
BEGIN:VEVENT
DTSTART;VALUE=DATE:20250909
DTEND;VALUE=DATE:20250910
DTSTAMP:20260420T071046
CREATED:20250904T162434Z
LAST-MODIFIED:20250909T212858Z
UID:<span 
                data-original-string='UIa7AwYbzaU7KR4aV49+3Q==3862tT7qfQFpDaCxUlA92MOvmQWxyYoBiTILYMmLKTjTWisRB1GmgnEssoCFcFl5IE/bjj6ifzau+b+28MLDyarSQ=='
                class='apbct-email-encoder'
                title='This contact has been encoded by Anti-Spam by CleanTalk. Click to decode. To finish the decoding make sure that JavaScript is enabled in your browser.'>10<span class="apbct-blur">****************************</span>@<span class="apbct-blur">***************</span>wi.us</span>
SUMMARY:NIS: DAY 6
DESCRIPTION:
URL:https://www.milton.k12.wi.us/event/nis-day-6/
CATEGORIES:Northside Intermediate
END:VEVENT
BEGIN:VEVENT
DTSTART;VALUE=DATE:20250910
DTEND;VALUE=DATE:20250911
DTSTAMP:20260420T071046
CREATED:20250904T162435Z
LAST-MODIFIED:20250910T212636Z
UID:<span 
                data-original-string='yeGjI/g8NCya+o4HbgTqeQ==386qc5PM9ZplXDGyUDhRnuLI/Jdgk1w8jWyvISLOK2k3EbiQLyRDI7CI+FUVI0JWk9YykfukaBms2uS44bDhJuO2g=='
                class='apbct-email-encoder'
                title='This contact has been encoded by Anti-Spam by CleanTalk. Click to decode. To finish the decoding make sure that JavaScript is enabled in your browser.'>10<span class="apbct-blur">****************************</span>@<span class="apbct-blur">***************</span>wi.us</span>
SUMMARY:NIS: DAY 1
DESCRIPTION:
URL:https://www.milton.k12.wi.us/event/nis-day-1/
CATEGORIES:Northside Intermediate
END:VEVENT
BEGIN:VEVENT
DTSTART;VALUE=DATE:20250911
DTEND;VALUE=DATE:20250912
DTSTAMP:20260420T071046
CREATED:20250904T162436Z
LAST-MODIFIED:20250911T213020Z
UID:<span 
                data-original-string='/BvSpOF+2nIcxzMyVAgqIQ==386UOb7jpLxdS5MVJXOY/MkeCMPLoTLq13IykVP0suCBL7papzH5CvwvBrOOohdP3hF1SynBegh8VUCRkUym9VXjw=='
                class='apbct-email-encoder'
                title='This contact has been encoded by Anti-Spam by CleanTalk. Click to decode. To finish the decoding make sure that JavaScript is enabled in your browser.'>10<span class="apbct-blur">****************************</span>@<span class="apbct-blur">***************</span>wi.us</span>
SUMMARY:NIS: DAY 2
DESCRIPTION:
URL:https://www.milton.k12.wi.us/event/nis-day-2/
CATEGORIES:Northside Intermediate
END:VEVENT
BEGIN:VEVENT
DTSTART;VALUE=DATE:20250912
DTEND;VALUE=DATE:20250913
DTSTAMP:20260420T071046
CREATED:20250904T162500Z
LAST-MODIFIED:20250912T213944Z
UID:<span 
                data-original-string='csIB3FbTBfk2OX8OoSCeLA==386PFkRgHFGweWs//0ghfE9qXVCeb2aFHQN4q9+GgAXB5k74WqfHpsV/z6OW35PJE3SoldHwgXVez7cUtA7XtkGHQ=='
                class='apbct-email-encoder'
                title='This contact has been encoded by Anti-Spam by CleanTalk. Click to decode. To finish the decoding make sure that JavaScript is enabled in your browser.'>10<span class="apbct-blur">****************************</span>@<span class="apbct-blur">***************</span>wi.us</span>
SUMMARY:NIS: DAY 3
DESCRIPTION:
URL:https://www.milton.k12.wi.us/event/nis-day-3/
CATEGORIES:Northside Intermediate
END:VEVENT
BEGIN:VEVENT
DTSTART;VALUE=DATE:20250915
DTEND;VALUE=DATE:20250916
DTSTAMP:20260420T071046
CREATED:20250904T162501Z
LAST-MODIFIED:20250915T212842Z
UID:<span 
                data-original-string='7t7Jlg+qXUS62ZZdYoOJdw==386G3v+oqk29HpwXItXojNmbgLalqF3aYt6vTONKrhC+J+jPsrYXh3EOZ0u7YI8GB8kTV12XaGS+UGxYB5nNRzNAg=='
                class='apbct-email-encoder'
                title='This contact has been encoded by Anti-Spam by CleanTalk. Click to decode. To finish the decoding make sure that JavaScript is enabled in your browser.'>10<span class="apbct-blur">****************************</span>@<span class="apbct-blur">***************</span>wi.us</span>
SUMMARY:NIS: DAY 4
DESCRIPTION:
URL:https://www.milton.k12.wi.us/event/nis-day-4-2/
CATEGORIES:Northside Intermediate
END:VEVENT
BEGIN:VEVENT
DTSTART;VALUE=DATE:20250916
DTEND;VALUE=DATE:20250917
DTSTAMP:20260420T071046
CREATED:20250904T162501Z
LAST-MODIFIED:20250916T212646Z
UID:<span 
                data-original-string='bgdcTE5ziuMYp9/ykPjn6g==386OVFa/d9TDSzCPpJc5NRVBuLTkeGO3wLgYd9S8GTFwduOEqXVXfi7bpApDE1+zT7ZYmGCNbaCqJ1SjqV12j1Dyw=='
                class='apbct-email-encoder'
                title='This contact has been encoded by Anti-Spam by CleanTalk. Click to decode. To finish the decoding make sure that JavaScript is enabled in your browser.'>10<span class="apbct-blur">****************************</span>@<span class="apbct-blur">***************</span>wi.us</span>
SUMMARY:NIS: DAY 5
DESCRIPTION:
URL:https://www.milton.k12.wi.us/event/nis-day-5-2/
CATEGORIES:Northside Intermediate
END:VEVENT
BEGIN:VEVENT
DTSTART;TZID=America/Chicago:20250916T180000
DTEND;TZID=America/Chicago:20250916T190000
DTSTAMP:20260420T071046
CREATED:20240823T224235Z
LAST-MODIFIED:20250916T212645Z
UID:<span 
                data-original-string='eWeFg5XoXubfOquruKpAXg==386Vo8rFgteFyKhy7So5OeAiQTa4Ep/utWAqSnPjKNnJJvLVHVGVkSGqL1oWf70zL1SeRl5PWJY8N0+Ik6TrQJ8bA=='
                class='apbct-email-encoder'
                title='This contact has been encoded by Anti-Spam by CleanTalk. Click to decode. To finish the decoding make sure that JavaScript is enabled in your browser.'>10<span class="apbct-blur">****************************</span>@<span class="apbct-blur">***************</span>wi.us</span>
SUMMARY:FON Meeting
DESCRIPTION:
URL:https://www.milton.k12.wi.us/event/fon-meeting-13/
CATEGORIES:Northside Intermediate
END:VEVENT
BEGIN:VEVENT
DTSTART;VALUE=DATE:20250917
DTEND;VALUE=DATE:20250918
DTSTAMP:20260420T071046
CREATED:20250904T162503Z
LAST-MODIFIED:20250917T213732Z
UID:<span 
                data-original-string='4gWhIFQdLD8Dd1/WrB8mZg==386cEuML6iJO3ZCA6ejCWubT7tUcHhlfj0iJ8sjgGadUNdG4eBG+XkdTCluC8QLnJkD3wedBX4wwmddtxo0S5igHw=='
                class='apbct-email-encoder'
                title='This contact has been encoded by Anti-Spam by CleanTalk. Click to decode. To finish the decoding make sure that JavaScript is enabled in your browser.'>10<span class="apbct-blur">****************************</span>@<span class="apbct-blur">***************</span>wi.us</span>
SUMMARY:NIS: DAY 6
DESCRIPTION:
URL:https://www.milton.k12.wi.us/event/nis-day-6-2/
CATEGORIES:Northside Intermediate
END:VEVENT
BEGIN:VEVENT
DTSTART;VALUE=DATE:20250918
DTEND;VALUE=DATE:20250919
DTSTAMP:20260420T071046
CREATED:20250904T162533Z
LAST-MODIFIED:20250918T212435Z
UID:<span 
                data-original-string='AN+2TYlg9N9nJE2BF4urkQ==386++exiNn4Z9+3CoozCyc0PoFibtSq+pDsgS9fWIZC9R4UzY71bUmGpsJLlrUrd493/BCaWwOtmGz6GBMyzT/VJw=='
                class='apbct-email-encoder'
                title='This contact has been encoded by Anti-Spam by CleanTalk. Click to decode. To finish the decoding make sure that JavaScript is enabled in your browser.'>10<span class="apbct-blur">****************************</span>@<span class="apbct-blur">***************</span>wi.us</span>
SUMMARY:NIS: DAY 1
DESCRIPTION:
URL:https://www.milton.k12.wi.us/event/nis-day-1-2/
CATEGORIES:Northside Intermediate
END:VEVENT
BEGIN:VEVENT
DTSTART;VALUE=DATE:20250919
DTEND;VALUE=DATE:20250920
DTSTAMP:20260420T071046
CREATED:20250904T162533Z
LAST-MODIFIED:20250919T212804Z
UID:<span 
                data-original-string='4k8Bc7GeVCJyB4FniSm2VQ==386E0dOneEGUPHWy36GH/o9+k2jhrGgqCw3p2wCJ6qjJCqWEHfZDiEaiO16rGAzY7vXN7thXCGCqVooeVQ74FBeWQ=='
                class='apbct-email-encoder'
                title='This contact has been encoded by Anti-Spam by CleanTalk. Click to decode. To finish the decoding make sure that JavaScript is enabled in your browser.'>10<span class="apbct-blur">****************************</span>@<span class="apbct-blur">***************</span>wi.us</span>
SUMMARY:NIS: DAY 2
DESCRIPTION:
URL:https://www.milton.k12.wi.us/event/nis-day-2-2/
CATEGORIES:Northside Intermediate
END:VEVENT
BEGIN:VEVENT
DTSTART;VALUE=DATE:20250922
DTEND;VALUE=DATE:20250923
DTSTAMP:20260420T071046
CREATED:20250912T130741Z
LAST-MODIFIED:20250922T212532Z
UID:<span 
                data-original-string='5Lz3qmYAD+rH6dmZBhYXNg==386BCeEfWvnniPdBpXRggygFATjD0M/YEveO9oP+6JbAuwRrFVGRQexHCLy/6oSsz76QLNrWZO8m+CqABwIVQxO3Q=='
                class='apbct-email-encoder'
                title='This contact has been encoded by Anti-Spam by CleanTalk. Click to decode. To finish the decoding make sure that JavaScript is enabled in your browser.'>10<span class="apbct-blur">****************************</span>@<span class="apbct-blur">***************</span>wi.us</span>
SUMMARY:DAY 3
DESCRIPTION:
URL:https://www.milton.k12.wi.us/event/day-3-29/
CATEGORIES:Northside Intermediate
END:VEVENT
BEGIN:VEVENT
DTSTART;VALUE=DATE:20250923
DTEND;VALUE=DATE:20250924
DTSTAMP:20260420T071046
CREATED:20250912T130740Z
LAST-MODIFIED:20250923T212245Z
UID:<span 
                data-original-string='fzvvNSD3MLtfW8hwQ6vqwQ==386faBi3LXUt4b3x3iCI/V6EDEdwihrs+SEp+4A2LTTjHV/UOjCSyf4Sh/Rh5D/w2OmlETHoJbUY0UnBOZ9JWZnvg=='
                class='apbct-email-encoder'
                title='This contact has been encoded by Anti-Spam by CleanTalk. Click to decode. To finish the decoding make sure that JavaScript is enabled in your browser.'>10<span class="apbct-blur">****************************</span>@<span class="apbct-blur">***************</span>wi.us</span>
SUMMARY:DAY 4
DESCRIPTION:
URL:https://www.milton.k12.wi.us/event/day-4-29/
CATEGORIES:Northside Intermediate
END:VEVENT
BEGIN:VEVENT
DTSTART;VALUE=DATE:20250924
DTEND;VALUE=DATE:20250925
DTSTAMP:20260420T071046
CREATED:20250912T130741Z
LAST-MODIFIED:20250924T212527Z
UID:<span 
                data-original-string='WI6ryleivKj9KYIsL+hB4A==3869dN+7bNEH7GfypNQA9LlylqifmoJt4ok7Z+pU7j6SRMhtQm86BR1GXrVYvB/XXRVNHompmArMpgpavVdclTvTQ=='
                class='apbct-email-encoder'
                title='This contact has been encoded by Anti-Spam by CleanTalk. Click to decode. To finish the decoding make sure that JavaScript is enabled in your browser.'>10<span class="apbct-blur">****************************</span>@<span class="apbct-blur">***************</span>wi.us</span>
SUMMARY:DAY 5
DESCRIPTION:
URL:https://www.milton.k12.wi.us/event/day-5-28/
CATEGORIES:Northside Intermediate
END:VEVENT
BEGIN:VEVENT
DTSTART;VALUE=DATE:20250925
DTEND;VALUE=DATE:20250926
DTSTAMP:20260420T071046
CREATED:20250912T130745Z
LAST-MODIFIED:20250925T212239Z
UID:<span 
                data-original-string='Btm9YrTlmig+dK4UYrJyEA==386yZL8SuQJ1Odms7k11TA37jaX9XrF/TAJ0WUtN+ILDS6MacG1AomSj9kI+tgvr8Dk8IInBsELszoA9POcWjecLw=='
                class='apbct-email-encoder'
                title='This contact has been encoded by Anti-Spam by CleanTalk. Click to decode. To finish the decoding make sure that JavaScript is enabled in your browser.'>10<span class="apbct-blur">****************************</span>@<span class="apbct-blur">***************</span>wi.us</span>
SUMMARY:DAY 6
DESCRIPTION:
URL:https://www.milton.k12.wi.us/event/day-6-29/
CATEGORIES:Northside Intermediate
END:VEVENT
BEGIN:VEVENT
DTSTART;VALUE=DATE:20250926
DTEND;VALUE=DATE:20250927
DTSTAMP:20260420T071046
CREATED:20250912T130745Z
LAST-MODIFIED:20250926T212353Z
UID:<span 
                data-original-string='+6tPJxf1/uGzZW9Sre8kyQ==386mUos+d9X2FkXgUMXvVpH3MkK3AUlPq9OGWYJDimt7MgHlUw70OG/oJnsYlvVz5zYsQpAjhVg5GAXxrG1qLMAqQ=='
                class='apbct-email-encoder'
                title='This contact has been encoded by Anti-Spam by CleanTalk. Click to decode. To finish the decoding make sure that JavaScript is enabled in your browser.'>10<span class="apbct-blur">****************************</span>@<span class="apbct-blur">***************</span>wi.us</span>
SUMMARY:DAY 1
DESCRIPTION:
URL:https://www.milton.k12.wi.us/event/day-1-31/
CATEGORIES:Northside Intermediate
END:VEVENT
BEGIN:VEVENT
DTSTART;VALUE=DATE:20250929
DTEND;VALUE=DATE:20250930
DTSTAMP:20260420T071046
CREATED:20250922T195316Z
LAST-MODIFIED:20250929T213742Z
UID:<span 
                data-original-string='n3IpZwBrf72VorJ31RVkBw==386wexCZkNKxcE6cZIj39Lpl+exLK3VmF018d3vedW/5AG44xkjDiHYROq6KGuIyubr0cYfR4m8fmfTqtjiyxEqig=='
                class='apbct-email-encoder'
                title='This contact has been encoded by Anti-Spam by CleanTalk. Click to decode. To finish the decoding make sure that JavaScript is enabled in your browser.'>10<span class="apbct-blur">****************************</span>@<span class="apbct-blur">***************</span>wi.us</span>
SUMMARY:DAY 2
DESCRIPTION:
URL:https://www.milton.k12.wi.us/event/day-2-29/
CATEGORIES:Northside Intermediate
END:VEVENT
BEGIN:VEVENT
DTSTART;VALUE=DATE:20250930
DTEND;VALUE=DATE:20251001
DTSTAMP:20260420T071046
CREATED:20250922T195317Z
LAST-MODIFIED:20250930T214128Z
UID:<span 
                data-original-string='odjsJ5XuS9q5vHsKYJEAdQ==386i24n70z2Ni6+tWRZu2esofb75K4m4no25WIvcP++x6uzfJJf4W0GwNmhGNm300yrcKJFtpFO2g1OQLsqyVrA+w=='
                class='apbct-email-encoder'
                title='This contact has been encoded by Anti-Spam by CleanTalk. Click to decode. To finish the decoding make sure that JavaScript is enabled in your browser.'>10<span class="apbct-blur">****************************</span>@<span class="apbct-blur">***************</span>wi.us</span>
SUMMARY:DAY 3
DESCRIPTION:
URL:https://www.milton.k12.wi.us/event/day-3-30/
CATEGORIES:Northside Intermediate
END:VEVENT
END:VCALENDAR