BEGIN:VCALENDAR
VERSION:2.0
PRODID:-//School District of Milton - ECPv6.15.20//NONSGML v1.0//EN
CALSCALE:GREGORIAN
METHOD:PUBLISH
X-ORIGINAL-URL:https://www.milton.k12.wi.us
X-WR-CALDESC:Events for School District of Milton
REFRESH-INTERVAL;VALUE=DURATION:PT1H
X-Robots-Tag:noindex
X-PUBLISHED-TTL:PT1H
BEGIN:VTIMEZONE
TZID:America/Chicago
BEGIN:DAYLIGHT
TZOFFSETFROM:-0600
TZOFFSETTO:-0500
TZNAME:CDT
DTSTART:20260308T080000
END:DAYLIGHT
BEGIN:STANDARD
TZOFFSETFROM:-0500
TZOFFSETTO:-0600
TZNAME:CST
DTSTART:20261101T070000
END:STANDARD
BEGIN:DAYLIGHT
TZOFFSETFROM:-0600
TZOFFSETTO:-0500
TZNAME:CDT
DTSTART:20270314T080000
END:DAYLIGHT
BEGIN:STANDARD
TZOFFSETFROM:-0500
TZOFFSETTO:-0600
TZNAME:CST
DTSTART:20271107T070000
END:STANDARD
BEGIN:DAYLIGHT
TZOFFSETFROM:-0600
TZOFFSETTO:-0500
TZNAME:CDT
DTSTART:20280312T080000
END:DAYLIGHT
BEGIN:STANDARD
TZOFFSETFROM:-0500
TZOFFSETTO:-0600
TZNAME:CST
DTSTART:20281105T070000
END:STANDARD
BEGIN:DAYLIGHT
TZOFFSETFROM:-0600
TZOFFSETTO:-0500
TZNAME:CDT
DTSTART:20290311T080000
END:DAYLIGHT
BEGIN:STANDARD
TZOFFSETFROM:-0500
TZOFFSETTO:-0600
TZNAME:CST
DTSTART:20291104T070000
END:STANDARD
END:VTIMEZONE
BEGIN:VEVENT
DTSTART;TZID=America/Chicago:20270517T180000
DTEND;TZID=America/Chicago:20270517T200000
DTSTAMP:20260424T035346
CREATED:20250517T002742Z
LAST-MODIFIED:20260424T060904Z
UID:<span 
                data-original-string='wlahCoy1Az658Ha9WiM1oA==386QIIlVSHFKy9qRBe4Mpv2LabcrAMSGKqSeh1pacN8IVkbexuaF0EspaF2NFdzGH3FcJnKdF/XOjFBG2Z2qy4XzA=='
                class='apbct-email-encoder'
                title='This contact has been encoded by Anti-Spam by CleanTalk. Click to decode. To finish the decoding make sure that JavaScript is enabled in your browser.'>10<span class="apbct-blur">****************************</span>@<span class="apbct-blur">***************</span>wi.us</span>
SUMMARY:PAWS mtg
DESCRIPTION:
URL:https://www.milton.k12.wi.us/event/paws-mtg-33/
CATEGORIES:Milton West Elementary
END:VEVENT
BEGIN:VEVENT
DTSTART;TZID=America/Chicago:20270621T180000
DTEND;TZID=America/Chicago:20270621T200000
DTSTAMP:20260424T035346
CREATED:20250621T012347Z
LAST-MODIFIED:20260424T060923Z
UID:<span 
                data-original-string='oVQvT5fTEG8Brv4j64XVQQ==3865Z8H0+yckPJklRtNin9NC08r/4yDK7xdEE0IvVrLf614c3CFb4Cqgghxis/nPnFzj3HOInhAzcxsfd8nHbSH2Q=='
                class='apbct-email-encoder'
                title='This contact has been encoded by Anti-Spam by CleanTalk. Click to decode. To finish the decoding make sure that JavaScript is enabled in your browser.'>10<span class="apbct-blur">****************************</span>@<span class="apbct-blur">***************</span>wi.us</span>
SUMMARY:PAWS mtg
DESCRIPTION:
URL:https://www.milton.k12.wi.us/event/paws-mtg-34/
CATEGORIES:Milton West Elementary
END:VEVENT
BEGIN:VEVENT
DTSTART;TZID=America/Chicago:20270719T180000
DTEND;TZID=America/Chicago:20270719T200000
DTSTAMP:20260424T035346
CREATED:20250719T065348Z
LAST-MODIFIED:20260424T060923Z
UID:<span 
                data-original-string='xPU68WQnJNszhD28YPukoA==386faJ6Qy1GTCXLjhKN9k/FuvcGPUd+h9XdtjYDUF7ZkLlRZPpSqKNrhm5yfcK+v/h0SA0RE76laRT+H0GjK7RM6w=='
                class='apbct-email-encoder'
                title='This contact has been encoded by Anti-Spam by CleanTalk. Click to decode. To finish the decoding make sure that JavaScript is enabled in your browser.'>10<span class="apbct-blur">****************************</span>@<span class="apbct-blur">***************</span>wi.us</span>
SUMMARY:PAWS mtg
DESCRIPTION:
URL:https://www.milton.k12.wi.us/event/paws-mtg-35/
CATEGORIES:Milton West Elementary
END:VEVENT
BEGIN:VEVENT
DTSTART;TZID=America/Chicago:20270816T180000
DTEND;TZID=America/Chicago:20270816T200000
DTSTAMP:20260424T035346
CREATED:20250816T071032Z
LAST-MODIFIED:20260424T060924Z
UID:<span 
                data-original-string='9pmAxp7IFYXlz/IZckqHFg==386ls3dAcOY52p4f3JJabjwJscKY5o+Mz2Di3jagD80MMexMOIQsZgNXc7EsGfYVgNNHtmX/cfso+yEzSUUXH/KDQ=='
                class='apbct-email-encoder'
                title='This contact has been encoded by Anti-Spam by CleanTalk. Click to decode. To finish the decoding make sure that JavaScript is enabled in your browser.'>10<span class="apbct-blur">****************************</span>@<span class="apbct-blur">***************</span>wi.us</span>
SUMMARY:PAWS mtg
DESCRIPTION:
URL:https://www.milton.k12.wi.us/event/paws-mtg-36/
CATEGORIES:Milton West Elementary
END:VEVENT
BEGIN:VEVENT
DTSTART;TZID=America/Chicago:20270920T180000
DTEND;TZID=America/Chicago:20270920T200000
DTSTAMP:20260424T035346
CREATED:20250920T083750Z
LAST-MODIFIED:20260424T060924Z
UID:<span 
                data-original-string='AyYbE9jSmhr6O2Sp6iy/dg==386kWjgRw/ETpDp6WDCwqxNevj+hxAbqNl90V4kdrpTZfjdGpKUKof3g1BoOWOds5vnBhAxDze156DfTpzhRyKoHg=='
                class='apbct-email-encoder'
                title='This contact has been encoded by Anti-Spam by CleanTalk. Click to decode. To finish the decoding make sure that JavaScript is enabled in your browser.'>10<span class="apbct-blur">****************************</span>@<span class="apbct-blur">***************</span>wi.us</span>
SUMMARY:PAWS mtg
DESCRIPTION:
URL:https://www.milton.k12.wi.us/event/paws-mtg-37/
CATEGORIES:Milton West Elementary
END:VEVENT
BEGIN:VEVENT
DTSTART;TZID=America/Chicago:20271018T180000
DTEND;TZID=America/Chicago:20271018T200000
DTSTAMP:20260424T035346
CREATED:20251018T095421Z
LAST-MODIFIED:20260424T060925Z
UID:<span 
                data-original-string='j1+EpkK21erE5yDVPQBdng==386hYXMXeexT08TuIEQIWVqUIcLPwx57C/dQu4u4o6r7U1NSHG/980rJyn+eNyWhDoSOtow/ZdRK940o0bc9/XPxQ=='
                class='apbct-email-encoder'
                title='This contact has been encoded by Anti-Spam by CleanTalk. Click to decode. To finish the decoding make sure that JavaScript is enabled in your browser.'>10<span class="apbct-blur">****************************</span>@<span class="apbct-blur">***************</span>wi.us</span>
SUMMARY:PAWS mtg
DESCRIPTION:
URL:https://www.milton.k12.wi.us/event/paws-mtg-38/
CATEGORIES:Milton West Elementary
END:VEVENT
BEGIN:VEVENT
DTSTART;TZID=America/Chicago:20271115T180000
DTEND;TZID=America/Chicago:20271115T200000
DTSTAMP:20260424T035346
CREATED:20251116T102307Z
LAST-MODIFIED:20260424T060930Z
UID:<span 
                data-original-string='TuyXE5svrwNQR+PPawTyMw==386bzrIgdaK3zmTv1jMmUqEo/ifl789QQnEBNv/PRSnUH2Eb7SEfyVtyWnYYedDSZ3kPPH7fGa6rrIQoJtvjwRiCg=='
                class='apbct-email-encoder'
                title='This contact has been encoded by Anti-Spam by CleanTalk. Click to decode. To finish the decoding make sure that JavaScript is enabled in your browser.'>10<span class="apbct-blur">****************************</span>@<span class="apbct-blur">***************</span>wi.us</span>
SUMMARY:PAWS mtg
DESCRIPTION:
URL:https://www.milton.k12.wi.us/event/paws-mtg-39/
CATEGORIES:Milton West Elementary
END:VEVENT
BEGIN:VEVENT
DTSTART;TZID=America/Chicago:20271220T180000
DTEND;TZID=America/Chicago:20271220T200000
DTSTAMP:20260424T035346
CREATED:20251221T105402Z
LAST-MODIFIED:20260424T060931Z
UID:<span 
                data-original-string='u1vAqc1b3QXSuG+pw2qt7g==386Kb2DNaqPCaiaTl3vTDtAy3XGT2v6mNyeqGcc9x3lEPRu17Avu6bcUDdiDvoxSU4xXkwFHBkcEFMty0hBS/mhqA=='
                class='apbct-email-encoder'
                title='This contact has been encoded by Anti-Spam by CleanTalk. Click to decode. To finish the decoding make sure that JavaScript is enabled in your browser.'>10<span class="apbct-blur">****************************</span>@<span class="apbct-blur">***************</span>wi.us</span>
SUMMARY:PAWS mtg
DESCRIPTION:
URL:https://www.milton.k12.wi.us/event/paws-mtg-40/
CATEGORIES:Milton West Elementary
END:VEVENT
BEGIN:VEVENT
DTSTART;TZID=America/Chicago:20280117T180000
DTEND;TZID=America/Chicago:20280117T200000
DTSTAMP:20260424T035346
CREATED:20260118T120813Z
LAST-MODIFIED:20260424T060931Z
UID:<span 
                data-original-string='htRaoy3jFLidHXImOoJeLQ==386SSGwwdXxRM3QoJGtXU6z4pTeVxP0uvCqQJMNo+8mW7YlZmVcpEcKbqxrgjROrdalNh1H8oO5T6kfnsqiYriYxw=='
                class='apbct-email-encoder'
                title='This contact has been encoded by Anti-Spam by CleanTalk. Click to decode. To finish the decoding make sure that JavaScript is enabled in your browser.'>10<span class="apbct-blur">****************************</span>@<span class="apbct-blur">***************</span>wi.us</span>
SUMMARY:PAWS mtg
DESCRIPTION:
URL:https://www.milton.k12.wi.us/event/paws-mtg-41/
CATEGORIES:Milton West Elementary
END:VEVENT
BEGIN:VEVENT
DTSTART;TZID=America/Chicago:20280221T180000
DTEND;TZID=America/Chicago:20280221T200000
DTSTAMP:20260424T035346
CREATED:20260222T133921Z
LAST-MODIFIED:20260424T060932Z
UID:<span 
                data-original-string='j4T/W1D6eq4CXTo52TlZvg==386XwPQc3n/2nPTM4DVJlOMqJTthT2qi7w2HazYXo/IDyj1xAJFOZlNHvdZqsAndl6E/xMt17YXwr5juOLhC82sVA=='
                class='apbct-email-encoder'
                title='This contact has been encoded by Anti-Spam by CleanTalk. Click to decode. To finish the decoding make sure that JavaScript is enabled in your browser.'>10<span class="apbct-blur">****************************</span>@<span class="apbct-blur">***************</span>wi.us</span>
SUMMARY:PAWS mtg
DESCRIPTION:
URL:https://www.milton.k12.wi.us/event/paws-mtg-42/
CATEGORIES:Milton West Elementary
END:VEVENT
BEGIN:VEVENT
DTSTART;TZID=America/Chicago:20280320T180000
DTEND;TZID=America/Chicago:20280320T200000
DTSTAMP:20260424T035346
CREATED:20260320T135425Z
LAST-MODIFIED:20260424T060932Z
UID:<span 
                data-original-string='X2AxtC+EAm7/ueZdxpHDeQ==386fI6eLLXUmXjCUjX6G8kq8H9ksG3FLX+iSRrToM/g0aNko9xfA6/Ic3+4MOTn1S/xOmJg2o70WLPEm5IT9NbPFQ=='
                class='apbct-email-encoder'
                title='This contact has been encoded by Anti-Spam by CleanTalk. Click to decode. To finish the decoding make sure that JavaScript is enabled in your browser.'>10<span class="apbct-blur">****************************</span>@<span class="apbct-blur">***************</span>wi.us</span>
SUMMARY:PAWS mtg
DESCRIPTION:
URL:https://www.milton.k12.wi.us/event/paws-mtg-43/
CATEGORIES:Milton West Elementary
END:VEVENT
BEGIN:VEVENT
DTSTART;TZID=America/Chicago:20280417T180000
DTEND;TZID=America/Chicago:20280417T200000
DTSTAMP:20260424T035346
CREATED:20260417T142502Z
LAST-MODIFIED:20260424T060944Z
UID:<span 
                data-original-string='0+3Ng6+HVTOwG7zoZIBbFQ==386gJbOakgotst5IxhZ3sLoYjwCTMzlZ3UvdEs2VLLWt3zj4wmJOQnTM58E0WJmRVFx+ewKpB4cob0BbwlFXQNuTA=='
                class='apbct-email-encoder'
                title='This contact has been encoded by Anti-Spam by CleanTalk. Click to decode. To finish the decoding make sure that JavaScript is enabled in your browser.'>10<span class="apbct-blur">****************************</span>@<span class="apbct-blur">***************</span>wi.us</span>
SUMMARY:PAWS mtg
DESCRIPTION:
URL:https://www.milton.k12.wi.us/event/paws-mtg-44/
CATEGORIES:Milton West Elementary
END:VEVENT
END:VCALENDAR