BEGIN:VCALENDAR
VERSION:2.0
PRODID:-//School District of Milton - ECPv6.15.20//NONSGML v1.0//EN
CALSCALE:GREGORIAN
METHOD:PUBLISH
X-ORIGINAL-URL:https://www.milton.k12.wi.us
X-WR-CALDESC:Events for School District of Milton
REFRESH-INTERVAL;VALUE=DURATION:PT1H
X-Robots-Tag:noindex
X-PUBLISHED-TTL:PT1H
BEGIN:VTIMEZONE
TZID:America/Chicago
BEGIN:DAYLIGHT
TZOFFSETFROM:-0600
TZOFFSETTO:-0500
TZNAME:CDT
DTSTART:20240310T080000
END:DAYLIGHT
BEGIN:STANDARD
TZOFFSETFROM:-0500
TZOFFSETTO:-0600
TZNAME:CST
DTSTART:20241103T070000
END:STANDARD
BEGIN:DAYLIGHT
TZOFFSETFROM:-0600
TZOFFSETTO:-0500
TZNAME:CDT
DTSTART:20250309T080000
END:DAYLIGHT
BEGIN:STANDARD
TZOFFSETFROM:-0500
TZOFFSETTO:-0600
TZNAME:CST
DTSTART:20251102T070000
END:STANDARD
BEGIN:DAYLIGHT
TZOFFSETFROM:-0600
TZOFFSETTO:-0500
TZNAME:CDT
DTSTART:20260308T080000
END:DAYLIGHT
BEGIN:STANDARD
TZOFFSETFROM:-0500
TZOFFSETTO:-0600
TZNAME:CST
DTSTART:20261101T070000
END:STANDARD
BEGIN:DAYLIGHT
TZOFFSETFROM:-0600
TZOFFSETTO:-0500
TZNAME:CDT
DTSTART:20270314T080000
END:DAYLIGHT
BEGIN:STANDARD
TZOFFSETFROM:-0500
TZOFFSETTO:-0600
TZNAME:CST
DTSTART:20271107T070000
END:STANDARD
END:VTIMEZONE
BEGIN:VEVENT
DTSTART;TZID=America/Chicago:20250513T180000
DTEND;TZID=America/Chicago:20250513T190000
DTSTAMP:20260423T165854
CREATED:20240822T004451Z
LAST-MODIFIED:20250513T235411Z
UID:<span 
                data-original-string='UBGyQ4Pv2WtKSjWowrzS1g==386ftOoZkC8QAffLwjd5bJJKhEDyMF7qO6i7QwdPkRjwEJ56vlM3GjVTau2qPLxXEFlRwo5oq9mYXnZAHzKPFfc7A=='
                class='apbct-email-encoder'
                title='This contact has been encoded by Anti-Spam by CleanTalk. Click to decode. To finish the decoding make sure that JavaScript is enabled in your browser.'>10<span class="apbct-blur">****************************</span>@<span class="apbct-blur">***************</span>wi.us</span>
SUMMARY:EES:  MEPG meeting
DESCRIPTION:
URL:https://www.milton.k12.wi.us/event/ees-mepg-meeting-9/
CATEGORIES:Milton East Elementary
END:VEVENT
BEGIN:VEVENT
DTSTART;TZID=America/Chicago:20250516T100000
DTEND;TZID=America/Chicago:20250516T113000
DTSTAMP:20260423T165854
CREATED:20240930T172558Z
LAST-MODIFIED:20250516T120802Z
UID:<span 
                data-original-string='2L458DTQ3qJWwdHq8eXHew==386eaAXD2M2nbZ1U/q26YftsB6Cyz8esly9qAginDbPFJBftlzn37zKZPILaZyEB/uqspaA88kU++n1b2lZupAdnw=='
                class='apbct-email-encoder'
                title='This contact has been encoded by Anti-Spam by CleanTalk. Click to decode. To finish the decoding make sure that JavaScript is enabled in your browser.'>10<span class="apbct-blur">****************************</span>@<span class="apbct-blur">***************</span>wi.us</span>
SUMMARY:EES:  4K Muffin Meetup (AM)
DESCRIPTION:
URL:https://www.milton.k12.wi.us/event/ees-4k-muffin-meetup-am/
CATEGORIES:Milton East Elementary
END:VEVENT
BEGIN:VEVENT
DTSTART;TZID=America/Chicago:20250516T140000
DTEND;TZID=America/Chicago:20250516T153000
DTSTAMP:20260423T165854
CREATED:20240930T172559Z
LAST-MODIFIED:20250516T202237Z
UID:<span 
                data-original-string='Vw+qgrMHhCWrfXqKcjmwCw==386u/4L2JqIti3Yke2BuPU9c+N/C+HqTjJE9Az/FXV3Zh0ZmjldEIB3AULA576CmbWzF2Z/cMN3VXj325S+tVoZ3w=='
                class='apbct-email-encoder'
                title='This contact has been encoded by Anti-Spam by CleanTalk. Click to decode. To finish the decoding make sure that JavaScript is enabled in your browser.'>10<span class="apbct-blur">****************************</span>@<span class="apbct-blur">***************</span>wi.us</span>
SUMMARY:EES:  4K Muffin Meetup (PM)
DESCRIPTION:
URL:https://www.milton.k12.wi.us/event/ees-4k-muffin-meetup-pm/
CATEGORIES:Milton East Elementary
END:VEVENT
BEGIN:VEVENT
DTSTART;VALUE=DATE:20250604
DTEND;VALUE=DATE:20250605
DTSTAMP:20260423T165854
CREATED:20240930T172559Z
LAST-MODIFIED:20250604T224348Z
UID:<span 
                data-original-string='URRaSux1Ao4qOHBHlQxBLw==386pfRv4lwqoxwOKRfE9wXDJTgquQLC04t0e3keG4fhpxgpbHwaWcSR+W8ie7yh+l8+WnwldYSF0ySpuHxfznyhrQ=='
                class='apbct-email-encoder'
                title='This contact has been encoded by Anti-Spam by CleanTalk. Click to decode. To finish the decoding make sure that JavaScript is enabled in your browser.'>10<span class="apbct-blur">****************************</span>@<span class="apbct-blur">***************</span>wi.us</span>
SUMMARY:EES:  4K last day of school
DESCRIPTION:
URL:https://www.milton.k12.wi.us/event/ees-4k-last-day-of-school/
CATEGORIES:Milton East Elementary
END:VEVENT
BEGIN:VEVENT
DTSTART;TZID=America/Chicago:20250605T100000
DTEND;TZID=America/Chicago:20250605T130000
DTSTAMP:20260423T165854
CREATED:20240930T172601Z
LAST-MODIFIED:20250605T142834Z
UID:<span 
                data-original-string='7/wSyuMUHZpoa+ESRAhEww==386QymQ6iBEPBpfbTIDsdbatU/7dIc2BXkcWoex/cZcQrDQaoJ5ow5VJFJjNynZ2WgMb1Sj0Po4NVNL97fZfjHTww=='
                class='apbct-email-encoder'
                title='This contact has been encoded by Anti-Spam by CleanTalk. Click to decode. To finish the decoding make sure that JavaScript is enabled in your browser.'>10<span class="apbct-blur">****************************</span>@<span class="apbct-blur">***************</span>wi.us</span>
SUMMARY:EES:  4K Year End Picnic
DESCRIPTION:
URL:https://www.milton.k12.wi.us/event/ees-4k-year-end-picnic/
CATEGORIES:Milton East Elementary
END:VEVENT
BEGIN:VEVENT
DTSTART;VALUE=DATE:20250728
DTEND;VALUE=DATE:20250729
DTSTAMP:20260423T165854
CREATED:20250611T144440Z
LAST-MODIFIED:20250728T210802Z
UID:<span 
                data-original-string='DfpzIly6ANQZxl1DzOIrJA==386ym0dPhM5xFXI2ubP/CPy3fsbdwqEbwYZJJqiezTh0drZNWLCX5+g4ZAS+q7x12CXxXKGDPW8VO+s1itiZ7xlmg=='
                class='apbct-email-encoder'
                title='This contact has been encoded by Anti-Spam by CleanTalk. Click to decode. To finish the decoding make sure that JavaScript is enabled in your browser.'>10<span class="apbct-blur">****************************</span>@<span class="apbct-blur">***************</span>wi.us</span>
SUMMARY:Online Registration Opens
DESCRIPTION:
URL:https://www.milton.k12.wi.us/event/online-registration-opens/
CATEGORIES:Milton East Elementary
END:VEVENT
BEGIN:VEVENT
DTSTART;VALUE=DATE:20250810
DTEND;VALUE=DATE:20250811
DTSTAMP:20260423T165854
CREATED:20250611T144440Z
LAST-MODIFIED:20250810T213733Z
UID:<span 
                data-original-string='NFzHlALNrX/U1ttc9kpF1A==3865q3t597oFCEClUbgN/gQm3hmZcFkk/TPEv5FgRAy4Ov2lYfaHFmtIxAcJCvLhz8xecLmwlbdpKsngvedvcrrmg=='
                class='apbct-email-encoder'
                title='This contact has been encoded by Anti-Spam by CleanTalk. Click to decode. To finish the decoding make sure that JavaScript is enabled in your browser.'>10<span class="apbct-blur">****************************</span>@<span class="apbct-blur">***************</span>wi.us</span>
SUMMARY:Online Registration Closes
DESCRIPTION:
URL:https://www.milton.k12.wi.us/event/online-registration-closes/
CATEGORIES:Milton East Elementary
END:VEVENT
BEGIN:VEVENT
DTSTART;VALUE=DATE:20250827
DTEND;VALUE=DATE:20250828
DTSTAMP:20260423T165854
CREATED:20250611T144441Z
LAST-MODIFIED:20250827T225246Z
UID:<span 
                data-original-string='Qn5TEm7L6dNxJ9+EsoVDiw==386smWVT3FfhAQEgJEwzLEKdxjukrZD5JF4g1j2sPi8Y1sCQ/MmIcTere9o/XKr4R+poJaXQGYV481WbJgha4WUog=='
                class='apbct-email-encoder'
                title='This contact has been encoded by Anti-Spam by CleanTalk. Click to decode. To finish the decoding make sure that JavaScript is enabled in your browser.'>10<span class="apbct-blur">****************************</span>@<span class="apbct-blur">***************</span>wi.us</span>
SUMMARY:4K-3 & NIS Open House 4PM - 6PM
DESCRIPTION:
URL:https://www.milton.k12.wi.us/event/4k-3-nis-open-house-4pm-6pm/
CATEGORIES:Milton East Elementary
END:VEVENT
BEGIN:VEVENT
DTSTART;VALUE=DATE:20250902
DTEND;VALUE=DATE:20250903
DTSTAMP:20260423T165854
CREATED:20250611T144442Z
LAST-MODIFIED:20250902T230740Z
UID:<span 
                data-original-string='0e2fm4f41q6eVj0kumDkRA==386TJEkcfncfk6u5sDU8+m5qNmN6XJTTqIsm6yvghnLwBZL8DhtJxzfmLvp1iF618AU8fygOq6VDZymkTPg2TXfpg=='
                class='apbct-email-encoder'
                title='This contact has been encoded by Anti-Spam by CleanTalk. Click to decode. To finish the decoding make sure that JavaScript is enabled in your browser.'>10<span class="apbct-blur">****************************</span>@<span class="apbct-blur">***************</span>wi.us</span>
SUMMARY:First Day of School
DESCRIPTION:
URL:https://www.milton.k12.wi.us/event/first-day-of-school-4/
CATEGORIES:Milton East Elementary
END:VEVENT
BEGIN:VEVENT
DTSTART;VALUE=DATE:20250918
DTEND;VALUE=DATE:20250919
DTSTAMP:20260423T165854
CREATED:20250611T144443Z
LAST-MODIFIED:20250918T215247Z
UID:<span 
                data-original-string='pnc5nhlzpkYx4FaWu7WheA==386iHdDd8NhVUvf1HNYYEs7K921f4B1Q1xBY9+6cOoz2tEvMn+7lheBpEAiSddC/MFQ41c2awb3kooFR7Mhes7jpQ=='
                class='apbct-email-encoder'
                title='This contact has been encoded by Anti-Spam by CleanTalk. Click to decode. To finish the decoding make sure that JavaScript is enabled in your browser.'>10<span class="apbct-blur">****************************</span>@<span class="apbct-blur">***************</span>wi.us</span>
SUMMARY:EES Picture Day
DESCRIPTION:
URL:https://www.milton.k12.wi.us/event/ees-picture-day-2/
CATEGORIES:Milton East Elementary
END:VEVENT
BEGIN:VEVENT
DTSTART;VALUE=DATE:20251006
DTEND;VALUE=DATE:20251007
DTSTAMP:20260423T165854
CREATED:20250611T144508Z
LAST-MODIFIED:20251006T223729Z
UID:<span 
                data-original-string='OtIfoRiOvV/JW6VAjAHSWQ==386WEIh4pyoptn9TgbdgNdCj8RCoUjuiQH8UGwwYHHuIhXvJrWoc7TtxOWCnAtQSy85wpznVcq6G1aNR+JKZJsN3w=='
                class='apbct-email-encoder'
                title='This contact has been encoded by Anti-Spam by CleanTalk. Click to decode. To finish the decoding make sure that JavaScript is enabled in your browser.'>10<span class="apbct-blur">****************************</span>@<span class="apbct-blur">***************</span>wi.us</span>
SUMMARY:Virtual Learning Day For Students
DESCRIPTION:
URL:https://www.milton.k12.wi.us/event/virtual-learning-day-for-students/
CATEGORIES:Milton East Elementary
END:VEVENT
BEGIN:VEVENT
DTSTART;TZID=America/Chicago:20251007T160000
DTEND;TZID=America/Chicago:20251007T200000
DTSTAMP:20260423T165854
CREATED:20250611T144509Z
LAST-MODIFIED:20251007T223733Z
UID:<span 
                data-original-string='3Jzz3sFlrDR2hvtGKCcSdw==386/AKxfKeiqkT9VnLo7cP3CSuonQMNe1khZYa4dGHzamMycOTZlUMS+p6Joi1eQtgbIOmBmZ38UBoZOe2M5T/oEg=='
                class='apbct-email-encoder'
                title='This contact has been encoded by Anti-Spam by CleanTalk. Click to decode. To finish the decoding make sure that JavaScript is enabled in your browser.'>10<span class="apbct-blur">****************************</span>@<span class="apbct-blur">***************</span>wi.us</span>
SUMMARY:EES Scoopie Night
DESCRIPTION:
URL:https://www.milton.k12.wi.us/event/ees-scoopie-night-4/
CATEGORIES:Milton East Elementary
END:VEVENT
BEGIN:VEVENT
DTSTART;TZID=America/Chicago:20251022T160000
DTEND;TZID=America/Chicago:20251022T200000
DTSTAMP:20260423T165854
CREATED:20250611T144509Z
LAST-MODIFIED:20251022T231135Z
UID:<span 
                data-original-string='XMeL34Ne1nfnCUqEVU07Dg==386X7wKCDehgAOPtGoyuImSBU6FQogIC2n8fPZfMluTYmhZQkPI29s9rAm6TmglndjjdEb5EHLeS/iPWba1MZR2ag=='
                class='apbct-email-encoder'
                title='This contact has been encoded by Anti-Spam by CleanTalk. Click to decode. To finish the decoding make sure that JavaScript is enabled in your browser.'>10<span class="apbct-blur">****************************</span>@<span class="apbct-blur">***************</span>wi.us</span>
SUMMARY:4K - 3 and NIS Conferences
DESCRIPTION:
URL:https://www.milton.k12.wi.us/event/4k-3-and-nis-conferences/
CATEGORIES:Milton East Elementary
END:VEVENT
BEGIN:VEVENT
DTSTART;VALUE=DATE:20251023
DTEND;VALUE=DATE:20251024
DTSTAMP:20260423T165854
CREATED:20250611T144510Z
LAST-MODIFIED:20251023T230728Z
UID:<span 
                data-original-string='KNtNy8dXjY1EaR3/qkNEZQ==386d/EZ45lvskg7/NVKhdEe4rLaZ/FPiN4T+MhDoEOogZ2STLzD83BBdChvOQZl5crEXvWz9b6x5ng/mH9PSIl5lQ=='
                class='apbct-email-encoder'
                title='This contact has been encoded by Anti-Spam by CleanTalk. Click to decode. To finish the decoding make sure that JavaScript is enabled in your browser.'>10<span class="apbct-blur">****************************</span>@<span class="apbct-blur">***************</span>wi.us</span>
SUMMARY:No School For 4K
DESCRIPTION:
URL:https://www.milton.k12.wi.us/event/no-school-for-4k/
CATEGORIES:Milton East Elementary
END:VEVENT
BEGIN:VEVENT
DTSTART;TZID=America/Chicago:20251023T160000
DTEND;TZID=America/Chicago:20251023T200000
DTSTAMP:20260423T165854
CREATED:20250611T144511Z
LAST-MODIFIED:20251023T230728Z
UID:<span 
                data-original-string='jJh+Nqvkk2+ItsNVVQRWGg==386p978vyzNnZTr6XXotBcRDY7sXOqSOCCGPZpHb/t7Z5ArfRwVcWONV6QsTz+X3/zhJETaxdOyrDkV9tzh/bKtSA=='
                class='apbct-email-encoder'
                title='This contact has been encoded by Anti-Spam by CleanTalk. Click to decode. To finish the decoding make sure that JavaScript is enabled in your browser.'>10<span class="apbct-blur">****************************</span>@<span class="apbct-blur">***************</span>wi.us</span>
SUMMARY:4K - 3 & NIS Conferences
DESCRIPTION:
URL:https://www.milton.k12.wi.us/event/4k-3-nis-conferences/
CATEGORIES:Milton East Elementary
END:VEVENT
BEGIN:VEVENT
DTSTART;VALUE=DATE:20251024
DTEND;VALUE=DATE:20251025
DTSTAMP:20260423T165854
CREATED:20250611T144517Z
LAST-MODIFIED:20251024T230950Z
UID:<span 
                data-original-string='yGqo1bDMCYTBMDcyj/KaLA==386aZF6Il1eot6J9WqNdnCsjY70qL3aJ1++RBliSgXMb/P/5JwdR51/oH5G+fXdZI3kSiomJWmxtirL3lcVfUEoxg=='
                class='apbct-email-encoder'
                title='This contact has been encoded by Anti-Spam by CleanTalk. Click to decode. To finish the decoding make sure that JavaScript is enabled in your browser.'>10<span class="apbct-blur">****************************</span>@<span class="apbct-blur">***************</span>wi.us</span>
SUMMARY:No School
DESCRIPTION:
URL:https://www.milton.k12.wi.us/event/no-school-40/
CATEGORIES:Milton East Elementary
END:VEVENT
BEGIN:VEVENT
DTSTART;VALUE=DATE:20251029
DTEND;VALUE=DATE:20251030
DTSTAMP:20260423T165854
CREATED:20250611T144518Z
LAST-MODIFIED:20251029T210729Z
UID:<span 
                data-original-string='QuGOgmuteo59pDXdfHUcoA==386SLfD4k6wKGGi12jZDugKonE8nBKhx64kNVbDJZ82s86IUeDpv26Kt82aKBVhMhy8PpxUcMfRkND0Cj3KK8lSjQ=='
                class='apbct-email-encoder'
                title='This contact has been encoded by Anti-Spam by CleanTalk. Click to decode. To finish the decoding make sure that JavaScript is enabled in your browser.'>10<span class="apbct-blur">****************************</span>@<span class="apbct-blur">***************</span>wi.us</span>
SUMMARY:EES Picture Retake - Arrive at 8:00 AM; Start at 9:00 AM - 11:00
DESCRIPTION:
URL:https://www.milton.k12.wi.us/event/ees-picture-retake/
CATEGORIES:Milton East Elementary
END:VEVENT
BEGIN:VEVENT
DTSTART;VALUE=DATE:20251117
DTEND;VALUE=DATE:20251118
DTSTAMP:20260423T165854
CREATED:20250611T144518Z
LAST-MODIFIED:20251117T235225Z
UID:<span 
                data-original-string='prkaiJdr5+zjHRcUd6nPpQ==386eoKacQrcEZhK7wa1wJv85/Zb7gogoekZORw/6UcD339ZwxMv57CDkMvuntBGj52xfFjo9BFDsUXlzFMLW6Z16Q=='
                class='apbct-email-encoder'
                title='This contact has been encoded by Anti-Spam by CleanTalk. Click to decode. To finish the decoding make sure that JavaScript is enabled in your browser.'>10<span class="apbct-blur">****************************</span>@<span class="apbct-blur">***************</span>wi.us</span>
SUMMARY:Virtual Learning Day For Students
DESCRIPTION:
URL:https://www.milton.k12.wi.us/event/virtual-learning-day-for-students-2/
CATEGORIES:Milton East Elementary
END:VEVENT
BEGIN:VEVENT
DTSTART;VALUE=DATE:20251126
DTEND;VALUE=DATE:20251129
DTSTAMP:20260423T165854
CREATED:20250611T144519Z
LAST-MODIFIED:20251128T215824Z
UID:<span 
                data-original-string='YZgMSdCajaIzTwhwCX216g==386kdDmI64PrXnat7ismcaTigRUCDCPXIJ6B7RkseYx/+jdYkJVOdSC6jOPnWmnu9jGQJjruD3UMip5TZnY6jbsjg=='
                class='apbct-email-encoder'
                title='This contact has been encoded by Anti-Spam by CleanTalk. Click to decode. To finish the decoding make sure that JavaScript is enabled in your browser.'>10<span class="apbct-blur">****************************</span>@<span class="apbct-blur">***************</span>wi.us</span>
SUMMARY:Thanksgiving Break - No School
DESCRIPTION:
URL:https://www.milton.k12.wi.us/event/thanksgiving-break-no-school-18/
CATEGORIES:Milton East Elementary
END:VEVENT
BEGIN:VEVENT
DTSTART;VALUE=DATE:20251201
DTEND;VALUE=DATE:20251202
DTSTAMP:20260423T165854
CREATED:20250611T144520Z
LAST-MODIFIED:20251201T213736Z
UID:<span 
                data-original-string='S2LpHpsTCPF/1WmRPjEEXw==386Nrz1urunjcnEp9WQJtodBX5hRaB6o1UBlebjzN7fqwNATr1RK10J1s8iAzMYlTkzXMH/I7VzB+in0eHopQ5bxg=='
                class='apbct-email-encoder'
                title='This contact has been encoded by Anti-Spam by CleanTalk. Click to decode. To finish the decoding make sure that JavaScript is enabled in your browser.'>10<span class="apbct-blur">****************************</span>@<span class="apbct-blur">***************</span>wi.us</span>
SUMMARY:Classes Resume
DESCRIPTION:
URL:https://www.milton.k12.wi.us/event/classes-resume-4/
CATEGORIES:Milton East Elementary
END:VEVENT
BEGIN:VEVENT
DTSTART;VALUE=DATE:20251222
DTEND;VALUE=DATE:20260103
DTSTAMP:20260423T165854
CREATED:20250611T144537Z
LAST-MODIFIED:20260102T215318Z
UID:<span 
                data-original-string='wxoMtkjGUfO7f3zQX2tDrw==386cRqoKe55dNpVGwRlYLyn7A+xt10MdCT8ruD3AobimmoDMbDccB8UOx5TCnULbrbXR63jOHfOKWkCOvll0/h4lg=='
                class='apbct-email-encoder'
                title='This contact has been encoded by Anti-Spam by CleanTalk. Click to decode. To finish the decoding make sure that JavaScript is enabled in your browser.'>10<span class="apbct-blur">****************************</span>@<span class="apbct-blur">***************</span>wi.us</span>
SUMMARY:Winter Break No School
DESCRIPTION:
URL:https://www.milton.k12.wi.us/event/winter-break-no-school-33/
CATEGORIES:Milton East Elementary
END:VEVENT
BEGIN:VEVENT
DTSTART;VALUE=DATE:20260105
DTEND;VALUE=DATE:20260106
DTSTAMP:20260423T165854
CREATED:20250611T144538Z
LAST-MODIFIED:20260105T220729Z
UID:<span 
                data-original-string='I3TJSA8kqnVG4ox6OU0Cag==386qPB2cHW5VNeqqAwJSIvhjVZbE7b3BGD1wppxgvaD7fxOq7Um3Rj6EFe7wtNgTh6c70dJ3n9NXyjEpOyxMkzv+A=='
                class='apbct-email-encoder'
                title='This contact has been encoded by Anti-Spam by CleanTalk. Click to decode. To finish the decoding make sure that JavaScript is enabled in your browser.'>10<span class="apbct-blur">****************************</span>@<span class="apbct-blur">***************</span>wi.us</span>
SUMMARY:Classes Resume
DESCRIPTION:
URL:https://www.milton.k12.wi.us/event/classes-resume-5/
CATEGORIES:Milton East Elementary
END:VEVENT
BEGIN:VEVENT
DTSTART;TZID=America/Chicago:20260113T160000
DTEND;TZID=America/Chicago:20260113T200000
DTSTAMP:20260423T165854
CREATED:20250611T203839Z
LAST-MODIFIED:20260113T215423Z
UID:<span 
                data-original-string='Ghf3A9ldEJBGa8B/fjVeNg==386u3/2ev5Fh+rKWbBFuh72xkA3z561PEIY+0Bi9zxkM7Le6MMSlIlPkyXzPUClQsir0U0ioFw57BTo5fCplCV8mQ=='
                class='apbct-email-encoder'
                title='This contact has been encoded by Anti-Spam by CleanTalk. Click to decode. To finish the decoding make sure that JavaScript is enabled in your browser.'>10<span class="apbct-blur">****************************</span>@<span class="apbct-blur">***************</span>wi.us</span>
SUMMARY:EES Scoopie Night
DESCRIPTION:
URL:https://www.milton.k12.wi.us/event/ees-scoopie-night-5/
CATEGORIES:Milton East Elementary
END:VEVENT
BEGIN:VEVENT
DTSTART;VALUE=DATE:20260119
DTEND;VALUE=DATE:20260120
DTSTAMP:20260423T165854
CREATED:20250611T144539Z
LAST-MODIFIED:20260119T222531Z
UID:<span 
                data-original-string='anJdTKDEd15Ga6r2eMsmjg==386AqGi0zBAqcAL1tDzgnyND6FVy4jJup0HphCOkWYMod8HHgi7wpi7OcaZxC9poXEvTJqRIySgySzRlSqlQfYmCQ=='
                class='apbct-email-encoder'
                title='This contact has been encoded by Anti-Spam by CleanTalk. Click to decode. To finish the decoding make sure that JavaScript is enabled in your browser.'>10<span class="apbct-blur">****************************</span>@<span class="apbct-blur">***************</span>wi.us</span>
SUMMARY:Staff PD Day - No School
DESCRIPTION:
URL:https://www.milton.k12.wi.us/event/staff-pd-day-no-school/
CATEGORIES:Milton East Elementary
END:VEVENT
BEGIN:VEVENT
DTSTART;VALUE=DATE:20260209
DTEND;VALUE=DATE:20260210
DTSTAMP:20260423T165854
CREATED:20250611T144539Z
LAST-MODIFIED:20260209T225258Z
UID:<span 
                data-original-string='d31QpG62iD1fxPhCkApatQ==3864SeTBZIyL5Jwf5yFK+0MEJ/qqRN4tvDGkUitHdBeWhZzau2lL4KA9McuvFv8P2DrUFYbDk++vxf1QCPvnWYg7w=='
                class='apbct-email-encoder'
                title='This contact has been encoded by Anti-Spam by CleanTalk. Click to decode. To finish the decoding make sure that JavaScript is enabled in your browser.'>10<span class="apbct-blur">****************************</span>@<span class="apbct-blur">***************</span>wi.us</span>
SUMMARY:Virtual Learning Day
DESCRIPTION:
URL:https://www.milton.k12.wi.us/event/virtual-learning-day/
CATEGORIES:Milton East Elementary
END:VEVENT
BEGIN:VEVENT
DTSTART;TZID=America/Chicago:20260304T160000
DTEND;TZID=America/Chicago:20260304T200000
DTSTAMP:20260423T165854
CREATED:20250611T144540Z
LAST-MODIFIED:20260304T230911Z
UID:<span 
                data-original-string='Vr0jVnHd6w9X3XYZ2x1PEA==386W7hoI9So2r7xSa1S2UK4L9ZJaIxgRt5i51GlYz3cWOrZp1SXw8hqmnePJtfH3oSMZD1rSPHgXeQ7UV1/1snAFQ=='
                class='apbct-email-encoder'
                title='This contact has been encoded by Anti-Spam by CleanTalk. Click to decode. To finish the decoding make sure that JavaScript is enabled in your browser.'>10<span class="apbct-blur">****************************</span>@<span class="apbct-blur">***************</span>wi.us</span>
SUMMARY:4K - 3 & NIS Conferences
DESCRIPTION:
URL:https://www.milton.k12.wi.us/event/4k-3-nis-conferences-2/
CATEGORIES:Milton East Elementary
END:VEVENT
BEGIN:VEVENT
DTSTART;VALUE=DATE:20260305
DTEND;VALUE=DATE:20260306
DTSTAMP:20260423T165854
CREATED:20250611T144543Z
LAST-MODIFIED:20260305T233935Z
UID:<span 
                data-original-string='/gAhlAOKsaOxzIl5AHXTvA==386kqYbB2OL/iocMRLIbOKZuTNjUCeyeREQbKEvIpmjWdm8KJa4r9/evi5HDaWJCaA10HZ6v8BaTihyonYz0RbMvw=='
                class='apbct-email-encoder'
                title='This contact has been encoded by Anti-Spam by CleanTalk. Click to decode. To finish the decoding make sure that JavaScript is enabled in your browser.'>10<span class="apbct-blur">****************************</span>@<span class="apbct-blur">***************</span>wi.us</span>
SUMMARY:4K No School
DESCRIPTION:
URL:https://www.milton.k12.wi.us/event/4k-no-school-12/
CATEGORIES:Milton East Elementary
END:VEVENT
BEGIN:VEVENT
DTSTART;TZID=America/Chicago:20260305T160000
DTEND;TZID=America/Chicago:20260305T200000
DTSTAMP:20260423T165854
CREATED:20250611T144544Z
LAST-MODIFIED:20260305T233935Z
UID:<span 
                data-original-string='B7PprlsHkXtDwNzvQxX9Iw==386MIkqzii0YMPS+CsTFlo2m/4VNdTg+vP2ojsPUiyyyOAZObAkR3szcPw83N8BR9y+jWWCDPRKteYdJULvGoP+Eg=='
                class='apbct-email-encoder'
                title='This contact has been encoded by Anti-Spam by CleanTalk. Click to decode. To finish the decoding make sure that JavaScript is enabled in your browser.'>10<span class="apbct-blur">****************************</span>@<span class="apbct-blur">***************</span>wi.us</span>
SUMMARY:4K - 3 & NIS Conferences
DESCRIPTION:
URL:https://www.milton.k12.wi.us/event/4k-3-nis-conferences-3/
CATEGORIES:Milton East Elementary
END:VEVENT
BEGIN:VEVENT
DTSTART;VALUE=DATE:20260306
DTEND;VALUE=DATE:20260307
DTSTAMP:20260423T165854
CREATED:20250611T144544Z
LAST-MODIFIED:20260306T233839Z
UID:<span 
                data-original-string='UiqgPVFsSGx4U9vAgh1tSA==386vKnSEA/ETjbA+VGmg8G4FUgIvG0aqwg1b6jNUQ23Vw9Oc6JMUz8E6hGOlIKtTKqBPCqZVtDScr7pOSrHq7rLmg=='
                class='apbct-email-encoder'
                title='This contact has been encoded by Anti-Spam by CleanTalk. Click to decode. To finish the decoding make sure that JavaScript is enabled in your browser.'>10<span class="apbct-blur">****************************</span>@<span class="apbct-blur">***************</span>wi.us</span>
SUMMARY:No School
DESCRIPTION:
URL:https://www.milton.k12.wi.us/event/no-school-41/
CATEGORIES:Milton East Elementary
END:VEVENT
BEGIN:VEVENT
DTSTART;TZID=America/Chicago:20260310T160000
DTEND;TZID=America/Chicago:20260310T200000
DTSTAMP:20260423T165854
CREATED:20250611T203848Z
LAST-MODIFIED:20260310T233827Z
UID:<span 
                data-original-string='SXHLBbAWazroJa0RCAdCYA==3861PShjea0+Y1HbS9nJAfpRRyOZ4V2IHD9oCARtmXp0qs/buGCQUVWilRRacHfEV8uCYtZf9Zw7wCOR/Q1K8AnuQ=='
                class='apbct-email-encoder'
                title='This contact has been encoded by Anti-Spam by CleanTalk. Click to decode. To finish the decoding make sure that JavaScript is enabled in your browser.'>10<span class="apbct-blur">****************************</span>@<span class="apbct-blur">***************</span>wi.us</span>
SUMMARY:EES Scoopie Night -
DESCRIPTION:
URL:https://www.milton.k12.wi.us/event/ees-scoopie-night-6/
CATEGORIES:Milton East Elementary
END:VEVENT
END:VCALENDAR