BEGIN:VCALENDAR
VERSION:2.0
PRODID:-//School District of Milton - ECPv6.15.20//NONSGML v1.0//EN
CALSCALE:GREGORIAN
METHOD:PUBLISH
X-WR-CALNAME:School District of Milton
X-ORIGINAL-URL:https://www.milton.k12.wi.us
X-WR-CALDESC:Events for School District of Milton
REFRESH-INTERVAL;VALUE=DURATION:PT1H
X-Robots-Tag:noindex
X-PUBLISHED-TTL:PT1H
BEGIN:VTIMEZONE
TZID:America/Chicago
BEGIN:DAYLIGHT
TZOFFSETFROM:-0600
TZOFFSETTO:-0500
TZNAME:CDT
DTSTART:20240310T080000
END:DAYLIGHT
BEGIN:STANDARD
TZOFFSETFROM:-0500
TZOFFSETTO:-0600
TZNAME:CST
DTSTART:20241103T070000
END:STANDARD
BEGIN:DAYLIGHT
TZOFFSETFROM:-0600
TZOFFSETTO:-0500
TZNAME:CDT
DTSTART:20250309T080000
END:DAYLIGHT
BEGIN:STANDARD
TZOFFSETFROM:-0500
TZOFFSETTO:-0600
TZNAME:CST
DTSTART:20251102T070000
END:STANDARD
BEGIN:DAYLIGHT
TZOFFSETFROM:-0600
TZOFFSETTO:-0500
TZNAME:CDT
DTSTART:20260308T080000
END:DAYLIGHT
BEGIN:STANDARD
TZOFFSETFROM:-0500
TZOFFSETTO:-0600
TZNAME:CST
DTSTART:20261101T070000
END:STANDARD
END:VTIMEZONE
BEGIN:VEVENT
DTSTART;TZID=America/Chicago:20250317T180000
DTEND;TZID=America/Chicago:20250317T190000
DTSTAMP:20260424T000902
CREATED:20240829T170151Z
LAST-MODIFIED:20250317T220729Z
UID:<span 
                data-original-string='FD8v1QJ8uF/2vZqz810MUw==386dUqBgYVSSnwDWt4ghaTTewwF6QjSmxh1Psq1ItzifrvKUZClheCozjMPEmRCPa+nPyS9fkjzkEa8lpXRbMHJww=='
                class='apbct-email-encoder'
                title='This contact has been encoded by Anti-Spam by CleanTalk. Click to decode. To finish the decoding make sure that JavaScript is enabled in your browser.'>10<span class="apbct-blur">****************************</span>@<span class="apbct-blur">***************</span>wi.us</span>
SUMMARY:HES: Team Harmony Meeting LMC
DESCRIPTION:
URL:https://www.milton.k12.wi.us/event/hes-team-harmony-meeting-lmc-5/
CATEGORIES:Harmony Elementary
END:VEVENT
BEGIN:VEVENT
DTSTART;VALUE=DATE:20250324
DTEND;VALUE=DATE:20250329
DTSTAMP:20260424T000902
CREATED:20240829T170151Z
LAST-MODIFIED:20250328T225010Z
UID:<span 
                data-original-string='yQbaUnDQ9CEa4DiuJJ/0sQ==386MwZCLIvWgjCwhhTUkZ1v/89aaKTBOixfBll/nywTvK5lRz0PPJdTe4B7HU23FpC0fuOdCPvyTfjtG+h7K3RqSg=='
                class='apbct-email-encoder'
                title='This contact has been encoded by Anti-Spam by CleanTalk. Click to decode. To finish the decoding make sure that JavaScript is enabled in your browser.'>10<span class="apbct-blur">****************************</span>@<span class="apbct-blur">***************</span>wi.us</span>
SUMMARY:HES: Spring Break/No School
DESCRIPTION:
URL:https://www.milton.k12.wi.us/event/hes-spring-break-no-school/
CATEGORIES:Harmony Elementary
END:VEVENT
BEGIN:VEVENT
DTSTART;TZID=America/Chicago:20250331T143500
DTEND;TZID=America/Chicago:20250331T153500
DTSTAMP:20260424T000902
CREATED:20240909T204111Z
LAST-MODIFIED:20250331T100745Z
UID:<span 
                data-original-string='QQ5ghLUpWkjRjx7WuSXvTQ==386aZfszjazwwvGRWKkT1lmx3WMFwgBZsiQhvSSlLRN84dblDHpxE1g5r3TzLBJ0NanxF36M4JZbzIoexykfVPbiA=='
                class='apbct-email-encoder'
                title='This contact has been encoded by Anti-Spam by CleanTalk. Click to decode. To finish the decoding make sure that JavaScript is enabled in your browser.'>10<span class="apbct-blur">****************************</span>@<span class="apbct-blur">***************</span>wi.us</span>
SUMMARY:HES: Early Release
DESCRIPTION:
URL:https://www.milton.k12.wi.us/event/hes-early-release-21/
CATEGORIES:Harmony Elementary
END:VEVENT
BEGIN:VEVENT
DTSTART;TZID=America/Chicago:20250407T143500
DTEND;TZID=America/Chicago:20250407T153500
DTSTAMP:20260424T000902
CREATED:20240909T204112Z
LAST-MODIFIED:20250407T165255Z
UID:<span 
                data-original-string='SOoKsQqbzaPVkozU51i+Fw==386DnqCf9hb3chC1m6m0NsW9hGSUZOXBlHegU/4GWFlxW61AdQ6q+lfRXAl1EfUIG8PKS89GLwvVD5naYQzSHYKDA=='
                class='apbct-email-encoder'
                title='This contact has been encoded by Anti-Spam by CleanTalk. Click to decode. To finish the decoding make sure that JavaScript is enabled in your browser.'>10<span class="apbct-blur">****************************</span>@<span class="apbct-blur">***************</span>wi.us</span>
SUMMARY:HES: Early Release
DESCRIPTION:
URL:https://www.milton.k12.wi.us/event/hes-early-release-22/
CATEGORIES:Harmony Elementary
END:VEVENT
BEGIN:VEVENT
DTSTART;TZID=America/Chicago:20250414T143500
DTEND;TZID=America/Chicago:20250414T153500
DTSTAMP:20260424T000902
CREATED:20240909T204115Z
LAST-MODIFIED:20250413T232618Z
UID:<span 
                data-original-string='L6bYxyD5uqNoqSUOL8CH4w==386BwjjSZOK73T69ahQ9VJiKXK0cfhkn8+7IYuX3nVm6qDUX+rwBxNej3RYLGDKrwIL3iWHwcaC4+ozwATYNWekoQ=='
                class='apbct-email-encoder'
                title='This contact has been encoded by Anti-Spam by CleanTalk. Click to decode. To finish the decoding make sure that JavaScript is enabled in your browser.'>10<span class="apbct-blur">****************************</span>@<span class="apbct-blur">***************</span>wi.us</span>
SUMMARY:HES: Early Release
DESCRIPTION:
URL:https://www.milton.k12.wi.us/event/hes-early-release-23/
CATEGORIES:Harmony Elementary
END:VEVENT
BEGIN:VEVENT
DTSTART;VALUE=DATE:20250418
DTEND;VALUE=DATE:20250419
DTSTAMP:20260424T000902
CREATED:20240829T170152Z
LAST-MODIFIED:20250418T230745Z
UID:<span 
                data-original-string='ALd8ked/fm+PiSytljrpKA==386MMNOLdwUHKZ0hzXRVxVH839R8K+hozuPJOT4EW4zQHD/2JPAhhQ4Kqpqv0In1+8Bhspu9dOteRu5ySBwfdyXDA=='
                class='apbct-email-encoder'
                title='This contact has been encoded by Anti-Spam by CleanTalk. Click to decode. To finish the decoding make sure that JavaScript is enabled in your browser.'>10<span class="apbct-blur">****************************</span>@<span class="apbct-blur">***************</span>wi.us</span>
SUMMARY:HES: PD Day- No School
DESCRIPTION:
URL:https://www.milton.k12.wi.us/event/hes-pd-day-no-school-3/
CATEGORIES:Harmony Elementary
END:VEVENT
BEGIN:VEVENT
DTSTART;VALUE=DATE:20250421
DTEND;VALUE=DATE:20250422
DTSTAMP:20260424T000902
CREATED:20240829T170152Z
LAST-MODIFIED:20250421T234814Z
UID:<span 
                data-original-string='Cc7LU805WYxIOH8xHo7lug==386Hc5uME3BQdkrNvvn+wPevPtjwGCG6OGp4e9pcoX023R5Y8jmUrJ/3KYAdOAqXZmiYuMeCaxjE4NiwJqr6/AA0Q=='
                class='apbct-email-encoder'
                title='This contact has been encoded by Anti-Spam by CleanTalk. Click to decode. To finish the decoding make sure that JavaScript is enabled in your browser.'>10<span class="apbct-blur">****************************</span>@<span class="apbct-blur">***************</span>wi.us</span>
SUMMARY:HES: Scrip Wars 4/21-5/16
DESCRIPTION:
URL:https://www.milton.k12.wi.us/event/hes-scrip-wars-4-21-5-16/
CATEGORIES:Harmony Elementary
END:VEVENT
BEGIN:VEVENT
DTSTART;TZID=America/Chicago:20250421T143500
DTEND;TZID=America/Chicago:20250421T153500
DTSTAMP:20260424T000902
CREATED:20240909T204119Z
LAST-MODIFIED:20250421T165241Z
UID:<span 
                data-original-string='vYmz4FJYE4Hh7zFHsB7LDg==386uLdpzCuZ1TF5z7qB+xeqX7iE+rW6CvaCcXCzDrjNLTWmUrTwO7Gkx/uvHjczg4W1gNgqUpYOjsrbXIYtWAKpWw=='
                class='apbct-email-encoder'
                title='This contact has been encoded by Anti-Spam by CleanTalk. Click to decode. To finish the decoding make sure that JavaScript is enabled in your browser.'>10<span class="apbct-blur">****************************</span>@<span class="apbct-blur">***************</span>wi.us</span>
SUMMARY:HES: Early Release
DESCRIPTION:
URL:https://www.milton.k12.wi.us/event/hes-early-release-24/
CATEGORIES:Harmony Elementary
END:VEVENT
BEGIN:VEVENT
DTSTART;TZID=America/Chicago:20250421T180000
DTEND;TZID=America/Chicago:20250421T190000
DTSTAMP:20260424T000902
CREATED:20240829T170202Z
LAST-MODIFIED:20250421T234813Z
UID:<span 
                data-original-string='qfMkmXRkW5NaVfRKMJpoeQ==386fL9HGo4HBK7rcxvVi7SEykjzug2T48KjB34tP227Q3LWM6ExMD7dqrFngZUF0bRxFr4L5lGb2PgLTu4J9mWkkQ=='
                class='apbct-email-encoder'
                title='This contact has been encoded by Anti-Spam by CleanTalk. Click to decode. To finish the decoding make sure that JavaScript is enabled in your browser.'>10<span class="apbct-blur">****************************</span>@<span class="apbct-blur">***************</span>wi.us</span>
SUMMARY:HES: Team Harmony Meeting LMC
DESCRIPTION:
URL:https://www.milton.k12.wi.us/event/hes-team-harmony-meeting-lmc-6/
CATEGORIES:Harmony Elementary
END:VEVENT
BEGIN:VEVENT
DTSTART;VALUE=DATE:20250423
DTEND;VALUE=DATE:20250424
DTSTAMP:20260424T000902
CREATED:20240829T170203Z
LAST-MODIFIED:20250423T235328Z
UID:<span 
                data-original-string='U2Dgw4ndHLI7oNnHf0iSwA==3867IyeI34sLQmpe4hFj/ZegWyuBQl4EABmjQEs6On6vFAg2v7Ne7Cix7dx0qgCfkZR8SIuBGbQ627TD8O/BQfOlA=='
                class='apbct-email-encoder'
                title='This contact has been encoded by Anti-Spam by CleanTalk. Click to decode. To finish the decoding make sure that JavaScript is enabled in your browser.'>10<span class="apbct-blur">****************************</span>@<span class="apbct-blur">***************</span>wi.us</span>
SUMMARY:HES: Culver's Scoopie Night
DESCRIPTION:
URL:https://www.milton.k12.wi.us/event/hes-culvers-scoopie-night-3/
CATEGORIES:Harmony Elementary
END:VEVENT
BEGIN:VEVENT
DTSTART;TZID=America/Chicago:20250428T143500
DTEND;TZID=America/Chicago:20250428T153500
DTSTAMP:20260424T000902
CREATED:20240909T204123Z
LAST-MODIFIED:20250428T170728Z
UID:<span 
                data-original-string='jIMLgy1mAXdzuN9llY1G1w==386yF2Sd09V8LktwBz/jD26zUQV5f/P3m9jyy2l/OUbeFUT8f2cfWqX8QJPSt5sYRY8di44rish/PnHmoC5FCOgsw=='
                class='apbct-email-encoder'
                title='This contact has been encoded by Anti-Spam by CleanTalk. Click to decode. To finish the decoding make sure that JavaScript is enabled in your browser.'>10<span class="apbct-blur">****************************</span>@<span class="apbct-blur">***************</span>wi.us</span>
SUMMARY:HES: Early Release
DESCRIPTION:
URL:https://www.milton.k12.wi.us/event/hes-early-release-25/
CATEGORIES:Harmony Elementary
END:VEVENT
BEGIN:VEVENT
DTSTART;TZID=America/Chicago:20250505T143500
DTEND;TZID=America/Chicago:20250505T153500
DTSTAMP:20260424T000902
CREATED:20240909T204125Z
LAST-MODIFIED:20250505T170728Z
UID:<span 
                data-original-string='yOuB5FJLtFdwsRvJyTtUsQ==386KkU2lvGmjzLBJM1pZsbZ3rlMVdx/TM3ktHZFV6zBoQcGtZwn+c2OpyRiqY0xUbGJvfjHEcnZqYzKdSs9u8Olkg=='
                class='apbct-email-encoder'
                title='This contact has been encoded by Anti-Spam by CleanTalk. Click to decode. To finish the decoding make sure that JavaScript is enabled in your browser.'>10<span class="apbct-blur">****************************</span>@<span class="apbct-blur">***************</span>wi.us</span>
SUMMARY:HES: Early Release
DESCRIPTION:
URL:https://www.milton.k12.wi.us/event/hes-early-release-26/
CATEGORIES:Harmony Elementary
END:VEVENT
BEGIN:VEVENT
DTSTART;TZID=America/Chicago:20250512T143500
DTEND;TZID=America/Chicago:20250512T153500
DTSTAMP:20260424T000902
CREATED:20240909T204126Z
LAST-MODIFIED:20250512T170730Z
UID:<span 
                data-original-string='NGiqwUqYk7kfZN+LG0/FMg==386tORsxikJuJCpRpDM41HDMiEl1KPcLz/CZuVkEjH+vmPOJKhi4peAvOLqoSzn6TDNKVeMwhQjGiwqV6AzKAzxjw=='
                class='apbct-email-encoder'
                title='This contact has been encoded by Anti-Spam by CleanTalk. Click to decode. To finish the decoding make sure that JavaScript is enabled in your browser.'>10<span class="apbct-blur">****************************</span>@<span class="apbct-blur">***************</span>wi.us</span>
SUMMARY:HES: Early Release
DESCRIPTION:
URL:https://www.milton.k12.wi.us/event/hes-early-release-27/
CATEGORIES:Harmony Elementary
END:VEVENT
BEGIN:VEVENT
DTSTART;VALUE=DATE:20250516
DTEND;VALUE=DATE:20250517
DTSTAMP:20260424T000902
CREATED:20240829T170204Z
LAST-MODIFIED:20250516T223731Z
UID:<span 
                data-original-string='/Oc+UaSlRGQAS2asRC86gg==386uryqGpmqPHuyLEewc9BIcbhJzKL0nvj1ZflObvmG63FfenmgH0rjE+f3K9z90X7eR1RVDlZ7BZ0FD7MzaWqtkQ=='
                class='apbct-email-encoder'
                title='This contact has been encoded by Anti-Spam by CleanTalk. Click to decode. To finish the decoding make sure that JavaScript is enabled in your browser.'>10<span class="apbct-blur">****************************</span>@<span class="apbct-blur">***************</span>wi.us</span>
SUMMARY:HES: Scrip Wars End
DESCRIPTION:
URL:https://www.milton.k12.wi.us/event/hes-scrip-wars-end-2/
CATEGORIES:Harmony Elementary
END:VEVENT
BEGIN:VEVENT
DTSTART;TZID=America/Chicago:20250519T143500
DTEND;TZID=America/Chicago:20250519T153500
DTSTAMP:20260424T000902
CREATED:20240909T204127Z
LAST-MODIFIED:20250519T172226Z
UID:<span 
                data-original-string='NN9ZCXi2B+cMr1hCk1t9Og==386mJn4vh0jKhIV/Kwv36O8PDGpeha1YtEZa8AdV41+c8ooUVN4KZPFNsqQhynOEEDy2Z7DckgTIXrX2eb9ci7Xlw=='
                class='apbct-email-encoder'
                title='This contact has been encoded by Anti-Spam by CleanTalk. Click to decode. To finish the decoding make sure that JavaScript is enabled in your browser.'>10<span class="apbct-blur">****************************</span>@<span class="apbct-blur">***************</span>wi.us</span>
SUMMARY:HES: Early Release
DESCRIPTION:
URL:https://www.milton.k12.wi.us/event/hes-early-release-28/
CATEGORIES:Harmony Elementary
END:VEVENT
BEGIN:VEVENT
DTSTART;TZID=America/Chicago:20250519T180000
DTEND;TZID=America/Chicago:20250519T190000
DTSTAMP:20260424T000902
CREATED:20240829T170204Z
LAST-MODIFIED:20250519T234543Z
UID:<span 
                data-original-string='87yN+froXzJc3UYRrE99Uw==386rWzrxwuIyeu2vE2LqCJ+S+F9ydqg7pSHSGotAN+992lj+eU5xkAUE479Dn3w1fAtkJAIx5cKJmJccesUJvGXSg=='
                class='apbct-email-encoder'
                title='This contact has been encoded by Anti-Spam by CleanTalk. Click to decode. To finish the decoding make sure that JavaScript is enabled in your browser.'>10<span class="apbct-blur">****************************</span>@<span class="apbct-blur">***************</span>wi.us</span>
SUMMARY:HES: Team Harmony Meeting LMC
DESCRIPTION:
URL:https://www.milton.k12.wi.us/event/hes-team-harmony-meeting-lmc-7/
CATEGORIES:Harmony Elementary
END:VEVENT
BEGIN:VEVENT
DTSTART;TZID=America/Chicago:20250602T143500
DTEND;TZID=America/Chicago:20250602T153500
DTSTAMP:20260424T000902
CREATED:20240909T204134Z
LAST-MODIFIED:20250602T173815Z
UID:<span 
                data-original-string='Agz3pFKoJY2nl4842Rlz6A==3868qTI8sZN9O8X0F9dtw6rnWnUZdqZroe0lAWqHYHhpzf9IydaYrmYXUWCrq1+rRf7Lwn5cnDlqdkg7C4SZIcRGA=='
                class='apbct-email-encoder'
                title='This contact has been encoded by Anti-Spam by CleanTalk. Click to decode. To finish the decoding make sure that JavaScript is enabled in your browser.'>10<span class="apbct-blur">****************************</span>@<span class="apbct-blur">***************</span>wi.us</span>
SUMMARY:HES: Early Release
DESCRIPTION:
URL:https://www.milton.k12.wi.us/event/hes-early-release-29/
CATEGORIES:Harmony Elementary
END:VEVENT
BEGIN:VEVENT
DTSTART;VALUE=DATE:20250606
DTEND;VALUE=DATE:20250607
DTSTAMP:20260424T000902
CREATED:20240829T170207Z
LAST-MODIFIED:20250606T235648Z
UID:<span 
                data-original-string='LB2fEa7+ZAjJ8xucm2J/tA==386XY/mA+YGVhPnD+9e78G6DwYIscbdB0xThXeqBXsYBodep5QOifm2VJi8LHl7xuohnKqgxqM/3ZFz7QEiPK8bfA=='
                class='apbct-email-encoder'
                title='This contact has been encoded by Anti-Spam by CleanTalk. Click to decode. To finish the decoding make sure that JavaScript is enabled in your browser.'>10<span class="apbct-blur">****************************</span>@<span class="apbct-blur">***************</span>wi.us</span>
SUMMARY:HES: Last Day of School/ Early Dismissal
DESCRIPTION:
URL:https://www.milton.k12.wi.us/event/hes-last-day-of-school-early-dismissal/
CATEGORIES:Harmony Elementary
END:VEVENT
BEGIN:VEVENT
DTSTART;TZID=America/Chicago:20250827T160000
DTEND;TZID=America/Chicago:20250827T190000
DTSTAMP:20260424T000902
CREATED:20250825T070756Z
LAST-MODIFIED:20250827T203811Z
UID:<span 
                data-original-string='A2BWCqTdGkbRlVhz7CGKSw==3866YDCzl2YBOejeYxZKMaki4By7YNOTH3mqOrkJd7Dg7C0gFCMYXpFwlMjnU2pAxA2MZa/jLBIIlrVaB9c0qNCRQ=='
                class='apbct-email-encoder'
                title='This contact has been encoded by Anti-Spam by CleanTalk. Click to decode. To finish the decoding make sure that JavaScript is enabled in your browser.'>10<span class="apbct-blur">****************************</span>@<span class="apbct-blur">***************</span>wi.us</span>
SUMMARY:HES: Open House
DESCRIPTION:
URL:https://www.milton.k12.wi.us/event/hes-open-house/
CATEGORIES:Harmony Elementary
END:VEVENT
BEGIN:VEVENT
DTSTART;VALUE=DATE:20250901
DTEND;VALUE=DATE:20250902
DTSTAMP:20260424T000902
CREATED:20250825T070757Z
LAST-MODIFIED:20250901T205819Z
UID:<span 
                data-original-string='mplZ7MBgd+aEYWUam66/OQ==386Ljl15M1utiAquEF0LvQW37luQLRtcuQNODXv0sSbP0N1OCPxm2i4vj2OrBJgGdoAoqiHvncgs27Dgf+6oT8I1Q=='
                class='apbct-email-encoder'
                title='This contact has been encoded by Anti-Spam by CleanTalk. Click to decode. To finish the decoding make sure that JavaScript is enabled in your browser.'>10<span class="apbct-blur">****************************</span>@<span class="apbct-blur">***************</span>wi.us</span>
SUMMARY:HES: Labor Day
DESCRIPTION:
URL:https://www.milton.k12.wi.us/event/hes-labor-day/
CATEGORIES:Harmony Elementary
END:VEVENT
BEGIN:VEVENT
DTSTART;VALUE=DATE:20250902
DTEND;VALUE=DATE:20250903
DTSTAMP:20260424T000902
CREATED:20250825T070757Z
LAST-MODIFIED:20250902T205230Z
UID:<span 
                data-original-string='wUKSpHeMSvCgobWxeD1X7w==386Z0lZfyfTNHJSwiHwFso9HASvMArk7du/ZVUE3Euyl9+Pxet+0mrLhub13l6Rg5Xg1ZSHJ3659wj1+PiUQuj0Cg=='
                class='apbct-email-encoder'
                title='This contact has been encoded by Anti-Spam by CleanTalk. Click to decode. To finish the decoding make sure that JavaScript is enabled in your browser.'>10<span class="apbct-blur">****************************</span>@<span class="apbct-blur">***************</span>wi.us</span>
SUMMARY:HES: 1st Day of School
DESCRIPTION:
URL:https://www.milton.k12.wi.us/event/hes-1st-day-of-school/
CATEGORIES:Harmony Elementary
END:VEVENT
BEGIN:VEVENT
DTSTART;TZID=America/Chicago:20250909T090000
DTEND;TZID=America/Chicago:20250909T130000
DTSTAMP:20260424T000902
CREATED:20250825T070758Z
LAST-MODIFIED:20250909T164909Z
UID:<span 
                data-original-string='rzbKmrY0WB7rk+E5TaXgmA==386Xr4ejrSmwEnBriNiU7myRdYBt3xhFyG0J5MQKl9W0SQ8R8q+eyFSWwLiiNewtnG5fnI608lgnIkjULQTGDzmcg=='
                class='apbct-email-encoder'
                title='This contact has been encoded by Anti-Spam by CleanTalk. Click to decode. To finish the decoding make sure that JavaScript is enabled in your browser.'>10<span class="apbct-blur">****************************</span>@<span class="apbct-blur">***************</span>wi.us</span>
SUMMARY:HES: Picture Day
DESCRIPTION:
URL:https://www.milton.k12.wi.us/event/hes-picture-day-2/
CATEGORIES:Harmony Elementary
END:VEVENT
BEGIN:VEVENT
DTSTART;TZID=America/Chicago:20250911T180000
DTEND;TZID=America/Chicago:20250911T190000
DTSTAMP:20260424T000902
CREATED:20250829T070739Z
LAST-MODIFIED:20250911T213733Z
UID:<span 
                data-original-string='TnsVnV5+Ye3migT/kF9n1g==386sU90tLRJNG7DzeR2+D946A+Vv2hGXfn+TikmhE28TuTy8lcJNzRpBvyhHQB4gaBPuUe59L1lGdO2dc8PAuEX5A=='
                class='apbct-email-encoder'
                title='This contact has been encoded by Anti-Spam by CleanTalk. Click to decode. To finish the decoding make sure that JavaScript is enabled in your browser.'>10<span class="apbct-blur">****************************</span>@<span class="apbct-blur">***************</span>wi.us</span>
SUMMARY:HES: Welcome Back Party
DESCRIPTION:H
URL:https://www.milton.k12.wi.us/event/hes-welcome-back-party-2/
CATEGORIES:Harmony Elementary
END:VEVENT
BEGIN:VEVENT
DTSTART;TZID=America/Chicago:20250915T180000
DTEND;TZID=America/Chicago:20250915T190000
DTSTAMP:20260424T000902
CREATED:20250829T070740Z
LAST-MODIFIED:20250915T202640Z
UID:<span 
                data-original-string='FbRKITGeLABLq/qo9ObV9g==386QIzCPFvH18DOlrj4K7oLQ/Y81xz4K51wZGCfvp6llGq8QyNxx6nvMlBgP6kIF/m1FBlvbvXVWO0lDm2rcwG8BA=='
                class='apbct-email-encoder'
                title='This contact has been encoded by Anti-Spam by CleanTalk. Click to decode. To finish the decoding make sure that JavaScript is enabled in your browser.'>10<span class="apbct-blur">****************************</span>@<span class="apbct-blur">***************</span>wi.us</span>
SUMMARY:HES: Team Harmony Meeting
DESCRIPTION:
URL:https://www.milton.k12.wi.us/event/hes-team-harmony-meeting/
CATEGORIES:Harmony Elementary
END:VEVENT
BEGIN:VEVENT
DTSTART;VALUE=DATE:20250923
DTEND;VALUE=DATE:20250924
DTSTAMP:20260424T000902
CREATED:20250828T070745Z
LAST-MODIFIED:20250923T215228Z
UID:<span 
                data-original-string='UWrKvqK0+8TbXqhSvyFD4Q==386lrBrdwVtLpBeSp5lrIjRDGoK9D+VqNCk9+ow1kmxwbdZTXy3nGTaUzndg7dvEbbS9i7JmHftA2TWyig5nqJg8Q=='
                class='apbct-email-encoder'
                title='This contact has been encoded by Anti-Spam by CleanTalk. Click to decode. To finish the decoding make sure that JavaScript is enabled in your browser.'>10<span class="apbct-blur">****************************</span>@<span class="apbct-blur">***************</span>wi.us</span>
SUMMARY:HES: Seal A Smile Dental Visit
DESCRIPTION:
URL:https://www.milton.k12.wi.us/event/hes-seal-a-smile-dental-visit/
CATEGORIES:Harmony Elementary
END:VEVENT
BEGIN:VEVENT
DTSTART;VALUE=DATE:20250930
DTEND;VALUE=DATE:20251001
DTSTAMP:20260424T000902
CREATED:20250829T070746Z
LAST-MODIFIED:20250930T222503Z
UID:<span 
                data-original-string='tZXywd58/9GjdMMgKpQ5ew==386wR0njEvCdU1ilSt7PBiSnz3l0CO1VG73DxeFimbmVg9MplLm15CIXyHzB2iEv8Eq+oo+DeoPhWjvCe3c8Hlsmw=='
                class='apbct-email-encoder'
                title='This contact has been encoded by Anti-Spam by CleanTalk. Click to decode. To finish the decoding make sure that JavaScript is enabled in your browser.'>10<span class="apbct-blur">****************************</span>@<span class="apbct-blur">***************</span>wi.us</span>
SUMMARY:HES: Culver's Scoopie Night
DESCRIPTION:
URL:https://www.milton.k12.wi.us/event/hes-culvers-scoopie-night-4/
CATEGORIES:Harmony Elementary
END:VEVENT
BEGIN:VEVENT
DTSTART;VALUE=DATE:20251003
DTEND;VALUE=DATE:20251004
DTSTAMP:20260424T000902
CREATED:20250829T070747Z
LAST-MODIFIED:20251003T222943Z
UID:<span 
                data-original-string='5MmxxqeQ68x75ig91/IElQ==386Y/S6RfY9t+Dg4AidFe20GDkT8nvK/jpB+ODIRXCrANxfdHVLzjHTg99R1tV2QQl18RiXk36LoqgT9cBkFJqUTw=='
                class='apbct-email-encoder'
                title='This contact has been encoded by Anti-Spam by CleanTalk. Click to decode. To finish the decoding make sure that JavaScript is enabled in your browser.'>10<span class="apbct-blur">****************************</span>@<span class="apbct-blur">***************</span>wi.us</span>
SUMMARY:HES: Homecoming
DESCRIPTION:
URL:https://www.milton.k12.wi.us/event/hes-homecoming/
CATEGORIES:Harmony Elementary
END:VEVENT
BEGIN:VEVENT
DTSTART;VALUE=DATE:20251006
DTEND;VALUE=DATE:20251007
DTSTAMP:20260424T000902
CREATED:20250825T070758Z
LAST-MODIFIED:20251006T222229Z
UID:<span 
                data-original-string='7xOZvaIGQsHApnDhjWcYVQ==386Bzg+2gZWkUjyP4NYCGMqOvoshI9LN3XVC4CsfLOAX8jAx1NRSLWlXS5ge/9kcKfCm2GgOdnCYKPBtDCtkdBBkA=='
                class='apbct-email-encoder'
                title='This contact has been encoded by Anti-Spam by CleanTalk. Click to decode. To finish the decoding make sure that JavaScript is enabled in your browser.'>10<span class="apbct-blur">****************************</span>@<span class="apbct-blur">***************</span>wi.us</span>
SUMMARY:HES: Virtual Learning Day
DESCRIPTION:
URL:https://www.milton.k12.wi.us/event/hes-virtual-learning-day/
CATEGORIES:Harmony Elementary
END:VEVENT
BEGIN:VEVENT
DTSTART;TZID=America/Chicago:20251014T090000
DTEND;TZID=America/Chicago:20251014T130000
DTSTAMP:20260424T000902
CREATED:20250825T070843Z
LAST-MODIFIED:20251014T174012Z
UID:<span 
                data-original-string='SStVipvfTLNleUfSyWbzRw==386WzAcMSPpSyAgB8GuRYXhXNHsCpaPcOVIkwKQlhoYgylxV7Rz18NC/vLEQcL/4Yvy61q1SeZF9l1zA08nkxPbqQ=='
                class='apbct-email-encoder'
                title='This contact has been encoded by Anti-Spam by CleanTalk. Click to decode. To finish the decoding make sure that JavaScript is enabled in your browser.'>10<span class="apbct-blur">****************************</span>@<span class="apbct-blur">***************</span>wi.us</span>
SUMMARY:HES: Picture Re-Take Day
DESCRIPTION:
URL:https://www.milton.k12.wi.us/event/hes-picture-re-take-day/
CATEGORIES:Harmony Elementary
END:VEVENT
BEGIN:VEVENT
DTSTART;TZID=America/Chicago:20251020T180000
DTEND;TZID=America/Chicago:20251020T190000
DTSTAMP:20260424T000902
CREATED:20250829T070800Z
LAST-MODIFIED:20251020T223730Z
UID:<span 
                data-original-string='LQWDJ55iz8yDv96LcRkd7Q==386IsNzfvi2eejAtAupM7FDMUjtsY5XNYgpgqDOAvFL27QDXYGiKy7cGQRkO4S9BMdA+/W9V7qZH3+1hlKy23hGEQ=='
                class='apbct-email-encoder'
                title='This contact has been encoded by Anti-Spam by CleanTalk. Click to decode. To finish the decoding make sure that JavaScript is enabled in your browser.'>10<span class="apbct-blur">****************************</span>@<span class="apbct-blur">***************</span>wi.us</span>
SUMMARY:HES: Team Harmony Meeting
DESCRIPTION:
URL:https://www.milton.k12.wi.us/event/hes-team-harmony-meeting-2/
CATEGORIES:Harmony Elementary
END:VEVENT
END:VCALENDAR