BEGIN:VCALENDAR
VERSION:2.0
PRODID:-//School District of Milton - ECPv6.15.20//NONSGML v1.0//EN
CALSCALE:GREGORIAN
METHOD:PUBLISH
X-ORIGINAL-URL:https://www.milton.k12.wi.us
X-WR-CALDESC:Events for School District of Milton
REFRESH-INTERVAL;VALUE=DURATION:PT1H
X-Robots-Tag:noindex
X-PUBLISHED-TTL:PT1H
BEGIN:VTIMEZONE
TZID:America/Chicago
BEGIN:DAYLIGHT
TZOFFSETFROM:-0600
TZOFFSETTO:-0500
TZNAME:CDT
DTSTART:20240310T080000
END:DAYLIGHT
BEGIN:STANDARD
TZOFFSETFROM:-0500
TZOFFSETTO:-0600
TZNAME:CST
DTSTART:20241103T070000
END:STANDARD
BEGIN:DAYLIGHT
TZOFFSETFROM:-0600
TZOFFSETTO:-0500
TZNAME:CDT
DTSTART:20250309T080000
END:DAYLIGHT
BEGIN:STANDARD
TZOFFSETFROM:-0500
TZOFFSETTO:-0600
TZNAME:CST
DTSTART:20251102T070000
END:STANDARD
BEGIN:DAYLIGHT
TZOFFSETFROM:-0600
TZOFFSETTO:-0500
TZNAME:CDT
DTSTART:20260308T080000
END:DAYLIGHT
BEGIN:STANDARD
TZOFFSETFROM:-0500
TZOFFSETTO:-0600
TZNAME:CST
DTSTART:20261101T070000
END:STANDARD
BEGIN:DAYLIGHT
TZOFFSETFROM:-0600
TZOFFSETTO:-0500
TZNAME:CDT
DTSTART:20270314T080000
END:DAYLIGHT
BEGIN:STANDARD
TZOFFSETFROM:-0500
TZOFFSETTO:-0600
TZNAME:CST
DTSTART:20271107T070000
END:STANDARD
END:VTIMEZONE
BEGIN:VEVENT
DTSTART;VALUE=DATE:20251209
DTEND;VALUE=DATE:20251210
DTSTAMP:20260423T132526
CREATED:20250829T070839Z
LAST-MODIFIED:20251209T212231Z
UID:<span 
                data-original-string='l6+quAQOCjqnwUimmyXvFQ==386WEbBwlO6SrGeBE/BwayCJ7owibrqMZWcxp/G4z254dWMAJBVHu5JkY6Fr1K5/GR6F1LbQqsO6pGsVDalGgx0Gw=='
                class='apbct-email-encoder'
                title='This contact has been encoded by Anti-Spam by CleanTalk. Click to decode. To finish the decoding make sure that JavaScript is enabled in your browser.'>10<span class="apbct-blur">****************************</span>@<span class="apbct-blur">***************</span>wi.us</span>
SUMMARY:HES: Culver's Scoopie Night
DESCRIPTION:
URL:https://www.milton.k12.wi.us/event/hes-culvers-scoopie-night-5/
CATEGORIES:Harmony Elementary
END:VEVENT
BEGIN:VEVENT
DTSTART;TZID=America/Chicago:20251212T140000
DTEND;TZID=America/Chicago:20251212T150000
DTSTAMP:20260423T132526
CREATED:20250825T203829Z
LAST-MODIFIED:20251212T185604Z
UID:<span 
                data-original-string='oMp26KrfyLsUuFpfGs2V4Q==386N9Gs7xHyJ9a3gbyISQihFV1qWESjXdz9E/nBODT2H7FLSsstrL7EHm1/RpYSsVCF0d2kDi6C9GXcnmahAJnYxQ=='
                class='apbct-email-encoder'
                title='This contact has been encoded by Anti-Spam by CleanTalk. Click to decode. To finish the decoding make sure that JavaScript is enabled in your browser.'>10<span class="apbct-blur">****************************</span>@<span class="apbct-blur">***************</span>wi.us</span>
SUMMARY:HES: Winter Concert K & 3rd Grades
DESCRIPTION:
URL:https://www.milton.k12.wi.us/event/hes-winter-concert-k-3rd-grades/
CATEGORIES:Harmony Elementary
END:VEVENT
BEGIN:VEVENT
DTSTART;TZID=America/Chicago:20251215T180000
DTEND;TZID=America/Chicago:20251215T190000
DTSTAMP:20260423T132526
CREATED:20250829T070841Z
LAST-MODIFIED:20251215T235232Z
UID:<span 
                data-original-string='j4mFujvGf+6omrHhhfhuHg==386QjWJJUXuOkrgj6XTAlQWyn4uYG735NH88QWX1dAUg8wDLgX5pP5JOJnO30y6rhwVctAJjWrTJc3rN8QnieicxQ=='
                class='apbct-email-encoder'
                title='This contact has been encoded by Anti-Spam by CleanTalk. Click to decode. To finish the decoding make sure that JavaScript is enabled in your browser.'>10<span class="apbct-blur">****************************</span>@<span class="apbct-blur">***************</span>wi.us</span>
SUMMARY:HES: Team Harmony Meeting
DESCRIPTION:
URL:https://www.milton.k12.wi.us/event/hes-team-harmony-meeting-4/
CATEGORIES:Harmony Elementary
END:VEVENT
BEGIN:VEVENT
DTSTART;VALUE=DATE:20251222
DTEND;VALUE=DATE:20260103
DTSTAMP:20260423T132526
CREATED:20250825T070859Z
LAST-MODIFIED:20260102T235337Z
UID:<span 
                data-original-string='Db8qJ/A9z0VGm7V6YjCDbQ==3867VpSbkCYsSR4UWECf771o7LPNo1QiK+sbRCtCNLi9ADgUThuyPKpoCE0W3WPEOF+iJML7ILdI+qrc2PrFHvyig=='
                class='apbct-email-encoder'
                title='This contact has been encoded by Anti-Spam by CleanTalk. Click to decode. To finish the decoding make sure that JavaScript is enabled in your browser.'>10<span class="apbct-blur">****************************</span>@<span class="apbct-blur">***************</span>wi.us</span>
SUMMARY:HES: Winter Break- No School
DESCRIPTION:
URL:https://www.milton.k12.wi.us/event/hes-winter-break-no-school-2/
CATEGORIES:Harmony Elementary
END:VEVENT
BEGIN:VEVENT
DTSTART;VALUE=DATE:20260105
DTEND;VALUE=DATE:20260106
DTSTAMP:20260423T132526
CREATED:20250825T070900Z
LAST-MODIFIED:20260105T222232Z
UID:<span 
                data-original-string='c+CJ/TgVshxQwyE7JtddOg==386CDxRJPIcXRgoG5iQcdd+pv98y19YBNDDTiijjHUmfO/b2Usp7H34LRc2IqS2YvyHeF995QXTKODLMpBWqVdMMA=='
                class='apbct-email-encoder'
                title='This contact has been encoded by Anti-Spam by CleanTalk. Click to decode. To finish the decoding make sure that JavaScript is enabled in your browser.'>10<span class="apbct-blur">****************************</span>@<span class="apbct-blur">***************</span>wi.us</span>
SUMMARY:HES: Classes Resume
DESCRIPTION:
URL:https://www.milton.k12.wi.us/event/hes-classes-resume-2/
CATEGORIES:Harmony Elementary
END:VEVENT
BEGIN:VEVENT
DTSTART;VALUE=DATE:20260106
DTEND;VALUE=DATE:20260107
DTSTAMP:20260423T132526
CREATED:20251029T160749Z
LAST-MODIFIED:20260106T235341Z
UID:<span 
                data-original-string='XHhjd2AmwuQSiO7kCnW7HQ==386q+URrjrtCYwYHg9Cuovux1DfTAb1kdOiDEjwVxZUpxo44/WIBbEkP0uKqrGtpOqOq+5WJHVAGNzlVPwwDLDJsA=='
                class='apbct-email-encoder'
                title='This contact has been encoded by Anti-Spam by CleanTalk. Click to decode. To finish the decoding make sure that JavaScript is enabled in your browser.'>10<span class="apbct-blur">****************************</span>@<span class="apbct-blur">***************</span>wi.us</span>
SUMMARY:HES: Seal a Smile All Day
DESCRIPTION:
URL:https://www.milton.k12.wi.us/event/hes-seal-a-smile-all-day/
CATEGORIES:Harmony Elementary
END:VEVENT
BEGIN:VEVENT
DTSTART;VALUE=DATE:20260107
DTEND;VALUE=DATE:20260108
DTSTAMP:20260423T132526
CREATED:20251029T160804Z
LAST-MODIFIED:20260107T235224Z
UID:<span 
                data-original-string='lkfnMUrWCzvnMBhT6q4B5w==386KRJrrsoJoYHfSKuRhjZEDA/MTJ8t3c4lhzVfAboIajxlMAuy/lvLkQ/bQzdtQESyq1W95j1U5umUxNPHSKikEg=='
                class='apbct-email-encoder'
                title='This contact has been encoded by Anti-Spam by CleanTalk. Click to decode. To finish the decoding make sure that JavaScript is enabled in your browser.'>10<span class="apbct-blur">****************************</span>@<span class="apbct-blur">***************</span>wi.us</span>
SUMMARY:HES: Seal a Smile All Day
DESCRIPTION:
URL:https://www.milton.k12.wi.us/event/hes-seal-a-smile-all-day-2/
CATEGORIES:Harmony Elementary
END:VEVENT
BEGIN:VEVENT
DTSTART;VALUE=DATE:20260119
DTEND;VALUE=DATE:20260120
DTSTAMP:20260423T132526
CREATED:20250825T070900Z
LAST-MODIFIED:20260119T223727Z
UID:<span 
                data-original-string='Flzq8s4LTqF312rwqiRJ3g==386iGjqmuoqWoKRm2hr0jIMkfgkbpNnrudgyuDe/eOfIBT2RQKfNRwYjQ0JZf7kPpONoAwsBcxRz4M1FVe6USwCyQ=='
                class='apbct-email-encoder'
                title='This contact has been encoded by Anti-Spam by CleanTalk. Click to decode. To finish the decoding make sure that JavaScript is enabled in your browser.'>10<span class="apbct-blur">****************************</span>@<span class="apbct-blur">***************</span>wi.us</span>
SUMMARY:HES: PD Day- No School
DESCRIPTION:
URL:https://www.milton.k12.wi.us/event/hes-pd-day-no-school-4/
CATEGORIES:Harmony Elementary
END:VEVENT
BEGIN:VEVENT
DTSTART;VALUE=DATE:20260123
DTEND;VALUE=DATE:20260124
DTSTAMP:20260423T132526
CREATED:20250905T074000Z
LAST-MODIFIED:20260123T223753Z
UID:<span 
                data-original-string='rUsnV23fJykKGWAJYrwOZA==3862sdTpAbve8F1GrHS8AoMQJlDsY1ptD/5pSHb6L/RlhbPvzQQWGsF1GE2GObPd5frJpEEq7Ax5e6TJkj+6TPsHQ=='
                class='apbct-email-encoder'
                title='This contact has been encoded by Anti-Spam by CleanTalk. Click to decode. To finish the decoding make sure that JavaScript is enabled in your browser.'>10<span class="apbct-blur">****************************</span>@<span class="apbct-blur">***************</span>wi.us</span>
SUMMARY:HES: Family Fun Night
DESCRIPTION:
URL:https://www.milton.k12.wi.us/event/hes-family-fun-night-4/
CATEGORIES:Harmony Elementary
END:VEVENT
BEGIN:VEVENT
DTSTART;VALUE=DATE:20260209
DTEND;VALUE=DATE:20260210
DTSTAMP:20260423T132526
CREATED:20250825T070928Z
LAST-MODIFIED:20260209T225420Z
UID:<span 
                data-original-string='WI+ayjjLyZNKrgmW7I4uDQ==386cHtxuMck2ZENzxVVrgT0vE5Vw/L8iXNcn17NPiMmyEVYrsrU6ifv9qKJBooS2yYECnwaJUsNPR/IX7XX0+y10Q=='
                class='apbct-email-encoder'
                title='This contact has been encoded by Anti-Spam by CleanTalk. Click to decode. To finish the decoding make sure that JavaScript is enabled in your browser.'>10<span class="apbct-blur">****************************</span>@<span class="apbct-blur">***************</span>wi.us</span>
SUMMARY:HES: Virtual Learning Day
DESCRIPTION:
URL:https://www.milton.k12.wi.us/event/hes-virtual-learning-day-3/
CATEGORIES:Harmony Elementary
END:VEVENT
BEGIN:VEVENT
DTSTART;TZID=America/Chicago:20260216T180000
DTEND;TZID=America/Chicago:20260216T190000
DTSTAMP:20260423T132526
CREATED:20250829T070900Z
LAST-MODIFIED:20260216T230756Z
UID:<span 
                data-original-string='4A+eLuIZ4gHE3dCd5I8Yrg==386QlGGERW7nVGJJbPYh2EE47BYVEQMu/XfVk0hHeCPWZaxCF1Zt6EjTtZ1awhdsI878AyLjnzmm7JJ5yb8YoDQUQ=='
                class='apbct-email-encoder'
                title='This contact has been encoded by Anti-Spam by CleanTalk. Click to decode. To finish the decoding make sure that JavaScript is enabled in your browser.'>10<span class="apbct-blur">****************************</span>@<span class="apbct-blur">***************</span>wi.us</span>
SUMMARY:HES: Team Harmony Meeting 6pm
DESCRIPTION:
URL:https://www.milton.k12.wi.us/event/hes-team-harmony-meeting-6pm/
CATEGORIES:Harmony Elementary
END:VEVENT
BEGIN:VEVENT
DTSTART;VALUE=DATE:20260224
DTEND;VALUE=DATE:20260225
DTSTAMP:20260423T132526
CREATED:20250829T070901Z
LAST-MODIFIED:20260224T232452Z
UID:<span 
                data-original-string='JQH+2Qx2/Er9leD9JRQLOQ==386k+AdBF7/uEIPeM/k4woF9BFvE8pWBSORUwkB+pwBv6YMKtMJ5OhV5s64vfodhU+fkLJEdq6xGvYrtWK9Vmn9aw=='
                class='apbct-email-encoder'
                title='This contact has been encoded by Anti-Spam by CleanTalk. Click to decode. To finish the decoding make sure that JavaScript is enabled in your browser.'>10<span class="apbct-blur">****************************</span>@<span class="apbct-blur">***************</span>wi.us</span>
SUMMARY:HES: Culver's Scoopie Night
DESCRIPTION:
URL:https://www.milton.k12.wi.us/event/hes-culvers-scoopie-night-6/
CATEGORIES:Harmony Elementary
END:VEVENT
BEGIN:VEVENT
DTSTART;TZID=America/Chicago:20260304T160000
DTEND;TZID=America/Chicago:20260304T200000
DTSTAMP:20260423T132526
CREATED:20250825T070929Z
LAST-MODIFIED:20260304T233745Z
UID:<span 
                data-original-string='UlTd4soZb7eBToNP1hIq9Q==386+ewis07qTDQ4KZ0utgqebDg9QlsEV6IfoM0T5zkXWVd497A4X5xwp+2wtPmHURhrFsaBOg2hQgGYxMLe6IDQyw=='
                class='apbct-email-encoder'
                title='This contact has been encoded by Anti-Spam by CleanTalk. Click to decode. To finish the decoding make sure that JavaScript is enabled in your browser.'>10<span class="apbct-blur">****************************</span>@<span class="apbct-blur">***************</span>wi.us</span>
SUMMARY:HES: Parent/Teacher Conferences
DESCRIPTION:
URL:https://www.milton.k12.wi.us/event/hes-parent-teacher-conferences-7/
CATEGORIES:Harmony Elementary
END:VEVENT
BEGIN:VEVENT
DTSTART;VALUE=DATE:20260305
DTEND;VALUE=DATE:20260306
DTSTAMP:20260423T132526
CREATED:20250825T070930Z
LAST-MODIFIED:20260305T233955Z
UID:<span 
                data-original-string='h/4d5cZFd5nVVjXpPfV6Qw==386w+cxDltQbFHoXRz2UbCggYSA/TctKU4lMCfwN7RvstWPYI6jz/jR3FFvWjvz6qXH2F1Khq6X23Cyy9f3hQthRA=='
                class='apbct-email-encoder'
                title='This contact has been encoded by Anti-Spam by CleanTalk. Click to decode. To finish the decoding make sure that JavaScript is enabled in your browser.'>10<span class="apbct-blur">****************************</span>@<span class="apbct-blur">***************</span>wi.us</span>
SUMMARY:HES: No School 4K Only
DESCRIPTION:
URL:https://www.milton.k12.wi.us/event/hes-no-school-4k-only-4/
CATEGORIES:Harmony Elementary
END:VEVENT
BEGIN:VEVENT
DTSTART;TZID=America/Chicago:20260305T160000
DTEND;TZID=America/Chicago:20260305T200000
DTSTAMP:20260423T132526
CREATED:20250825T070929Z
LAST-MODIFIED:20260305T233954Z
UID:<span 
                data-original-string='4bNVk7bqVOwEwAvSGQwP8A==386SisDq3ILhXlRkpu4DGSPPJ6xlbyXDS77Ouvri9fW0YVxgkwyXBbzix2323qLIcDeeC2I11uVyhRZxPOhc7xI8g=='
                class='apbct-email-encoder'
                title='This contact has been encoded by Anti-Spam by CleanTalk. Click to decode. To finish the decoding make sure that JavaScript is enabled in your browser.'>10<span class="apbct-blur">****************************</span>@<span class="apbct-blur">***************</span>wi.us</span>
SUMMARY:HES: Parent/Teacher Conferences
DESCRIPTION:
URL:https://www.milton.k12.wi.us/event/hes-parent-teacher-conferences-8/
CATEGORIES:Harmony Elementary
END:VEVENT
BEGIN:VEVENT
DTSTART;VALUE=DATE:20260306
DTEND;VALUE=DATE:20260307
DTSTAMP:20260423T132526
CREATED:20250825T070930Z
LAST-MODIFIED:20260306T233815Z
UID:<span 
                data-original-string='znNOi1m+0QG6JgDB+C6m1Q==3865IN9dtGRvSaVFNlyX6juNRDygjorz02AVfJ4UOVsVCHh/iASrzPyIuy0OgrHtzNAsxP2gDIe5mKYCjjYsl+KPQ=='
                class='apbct-email-encoder'
                title='This contact has been encoded by Anti-Spam by CleanTalk. Click to decode. To finish the decoding make sure that JavaScript is enabled in your browser.'>10<span class="apbct-blur">****************************</span>@<span class="apbct-blur">***************</span>wi.us</span>
SUMMARY:HES: No School
DESCRIPTION:
URL:https://www.milton.k12.wi.us/event/hes-no-school-4/
CATEGORIES:Harmony Elementary
END:VEVENT
BEGIN:VEVENT
DTSTART;TZID=America/Chicago:20260313T140000
DTEND;TZID=America/Chicago:20260313T150000
DTSTAMP:20260423T132526
CREATED:20250825T203852Z
LAST-MODIFIED:20260313T162424Z
UID:<span 
                data-original-string='W0vOz7pco7VDvw/y1LrZOA==3860KLfHnMnnOUrgRxujpxfJg2m9goSK7mutZdqHYww+THWNoqqkgWC1uzwoMUHiEflsgXsGeSx41RMOtjFmU5A6g=='
                class='apbct-email-encoder'
                title='This contact has been encoded by Anti-Spam by CleanTalk. Click to decode. To finish the decoding make sure that JavaScript is enabled in your browser.'>10<span class="apbct-blur">****************************</span>@<span class="apbct-blur">***************</span>wi.us</span>
SUMMARY:HES: Spring Concert 1st & 2nd Grades
DESCRIPTION:
URL:https://www.milton.k12.wi.us/event/hes-spring-concert-1st-2nd-grades/
CATEGORIES:Harmony Elementary
END:VEVENT
BEGIN:VEVENT
DTSTART;TZID=America/Chicago:20260316T180000
DTEND;TZID=America/Chicago:20260316T190000
DTSTAMP:20260423T132526
CREATED:20250829T070924Z
LAST-MODIFIED:20260316T233723Z
UID:<span 
                data-original-string='SD6semSB609Ka5t3mumZtw==386HeQ57EIBvMLA37H4iCRsIPgArQtJtQpw8ET1gd7hv/jdgdxlqChgxUbdjcS9ZM8YQ1bBzVpAPG41AwRZ0wSVEQ=='
                class='apbct-email-encoder'
                title='This contact has been encoded by Anti-Spam by CleanTalk. Click to decode. To finish the decoding make sure that JavaScript is enabled in your browser.'>10<span class="apbct-blur">****************************</span>@<span class="apbct-blur">***************</span>wi.us</span>
SUMMARY:HES: Team Harmony Meeting
DESCRIPTION:
URL:https://www.milton.k12.wi.us/event/hes-team-harmony-meeting-5/
CATEGORIES:Harmony Elementary
END:VEVENT
BEGIN:VEVENT
DTSTART;VALUE=DATE:20260323
DTEND;VALUE=DATE:20260328
DTSTAMP:20260423T132526
CREATED:20250825T071100Z
LAST-MODIFIED:20260327T215231Z
UID:<span 
                data-original-string='sJUBnY7DqBMzvpigSjcj3Q==386Y4+ca677N2ODcl0CnJuJk5Glzcgj3TJDrqXYqXm9Q0uUtD+/TtwjStmgXPMsdJo4R30aLwh0f+2oLlHgbv0L4A=='
                class='apbct-email-encoder'
                title='This contact has been encoded by Anti-Spam by CleanTalk. Click to decode. To finish the decoding make sure that JavaScript is enabled in your browser.'>10<span class="apbct-blur">****************************</span>@<span class="apbct-blur">***************</span>wi.us</span>
SUMMARY:HES: Spring Break- No School
DESCRIPTION:
URL:https://www.milton.k12.wi.us/event/hes-spring-break-no-school-2/
CATEGORIES:Harmony Elementary
END:VEVENT
BEGIN:VEVENT
DTSTART;VALUE=DATE:20260403
DTEND;VALUE=DATE:20260404
DTSTAMP:20260423T132526
CREATED:20260128T225300Z
LAST-MODIFIED:20260403T222247Z
UID:<span 
                data-original-string='KjvZhtWiAsElnrzexB0amw==386BmFNzobV0HEbbCfVQjdcjdiz/dSAprcVTM++EDEATPnM9hAPH2WMjE7R4wsoTcWrmvJwmR5dg/6/Tk8g2peT6Q=='
                class='apbct-email-encoder'
                title='This contact has been encoded by Anti-Spam by CleanTalk. Click to decode. To finish the decoding make sure that JavaScript is enabled in your browser.'>10<span class="apbct-blur">****************************</span>@<span class="apbct-blur">***************</span>wi.us</span>
SUMMARY:Color Run Kick Off
DESCRIPTION:
URL:https://www.milton.k12.wi.us/event/color-run-kick-off/
CATEGORIES:Harmony Elementary
END:VEVENT
BEGIN:VEVENT
DTSTART;VALUE=DATE:20260417
DTEND;VALUE=DATE:20260418
DTSTAMP:20260423T132526
CREATED:20250825T071101Z
LAST-MODIFIED:20260417T232300Z
UID:<span 
                data-original-string='HdQYXegr24LE3fYbNNBIfA==386G1r9M75bdhf6y9FqN8EI2nT1XrM6vk1ZyBKx/6pudrhjmmwIwcjb7hQRB2qB5/awhzNaGeh+erlgx5MTB+88eQ=='
                class='apbct-email-encoder'
                title='This contact has been encoded by Anti-Spam by CleanTalk. Click to decode. To finish the decoding make sure that JavaScript is enabled in your browser.'>10<span class="apbct-blur">****************************</span>@<span class="apbct-blur">***************</span>wi.us</span>
SUMMARY:HES: PD Day- No School
DESCRIPTION:
URL:https://www.milton.k12.wi.us/event/hes-pd-day-no-school-5/
CATEGORIES:Harmony Elementary
END:VEVENT
BEGIN:VEVENT
DTSTART;TZID=America/Chicago:20260420T180000
DTEND;TZID=America/Chicago:20260420T190000
DTSTAMP:20260423T132526
CREATED:20250829T070940Z
LAST-MODIFIED:20260420T233928Z
UID:<span 
                data-original-string='+nEqLe9k4WWS3yqCnHi0Eg==386LRMAKNJxz9knvF4Rg3AThJ8H6EPvOJMPQnWsF9c4Yh+YeT0g2kq5+5BklS9Pn+S706U9Ll0eiQaa58GDl/SiYQ=='
                class='apbct-email-encoder'
                title='This contact has been encoded by Anti-Spam by CleanTalk. Click to decode. To finish the decoding make sure that JavaScript is enabled in your browser.'>10<span class="apbct-blur">****************************</span>@<span class="apbct-blur">***************</span>wi.us</span>
SUMMARY:HES: Team Harmony Meeting
DESCRIPTION:
URL:https://www.milton.k12.wi.us/event/hes-team-harmony-meeting-6/
CATEGORIES:Harmony Elementary
END:VEVENT
BEGIN:VEVENT
DTSTART;VALUE=DATE:20260515
DTEND;VALUE=DATE:20260516
DTSTAMP:20260423T132526
CREATED:20250829T070941Z
LAST-MODIFIED:20260423T182224Z
UID:<span 
                data-original-string='Hs9tkG/csiXmZDmaOqk2OQ==386x9d04rdyVWeYJNBkkotmpXkHTDvPh80C6djD0ss7u5l+xOO4t0QBFuzkAipnbEp6twApA2z0EL8qC14hNC0zIg=='
                class='apbct-email-encoder'
                title='This contact has been encoded by Anti-Spam by CleanTalk. Click to decode. To finish the decoding make sure that JavaScript is enabled in your browser.'>10<span class="apbct-blur">****************************</span>@<span class="apbct-blur">***************</span>wi.us</span>
SUMMARY:HES: Color Run
DESCRIPTION:
URL:https://www.milton.k12.wi.us/event/hes-color-run/
CATEGORIES:Harmony Elementary
END:VEVENT
BEGIN:VEVENT
DTSTART;TZID=America/Chicago:20260518T180000
DTEND;TZID=America/Chicago:20260518T190000
DTSTAMP:20260423T132526
CREATED:20250829T070941Z
LAST-MODIFIED:20260423T182225Z
UID:<span 
                data-original-string='kmwbX60Uvlm83+M5pvKdKw==386e/TshJLF0F5n77650/3NHgUT6U9iXXiciVLHZrEiw20alIjBokUw1DKd14NE7phku/yJi9s9KvcjiWcmOAFnKA=='
                class='apbct-email-encoder'
                title='This contact has been encoded by Anti-Spam by CleanTalk. Click to decode. To finish the decoding make sure that JavaScript is enabled in your browser.'>10<span class="apbct-blur">****************************</span>@<span class="apbct-blur">***************</span>wi.us</span>
SUMMARY:HES: Team Harmony Meeting
DESCRIPTION:
URL:https://www.milton.k12.wi.us/event/hes-team-harmony-meeting-7/
CATEGORIES:Harmony Elementary
END:VEVENT
BEGIN:VEVENT
DTSTART;VALUE=DATE:20260525
DTEND;VALUE=DATE:20260526
DTSTAMP:20260423T132526
CREATED:20250825T071101Z
LAST-MODIFIED:20260423T182225Z
UID:<span 
                data-original-string='H8P7D2JaofiiSMN6aJaYPA==3863wzgnLydtJvequLb+tnsMnUgCvNYG1vun8LVzv0/HHajsLbRPs6nl9jr28pEw4JcWiiH5DsyHOyChKy9Trnrpw=='
                class='apbct-email-encoder'
                title='This contact has been encoded by Anti-Spam by CleanTalk. Click to decode. To finish the decoding make sure that JavaScript is enabled in your browser.'>10<span class="apbct-blur">****************************</span>@<span class="apbct-blur">***************</span>wi.us</span>
SUMMARY:HES: Memorial Day- No School
DESCRIPTION:
URL:https://www.milton.k12.wi.us/event/hes-memorial-day-no-school-2/
CATEGORIES:Harmony Elementary
END:VEVENT
BEGIN:VEVENT
DTSTART;VALUE=DATE:20260529
DTEND;VALUE=DATE:20260530
DTSTAMP:20260423T132526
CREATED:20250829T070943Z
LAST-MODIFIED:20260423T182226Z
UID:<span 
                data-original-string='CTFubkTlh/nvEYYoDbJJ8Q==386Mv7XGVbzCmXkm2TJFQP9969m5WOFrQou7fFtgJJ20uEI61I1Qez4W/aYYNDXg++EPBFCu4rnBNToRkWrRcKhSg=='
                class='apbct-email-encoder'
                title='This contact has been encoded by Anti-Spam by CleanTalk. Click to decode. To finish the decoding make sure that JavaScript is enabled in your browser.'>10<span class="apbct-blur">****************************</span>@<span class="apbct-blur">***************</span>wi.us</span>
SUMMARY:HES: Color Run Rain Date
DESCRIPTION:
URL:https://www.milton.k12.wi.us/event/hes-color-run-rain-date/
CATEGORIES:Harmony Elementary
END:VEVENT
BEGIN:VEVENT
DTSTART;VALUE=DATE:20260603
DTEND;VALUE=DATE:20260604
DTSTAMP:20260423T132526
CREATED:20250825T071102Z
LAST-MODIFIED:20260423T182226Z
UID:<span 
                data-original-string='r4xS+EW31OPoBI50O1gb3A==386urDzAlChdxxs8gwDojdSsyW8DklImgf+hN/Vk0ZGZyn8hM6a/ABKuwlhY9ml4Ha8BcfGjKky5thepDqWNuPV6Q=='
                class='apbct-email-encoder'
                title='This contact has been encoded by Anti-Spam by CleanTalk. Click to decode. To finish the decoding make sure that JavaScript is enabled in your browser.'>10<span class="apbct-blur">****************************</span>@<span class="apbct-blur">***************</span>wi.us</span>
SUMMARY:HES: Last Day of 4K
DESCRIPTION:
URL:https://www.milton.k12.wi.us/event/hes-last-day-of-4k/
CATEGORIES:Harmony Elementary
END:VEVENT
BEGIN:VEVENT
DTSTART;VALUE=DATE:20260605
DTEND;VALUE=DATE:20260606
DTSTAMP:20260423T132526
CREATED:20250825T071105Z
LAST-MODIFIED:20260423T182239Z
UID:<span 
                data-original-string='9LkB19z37cLWXdvt3kx7xA==386xRq7latCfDKkYtT0ro0wuTCU1b17Gfk4LqoZ/9Zc5ppYgYZNFCGwQNYpssW1y1KB/KJALyrhBvjO6P+/aQheHg=='
                class='apbct-email-encoder'
                title='This contact has been encoded by Anti-Spam by CleanTalk. Click to decode. To finish the decoding make sure that JavaScript is enabled in your browser.'>10<span class="apbct-blur">****************************</span>@<span class="apbct-blur">***************</span>wi.us</span>
SUMMARY:HES: Last Day of School- Early Dismissal
DESCRIPTION:
URL:https://www.milton.k12.wi.us/event/hes-last-day-of-school-early-dismissal-2/
CATEGORIES:Harmony Elementary
END:VEVENT
END:VCALENDAR