BEGIN:VCALENDAR
VERSION:2.0
PRODID:-//School District of Milton - ECPv6.15.20//NONSGML v1.0//EN
CALSCALE:GREGORIAN
METHOD:PUBLISH
X-ORIGINAL-URL:https://www.milton.k12.wi.us
X-WR-CALDESC:Events for School District of Milton
REFRESH-INTERVAL;VALUE=DURATION:PT1H
X-Robots-Tag:noindex
X-PUBLISHED-TTL:PT1H
BEGIN:VTIMEZONE
TZID:America/Chicago
BEGIN:DAYLIGHT
TZOFFSETFROM:-0600
TZOFFSETTO:-0500
TZNAME:CDT
DTSTART:20260308T080000
END:DAYLIGHT
BEGIN:STANDARD
TZOFFSETFROM:-0500
TZOFFSETTO:-0600
TZNAME:CST
DTSTART:20261101T070000
END:STANDARD
BEGIN:DAYLIGHT
TZOFFSETFROM:-0600
TZOFFSETTO:-0500
TZNAME:CDT
DTSTART:20270314T080000
END:DAYLIGHT
BEGIN:STANDARD
TZOFFSETFROM:-0500
TZOFFSETTO:-0600
TZNAME:CST
DTSTART:20271107T070000
END:STANDARD
BEGIN:DAYLIGHT
TZOFFSETFROM:-0600
TZOFFSETTO:-0500
TZNAME:CDT
DTSTART:20280312T080000
END:DAYLIGHT
BEGIN:STANDARD
TZOFFSETFROM:-0500
TZOFFSETTO:-0600
TZNAME:CST
DTSTART:20281105T070000
END:STANDARD
BEGIN:DAYLIGHT
TZOFFSETFROM:-0600
TZOFFSETTO:-0500
TZNAME:CDT
DTSTART:20290311T080000
END:DAYLIGHT
BEGIN:STANDARD
TZOFFSETFROM:-0500
TZOFFSETTO:-0600
TZNAME:CST
DTSTART:20291104T070000
END:STANDARD
END:VTIMEZONE
BEGIN:VEVENT
DTSTART;TZID=America/Chicago:20270412T183000
DTEND;TZID=America/Chicago:20270412T203000
DTSTAMP:20260423T122555
CREATED:20250412T202701Z
LAST-MODIFIED:20260423T151243Z
UID:<span 
                data-original-string='kUdFcM+5Y965OTaN+147ug==3864mpTb/dVBJqQ9Clp8LLMArPrNUQZBWlF6WHB33r1hjz9trQdlEA2dP0M5IbY2hEkoE23i392/U6m8wx3x1qB4g=='
                class='apbct-email-encoder'
                title='This contact has been encoded by Anti-Spam by CleanTalk. Click to decode. To finish the decoding make sure that JavaScript is enabled in your browser.'>10<span class="apbct-blur">****************************</span>@<span class="apbct-blur">***************</span>wi.us</span>
SUMMARY:School Board Meeting
DESCRIPTION:
URL:https://www.milton.k12.wi.us/event/school-board-meeting-68/
CATEGORIES:District
END:VEVENT
BEGIN:VEVENT
DTSTART;TZID=America/Chicago:20270426T183000
DTEND;TZID=America/Chicago:20270426T203000
DTSTAMP:20260423T122555
CREATED:20250426T130951Z
LAST-MODIFIED:20260423T151244Z
UID:<span 
                data-original-string='tKvSIB0y3b61IB31YfhIUg==386eH6JNZ1eL5zAX+SdHvvZaJyFv6+QXjGbvaoG0W9GfCEsh1gN8HqpI/IKmRSCVP1zVoiNI5AzOKccciqljRaURQ=='
                class='apbct-email-encoder'
                title='This contact has been encoded by Anti-Spam by CleanTalk. Click to decode. To finish the decoding make sure that JavaScript is enabled in your browser.'>10<span class="apbct-blur">****************************</span>@<span class="apbct-blur">***************</span>wi.us</span>
SUMMARY:School Board Meeting
DESCRIPTION:
URL:https://www.milton.k12.wi.us/event/school-board-meeting-69/
LOCATION:School District of Milton\, 448 E High St\, Milton\, WI\, United States
CATEGORIES:District
GEO:42.773036;-88.944404
X-APPLE-STRUCTURED-LOCATION;VALUE=URI;X-ADDRESS=School District of Milton 448 E High St Milton WI United States;X-APPLE-RADIUS=500;X-TITLE=448 E High St:geo:-88.944404,42.773036
END:VEVENT
BEGIN:VEVENT
DTSTART;TZID=America/Chicago:20270510T183000
DTEND;TZID=America/Chicago:20270510T203000
DTSTAMP:20260423T122555
CREATED:20250510T004006Z
LAST-MODIFIED:20260423T151247Z
UID:<span 
                data-original-string='AkkE1SmIPYZUYdpqaGflLw==386vpJYXmLg4DNtzirl3T6svKJWh2EiQgEdZgXj2DEhFBYo9SWWU5vOM0HuYeRag9J/9UiK/oA9/bv/njVY+MTdww=='
                class='apbct-email-encoder'
                title='This contact has been encoded by Anti-Spam by CleanTalk. Click to decode. To finish the decoding make sure that JavaScript is enabled in your browser.'>10<span class="apbct-blur">****************************</span>@<span class="apbct-blur">***************</span>wi.us</span>
SUMMARY:School Board Meeting
DESCRIPTION:
URL:https://www.milton.k12.wi.us/event/school-board-meeting-70/
CATEGORIES:District
END:VEVENT
BEGIN:VEVENT
DTSTART;TZID=America/Chicago:20270524T183000
DTEND;TZID=America/Chicago:20270524T203000
DTSTAMP:20260423T122555
CREATED:20250524T001857Z
LAST-MODIFIED:20260423T151248Z
UID:<span 
                data-original-string='QAVKoxu8nR8nsF5cQKrEeg==386LyghdycnpK0DkrEMBrxVuodt3oHH86R2Afyl4qKsujmA0U2WaFWsl1iQc0t9J4E0PCZb2WsYiGs4JcG+V/89ow=='
                class='apbct-email-encoder'
                title='This contact has been encoded by Anti-Spam by CleanTalk. Click to decode. To finish the decoding make sure that JavaScript is enabled in your browser.'>10<span class="apbct-blur">****************************</span>@<span class="apbct-blur">***************</span>wi.us</span>
SUMMARY:School Board Meeting
DESCRIPTION:
URL:https://www.milton.k12.wi.us/event/school-board-meeting-71/
LOCATION:School District of Milton\, 448 E High St\, Milton\, WI\, United States
CATEGORIES:District
GEO:42.773036;-88.944404
X-APPLE-STRUCTURED-LOCATION;VALUE=URI;X-ADDRESS=School District of Milton 448 E High St Milton WI United States;X-APPLE-RADIUS=500;X-TITLE=448 E High St:geo:-88.944404,42.773036
END:VEVENT
BEGIN:VEVENT
DTSTART;TZID=America/Chicago:20270614T183000
DTEND;TZID=America/Chicago:20270614T203000
DTSTAMP:20260423T122555
CREATED:20250614T141102Z
LAST-MODIFIED:20260423T151248Z
UID:<span 
                data-original-string='uCv+E7fVU9tQheGjiJLNQA==386+S52lA/rArUOzVJTS70XpuySKcEyW46zu3lyymnUdsqB9iYjiOOSDDvgMgoQOqsd6yNOUdzu8q8Z8v7aTcdnAA=='
                class='apbct-email-encoder'
                title='This contact has been encoded by Anti-Spam by CleanTalk. Click to decode. To finish the decoding make sure that JavaScript is enabled in your browser.'>10<span class="apbct-blur">****************************</span>@<span class="apbct-blur">***************</span>wi.us</span>
SUMMARY:School Board Meeting
DESCRIPTION:
URL:https://www.milton.k12.wi.us/event/school-board-meeting-72/
CATEGORIES:District
END:VEVENT
BEGIN:VEVENT
DTSTART;TZID=America/Chicago:20270628T183000
DTEND;TZID=America/Chicago:20270628T203000
DTSTAMP:20260423T122555
CREATED:20250628T025827Z
LAST-MODIFIED:20260423T151249Z
UID:<span 
                data-original-string='OJ4AS+ncXBOa7AGP8ako0g==386o1MseRRPI30r0fvMhY6wBeV+y6cSGN+VpCRVjhaFDPV7F3GMuDN94vlPc1J4/GFBdTj5akuEzOBcM1+d1McMYA=='
                class='apbct-email-encoder'
                title='This contact has been encoded by Anti-Spam by CleanTalk. Click to decode. To finish the decoding make sure that JavaScript is enabled in your browser.'>10<span class="apbct-blur">****************************</span>@<span class="apbct-blur">***************</span>wi.us</span>
SUMMARY:School Board Meeting
DESCRIPTION:
URL:https://www.milton.k12.wi.us/event/school-board-meeting-73/
LOCATION:School District of Milton\, 448 E High St\, Milton\, WI\, United States
CATEGORIES:District
GEO:42.773036;-88.944404
X-APPLE-STRUCTURED-LOCATION;VALUE=URI;X-ADDRESS=School District of Milton 448 E High St Milton WI United States;X-APPLE-RADIUS=500;X-TITLE=448 E High St:geo:-88.944404,42.773036
END:VEVENT
BEGIN:VEVENT
DTSTART;TZID=America/Chicago:20270712T183000
DTEND;TZID=America/Chicago:20270712T203000
DTSTAMP:20260423T122555
CREATED:20250712T002924Z
LAST-MODIFIED:20260423T151250Z
UID:<span 
                data-original-string='jSy8YqYOGnwKljO2QRFKoA==386F3DnqpnvXVvOAQ1rl7HsQDHhfofeenqtKRnJlphHCM0FY7JkNJNEzl9DGyo+nedPOuXzLCr0APtzrrTcp80fFw=='
                class='apbct-email-encoder'
                title='This contact has been encoded by Anti-Spam by CleanTalk. Click to decode. To finish the decoding make sure that JavaScript is enabled in your browser.'>10<span class="apbct-blur">****************************</span>@<span class="apbct-blur">***************</span>wi.us</span>
SUMMARY:School Board Meeting
DESCRIPTION:
URL:https://www.milton.k12.wi.us/event/school-board-meeting-74/
CATEGORIES:District
END:VEVENT
BEGIN:VEVENT
DTSTART;TZID=America/Chicago:20270726T183000
DTEND;TZID=America/Chicago:20270726T203000
DTSTAMP:20260423T122555
CREATED:20250726T063850Z
LAST-MODIFIED:20260423T151256Z
UID:<span 
                data-original-string='C1ZbHFaYvCyI7s86E6HGFw==386RgzFQmUWempvs+SVKWxIs6kEi5grgWAWCquifvh2zf6xS8tCsPq4izh2UNVzQ/Hr9RMHDwDuSK2FwZAJXgZljA=='
                class='apbct-email-encoder'
                title='This contact has been encoded by Anti-Spam by CleanTalk. Click to decode. To finish the decoding make sure that JavaScript is enabled in your browser.'>10<span class="apbct-blur">****************************</span>@<span class="apbct-blur">***************</span>wi.us</span>
SUMMARY:School Board Meeting
DESCRIPTION:
URL:https://www.milton.k12.wi.us/event/school-board-meeting-75/
LOCATION:School District of Milton\, 448 E High St\, Milton\, WI\, United States
CATEGORIES:District
GEO:42.773036;-88.944404
X-APPLE-STRUCTURED-LOCATION;VALUE=URI;X-ADDRESS=School District of Milton 448 E High St Milton WI United States;X-APPLE-RADIUS=500;X-TITLE=448 E High St:geo:-88.944404,42.773036
END:VEVENT
BEGIN:VEVENT
DTSTART;TZID=America/Chicago:20270809T183000
DTEND;TZID=America/Chicago:20270809T203000
DTSTAMP:20260423T122555
CREATED:20250809T064159Z
LAST-MODIFIED:20260423T151256Z
UID:<span 
                data-original-string='3sdoZQbY0e6gIlBZEtQa5w==386J3tjyIel5/PqmqPECIWvVJS1m7/TL47Ymhpqs4PQv3QkaWp1SIWHNTbA+OXXElHRDNIDVzKdCZnlxS+UhcC06w=='
                class='apbct-email-encoder'
                title='This contact has been encoded by Anti-Spam by CleanTalk. Click to decode. To finish the decoding make sure that JavaScript is enabled in your browser.'>10<span class="apbct-blur">****************************</span>@<span class="apbct-blur">***************</span>wi.us</span>
SUMMARY:School Board Meeting
DESCRIPTION:
URL:https://www.milton.k12.wi.us/event/school-board-meeting-76/
CATEGORIES:District
END:VEVENT
BEGIN:VEVENT
DTSTART;TZID=America/Chicago:20270823T183000
DTEND;TZID=America/Chicago:20270823T203000
DTSTAMP:20260423T122555
CREATED:20250823T094249Z
LAST-MODIFIED:20260423T151257Z
UID:<span 
                data-original-string='7mRTwGgCaY41XLbyDAfLRw==386xJKgIzqI5R+KdBjYGJRCwI1yrMwrq92LY0B2J5Yc/z3tZsbDoGnTSiAjFGUItmerL/WkoUwzLlKCDsdNTfZfvg=='
                class='apbct-email-encoder'
                title='This contact has been encoded by Anti-Spam by CleanTalk. Click to decode. To finish the decoding make sure that JavaScript is enabled in your browser.'>10<span class="apbct-blur">****************************</span>@<span class="apbct-blur">***************</span>wi.us</span>
SUMMARY:School Board Meeting
DESCRIPTION:
URL:https://www.milton.k12.wi.us/event/school-board-meeting-77/
LOCATION:School District of Milton\, 448 E High St\, Milton\, WI\, United States
CATEGORIES:District
GEO:42.773036;-88.944404
X-APPLE-STRUCTURED-LOCATION;VALUE=URI;X-ADDRESS=School District of Milton 448 E High St Milton WI United States;X-APPLE-RADIUS=500;X-TITLE=448 E High St:geo:-88.944404,42.773036
END:VEVENT
BEGIN:VEVENT
DTSTART;TZID=America/Chicago:20270913T183000
DTEND;TZID=America/Chicago:20270913T203000
DTSTAMP:20260423T122555
CREATED:20250913T081009Z
LAST-MODIFIED:20260423T151258Z
UID:<span 
                data-original-string='agZhGdyJDIt7xogwz4AOWw==386g/+bZFtCvhPJKS1kF35/n1eXyFY5xKow2S8NaGvmXNaKKt8yV65QaJ8G+6BKm7mT98fSTSp3nzsvJmYh6aB7gw=='
                class='apbct-email-encoder'
                title='This contact has been encoded by Anti-Spam by CleanTalk. Click to decode. To finish the decoding make sure that JavaScript is enabled in your browser.'>10<span class="apbct-blur">****************************</span>@<span class="apbct-blur">***************</span>wi.us</span>
SUMMARY:School Board Meeting
DESCRIPTION:
URL:https://www.milton.k12.wi.us/event/school-board-meeting-78/
CATEGORIES:District
END:VEVENT
BEGIN:VEVENT
DTSTART;TZID=America/Chicago:20270927T183000
DTEND;TZID=America/Chicago:20270927T203000
DTSTAMP:20260423T122555
CREATED:20250927T081328Z
LAST-MODIFIED:20260423T151258Z
UID:<span 
                data-original-string='BSlnpZWxKzyjLzYfIM8l+Q==3862aMeNZbjlbz12yRzrsaLkXZeLA7QYM8SmbHndVTBLbXmfrVD3XIWWQ1zhou3D5fn3SYHBR7T5mqeHOoOOWoqPA=='
                class='apbct-email-encoder'
                title='This contact has been encoded by Anti-Spam by CleanTalk. Click to decode. To finish the decoding make sure that JavaScript is enabled in your browser.'>10<span class="apbct-blur">****************************</span>@<span class="apbct-blur">***************</span>wi.us</span>
SUMMARY:School Board Meeting
DESCRIPTION:
URL:https://www.milton.k12.wi.us/event/school-board-meeting-79/
LOCATION:School District of Milton\, 448 E High St\, Milton\, WI\, United States
CATEGORIES:District
GEO:42.773036;-88.944404
X-APPLE-STRUCTURED-LOCATION;VALUE=URI;X-ADDRESS=School District of Milton 448 E High St Milton WI United States;X-APPLE-RADIUS=500;X-TITLE=448 E High St:geo:-88.944404,42.773036
END:VEVENT
BEGIN:VEVENT
DTSTART;TZID=America/Chicago:20271011T183000
DTEND;TZID=America/Chicago:20271011T203000
DTSTAMP:20260423T122555
CREATED:20251011T082500Z
LAST-MODIFIED:20260423T151304Z
UID:<span 
                data-original-string='AH4MBzaSf8GTe6wyLbWZ+A==386LNmt1WLz72mza8r5dGxgwVxzU/JqTfL2G5N6NujkFa2yw6DI8NtESLUUDgudvdstR2lzwF1YT2I7VWa2gKPthg=='
                class='apbct-email-encoder'
                title='This contact has been encoded by Anti-Spam by CleanTalk. Click to decode. To finish the decoding make sure that JavaScript is enabled in your browser.'>10<span class="apbct-blur">****************************</span>@<span class="apbct-blur">***************</span>wi.us</span>
SUMMARY:School Board Meeting
DESCRIPTION:
URL:https://www.milton.k12.wi.us/event/school-board-meeting-80/
CATEGORIES:District
END:VEVENT
BEGIN:VEVENT
DTSTART;TZID=America/Chicago:20271025T183000
DTEND;TZID=America/Chicago:20271025T203000
DTSTAMP:20260423T122555
CREATED:20251025T092839Z
LAST-MODIFIED:20260423T151305Z
UID:<span 
                data-original-string='84Eis1JIMnYywWft5cJ6JA==386KmQ3Us64ExnYBfsHneFRrlW1E86JjJpC+uB6JG3YbYkYCiCabmSAP2qsbIRzNC3rm6BJISTYYVfQgUemGzB6nw=='
                class='apbct-email-encoder'
                title='This contact has been encoded by Anti-Spam by CleanTalk. Click to decode. To finish the decoding make sure that JavaScript is enabled in your browser.'>10<span class="apbct-blur">****************************</span>@<span class="apbct-blur">***************</span>wi.us</span>
SUMMARY:School Board Meeting
DESCRIPTION:
URL:https://www.milton.k12.wi.us/event/school-board-meeting-81/
LOCATION:School District of Milton\, 448 E High St\, Milton\, WI\, United States
CATEGORIES:District
GEO:42.773036;-88.944404
X-APPLE-STRUCTURED-LOCATION;VALUE=URI;X-ADDRESS=School District of Milton 448 E High St Milton WI United States;X-APPLE-RADIUS=500;X-TITLE=448 E High St:geo:-88.944404,42.773036
END:VEVENT
BEGIN:VEVENT
DTSTART;TZID=America/Chicago:20271108T183000
DTEND;TZID=America/Chicago:20271108T203000
DTSTAMP:20260423T122555
CREATED:20251109T101549Z
LAST-MODIFIED:20260423T151305Z
UID:<span 
                data-original-string='0LDH3SbCrhrfbJPm4jSOCw==386B6bbYNlrt4tQ4TGFkZWbwQH0fSuo0kZub13eUWDsgrln0auKSOm7eoAPWhcwGUuX5vMB1vLoI1CSNaQ6tpzbPg=='
                class='apbct-email-encoder'
                title='This contact has been encoded by Anti-Spam by CleanTalk. Click to decode. To finish the decoding make sure that JavaScript is enabled in your browser.'>10<span class="apbct-blur">****************************</span>@<span class="apbct-blur">***************</span>wi.us</span>
SUMMARY:School Board Meeting
DESCRIPTION:
URL:https://www.milton.k12.wi.us/event/school-board-meeting-82/
CATEGORIES:District
END:VEVENT
BEGIN:VEVENT
DTSTART;TZID=America/Chicago:20271122T183000
DTEND;TZID=America/Chicago:20271122T203000
DTSTAMP:20260423T122555
CREATED:20251123T101014Z
LAST-MODIFIED:20260423T151306Z
UID:<span 
                data-original-string='TmgvQ4DEUonOY/0ZfOUFBg==386tsItnIQsqTce+UlID0SShTnG26AfScxeV8P4f6cBcPuGxsoEeivZsWi5Z1bomBhlnj5nw8dbqemGJl0fmyEeNQ=='
                class='apbct-email-encoder'
                title='This contact has been encoded by Anti-Spam by CleanTalk. Click to decode. To finish the decoding make sure that JavaScript is enabled in your browser.'>10<span class="apbct-blur">****************************</span>@<span class="apbct-blur">***************</span>wi.us</span>
SUMMARY:School Board Meeting
DESCRIPTION:
URL:https://www.milton.k12.wi.us/event/school-board-meeting-83/
LOCATION:School District of Milton\, 448 E High St\, Milton\, WI\, United States
CATEGORIES:District
GEO:42.773036;-88.944404
X-APPLE-STRUCTURED-LOCATION;VALUE=URI;X-ADDRESS=School District of Milton 448 E High St Milton WI United States;X-APPLE-RADIUS=500;X-TITLE=448 E High St:geo:-88.944404,42.773036
END:VEVENT
BEGIN:VEVENT
DTSTART;TZID=America/Chicago:20271213T183000
DTEND;TZID=America/Chicago:20271213T203000
DTSTAMP:20260423T122555
CREATED:20251214T102428Z
LAST-MODIFIED:20260423T151307Z
UID:<span 
                data-original-string='qYGywxX+RnB7en2c4YJLwQ==386KPsa1cewSY/72r0dHM/SWfrQhQunf/flvYVqqzuYwH87WX22mQhUFZ0xtaJhJtzWvAqYF3n3NrQM5BlejI28bA=='
                class='apbct-email-encoder'
                title='This contact has been encoded by Anti-Spam by CleanTalk. Click to decode. To finish the decoding make sure that JavaScript is enabled in your browser.'>10<span class="apbct-blur">****************************</span>@<span class="apbct-blur">***************</span>wi.us</span>
SUMMARY:School Board Meeting
DESCRIPTION:
URL:https://www.milton.k12.wi.us/event/school-board-meeting-84/
CATEGORIES:District
END:VEVENT
BEGIN:VEVENT
DTSTART;TZID=America/Chicago:20271227T183000
DTEND;TZID=America/Chicago:20271227T203000
DTSTAMP:20260423T122555
CREATED:20251228T111012Z
LAST-MODIFIED:20260423T151317Z
UID:<span 
                data-original-string='oznKVJ8AmzgxA5FIxRlKtw==386FGyu5CjNASkIjvgOTiR2MCXJ+bznTm5sM3iF26wROwIewI4Me+tgpzo2G853erU+q2Z7Rx2XRualrg7Va1QUjQ=='
                class='apbct-email-encoder'
                title='This contact has been encoded by Anti-Spam by CleanTalk. Click to decode. To finish the decoding make sure that JavaScript is enabled in your browser.'>10<span class="apbct-blur">****************************</span>@<span class="apbct-blur">***************</span>wi.us</span>
SUMMARY:School Board Meeting
DESCRIPTION:
URL:https://www.milton.k12.wi.us/event/school-board-meeting-85/
LOCATION:School District of Milton\, 448 E High St\, Milton\, WI\, United States
CATEGORIES:District
GEO:42.773036;-88.944404
X-APPLE-STRUCTURED-LOCATION;VALUE=URI;X-ADDRESS=School District of Milton 448 E High St Milton WI United States;X-APPLE-RADIUS=500;X-TITLE=448 E High St:geo:-88.944404,42.773036
END:VEVENT
BEGIN:VEVENT
DTSTART;TZID=America/Chicago:20280110T183000
DTEND;TZID=America/Chicago:20280110T203000
DTSTAMP:20260423T122555
CREATED:20260111T112609Z
LAST-MODIFIED:20260423T151317Z
UID:<span 
                data-original-string='VognOSLmgjEB8BcQ1spPug==3862/NoCB9zY7RCeuE8TMFfD/nPFPtpl3NDm3Qu8dWHYq5y/wq8DJv1tUOFx61Xcy/yDqy3z07myFr7rOyszyU8bQ=='
                class='apbct-email-encoder'
                title='This contact has been encoded by Anti-Spam by CleanTalk. Click to decode. To finish the decoding make sure that JavaScript is enabled in your browser.'>10<span class="apbct-blur">****************************</span>@<span class="apbct-blur">***************</span>wi.us</span>
SUMMARY:School Board Meeting
DESCRIPTION:
URL:https://www.milton.k12.wi.us/event/school-board-meeting-86/
CATEGORIES:District
END:VEVENT
BEGIN:VEVENT
DTSTART;TZID=America/Chicago:20280124T183000
DTEND;TZID=America/Chicago:20280124T203000
DTSTAMP:20260423T122555
CREATED:20260125T115446Z
LAST-MODIFIED:20260423T151318Z
UID:<span 
                data-original-string='WYibRcQN6U/TOpJattdZ3Q==386IstICqKHgyCie3HJqxVCzqA6YXRTkecZb8o8QXiyXC1yyt5pRWxKB5c1x8zGFkNCqHjVfga2lY8Ay5HFnX4XQQ=='
                class='apbct-email-encoder'
                title='This contact has been encoded by Anti-Spam by CleanTalk. Click to decode. To finish the decoding make sure that JavaScript is enabled in your browser.'>10<span class="apbct-blur">****************************</span>@<span class="apbct-blur">***************</span>wi.us</span>
SUMMARY:School Board Meeting
DESCRIPTION:
URL:https://www.milton.k12.wi.us/event/school-board-meeting-87/
LOCATION:School District of Milton\, 448 E High St\, Milton\, WI\, United States
CATEGORIES:District
GEO:42.773036;-88.944404
X-APPLE-STRUCTURED-LOCATION;VALUE=URI;X-ADDRESS=School District of Milton 448 E High St Milton WI United States;X-APPLE-RADIUS=500;X-TITLE=448 E High St:geo:-88.944404,42.773036
END:VEVENT
BEGIN:VEVENT
DTSTART;TZID=America/Chicago:20280214T183000
DTEND;TZID=America/Chicago:20280214T203000
DTSTAMP:20260423T122555
CREATED:20260215T122810Z
LAST-MODIFIED:20260423T151319Z
UID:<span 
                data-original-string='L0d3KR288j+dx+p1JCgmTA==386UHHP7MT/OBeWHmeFsWf3qT21B0c0JOF486QS134hchEWc7I+B2iFUgjvTpMLLICWXik9FDRG6zIvk8lc/d/arg=='
                class='apbct-email-encoder'
                title='This contact has been encoded by Anti-Spam by CleanTalk. Click to decode. To finish the decoding make sure that JavaScript is enabled in your browser.'>10<span class="apbct-blur">****************************</span>@<span class="apbct-blur">***************</span>wi.us</span>
SUMMARY:School Board Meeting
DESCRIPTION:
URL:https://www.milton.k12.wi.us/event/school-board-meeting-88/
CATEGORIES:District
END:VEVENT
BEGIN:VEVENT
DTSTART;TZID=America/Chicago:20280228T183000
DTEND;TZID=America/Chicago:20280228T203000
DTSTAMP:20260423T122555
CREATED:20260301T125430Z
LAST-MODIFIED:20260423T151320Z
UID:<span 
                data-original-string='qZ/n61iUN2Y6vUnA41sXlQ==386Q/4E6bR/Wu3t5nKGE9nXORu2JDwE0ysaDnsfzpm7J8olxDLmLu58iIqbCFt5P8ROsKDw0GmGBO+1mIvhf/XrHQ=='
                class='apbct-email-encoder'
                title='This contact has been encoded by Anti-Spam by CleanTalk. Click to decode. To finish the decoding make sure that JavaScript is enabled in your browser.'>10<span class="apbct-blur">****************************</span>@<span class="apbct-blur">***************</span>wi.us</span>
SUMMARY:School Board Meeting
DESCRIPTION:
URL:https://www.milton.k12.wi.us/event/school-board-meeting-89/
LOCATION:School District of Milton\, 448 E High St\, Milton\, WI\, United States
CATEGORIES:District
GEO:42.773036;-88.944404
X-APPLE-STRUCTURED-LOCATION;VALUE=URI;X-ADDRESS=School District of Milton 448 E High St Milton WI United States;X-APPLE-RADIUS=500;X-TITLE=448 E High St:geo:-88.944404,42.773036
END:VEVENT
BEGIN:VEVENT
DTSTART;TZID=America/Chicago:20280313T183000
DTEND;TZID=America/Chicago:20280313T203000
DTSTAMP:20260423T122555
CREATED:20260313T130901Z
LAST-MODIFIED:20260423T151326Z
UID:<span 
                data-original-string='NPDpZX3IMg6CZjH8uou3tQ==386E2GKdIssTlX78q9JFs2k9nsrDcorY1zRXQtnYrAnKdkP2sigguTEQSPPX/SsKPXn13dKFrtNpwgoAEd/EmpqQg=='
                class='apbct-email-encoder'
                title='This contact has been encoded by Anti-Spam by CleanTalk. Click to decode. To finish the decoding make sure that JavaScript is enabled in your browser.'>10<span class="apbct-blur">****************************</span>@<span class="apbct-blur">***************</span>wi.us</span>
SUMMARY:School Board Meeting
DESCRIPTION:
URL:https://www.milton.k12.wi.us/event/school-board-meeting-90/
CATEGORIES:District
END:VEVENT
BEGIN:VEVENT
DTSTART;TZID=America/Chicago:20280327T183000
DTEND;TZID=America/Chicago:20280327T203000
DTSTAMP:20260423T122555
CREATED:20260327T135437Z
LAST-MODIFIED:20260423T151327Z
UID:<span 
                data-original-string='MOnYYR+ocro+qWnkgvuseQ==3863gxfkayZkEPBbmETFit8Kdpkmf89YflPt02NozfbcUFbEGHbRMaNCrgYfLxel7McyMg8FGNMrjD02375gAPWgA=='
                class='apbct-email-encoder'
                title='This contact has been encoded by Anti-Spam by CleanTalk. Click to decode. To finish the decoding make sure that JavaScript is enabled in your browser.'>10<span class="apbct-blur">****************************</span>@<span class="apbct-blur">***************</span>wi.us</span>
SUMMARY:School Board Meeting
DESCRIPTION:
URL:https://www.milton.k12.wi.us/event/school-board-meeting-91/
LOCATION:School District of Milton\, 448 E High St\, Milton\, WI\, United States
CATEGORIES:District
GEO:42.773036;-88.944404
X-APPLE-STRUCTURED-LOCATION;VALUE=URI;X-ADDRESS=School District of Milton 448 E High St Milton WI United States;X-APPLE-RADIUS=500;X-TITLE=448 E High St:geo:-88.944404,42.773036
END:VEVENT
BEGIN:VEVENT
DTSTART;TZID=America/Chicago:20280410T183000
DTEND;TZID=America/Chicago:20280410T203000
DTSTAMP:20260423T122555
CREATED:20260410T142503Z
LAST-MODIFIED:20260423T151327Z
UID:<span 
                data-original-string='Pwn0O6QPEYFM3M9KGGYm5w==386wOx6EWKjCZhOgg7+yH1Wjy8D59/msyhYhcatdeC8otrjg5Za/WqxCDL0QhNpYyEGLm3/POmuRBZfWiVlQOMktw=='
                class='apbct-email-encoder'
                title='This contact has been encoded by Anti-Spam by CleanTalk. Click to decode. To finish the decoding make sure that JavaScript is enabled in your browser.'>10<span class="apbct-blur">****************************</span>@<span class="apbct-blur">***************</span>wi.us</span>
SUMMARY:School Board Meeting
DESCRIPTION:
URL:https://www.milton.k12.wi.us/event/school-board-meeting-92/
CATEGORIES:District
END:VEVENT
END:VCALENDAR